{"text_format":"1","workbook":"xlsx","n_sheets":14,"sheets":["Instructions","Step 1 START HERE","Step 2 Data sheets","Step 3 Product data","Step 3 Guide","Step 4 Potential emissions","Step 5 Actual annual emissions","Step 6 Monthly & rolling total","Permits & requirements","HAP List","Efficiencies","Data Validation","Emission Calculations","HAP List Formulas"],"not_rendered":{"charts":0,"images":1,"macros":1,"external_links":0,"defined_names":33,"comments":0,"pivot_tables":0},"unopened":[],"bounds":{"document_bytes":16777216,"sheet_cells":100000,"rows_first":2000,"rows_last":500,"rows_between":2000,"halvings":0,"cell_chars":16384,"cell_head_chars":4096},"cells_cut":0,"cells_raw":0,"read":"whole","date_system":"1900"}

{"sheet":"Instructions","index":0,"n_rows":33,"n_cols":7,"rows_kept":33,"cut":false,"hidden":false,"merged":[[32,4,32,13],[25,1,25,14],[4,1,4,14],[8,1,9,14],[10,1,11,14],[19,2,19,14],[20,2,20,14],[7,1,7,14],[17,1,17,14],[18,1,18,14],[21,2,21,14],[22,2,22,14],[23,2,23,14],[24,2,24,14],[32,1,32,3],[30,2,30,3],[0,6,0,14],[0,1,3,5],[6,1,6,14],[15,1,16,14],[5,1,5,14],[12,1,13,14],[14,1,14,14],[30,4,30,14],[1,6,3,14],[26,1,26,14],[27,1,27,14],[28,1,28,14],[29,2,29,3],[29,5,29,8],[29,10,29,14]]}
[null,null,null,null,null,null,"Coating operations: paints, stains, and solvents\nair emissions calculator"]
[null,null,null,null,null,null,"p-sbap5-22  • 5/7/2019"]
[]
[]
[null,"Instructions"]
[null,"1) Read through the instructions and information provided here."]
[null,"2) Start with the 'Step 1' tab to select options that will customize this calculator for your facility."]
[null,"3) 'Step 2' explains where to find the product data you will need for 'Step 3.'"]
[null,"4) In the blue 'Step 3' tab, identify each product you use, how it is used or applied, its pollutant contents, and the amount of each product used or \n    purchased. The 'Step 3 Guide' tab provides detailed instructions. "]
[]
[null,"5) The green 'Step 4' tab, enter information in each blue box at the top. This will provide the final step in calculating potential emissions, in addition\n    to recordkeeping and reporting totals. "]
[]
[null,"6) Your actual emissions and recordkeeping/reporting totals are listed annually in 'Step 5' and monthly with 12-month rolling totals in the 'Step 6'. \n    You also have the option to add emissions control equipment and deduct emissions with paint/solvent recycling information."]
[]
[null,"7) The 'Permits & Requirements' tab will help you decide what type of air quality permit you may need."]
[null,"8) The grey tabs have reference information. You can use the 'HAP List' tab to identify hazardous air pollutants (HAPs) on your safety data sheets (SDSs)\n    before selecting them with the drop-down boxes in 'Step 3.' The 'Efficiencies' tab is for the spreadsheet to reference when auto-filling certain cells. "]
[]
[]
[null,"Color Key"]
[null,"Blue","Enter information for your facility in the blue boxes."]
[null,"Orange","Orange boxes are filled with standard values. You can change them if you have test results that provide data specific to your site."]
[null,"White","Do not change the values or formulas in white boxes. White boxes contain intermediate calculations for determining emissions.  "]
[null,"Green","Your emission totals are in green boxes. These are automatically calculated based on information entered in blue boxes."]
[null,"Yellow","Permit and insignificant activity thresholds"]
[null,"Blue Text","Key information"]
[]
[null,"Assistance"]
[null,"This calculator was created by the Minnesota Pollution Control Agency's (MPCA) Business Assistance program."]
[null,"We provide free, confidential, environmental assistance to small businesses. For more information:"]
[null,"Call:","651/282-6143",null,"Email:","smallbizhelp.pca@state.mn.us"]
[null,null,"800/657-3938"]
[]
[null,"Online at the MPCA website at: ",null,null,"https://www.pca.state.mn.us/smallbizhelp"]

{"sheet":"Step 1 START HERE","index":1,"n_rows":56,"n_cols":14,"rows_kept":56,"cut":false,"hidden":false,"merged":[[55,2,55,13],[48,1,49,13],[2,1,3,13],[5,1,5,13],[24,1,24,13],[32,1,32,13],[51,1,51,13],[54,4,54,13],[53,4,53,13],[52,4,52,13],[54,2,54,3],[53,2,53,3],[4,2,4,11],[21,2,22,13],[11,2,12,3],[38,4,39,4],[46,2,47,13],[52,2,52,3],[50,12,50,13],[38,9,41,13],[50,2,50,11],[42,3,45,13],[42,2,45,2],[36,2,41,2],[38,3,41,3],[36,3,37,13],[28,4,31,13],[15,7,16,12],[15,2,16,3],[15,4,16,6],[15,13,16,13],[33,2,35,13],[11,4,12,6],[11,7,12,12],[19,7,19,12],[20,7,20,12],[17,2,20,3],[17,4,20,6],[17,7,18,12],[17,13,18,13],[23,12,23,13],[23,2,23,11],[25,4,25,13],[25,2,25,3],[26,2,27,3],[28,2,31,3],[26,4,27,13],[0,1,0,13],[1,1,1,13],[13,13,14,13],[6,2,6,3],[6,4,6,6],[6,7,6,12],[7,2,10,3],[7,4,10,6],[7,7,7,12],[8,7,10,12],[13,2,14,3],[11,13,12,13],[13,4,14,6],[13,7,14,12],[4,12,4,13],[8,13,10,13]]}
[null,{"$f":"Instructions!G2","v":"p-sbap5-22  • 5/7/2019"}]
[null,"Step 1."]
[null,"Answer the three drop-down questions to customize the spreadsheet for your facility. "]
[]
[null,"1)","Which pollutants do you need to track? ",null,null,null,null,null,null,null,null,null,"Choose one"]
[]
[null,null,"Choose one",null,"Pollutant tracked",null,null,"Use when you are doing calculations",null,null,null,null,null,"Minn. R. "]
[null,null,"VOC",null,"Volatile Organic Compounds",null,null,"for a Registration Permit Option B for VOC-containing materials",null,null,null,null,null,"7007.1120"]
[null,null,null,null,null,null,null,"for a Registration Permit Option C if emissions from VOC-containing materials were used in the permit application. This calculator does not include VOC emissions for fuel combustion.",null,null,null,null,null,7007.1125000000002]
[]
[]
[null,null,"PM",null,"Particulate Matter",null,null,"as a supplement when you get VOC and HAP pollutant data from somewhere else, such as your paint supplier."]
[]
[null,null,"HAPs",null,"Hazardous Air Pollutants",null,null,"as a supplement when you get VOC and PM pollutant data from somewhere else, such as your paint supplier."]
[]
[null,null,"VOC/HAPs",null,"Both are tracked",null,null,"for conditionally insignificant material use and conditionally exempt facilities (autobody and coating).",null,null,null,null,null,"7008.2300, 2400, 4100"]
[]
[null,null,"VOC/PM/HAPs",null,"All pollutants are tracked",null,null,"to identify potential emissions to see if you need a permit and actual emissions for demonstrating compliance."]
[]
[null,null,null,null,null,null,null,"for a Registration Permit Option D.",null,null,null,null,null,"7007.1130"]
[null,null,null,null,null,null,null,"for state or federal air permits.",null,null,null,null,null,7007]
[]
[]
[null,"2)","How frequently do you need to record product use?",null,null,null,null,null,null,null,null,null,"Choose one"]
[]
[null,null,"Choose one",null,"Based on permit requirements"]
[null,null,"Monthly",null,"Enter monthly amount purchased or used for each product at the end of each month. This method provides a 12-month rolling total and a calendar year total for emissions and gallons. Amounts are in gallons per month."]
[]
[null,null,"Annually",null,"Enter the amount of product purchased or used each calendar year. This method will provide the total air emissions and gallons. Amounts are in gallons per year. \nTo determine if you need a permit, choose 'Annually' and estimate the total gallons used per year to see if you will be able to stay under permit thresholds/limits."]
[]
[]
[]
[]
[null,null,"Choosing 'Monthly' or 'Annually' will provide potential emission calculations in the green 'Step 4' tab based on the worst-case scenario of your business operating at maximum capacity. You are required to use this method to determine if your facility needs a permit by comparing your potential emissions to the permit thresholds. Permitting thresholds are in yellow on the 'Step 4' tab."]
[]
[]
[null,null,null,"Worst-case scenario means that the highest emission rate (pounds/gallon) for each pollutant across all products is used as the emission factor for calculating potential emissions. For example, if you have the two products below:"]
[]
[null,null,null,null,null,"Density","VOC","VOC",null,"The Product B emission rate must be used because it has the highest pollutant content. "]
[null,null,null,null,null,"(lb/gal)","(%)","(lb/gal)"]
[null,null,null,null,"Product A",8.67,0.35,{"$f":"F41*G41","v":3.0345}]
[null,null,null,null,"Product B",7.21,0.45,{"$f":"F42*G42","v":3.2444999999999999},"← "]
[null,null,null,"Maximum capacity means that your business and the coating process are operating 24 hours a day, 7 days a week with all equipment operating at the manufacturer's maximum rates. This method must be used to determine if you need a permit. You will then calculate your actual emissions to see what type of permit you qualify for and best fits your facility. Emission allowances for products that are not sprayed is provided by selecting Brush/Roll/Wipe for application method."]
[]
[]
[]
[null,null,"Choosing 'Monthly' or 'Annually' will provide actual emission calculations in the green 'Step 4' tab based on actual total product use and maximum pollutant content across all products."]
[]
[]
[]
[null,"3)","How will you be recording product use? ",null,null,null,null,null,null,null,null,null,"Choose one"]
[]
[null,null,"Options",null,"Dependent upon type of permit and requirements"]
[null,null,"Purchased",null,"This method is recommended if you are tracking annual gallons of product. "]
[null,null,"Used",null,"This method is recommended if your facility is tracking 12-month rolling totals, either for emissions or gallons."]
[null,null,"You must record your product use based on the way emissions were assessed in your permit application."]

{"sheet":"Step 2 Data sheets","index":2,"n_rows":40,"n_cols":5,"rows_kept":40,"cut":false,"hidden":false,"merged":[[37,2,38,3],[37,4,38,13],[34,4,34,13],[32,2,32,13],[34,2,34,3],[35,2,36,3],[35,4,36,13],[39,2,40,13],[33,1,33,13],[5,2,5,13],[14,2,14,13],[6,4,6,13],[7,4,10,13],[7,3,10,3],[11,3,12,3],[23,3,24,13],[27,2,27,13],[28,3,29,13],[28,2,29,2],[11,4,12,13],[22,2,22,13],[26,2,26,13],[25,1,25,13],[0,1,0,13],[1,1,1,13],[2,1,2,13],[3,2,3,13],[4,2,4,13],[13,1,13,13],[21,1,21,13],[16,4,17,13],[18,4,20,13],[18,3,20,3],[16,3,17,3],[15,4,15,13]]}
[null,{"$f":"Instructions!G2","v":"p-sbap5-22  • 5/7/2019"}]
[null,"Step 2."]
[null,"Gather product data and find the information you need for Step 3."]
[null,"1)","Obtain a copy of the Safety Data Sheet (SDS) for each VOC- and HAP-containing product used at your facility. "]
[null,null,"There are several types of data sheets and some do not have the information you need."]
[null,null,"The most useful data sheets are:"]
[null,null,null,null,"Description and contents"]
[null,null,null,"SDS or MSDS","Safety Data Sheets (SDS), formerly known as Material Safety Data Sheets (MSDS), are prepared as an informational document with physical and chemical properties of the product. They focus on safety and hazardous/toxic properties. An SDS contains the information needed for coating calculations in Step 3 and is often the most readily available data sheet because it is required by law."]
[]
[]
[]
[null,null,null,"EDS","An Environmental Data Sheet lists environmental impacts of the product (air quality, water quality, and toxic wastes). An EDS is likely to contain the pollutant content and product data you need for Step 3."]
[]
[]
[null,null,"These data sheets may also be available to you, but do not contain the information needed for emission calculations:"]
[null,null,null,null,"Description and contents"]
[null,null,null,"PDS","Product Data Sheets give an in-depth description of coating characteristics and potential uses. A PDS may list VOC content but does not list the HAP content or all the information needed for coating calculations."]
[]
[null,null,null,"TDS","Technical Data Sheets are prepared with the applicator in mind and contain information on how to apply the product, how to dilute the product, and temperature requirements. The TDS does not contain the information needed for coating calculations. "]
[]
[]
[]
[null,null,"Note: When an SDS is updated or reissued from the manufacturer, check whether the pollutant contents have changed. "]
[null,null,null,"If there are changes, create a new entry (a new row) for the product in the blue tab 'Step 3.' Stop using the old entry row, but do not change or delete information in it. The 'old' data is used for the monthly and annual calculations."]
[]
[]
[null,"2)","Locate chemical characteristics and pollutant contents on your data sheets."]
[null,null,"See the 'Step 3 Guide' tab for instructions on where to find product information and pollutants on the data sheet. "]
[null,null,null,"The guide provides common scenarios you may encounter when identifying pollutants, pollutant contents, and product characteristics. The guide also provides details for entering information in each column of 'Step 3.'"]
[]
[]
[]
[null,"3)","Identify what application methods are used to apply the paints, stains, and solvent."]
[]
[null,null,"Method options",null,"Activity Description"]
[null,null,"Spray",null,"Using an air atomization, air-assisted, or airless spray gun; high volume low pressure (HVLP) spray gun; electrostatic, electrodeposition, or powder coating."]
[]
[null,null,"Brush/Roll/Wipe",null,"Hand application with a paint brush, paint roller, solvent wipes, solvent clean-up, parts cleaner, etc., and the product is not sprayed."]
[]
[null,null,"Note: If a solvent used for thinning and passed through the spray gun as well as used for clean-up with rags or a parts cleaner, list the product use under the spray gun."]

{"sheet":"Step 3 Product data","index":3,"n_rows":85,"n_cols":89,"rows_kept":85,"cut":false,"hidden":false,"merged":[[3,2,4,4],[17,4,18,4],[17,1,18,1],[17,3,18,3],[17,2,18,2],[5,1,5,5],[15,24,15,28],[6,4,6,5],[7,4,7,5],[8,4,8,5],[6,2,8,2],[10,1,11,5]]}
[null,null,null,null,null,null,{"$f":"Instructions!G2","v":"p-sbap5-22  • 5/7/2019"}]
["Step 3"]
[null,"Identify the application methods that are used to apply the paints, stains, and solvent."]
[null,"1)","Are any products hand applied with a brush, roller, wipes, solvent to clean-up, parts cleaner, etc., where the product is not sprayed?",null,null,"Choose Y/N"]
[]
[]
[null,"2)","Select up to 3 methods used to 'spray' apply paints, stains, and solvent.","Method 1","Choose one"]
[null,null,null,"Method 2","Choose one"]
[null,null,null,"Method 3","Choose one"]
[]
[null,"If a solvent is used for thinning and passed through the spray gun as well as used for clean-up with rags or a parts cleaner, list the product use under the spray method."]
[]
[]
[null,"Enter product data from SDS and record how much of the product is used.",null,null,null,null,null,null,"How many HAPs?"]
[null,null,null,null,null,null,null,null,"Choose #"]
["Product description",null,null,null,null,"Product information",null,null,"Hazardous air pollutants",null,null,null,null,null,null,null,null,null,null,null,null,null,null,null,"Annual Use",null,null,null,null,"Monthly Use ",null,2019,null,null,null,null,null,null,null,null,null,"Monthly Use ",null,2020,null,null,null,null,null,null,null,null,null,"Monthly Use ",null,2021,null,null,null,null,null,null,null,null,null,"Monthly Use ",null,2022,null,null,null,null,null,null,null,null,null,"Monthly Use ",null,2023]
["Entry","Type of Product","Manufacturer & Product Name","In-house Name","Application Method","Density","VOC","PM/PM10\ntransfer efficiency is not applied here","HAP Name","HAP Name","HAP Name","HAP Name","HAP Name","HAP Name","HAP Name","HAP Name","HAP Name","HAP Name","HAP Name","HAP Name","HAP Name","HAP Name","HAP Name","HAP Name",{"$f":"IF(SUM(AD21:AO85)>0,SUM(AD21:AO85),IF(SUM(AD21:AO85)=0,SUM(Y21:Y85),IF(SUM(Y21:Y85)>0,Y21:Y85)))","v":0},{"$f":"IF(SUM(AP21:BA85)>0,SUM(AP21:BA85),IF(SUM(AP21:BA85)=0,SUM(Z21:Z85),IF(SUM(Z21:Z85)>0,Z21:Z85)))","v":0},{"$f":"IF(SUM(BB21:BM85)>0,SUM(BB21:BM85),IF(SUM(BB21:BM85)=0,SUM(AA21:AA85),IF(SUM(AA21:AA85)>0,AA21:AA85)))","v":0},{"$f":"IF(SUM(BN21:BY85)>0,SUM(BN21:BY85),IF(SUM(BN21:BY85)=0,SUM(AB21:AB85),IF(SUM(AB21:AB85)>0,AB21:AB85)))","v":0},{"$f":"IF(SUM(BZ21:CK85)>0,SUM(BZ21:CK85),IF(SUM(BZ21:CK85)=0,SUM(AC21:AC85),IF(SUM(AC21:AC85)>0,AC21:AC85)))","v":0},"Jan","Feb","Mar","Apr","May","Jun","Jul","Aug","Sep","Oct","Nov","Dec","Jan","Feb","Mar","Apr","May","Jun","Jul","Aug","Sep","Oct","Nov","Dec","Jan","Feb","Mar","Apr","May","Jun","Jul","Aug","Sep","Oct","Nov","Dec","Jan","Feb","Mar","Apr","May","Jun","Jul","Aug","Sep","Oct","Nov","Dec","Jan","Feb","Mar","Apr","May","Jun","Jul","Aug","Sep","Oct","Nov","Dec"]
[null,"(Solvent, primer, etc.)","(on SDS)","(for your business)","Choose from drop down how product is applied.","from SDS","from SDS","%PM = 100% - %VOC",{"$f":"'HAP List Formulas'!$E3","v":"CAS#"},{"$f":"'HAP List Formulas'!$E4","v":"CAS#"},{"$f":"'HAP List Formulas'!$E5","v":"CAS#"},{"$f":"'HAP List Formulas'!$E6","v":"CAS#"},{"$f":"'HAP List Formulas'!$E7","v":"CAS#"},{"$f":"'HAP List Formulas'!$E8","v":"CAS#"},{"$f":"'HAP List Formulas'!$E9","v":"CAS#"},{"$f":"'HAP List Formulas'!$E10","v":"CAS#"},{"$f":"'HAP List Formulas'!$E11","v":"CAS#"},{"$f":"'HAP List Formulas'!$E12","v":"CAS#"},{"$f":"'HAP List Formulas'!$E13","v":"CAS#"},{"$f":"'HAP List Formulas'!$E14","v":"CAS#"},{"$f":"'HAP List Formulas'!$E15","v":"CAS#"},{"$f":"'HAP List Formulas'!$E16","v":"CAS#"},{"$f":"'HAP List Formulas'!$E17","v":"CAS#"},{"$f":"'HAP List Formulas'!$E18","v":"CAS#"},2019,2020,2021,2022,2023,{"$f":"$AF$16","v":2019},{"$f":"$AF$16","v":2019},2019,2019,2019,2019,2019,2019,2019,2019,2019,2019,{"$f":"$AR$16","v":2020},2020,2020,2020,2020,2020,2020,2020,2020,2020,2020,2020,{"$f":"$BD$16","v":2021},2021,2021,2021,2021,2021,2021,2021,2021,2021,2021,2021,{"$f":"$BP$16","v":2022},2022,2022,2022,2022,2022,2022,2022,2022,2022,2022,2022,{"$f":"$CB$16","v":2023},{"$f":"$CB$16","v":2023},2023,2023,2023,2023,2023,2023,2023,2023,2023,2023]
["#",null,null,null,null,"(lb/gallon)","(% by weight)","(% by weight)","(%)","(%)","(%)","(%)","(%)","(%)","(%)","(%)","(%)","(%)","(%)","(%)","(%)","(%)","(%)","(%)","(gallons)","(gallons)","(gallons)","(gallons)","(gallons)","(gallons)","(gallons)","(gallons)","(gallons)","(gallons)","(gallons)","(gallons)","(gallons)","(gallons)","(gallons)","(gallons)","(gallons)","(gallons)","(gallons)","(gallons)","(gallons)","(gallons)","(gallons)","(gallons)","(gallons)","(gallons)","(gallons)","(gallons)","(gallons)","(gallons)","(gallons)","(gallons)","(gallons)","(gallons)","(gallons)","(gallons)","(gallons)","(gallons)","(gallons)","(gallons)","(gallons)","(gallons)","(gallons)","(gallons)","(gallons)","(gallons)","(gallons)","(gallons)","(gallons)","(gallons)","(gallons)","(gallons)","(gallons)","(gallons)","(gallons)","(gallons)","(gallons)","(gallons)","(gallons)","(gallons)","(gallons)","(gallons)","(gallons)","(gallons)","(gallons)"]
["Ex.","Primer","SW - B72W8010","PR8010","Electrode deposition",8.5399999999999991,0.36499999999999999,{"$f":"IF(E20=\"Choose one\",SUM(100%,-G20),IF(E20=\"brush/roll/wipe\",\"0%\",SUM(100%,-G20)))","v":0.63500000000000001},7.0000000000000007E-2,null,null,null,null,null,null,null,null,null,null,null,null,null,null,null,{"$f":"IF(SUM(AD20:AO20)>0,SUM(AD20:AO20),\" \")","v":255},null,null,null,null,55,200]
[1,null,null,null,"Choose one",null,null,{"$f":"IF(E21=\"Choose one\",SUM(100%,-G21),IF(E21=\"brush/roll/wipe\",0%,SUM(100%,-G21)))","v":1}]
[2,null,null,null,"Choose one",null,null,{"$f":"IF(E22=\"Choose one\",SUM(100%,-G22),IF(E22=\"brush/roll/wipe\",0%,SUM(100%,-G22)))","v":1}]
[3,null,null,null,"Choose one",null,null,{"$f":"IF(E23=\"Choose one\",SUM(100%,-G23),IF(E23=\"brush/roll/wipe\",0%,SUM(100%,-G23)))","v":1}]
[4,null,null,null,"Choose one",null,null,1]
[5,null,null,null,"Choose one",null,null,1,null,null,null,null,null,null,null,null,null,null,null,null,null,null,null,null,{"$f":"IF(SUM(AD25:AO25)>0,SUM(AD25:AO25),\" \")","v":" "}]
[6,null,null,null,"Choose one",null,null,1,null,null,null,null,null,null,null,null,null,null,null,null,null,null,null,null," "]
[7,null,null,null,"Choose one",null,null,1,null,null,null,null,null,null,null,null,null,null,null,null,null,null,null,null," "]
[8,null,null,null,"Choose one",null,null,1,null,null,null,null,null,null,null,null,null,null,null,null,null,null,null,null," "]
[9,null,null,null,"Choose one",null,null,1,null,null,null,null,null,null,null,null,null,null,null,null,null,null,null,null," "]
[10,null,null,null,"Choose one",null,null,1,null,null,null,null,null,null,null,null,null,null,null,null,null,null,null,null," "]
[11,null,null,null,"Choose one",null,null,1,null,null,null,null,null,null,null,null,null,null,null,null,null,null,null,null," "]
[12,null,null,null,"Choose one",null,null,1,null,null,null,null,null,null,null,null,null,null,null,null,null,null,null,null," "]
[13,null,null,null,"Choose one",null,null,1,null,null,null,null,null,null,null,null,null,null,null,null,null,null,null,null," "]
[14,null,null,null,"Choose one",null,null,1,null,null,null,null,null,null,null,null,null,null,null,null,null,null,null,null," "]
[15,null,null,null,"Choose one",null,null,1,null,null,null,null,null,null,null,null,null,null,null,null,null,null,null,null," "]
[16,null,null,null,"Choose one",null,null,1,null,null,null,null,null,null,null,null,null,null,null,null,null,null,null,null," "]
[17,null,null,null,"Choose one",null,null,1,null,null,null,null,null,null,null,null,null,null,null,null,null,null,null,null," "]
[18,null,null,null,"Choose one",null,null,1,null,null,null,null,null,null,null,null,null,null,null,null,null,null,null,null," "]
[19,null,null,null,"Choose one",null,null,1,null,null,null,null,null,null,null,null,null,null,null,null,null,null,null,null," "]
[20,null,null,null,"Choose one",null,null,1,null,null,null,null,null,null,null,null,null,null,null,null,null,null,null,null," "]
[21,null,null,null,"Choose one",null,null,1,null,null,null,null,null,null,null,null,null,null,null,null,null,null,null,null," "]
[22,null,null,null,"Choose one",null,null,1,null,null,null,null,null,null,null,null,null,null,null,null,null,null,null,null," "]
[23,null,null,null,"Choose one",null,null,1,null,null,null,null,null,null,null,null,null,null,null,null,null,null,null,null," "]
[24,null,null,null,"Choose one",null,null,1,null,null,null,null,null,null,null,null,null,null,null,null,null,null,null,null," "]
[25,null,null,null,"Choose one",null,null,1,null,null,null,null,null,null,null,null,null,null,null,null,null,null,null,null," "]
[26,null,null,null,"Choose one",null,null,1,null,null,null,null,null,null,null,null,null,null,null,null,null,null,null,null," "]
[27,null,null,null,"Choose one",null,null,1,null,null,null,null,null,null,null,null,null,null,null,null,null,null,null,null," "]
[28,null,null,null,"Choose one",null,null,1,null,null,null,null,null,null,null,null,null,null,null,null,null,null,null,null," "]
[29,null,null,null,"Choose one",null,null,1,null,null,null,null,null,null,null,null,null,null,null,null,null,null,null,null," "]
[30,null,null,null,"Choose one",null,null,1,null,null,null,null,null,null,null,null,null,null,null,null,null,null,null,null," "]
[31,null,null,null,"Choose one",null,null,1,null,null,null,null,null,null,null,null,null,null,null,null,null,null,null,null," "]
[32,null,null,null,"Choose one",null,null,1,null,null,null,null,null,null,null,null,null,null,null,null,null,null,null,null," "]
[33,null,null,null,"Choose one",null,null,1,null,null,null,null,null,null,null,null,null,null,null,null,null,null,null,null," "]
[34,null,null,null,"Choose one",null,null,1,null,null,null,null,null,null,null,null,null,null,null,null,null,null,null,null,{"$f":"IF(SUM(AD54:AO54)>0,SUM(AD54:AO54),\" \")","v":" "}]
[35,null,null,null,"Choose one",null,null,1,null,null,null,null,null,null,null,null,null,null,null,null,null,null,null,null," "]
[36,null,null,null,"Choose one",null,null,1,null,null,null,null,null,null,null,null,null,null,null,null,null,null,null,null," "]
[37,null,null,null,"Choose one",null,null,1,null,null,null,null,null,null,null,null,null,null,null,null,null,null,null,null," "]
[38,null,null,null,"Choose one",null,null,1,null,null,null,null,null,null,null,null,null,null,null,null,null,null,null,null," "]
[39,null,null,null,"Choose one",null,null,1,null,null,null,null,null,null,null,null,null,null,null,null,null,null,null,null," "]
[40,null,null,null,"Choose one",null,null,1,null,null,null,null,null,null,null,null,null,null,null,null,null,null,null,null," "]
[41,null,null,null,"Choose one",null,null,1,null,null,null,null,null,null,null,null,null,null,null,null,null,null,null,null," "]
[42,null,null,null,"Choose one",null,null,1,null,null,null,null,null,null,null,null,null,null,null,null,null,null,null,null," "]
[43,null,null,null,"Choose one",null,null,1,null,null,null,null,null,null,null,null,null,null,null,null,null,null,null,null," "]
[44,null,null,null,"Choose one",null,null,1,null,null,null,null,null,null,null,null,null,null,null,null,null,null,null,null," "]
[45,null,null,null,"Choose one",null,null,1,null,null,null,null,null,null,null,null,null,null,null,null,null,null,null,null," "]
[46,null,null,null,"Choose one",null,null,1,null,null,null,null,null,null,null,null,null,null,null,null,null,null,null,null," "]
[47,null,null,null,"Choose one",null,null,1,null,null,null,null,null,null,null,null,null,null,null,null,null,null,null,null," "]
[48,null,null,null,"Choose one",null,null,1,null,null,null,null,null,null,null,null,null,null,null,null,null,null,null,null," "]
[49,null,null,null,"Choose one",null,null,1,null,null,null,null,null,null,null,null,null,null,null,null,null,null,null,null," "]
[50,null,null,null,"Choose one",null,null,1,null,null,null,null,null,null,null,null,null,null,null,null,null,null,null,null," "]
[51,null,null,null,"Choose one",null,null,1,null,null,null,null,null,null,null,null,null,null,null,null,null,null,null,null," "]
[52,null,null,null,"Choose one",null,null,1,null,null,null,null,null,null,null,null,null,null,null,null,null,null,null,null," "]
[53,null,null,null,"Choose one",null,null,1,null,null,null,null,null,null,null,null,null,null,null,null,null,null,null,null," "]
[54,null,null,null,"Choose one",null,null,1,null,null,null,null,null,null,null,null,null,null,null,null,null,null,null,null," "]
[55,null,null,null,"Choose one",null,null,1,null,null,null,null,null,null,null,null,null,null,null,null,null,null,null,null," "]
[56,null,null,null,"Choose one",null,null,1,null,null,null,null,null,null,null,null,null,null,null,null,null,null,null,null," "]
[57,null,null,null,"Choose one",null,null,1,null,null,null,null,null,null,null,null,null,null,null,null,null,null,null,null," "]
[58,null,null,null,"Choose one",null,null,1,null,null,null,null,null,null,null,null,null,null,null,null,null,null,null,null," "]
[59,null,null,null,"Choose one",null,null,1,null,null,null,null,null,null,null,null,null,null,null,null,null,null,null,null," "]
[60,null,null,null,"Choose one",null,null,1,null,null,null,null,null,null,null,null,null,null,null,null,null,null,null,null," "]
[61,null,null,null,"Choose one",null,null,1,null,null,null,null,null,null,null,null,null,null,null,null,null,null,null,null," "]
[62,null,null,null,"Choose one",null,null,1,null,null,null,null,null,null,null,null,null,null,null,null,null,null,null,null," "]
[63,null,null,null,"Choose one",null,null,1,null,null,null,null,null,null,null,null,null,null,null,null,null,null,null,null," "]
[64,null,null,null,"Choose one",null,null,1,null,null,null,null,null,null,null,null,null,null,null,null,null,null,null,null," "]
[65,null,null,null,"Choose one",null,null,1,null,null,null,null,null,null,null,null,null,null,null,null,null,null,null,null," "]

{"sheet":"Step 3 Guide","index":4,"n_rows":46,"n_cols":56,"rows_kept":46,"cut":false,"hidden":false,"merged":[[33,0,33,2],[33,3,33,5],[33,6,33,9],[33,10,33,11],[33,12,33,14],[33,15,33,16],[26,53,27,54],[26,55,27,56],[32,0,32,2],[32,3,32,5],[32,6,32,9],[32,10,32,11],[32,12,32,14],[32,15,32,16],[32,17,32,25],[33,51,33,52],[33,53,33,54],[33,55,33,56],[30,51,30,52],[33,17,33,25],[26,47,27,48],[28,43,29,44],[28,45,29,46],[31,43,31,44],[31,45,31,46],[31,47,31,48],[32,43,32,44],[1,0,1,14],[0,28,0,42],[0,43,0,57],[1,43,1,57],[10,46,10,49],[21,51,21,52],[9,51,10,52],[10,54,10,57],[21,54,22,57],[19,43,20,44],[19,45,20,45],[22,51,22,52],[19,46,20,49],[17,43,18,44],[17,45,18,45],[9,43,10,44],[13,43,14,44],[13,45,14,45],[13,46,14,49],[15,43,16,44],[15,45,16,45],[11,53,14,53],[11,54,14,57],[15,53,16,53],[15,51,16,52],[15,54,16,57],[17,51,18,52],[11,43,12,44],[11,46,12,49],[11,45,12,45],[31,55,31,56],[32,51,32,52],[32,53,32,54],[32,55,32,56],[28,47,29,48],[19,51,20,52],[17,53,18,53],[17,54,18,57],[19,53,20,53],[30,55,30,56],[31,53,31,54],[31,51,31,52],[30,43,30,44],[30,45,30,46],[30,47,30,48],[30,53,30,54],[19,54,20,57],[28,51,29,52],[28,53,29,54],[4,51,4,52],[5,51,5,52],[6,51,6,52],[7,51,7,52],[4,53,4,54],[4,55,4,56],[5,53,5,54],[5,55,5,56],[4,47,4,48],[5,47,5,48],[6,47,6,48],[6,53,6,54],[6,55,6,56],[7,53,7,54],[7,55,7,56],[15,46,16,49],[11,51,14,52],[3,47,3,48],[7,45,7,46],[7,47,7,48],[3,43,3,46],[4,45,4,46],[5,45,5,46],[4,43,4,44],[5,43,5,44],[6,43,6,44],[7,43,7,44],[6,45,6,46],[0,15,0,27],[26,26,28,27],[29,0,30,2],[29,3,30,5],[29,6,30,9],[29,10,30,11],[29,12,30,14],[29,15,29,16],[29,17,29,25],[26,0,28,2],[26,3,28,5],[26,6,28,9],[26,10,28,11],[12,18,12,21],[12,22,12,25],[13,18,13,21],[13,22,13,25],[14,18,14,21],[11,17,11,25],[8,15,12,16],[6,0,7,2],[6,3,7,5],[2,0,2,14],[1,15,1,27],[31,0,31,2],[31,3,31,5],[31,6,31,9],[31,10,31,11],[18,17,18,25],[22,17,22,25],[21,17,21,25],[25,42,33,42],[33,30,33,31],[33,32,33,33],[32,26,32,27],[26,15,28,16],[26,17,28,25],[33,28,33,29],[32,28,32,29],[32,30,32,31],[32,32,32,33],[26,30,28,31],[26,32,28,33],[25,35,25,41],[14,15,19,16],[31,12,31,14],[26,12,28,14],[15,28,16,42],[2,28,2,29],[1,31,1,42],[2,31,2,42],[4,28,5,29],[31,15,31,16],[31,17,31,25],[31,26,31,27],[14,22,14,25],[15,18,16,21],[15,22,16,25],[6,28,6,29],[7,31,9,32],[7,33,9,42],[7,28,7,29],[8,28,8,29],[10,31,11,32],[10,33,11,42],[1,28,1,29],[4,31,6,42],[4,30,5,30],[31,28,31,29],[31,30,31,31],[31,32,31,33],[29,28,29,29],[8,3,24,5],[8,26,13,27],[6,15,6,16],[6,17,6,25],[6,26,6,27],[6,12,7,14],[3,0,3,14],[3,28,3,42],[21,28,21,29],[21,30,22,30],[21,31,23,42],[22,28,22,29],[14,28,14,42],[17,28,17,42],[24,28,24,42],[8,17,10,25],[20,17,20,25],[19,17,19,25],[17,17,17,25],[12,17,16,17],[12,31,13,32],[12,33,13,42],[18,28,19,29],[17,6,18,7],[19,6,22,7],[23,6,24,7],[17,8,18,9],[19,8,22,9],[7,15,7,16],[7,17,7,25],[7,26,7,27],[6,6,7,9],[6,10,7,11],[23,17,24,25],[13,15,13,16],[20,15,24,16],[14,26,19,27],[21,26,24,27],[8,12,12,14],[13,12,16,14],[0,0,0,14],[38,20,38,22],[38,23,38,25],[38,17,38,19],[39,19,39,20],[39,22,39,23],[41,17,41,19],[41,20,41,22],[41,23,41,25],[23,8,24,9],[4,17,5,25],[3,15,3,27],[4,15,5,16],[4,0,5,2],[4,3,5,5],[4,6,5,9],[4,10,5,11],[4,12,5,14],[4,26,5,27],[14,6,16,9],[17,12,24,14],[8,0,24,2],[8,6,13,9],[8,10,24,11],[43,17,43,25],[44,17,44,19],[44,20,44,22],[44,23,44,25],[46,17,46,25],[36,17,37,25],[29,30,29,31],[29,32,29,33],[30,28,30,29],[30,30,30,31],[30,32,30,33],[30,26,30,27],[33,26,33,27],[30,15,30,16],[30,17,30,25],[34,28,34,42],[31,35,33,41],[29,26,29,27],[18,31,20,42],[20,28,20,29],[25,51,25,56],[25,28,25,34],[26,28,28,29],[26,35,27,41],[28,35,30,41],[32,45,32,46],[32,47,32,48],[17,46,18,49],[28,55,29,56],[26,51,27,52],[33,43,33,44],[33,45,33,46],[33,47,33,48],[25,43,25,46],[25,47,25,48],[26,43,27,44],[26,45,27,46]]}
[{"$f":"Instructions!G2","v":"p-sbap5-22  • 5/7/2019"}]
["Step 3 Guide",null,null,null,null,null,null,null,null,null,null,null,null,null,null,null,null,null,null,null,null,null,null,null,null,null,null,null,"How many HAPs?",null,null,"Choose the number of HAPs you need to show. You can always change this number if you have a new HAP."]
["Scroll to the right to view how to use each column for the blue 'Step 3' tab. Example entries are shown across the bottom in grey.",null,null,null,null,null,null,null,null,null,null,null,null,null,null,null,null,null,null,null,null,null,null,null,null,null,null,null,"Choose #",null,"← ","If you change this number, you must return to 'Step 1' and re-select Monthly or Annually for record frequency."]
["Product description",null,null,null,null,null,null,null,null,null,null,null,null,null,null,"Product information",null,null,null,null,null,null,null,null,null,null,null,null,"Hazardous air pollutants",null,null,null,null,null,null,null,null,null,null,null,null,null,null,"Monthly Use ",null,null,null,2019,null,null,null,"Annual Use"]
["Entry",null,null,"Type of Product",null,null,"Manufacturer & Product Name",null,null,null,"In-house Name",null,"Application Method",null,null,"Density",null,"VOC",null,null,null,null,null,null,null,null,"PM/PM10",null,"HAP Name",null,"← ","HAPs will be in the composition/information on ingredients or similar section on the SDS. Not all compounds listed on the SDS are HAPs. HAP Name is a drop down box. Click on the arrow that shows up to the right of the blue box to select the HAP Name from the list. The list is sorted into three sections:",null,null,null,null,null,null,null,null,null,null,null,"Jan",null,"Feb",null,"Mar",null,null,null,0,null,0,null,0]
[null,null,null,null,null,null,null,null,null,null,null,null,null,null,null,null,null,null,null,null,null,null,null,null,null,null,null,null,null,null,null,null,null,null,null,null,null,null,null,null,null,null,null,{"$f":"AV4","v":2019},null,{"$f":"AV4","v":2019},null,{"$f":"AV4","v":2019},null,null,null,2019,null,2020,null,2021]
["#",null,null,"(Solvent, primer, etc.)",null,null,"(on SDS)",null,null,null,"(for your business)",null,"Choose from drop down.",null,null,"from SDS",null,"from SDS",null,null,null,null,null,null,null,null,"%PM = 100% - %VOC",null,"CAS#",null,null,null,null,null,null,null,null,null,null,null,null,null,null,"(gallons)",null,"(gallons)",null,"(gallons)",null,null,null,"(gallons)",null,"(gallons)",null,"(gallons)"]
[null,null,null,null,null,null,null,null,null,null,null,null,null,null,null,"(lb/gallon)",null,"(% by weight)",null,null,null,null,null,null,null,null,"(% by weight)",null,"(%)",null,null,"Common HAPs",null,"These are the most common volatile HAPs seen in coating products. They are provided at the top of the list for easy access. The common HAPs are also in the 'Full List' further down in alphabetical order. You can choose the HAP name from either section."]
["This column counts the number of products you have. It will remain stationary as you scroll right on the sheet to enter HAPs or product use.\n\nIf you print the 'Step 3' tab, the entry number will be on the left side of each printed page.",null,null,"Enter the \"type\" of product (such as solvent, color, paint, stain, etc.) or emission point (where the product is used).\n\nYou can customize the 'type' for your business.\n\nThis will allow you to group products by how they are used, where they are used, or what they are used for. \n\n",null,null,"Enter the product's manufacturer (or initials) and enter the product name or code from the SDS.",null,null,null,"Use the name or numbering system that your business identifies the product by: description, part number, SKU, sales code, color, etc.",null,"If using more than one method of application, select the applicator for each. The selection changes the way emissions are calculated. ",null,null,"Density, listed in pounds/gallon, will be found in the Physical and Chemical Properties section of the SDS.",null,"VOC content is usually listed in the Physical and Chemical Properties section of the SDS. VOC information can also be listed in sections such as Regulatory Information, Composition/Ingredient Information, or Other Information on the SDS. If VOC content is not listed, contact the manufacturer.",null,null,null,null,null,null,null,null,"Particulate Matter (solids) will be automatically calculated in this column as 100% minus %VOC = %PM. "]
[null,null,null,null,null,null,null,null,null,null,null,null,null,null,null,null,null,null,null,null,null,null,null,null,null,null,null,null,null,null,null,null,null,null,null,null,null,null,null,null,null,null,null,"Monthly Use ",null,null,null,null,null,null,null,"Annual Use"]
[null,null,null,null,null,null,null,null,null,null,null,null,null,null,null,null,null,null,null,null,null,null,null,null,null,null,null,null,null,null,null,"Metal and Misc. \n(no CAS#): ",null,"Metal compounds and a few other HAPs do not have a CAS#. These have been listed directly below the 'Common HAPs' list. ",null,null,null,null,null,null,null,null,null,null,null,"← ","Recordkeeping frequency",null,null,null,null,null,null,"← ","Recordkeeping frequency"]
[null,null,null,null,null,null,null,null,null,null,null,null,null,null,null,null,null,"Which VOC number to use?",null,null,null,null,null,null,null,null,null,null,null,null,null,null,null,null,null,null,null,null,null,null,null,null,null,2019,null,"← ","Enter the current year for tracking here. You will be able to enter the year for following years.",null,null,null,null,0,null,"← ","Total number of gallons entered for all products in this column."]
[null,null,null,null,null,null,null,null,null,null,null,null,null,null,null,null,null,null,"Use one of these",null,null,null,"Do NOT use",null,null,null,null,null,null,null,null,"Full HAP List",null,"Contains all HAPs in alphabetical order and ends with the list of metal and miscellaneous HAPs that do not have a CAS#. "]
[null,null,null,null,null,null,null,null,null,null,null,null,"If you are using one product with more than one application method, select 'worst-case' from the drop down. ",null,null,null,null,null,"VOC percent-by-weight",null,null,null,"Do not use percent-by-volume",null,null,null,null,null,null,null,null,null,null,null,null,null,null,null,null,null,null,null,null,"March",null,"← ","Current month for tracking product use."]
[null,null,null,null,null,null,"Example 1: ",null,null,null,null,null,null,null,null,"If density is not listed, use the specific gravity listed and multiply the number by 8.34 lb/gal. This will equal product density.",null,null,"VOC EPA Method 24",null,null,null,"Do not use volatile volume",null,null,null,"If the % solids-by-weight is listed or %PM + %VOC does not equal 100%, you can enter the actual %PM value from the SDS."]
[null,null,null,null,null,null,null,null,null,null,null,null,null,null,null,null,null,null,"VOC less water and federally exempt solvents",null,null,null,"Do not use \"as applied\"",null,null,null,null,null,"A full list of the HAPs and their CAS# is in the grey 'HAP list' tab. Use the 'HAP list' tab to find out if a compound is a HAP or not. In the 'HAP list' tab, you can use a search to type in part of a compound name or the CAS# without hyphens (-) to see if the compound listed on the data sheet is a HAP.",null,null,null,null,null,null,null,null,null,null,null,null,null,null,{"$f":"AR12","v":2019},null,"← ","The current year - as entered above.",null,null,null,null,2019,null,"← ","Enter the current year. Change as needed."]
[]
[null,null,null,null,null,null,"Sherwin Williams",null,"SW",null,null,null,"If you use one product with more than one application method and are able to identify how much product is used for each, enter the same product twice (two entries) and choose the method for each entry in the drop down.\nOtherwise, choose 'worst-case' from the drop-down. ",null,null,null,null,null,null,null,null,null,null,null,null,null,null,null,null,null,null,null,null,null,null,null,null,null,null,null,null,null,null,"(gallons)",null,"← ","Unit of measurement for product.",null,null,null,null,"(gallons)",null,"← ","Unit of measurement for product."]
[null,null,null,null,null,null,null,null,null,null,null,null,null,null,null,null,null,"If VOC is in lb/gal: Divide by the density (lb/gal) to get %VOC",null,null,null,null,null,null,null,null,null,null,"HAP Name",null,null,"CAS# (Chemical Abstract Service number) is a box that will automatically fill with the CAS# for the HAP Name selected above it. "]
[null,null,null,null,null,null," Interior Latex Primer White",null,"Int. White \n('Primer' listed in 'Type of Product' column)",null,null,null,null,null,null,null,null,"If VOC is in g/L: convert to %VOC",null,null,null,null,null,null,null,null,null,null,null,null,null,null,null,null,null,null,null,null,null,null,null,null,null,55,null,"← ","Amount of product used that month. \n(ex. Used 55 gallons of this product)",null,null,null,null,250,null,"← ","Amount of product used that year. \n(ex. Used 250 gallons of this product)"]
[null,null,null,null,null,null,null,null,null,null,null,null,null,null,null,null,null," (# gram/liter * 0.00220462 lb/gram * 3.78541 liter/gallon)  = VOC lb/gallon then divide by density (lb/gal) = %VOC",null,null,null,null,null,null,null,null,null,null,"CAS#",null,"← "]
[null,null,null,null,null,null,null,null,null,null,null,null,null,null,null,null,null,"If % solids-by-weight is given and not VOC, assume %VOC = 100 - %PM",null,null,null,null,null,null,null,null,"If lb/gal solids-by-weight is listed, divide by the density to get %PM.",null,"(%)",null,"← ","(%) is the 'units' the HAP content needs to be entered in. The content provided on the SDS generally is provided in %. If the SDS gives a percent range of the HAP, enter the highest % provided. For example, if the HAP Xylene (CAS# 1330207) is listed as 5-7%, enter 7% for Xylene content."]
[null,null,null,null,null,null,null,null,null,null,null,null,null,null,null,null,null,null,null,null,null,null,null,null,null,null,null,null,7.0000000000000007E-2]
[null,null,null,null,null,null,"Product Code",null,"B72W8010",null,null,null,null,null,null,null,null,"Scroll down to use conversion calculators."]
[]
["Example",null,null,null,null,null,null,null,null,null,null,null,null,null,null,null,null,null,null,null,null,null,null,null,null,null,null,null,"Example Entry, you have three products, which contain three HAPs",null,null,null,null,null,null,"Explanation of example:",null,null,null,null,null,null,null,"Monthly Use ",null,null,null,2019,null,null,null,"Annual Use"]
["Entry",null,null,"Type of Product",null,null,"Manufacturer & Product Name",null,null,null,"In-house Name",null,"Application Method",null,null,"Density",null,"VOC",null,null,null,null,null,null,null,null,"PM/PM10",null,"Xylenes (isomers and mixtures)",null,"Ethyl benzene",null,"Toluene",null,null,"Product A (the white primer in row 1) has Xylene and Ethyl benzene, so these are the first two HAPs in your list.",null,null,null,null,null,null,null,"Jan",null,"Feb",null,"Mar",null,null,null,{"$f":"SUM(AZ32:BA34)","v":335},null,{"$f":"SUM(BB32:BC34)","v":330},null,{"$f":"SUM(BD32:BE34)","v":362}]
[]
[null,null,null,null,null,null,null,null,null,null,null,null,null,null,null,null,null,null,null,null,null,null,null,null,null,null,null,null,null,null,null,null,null,null,null,"Product B (the solvent in row 2) does not have Xylene or Ethyl benzene, but has Toluene. You skip over the first two HAP columns, make a column for Toluene, and enter %Toluene",null,null,null,null,null,null,null,{"$f":"AV26","v":2019},null,{"$f":"AV26","v":2019},null,{"$f":"AV26","v":2019},null,null,null,2019,null,2020,null,2021]
["#",null,null,"(Solvent, primer, etc.)",null,null,"(on SDS)",null,null,null,"(for your business)",null,"Choose from drop down.",null,null,"from SDS",null,"from SDS",null,null,null,null,null,null,null,null,"%PM = 100% - %VOC",null,"CAS# 1330207",null,"CAS# 100414",null,"CAS# 108883"]
[null,null,null,null,null,null,null,null,null,null,null,null,null,null,null,"(lb/gallon)",null,"(% by weight)",null,null,null,null,null,null,null,null,"(% by weight)",null,"(%)",null,"(%)",null,"(%)",null,null,null,null,null,null,null,null,null,null,"(gallons)",null,"(gallons)",null,"(gallons)",null,null,null,"(gallons)",null,"(gallons)",null,"(gallons)"]
["Example 1",null,null,"Primer",null,null,"SW - B72W8010 - White",null,null,null,"PR8010 ",null,"Spray",null,null,8.5399999999999991,null,0.36499999999999999,null,null,null,null,null,null,null,null,{"$f":"(100%-R32)","v":0.63500000000000001},null,7.0000000000000007E-2,null,0.02,null,null,null,null,"Product C (the evergreen paint in row 3) has Xylene and Toluene. You enter the %Xylene and %Toluene. Product C does not have Ethyl benzene, so you skip that column.",null,null,null,null,null,null,null,55,null,null,null,25,null,null,null,175,null,310,null,200]
["Example 2",null,null,"Solvent",null,null,"SW - B72W8193",null,null,null,"PR8193",null,"Brush/Roll/Wipe",null,null,7.2,null,0.76500000000000001,null,null,null,null,null,null,null,null,0,null,null,null,null,null,0.2,null,null,null,null,null,null,null,null,null,null,null,null,73,null,null,null,null,null,65,null,20]
["Example 3",null,null,"Paint",null,null,"SW - B72W7555 - Evergreen",null,null,null,"PR7555",null,"Spray",null,null,9.68,null,0.193,null,null,null,null,null,null,null,null,{"$f":"(100%-R34)","v":0.80699999999999994},null,7.0000000000000007E-2,null,null,null,0.03,null,null,null,null,null,null,null,null,null,null,25,null,10,null,null,null,null,null,95,null,null,null,162]
[]
[]
[null,null,null,null,null,null,null,null,null,null,null,null,null,null,null,null,null,"Conversion Equations:"]
[]
[null,null,null,null,null,null,null,null,null,null,null,null,null,null,null,null,null,"Specific Gravity (no units)",null,null,"Density of Water (lb/gal)",null,null,"Density to use in blue tab (lb/gal)"]
[null,null,null,null,null,null,null,null,null,null,null,null,null,null,null,null,null,null,0,"x",null,8.34,"=",null,{"$f":"S40*V40","v":0}]
[]
[null,null,null,null,null,null,null,null,null,null,null,null,null,null,null,null,null,"VOC from SDS (lb/gal)",null,null,"Density from SDS (lb/gal)",null,null,"VOC to use in blue tab (% by weight)"]
[null,null,null,null,null,null,null,null,null,null,null,null,null,null,null,null,null,null,0,null,null,0,"→",null,{"$f":"S43/V43","v":{"$error":"#DIV/0!"}}]
[]
[null,null,null,null,null,null,null,null,null,null,null,null,null,null,null,null,null,"VOC from SDS (gram/Liter)",null,null,"Density from SDS (lb/gal)",null,null,"VOC to use in blue tab (% by weight)"]
[null,null,null,null,null,null,null,null,null,null,null,null,null,null,null,null,null,null,0,null,null,0,"→",null,{"$f":"(S46*0.00220462*3.78541)/V46","v":{"$error":"#DIV/0!"}}]

{"sheet":"Step 4 Potential emissions","index":5,"n_rows":50,"n_cols":8,"rows_kept":50,"cut":false,"hidden":false,"merged":[[12,6,15,7],[12,0,12,1],[17,6,20,7],[19,0,19,3],[2,0,2,7],[27,4,28,4],[27,6,28,6],[27,7,28,7],[23,6,25,6],[23,4,25,4],[23,7,25,7],[23,1,25,1],[23,2,25,2],[23,3,25,3],[8,6,10,7],[4,6,6,7],[8,2,10,2],[23,5,25,5],[27,5,28,5],[13,0,13,1],[14,0,14,1],[17,0,17,3],[18,0,18,3],[0,0,0,7],[5,0,5,3],[6,0,6,3],[11,0,11,1],[8,3,10,3],[1,0,1,7],[8,4,10,4],[8,0,10,1]]}
[{"$f":"Instructions!G2","v":"p-sbap5-22  • 5/7/2019"}]
["Step 4"]
["Potential emissions summary"]
[]
["Application methods",null,null,null,null,null,"Potential emissions calculations do not include pollutant controls. See Step 5."]
["What is the maximum amount that is brushed/rolled/wiped per week?",null,null,null,0,"gal/week"]
["How many hours a week do you brush/roll/wipe VOC-containing products?",null,null,null,0,"hr/week"]
[]
["Application methods",null,"PM transfer efficiency\n(%)","Maximum application rate \n(gal/hour)","Number of guns",null,"PM transfer efficiency is applied to all particulates, including particulate HAPs."]
[]
[]
[{"$f":"'Data Validation'!$B$32","v":""},null,{"$f":"IF(A12=\"Brush/wipe/roll\",100%,\"\")","v":""},{"$f":"IFERROR((E6/E7),0)","v":0},"n/a"]
[{"$f":"'Data Validation'!$B$33","v":""},null,{"$f":"'Data Validation'!$C$12%","v":0},null,null,null,"Maximum application rate is the manufacturer's maximum gun rate, spraying 100% for 60 minutes. "]
[{"$f":"'Data Validation'!$B$34","v":""},null,{"$f":"'Data Validation'!$C$13%","v":0}]
[{"$f":"'Data Validation'!$B$35","v":""},null,{"$f":"'Data Validation'!$C$14%","v":0}]
[]
[]
["Can more than one gun be operated at one time?",null,null,null,"Choose Y/N",null,{"$f":"'Data Validation'!C6","v":" "}]
["Enter maximum total spray application rate (lb/gal) ",null,null,null,null,"gal/hour   --------->"]
[]
[]
["Annual potential emissions (worst-case)"]
[null,null,"a","b","c","d","e"]
[null,"Application method","Maximum Hourly Throughput","Hours in a Year","Max Emission Factor \nBrush/wipe/roll","Max Emission Factor \nSpray Method","Potential Emissions","Permitting Threshold"]
[null,"Application method"]
[]
[null,null,"(gal/hour)","(hr/yr)","(lb/gal)","(lb/gal)","(ton/yr)","(ton/yr)"]
[null,"Brush/Wipe/Roll",{"$f":"IF(E7>0,(E6/E7),\"0.0\")","v":"0.0"},"24 hr/d*365 d/yr","worst-case by pollutant; TE = 100%","worst-case by pollutant; particulates w/ TE","((a*b*c)+(a*b*d)) \n/ 2000"]
[null,"Spray apply",{"$f":"IF(E18=\"Choose Y/N\",0,IF(E18=\"No\",MAX(D13:D15),E19))","v":0},8760]
["PM",null,null,null,{"$f":"'Emission Calculations'!C116","v":0},{"$f":"'Emission Calculations'!C186","v":0},{"$f":"(($C$28*$D$29*E30)+($C$29*$D$29*F30))/2000","v":0},100]
["PM10",null,null,null,{"$f":"E30","v":0},{"$f":"F30","v":0},{"$f":"(($C$28*$D$29*E31)+($C$29*$D$29*F31))/2000","v":0},25]
[{"$f":"'Step 3 Product data'!G17","v":"VOC"},null,null,null,{"$f":"'Emission Calculations'!B116","v":0},{"$f":"'Emission Calculations'!B186","v":0},0,100]
[{"$f":"'Step 3 Product data'!I$17","v":"HAP Name"},null,null,null,{"$f":"'Emission Calculations'!D$116","v":0},{"$f":"'Emission Calculations'!D$186","v":0},0]
[{"$f":"'Step 3 Product data'!J$17","v":"HAP Name"},null,null,null,{"$f":"'Emission Calculations'!E$116","v":0},{"$f":"'Emission Calculations'!E$186","v":0},0]
[{"$f":"'Step 3 Product data'!K$17","v":"HAP Name"},null,null,null,{"$f":"'Emission Calculations'!F$116","v":0},{"$f":"'Emission Calculations'!F$186","v":0},0]
[{"$f":"'Step 3 Product data'!L$17","v":"HAP Name"},null,null,null,{"$f":"'Emission Calculations'!G$116","v":0},{"$f":"'Emission Calculations'!G$186","v":0},0]
[{"$f":"'Step 3 Product data'!M$17","v":"HAP Name"},null,null,null,{"$f":"'Emission Calculations'!H$116","v":0},{"$f":"'Emission Calculations'!H$186","v":0},0]
[{"$f":"'Step 3 Product data'!N$17","v":"HAP Name"},null,null,null,{"$f":"'Emission Calculations'!I$116","v":0},{"$f":"'Emission Calculations'!I$186","v":0},0]
[{"$f":"'Step 3 Product data'!O$17","v":"HAP Name"},null,null,null,{"$f":"'Emission Calculations'!J$116","v":0},{"$f":"'Emission Calculations'!J$186","v":0},0]
[{"$f":"'Step 3 Product data'!P$17","v":"HAP Name"},null,null,null,{"$f":"'Emission Calculations'!K$116","v":0},{"$f":"'Emission Calculations'!K$186","v":0},0]
[{"$f":"'Step 3 Product data'!Q$17","v":"HAP Name"},null,null,null,{"$f":"'Emission Calculations'!JS$112","v":0},{"$f":"'Emission Calculations'!L$186","v":0},0]
[{"$f":"'Step 3 Product data'!R$17","v":"HAP Name"},null,null,null,{"$f":"'Emission Calculations'!M$116","v":0},{"$f":"'Emission Calculations'!M$186","v":0},0]
[{"$f":"'Step 3 Product data'!S$17","v":"HAP Name"},null,null,null,{"$f":"'Emission Calculations'!N$116","v":0},{"$f":"'Emission Calculations'!N$186","v":0},0]
[{"$f":"'Step 3 Product data'!T$17","v":"HAP Name"},null,null,null,{"$f":"'Emission Calculations'!O$116","v":0},{"$f":"'Emission Calculations'!O$186","v":0},0]
[{"$f":"'Step 3 Product data'!U$17","v":"HAP Name"},null,null,null,{"$f":"'Emission Calculations'!P$116","v":0},{"$f":"'Emission Calculations'!P$186","v":0},0]
[{"$f":"'Step 3 Product data'!V$17","v":"HAP Name"},null,null,null,{"$f":"'Emission Calculations'!Q$116","v":0},{"$f":"'Emission Calculations'!Q$186","v":0},0]
[{"$f":"'Step 3 Product data'!W$17","v":"HAP Name"},null,null,null,{"$f":"'Emission Calculations'!R$116","v":0},{"$f":"'Emission Calculations'!R$186","v":0},0]
[{"$f":"'Step 3 Product data'!X$17","v":"HAP Name"},null,null,null,{"$f":"'Emission Calculations'!S$116","v":0},{"$f":"'Emission Calculations'!S$186","v":0},0]
["HAP Individual Max",{"$f":"IF(G49=G33,A33,IF(G49=G34,A34,IF(G49=G35,A35,IF(G49=G36,A36,IF(G49=G37,A37,IF(G49=G38,A38,IF(G49=G39,A39,IF(G49=G40,A40,IF(G49=G41,A41,IF(G49=G42,A42,IF(G49=G43,A43,IF(G49=G44,A44,IF(G49=A45,A45,IF(G49=G46,A46,IF(G49=G47,A47,IF(G49=G48,A48))))))))))))))))","v":"HAP Name"},null,null,null,null,{"$f":"MAX(G33:G48)","v":0},10]
["HAP Total",null,null,null,null,null,{"$f":"SUM(G33:G48)","v":0},25]

{"sheet":"Step 5 Actual annual emissions","index":6,"n_rows":223,"n_cols":61,"rows_kept":223,"cut":false,"hidden":false,"merged":[[9,0,14,0],[0,0,0,9],[1,0,1,9],[9,1,11,1],[9,2,11,2],[9,3,11,3],[9,4,11,4],[9,5,11,5],[5,7,6,9],[7,7,7,9],[11,8,12,8],[9,7,10,8],[2,0,2,9],[5,4,5,5],[5,1,5,3],[8,0,8,9],[9,6,12,6],[49,7,49,8],[45,0,50,0],[3,0,3,9],[9,9,12,9],[199,0,202,0],[13,7,13,8],[173,0,175,0],[45,6,48,6],[45,7,46,8],[45,9,48,9],[47,8,48,8],[45,1,47,1],[45,2,47,2],[45,3,47,3],[45,4,47,4],[45,5,47,5]]}
[{"$f":"Instructions!G2","v":"p-sbap5-22  • 5/7/2019"}]
["Step 5"]
["Actual annual emissions"]
["Values will be calculated automatically based on equations in a hidden Emission Calculations tab."]
[]
["Select control equipment if used","Type of Control Equipment",null,null,"PM/PM10 Capture Efficiency",null,{"$f":"IF('Step 5 Actual annual emissions'!$B$6=Efficiencies!TypeCE,Efficiencies!B15,IF('Step 5 Actual annual emissions'!$B$6=Efficiencies!B18,Efficiencies!C18,IF('Step 5 Actual annual emissions'!$B$6=Efficiencies!B19,Efficiencies!C19,IF('Step 5 Actual annual emissions'!$B$6=Efficiencies!B20,Efficiencies!C20,IF('Step 5 Actual annual emissions'!$B$6=Efficiencies!B21,Efficiencies!C21,IF('Step 5 Actual annual emissions'!$B$6=Efficiencies!B22,Efficiencies!C22,IF('Step 5 Actual annual emissions'!$B$6=Efficiencies!B23,Efficiencies!C23,IF('Step 5 Actual annual emissions'!$B$6=Efficiencies!B24,Efficiencies!C24,IF('Step 5 Actual annual emissions'!$B$6=\"\",0)))))))))","v":0},"Capture efficiency may only be used if the requirements in the rule below are met."]
[]
[null,null,null,null,null,null,null," Minn. R. 7011.0060 to 7011.0080"]
[]
["Actual annual emissions ",{"$f":"'Step 3 Product data'!Y$18","v":2019},{"$f":"'Step 3 Product data'!Z$18","v":2020},{"$f":"'Step 3 Product data'!AA$18","v":2021},{"$f":"'Step 3 Product data'!AB$18","v":2022},{"$f":"'Step 3 Product data'!AC$18","v":2023},"State Permit Limits","Option D Permit Limits",null,"Conditionally Exempt\nFacility"]
[]
[null,null,null,null,null,null,null,null," Reduced Recordkeeping"]
[]
[null,"Jan-Dec","Jan-Dec","Jan-Dec","Jan-Dec","Jan-Dec",null,7007.1130000000003,null,7008.24]
[null,"(ton/yr)","(ton/yr)","(ton/yr)","(ton/yr)","(ton/yr)","(ton/yr)","(ton/yr)","(ton/yr)","(ton/yr)"]
["PM",{"$f":"IF('Step 1 START HERE'!$M$24='Data Validation'!$A$16,0,IF('Step 1 START HERE'!$M$24='Data Validation'!$A$18,'Emission Calculations'!B264,IF('Step 1 START HERE'!$M$24='Data Validation'!$A$17,'Emission Calculations'!G264)))","v":0},{"$f":"IF('Step 1 START HERE'!$M$24='Data Validation'!$A$16,0,IF('Step 1 START HERE'!$M$24='Data Validation'!$A$18,'Emission Calculations'!C264,IF('Step 1 START HERE'!$M$24='Data Validation'!$A$17,'Emission Calculations'!H264)))","v":0},{"$f":"IF('Step 1 START HERE'!$M$24='Data Validation'!$A$16,0,IF('Step 1 START HERE'!$M$24='Data Validation'!$A$18,'Emission Calculations'!D264,IF('Step 1 START HERE'!$M$24='Data Validation'!$A$17,'Emission Calculations'!I264)))","v":0},{"$f":"IF('Step 1 START HERE'!$M$24='Data Validation'!$A$16,0,IF('Step 1 START HERE'!$M$24='Data Validation'!$A$18,'Emission Calculations'!E264,IF('Step 1 START HERE'!$M$24='Data Validation'!$A$17,'Emission Calculations'!J264)))","v":0},{"$f":"IF('Step 1 START HERE'!$M$24='Data Validation'!$A$16,0,IF('Step 1 START HERE'!$M$24='Data Validation'!$A$18,'Emission Calculations'!F264,IF('Step 1 START HERE'!$M$24='Data Validation'!$A$17,'Emission Calculations'!K264)))","v":0},100,50,25]
["PM10",{"$f":"IF('Step 1 START HERE'!$M$24='Data Validation'!$A$16,0,IF('Step 1 START HERE'!$M$24='Data Validation'!$A$18,'Emission Calculations'!B265,IF('Step 1 START HERE'!$M$24='Data Validation'!$A$17,'Emission Calculations'!G265)))","v":0},{"$f":"IF('Step 1 START HERE'!$M$24='Data Validation'!$A$16,0,IF('Step 1 START HERE'!$M$24='Data Validation'!$A$18,'Emission Calculations'!C265,IF('Step 1 START HERE'!$M$24='Data Validation'!$A$17,'Emission Calculations'!H265)))","v":0},{"$f":"IF('Step 1 START HERE'!$M$24='Data Validation'!$A$16,0,IF('Step 1 START HERE'!$M$24='Data Validation'!$A$18,'Emission Calculations'!D265,IF('Step 1 START HERE'!$M$24='Data Validation'!$A$17,'Emission Calculations'!I265)))","v":0},{"$f":"IF('Step 1 START HERE'!$M$24='Data Validation'!$A$16,0,IF('Step 1 START HERE'!$M$24='Data Validation'!$A$18,'Emission Calculations'!E265,IF('Step 1 START HERE'!$M$24='Data Validation'!$A$17,'Emission Calculations'!J265)))","v":0},{"$f":"IF('Step 1 START HERE'!$M$24='Data Validation'!$A$16,0,IF('Step 1 START HERE'!$M$24='Data Validation'!$A$18,'Emission Calculations'!F265,IF('Step 1 START HERE'!$M$24='Data Validation'!$A$17,'Emission Calculations'!K265)))","v":0},25,50,25]
["VOC",{"$f":"IF('Step 1 START HERE'!$M$24='Data Validation'!$A$16,0,IF('Step 1 START HERE'!$M$24='Data Validation'!$A$18,'Emission Calculations'!B266,IF('Step 1 START HERE'!$M$24='Data Validation'!$A$17,'Emission Calculations'!G266)))","v":0},{"$f":"IF('Step 1 START HERE'!$M$24='Data Validation'!$A$16,0,IF('Step 1 START HERE'!$M$24='Data Validation'!$A$18,'Emission Calculations'!C266,IF('Step 1 START HERE'!$M$24='Data Validation'!$A$17,'Emission Calculations'!H266)))","v":0},{"$f":"IF('Step 1 START HERE'!$M$24='Data Validation'!$A$16,0,IF('Step 1 START HERE'!$M$24='Data Validation'!$A$18,'Emission Calculations'!D266,IF('Step 1 START HERE'!$M$24='Data Validation'!$A$17,'Emission Calculations'!I266)))","v":0},{"$f":"IF('Step 1 START HERE'!$M$24='Data Validation'!$A$16,0,IF('Step 1 START HERE'!$M$24='Data Validation'!$A$18,'Emission Calculations'!E266,IF('Step 1 START HERE'!$M$24='Data Validation'!$A$17,'Emission Calculations'!J266)))","v":0},{"$f":"IF('Step 1 START HERE'!$M$24='Data Validation'!$A$16,0,IF('Step 1 START HERE'!$M$24='Data Validation'!$A$18,'Emission Calculations'!F266,IF('Step 1 START HERE'!$M$24='Data Validation'!$A$17,'Emission Calculations'!K266)))","v":0},100,50,25,10]
[{"$f":"'Step 3 Product data'!I$17","v":"HAP Name"},{"$f":"IF('Step 1 START HERE'!$M$24='Data Validation'!$A$16,0,IF('Step 1 START HERE'!$M$24='Data Validation'!$A$18,'Emission Calculations'!B267,IF('Step 1 START HERE'!$M$24='Data Validation'!$A$17,'Emission Calculations'!G267)))","v":0},{"$f":"IF('Step 1 START HERE'!$M$24='Data Validation'!$A$16,0,IF('Step 1 START HERE'!$M$24='Data Validation'!$A$18,'Emission Calculations'!C267,IF('Step 1 START HERE'!$M$24='Data Validation'!$A$17,'Emission Calculations'!H267)))","v":0},{"$f":"IF('Step 1 START HERE'!$M$24='Data Validation'!$A$16,0,IF('Step 1 START HERE'!$M$24='Data Validation'!$A$18,'Emission Calculations'!D267,IF('Step 1 START HERE'!$M$24='Data Validation'!$A$17,'Emission Calculations'!I267)))","v":0},{"$f":"IF('Step 1 START HERE'!$M$24='Data Validation'!$A$16,0,IF('Step 1 START HERE'!$M$24='Data Validation'!$A$18,'Emission Calculations'!E267,IF('Step 1 START HERE'!$M$24='Data Validation'!$A$17,'Emission Calculations'!J267)))","v":0},{"$f":"IF('Step 1 START HERE'!$M$24='Data Validation'!$A$16,0,IF('Step 1 START HERE'!$M$24='Data Validation'!$A$18,'Emission Calculations'!F267,IF('Step 1 START HERE'!$M$24='Data Validation'!$A$17,'Emission Calculations'!K267)))","v":0}]
[{"$f":"'Step 3 Product data'!J$17","v":"HAP Name"},{"$f":"IF('Step 1 START HERE'!$M$24='Data Validation'!$A$16,0,IF('Step 1 START HERE'!$M$24='Data Validation'!$A$18,'Emission Calculations'!B268,IF('Step 1 START HERE'!$M$24='Data Validation'!$A$17,'Emission Calculations'!G268)))","v":0},{"$f":"IF('Step 1 START HERE'!$M$24='Data Validation'!$A$16,0,IF('Step 1 START HERE'!$M$24='Data Validation'!$A$18,'Emission Calculations'!C268,IF('Step 1 START HERE'!$M$24='Data Validation'!$A$17,'Emission Calculations'!H268)))","v":0},{"$f":"IF('Step 1 START HERE'!$M$24='Data Validation'!$A$16,0,IF('Step 1 START HERE'!$M$24='Data Validation'!$A$18,'Emission Calculations'!D268,IF('Step 1 START HERE'!$M$24='Data Validation'!$A$17,'Emission Calculations'!I268)))","v":0},{"$f":"IF('Step 1 START HERE'!$M$24='Data Validation'!$A$16,0,IF('Step 1 START HERE'!$M$24='Data Validation'!$A$18,'Emission Calculations'!E268,IF('Step 1 START HERE'!$M$24='Data Validation'!$A$17,'Emission Calculations'!J268)))","v":0},{"$f":"IF('Step 1 START HERE'!$M$24='Data Validation'!$A$16,0,IF('Step 1 START HERE'!$M$24='Data Validation'!$A$18,'Emission Calculations'!F268,IF('Step 1 START HERE'!$M$24='Data Validation'!$A$17,'Emission Calculations'!K268)))","v":0}]
[{"$f":"'Step 3 Product data'!K$17","v":"HAP Name"},{"$f":"IF('Step 1 START HERE'!$M$24='Data Validation'!$A$16,0,IF('Step 1 START HERE'!$M$24='Data Validation'!$A$18,'Emission Calculations'!B269,IF('Step 1 START HERE'!$M$24='Data Validation'!$A$17,'Emission Calculations'!G269)))","v":0},{"$f":"IF('Step 1 START HERE'!$M$24='Data Validation'!$A$16,0,IF('Step 1 START HERE'!$M$24='Data Validation'!$A$18,'Emission Calculations'!C269,IF('Step 1 START HERE'!$M$24='Data Validation'!$A$17,'Emission Calculations'!H269)))","v":0},{"$f":"IF('Step 1 START HERE'!$M$24='Data Validation'!$A$16,0,IF('Step 1 START HERE'!$M$24='Data Validation'!$A$18,'Emission Calculations'!D269,IF('Step 1 START HERE'!$M$24='Data Validation'!$A$17,'Emission Calculations'!I269)))","v":0},{"$f":"IF('Step 1 START HERE'!$M$24='Data Validation'!$A$16,0,IF('Step 1 START HERE'!$M$24='Data Validation'!$A$18,'Emission Calculations'!E269,IF('Step 1 START HERE'!$M$24='Data Validation'!$A$17,'Emission Calculations'!J269)))","v":0},{"$f":"IF('Step 1 START HERE'!$M$24='Data Validation'!$A$16,0,IF('Step 1 START HERE'!$M$24='Data Validation'!$A$18,'Emission Calculations'!F269,IF('Step 1 START HERE'!$M$24='Data Validation'!$A$17,'Emission Calculations'!K269)))","v":0}]
[{"$f":"'Step 3 Product data'!L$17","v":"HAP Name"},{"$f":"IF('Step 1 START HERE'!$M$24='Data Validation'!$A$16,0,IF('Step 1 START HERE'!$M$24='Data Validation'!$A$18,'Emission Calculations'!B270,IF('Step 1 START HERE'!$M$24='Data Validation'!$A$17,'Emission Calculations'!G270)))","v":0},{"$f":"IF('Step 1 START HERE'!$M$24='Data Validation'!$A$16,0,IF('Step 1 START HERE'!$M$24='Data Validation'!$A$18,'Emission Calculations'!C270,IF('Step 1 START HERE'!$M$24='Data Validation'!$A$17,'Emission Calculations'!H270)))","v":0},{"$f":"IF('Step 1 START HERE'!$M$24='Data Validation'!$A$16,0,IF('Step 1 START HERE'!$M$24='Data Validation'!$A$18,'Emission Calculations'!D270,IF('Step 1 START HERE'!$M$24='Data Validation'!$A$17,'Emission Calculations'!I270)))","v":0},{"$f":"IF('Step 1 START HERE'!$M$24='Data Validation'!$A$16,0,IF('Step 1 START HERE'!$M$24='Data Validation'!$A$18,'Emission Calculations'!E270,IF('Step 1 START HERE'!$M$24='Data Validation'!$A$17,'Emission Calculations'!J270)))","v":0},{"$f":"IF('Step 1 START HERE'!$M$24='Data Validation'!$A$16,0,IF('Step 1 START HERE'!$M$24='Data Validation'!$A$18,'Emission Calculations'!F270,IF('Step 1 START HERE'!$M$24='Data Validation'!$A$17,'Emission Calculations'!K270)))","v":0}]
[{"$f":"'Step 3 Product data'!M$17","v":"HAP Name"},{"$f":"IF('Step 1 START HERE'!$M$24='Data Validation'!$A$16,0,IF('Step 1 START HERE'!$M$24='Data Validation'!$A$18,'Emission Calculations'!B271,IF('Step 1 START HERE'!$M$24='Data Validation'!$A$17,'Emission Calculations'!G271)))","v":0},{"$f":"IF('Step 1 START HERE'!$M$24='Data Validation'!$A$16,0,IF('Step 1 START HERE'!$M$24='Data Validation'!$A$18,'Emission Calculations'!C271,IF('Step 1 START HERE'!$M$24='Data Validation'!$A$17,'Emission Calculations'!H271)))","v":0},{"$f":"IF('Step 1 START HERE'!$M$24='Data Validation'!$A$16,0,IF('Step 1 START HERE'!$M$24='Data Validation'!$A$18,'Emission Calculations'!D271,IF('Step 1 START HERE'!$M$24='Data Validation'!$A$17,'Emission Calculations'!I271)))","v":0},{"$f":"IF('Step 1 START HERE'!$M$24='Data Validation'!$A$16,0,IF('Step 1 START HERE'!$M$24='Data Validation'!$A$18,'Emission Calculations'!E271,IF('Step 1 START HERE'!$M$24='Data Validation'!$A$17,'Emission Calculations'!J271)))","v":0},{"$f":"IF('Step 1 START HERE'!$M$24='Data Validation'!$A$16,0,IF('Step 1 START HERE'!$M$24='Data Validation'!$A$18,'Emission Calculations'!F271,IF('Step 1 START HERE'!$M$24='Data Validation'!$A$17,'Emission Calculations'!K271)))","v":0}]
[{"$f":"'Step 3 Product data'!N$17","v":"HAP Name"},{"$f":"IF('Step 1 START HERE'!$M$24='Data Validation'!$A$16,0,IF('Step 1 START HERE'!$M$24='Data Validation'!$A$18,'Emission Calculations'!B272,IF('Step 1 START HERE'!$M$24='Data Validation'!$A$17,'Emission Calculations'!G272)))","v":0},{"$f":"IF('Step 1 START HERE'!$M$24='Data Validation'!$A$16,0,IF('Step 1 START HERE'!$M$24='Data Validation'!$A$18,'Emission Calculations'!C272,IF('Step 1 START HERE'!$M$24='Data Validation'!$A$17,'Emission Calculations'!H272)))","v":0},{"$f":"IF('Step 1 START HERE'!$M$24='Data Validation'!$A$16,0,IF('Step 1 START HERE'!$M$24='Data Validation'!$A$18,'Emission Calculations'!D272,IF('Step 1 START HERE'!$M$24='Data Validation'!$A$17,'Emission Calculations'!I272)))","v":0},{"$f":"IF('Step 1 START HERE'!$M$24='Data Validation'!$A$16,0,IF('Step 1 START HERE'!$M$24='Data Validation'!$A$18,'Emission Calculations'!E272,IF('Step 1 START HERE'!$M$24='Data Validation'!$A$17,'Emission Calculations'!J272)))","v":0},{"$f":"IF('Step 1 START HERE'!$M$24='Data Validation'!$A$16,0,IF('Step 1 START HERE'!$M$24='Data Validation'!$A$18,'Emission Calculations'!F272,IF('Step 1 START HERE'!$M$24='Data Validation'!$A$17,'Emission Calculations'!K272)))","v":0}]
[{"$f":"'Step 3 Product data'!O$17","v":"HAP Name"},{"$f":"IF('Step 1 START HERE'!$M$24='Data Validation'!$A$16,0,IF('Step 1 START HERE'!$M$24='Data Validation'!$A$18,'Emission Calculations'!B273,IF('Step 1 START HERE'!$M$24='Data Validation'!$A$17,'Emission Calculations'!G273)))","v":0},{"$f":"IF('Step 1 START HERE'!$M$24='Data Validation'!$A$16,0,IF('Step 1 START HERE'!$M$24='Data Validation'!$A$18,'Emission Calculations'!C273,IF('Step 1 START HERE'!$M$24='Data Validation'!$A$17,'Emission Calculations'!H273)))","v":0},{"$f":"IF('Step 1 START HERE'!$M$24='Data Validation'!$A$16,0,IF('Step 1 START HERE'!$M$24='Data Validation'!$A$18,'Emission Calculations'!D273,IF('Step 1 START HERE'!$M$24='Data Validation'!$A$17,'Emission Calculations'!I273)))","v":0},{"$f":"IF('Step 1 START HERE'!$M$24='Data Validation'!$A$16,0,IF('Step 1 START HERE'!$M$24='Data Validation'!$A$18,'Emission Calculations'!E273,IF('Step 1 START HERE'!$M$24='Data Validation'!$A$17,'Emission Calculations'!J273)))","v":0},{"$f":"IF('Step 1 START HERE'!$M$24='Data Validation'!$A$16,0,IF('Step 1 START HERE'!$M$24='Data Validation'!$A$18,'Emission Calculations'!F273,IF('Step 1 START HERE'!$M$24='Data Validation'!$A$17,'Emission Calculations'!K273)))","v":0}]
[{"$f":"'Step 3 Product data'!P$17","v":"HAP Name"},{"$f":"IF('Step 1 START HERE'!$M$24='Data Validation'!$A$16,0,IF('Step 1 START HERE'!$M$24='Data Validation'!$A$18,'Emission Calculations'!B274,IF('Step 1 START HERE'!$M$24='Data Validation'!$A$17,'Emission Calculations'!G274)))","v":0},{"$f":"IF('Step 1 START HERE'!$M$24='Data Validation'!$A$16,0,IF('Step 1 START HERE'!$M$24='Data Validation'!$A$18,'Emission Calculations'!C274,IF('Step 1 START HERE'!$M$24='Data Validation'!$A$17,'Emission Calculations'!H274)))","v":0},{"$f":"IF('Step 1 START HERE'!$M$24='Data Validation'!$A$16,0,IF('Step 1 START HERE'!$M$24='Data Validation'!$A$18,'Emission Calculations'!D274,IF('Step 1 START HERE'!$M$24='Data Validation'!$A$17,'Emission Calculations'!I274)))","v":0},{"$f":"IF('Step 1 START HERE'!$M$24='Data Validation'!$A$16,0,IF('Step 1 START HERE'!$M$24='Data Validation'!$A$18,'Emission Calculations'!E274,IF('Step 1 START HERE'!$M$24='Data Validation'!$A$17,'Emission Calculations'!J274)))","v":0},{"$f":"IF('Step 1 START HERE'!$M$24='Data Validation'!$A$16,0,IF('Step 1 START HERE'!$M$24='Data Validation'!$A$18,'Emission Calculations'!F274,IF('Step 1 START HERE'!$M$24='Data Validation'!$A$17,'Emission Calculations'!K274)))","v":0}]
[{"$f":"'Step 3 Product data'!Q$17","v":"HAP Name"},{"$f":"IF('Step 1 START HERE'!$M$24='Data Validation'!$A$16,0,IF('Step 1 START HERE'!$M$24='Data Validation'!$A$18,'Emission Calculations'!B275,IF('Step 1 START HERE'!$M$24='Data Validation'!$A$17,'Emission Calculations'!G275)))","v":0},{"$f":"IF('Step 1 START HERE'!$M$24='Data Validation'!$A$16,0,IF('Step 1 START HERE'!$M$24='Data Validation'!$A$18,'Emission Calculations'!C275,IF('Step 1 START HERE'!$M$24='Data Validation'!$A$17,'Emission Calculations'!H275)))","v":0},{"$f":"IF('Step 1 START HERE'!$M$24='Data Validation'!$A$16,0,IF('Step 1 START HERE'!$M$24='Data Validation'!$A$18,'Emission Calculations'!D275,IF('Step 1 START HERE'!$M$24='Data Validation'!$A$17,'Emission Calculations'!I275)))","v":0},{"$f":"IF('Step 1 START HERE'!$M$24='Data Validation'!$A$16,0,IF('Step 1 START HERE'!$M$24='Data Validation'!$A$18,'Emission Calculations'!E275,IF('Step 1 START HERE'!$M$24='Data Validation'!$A$17,'Emission Calculations'!J275)))","v":0},{"$f":"IF('Step 1 START HERE'!$M$24='Data Validation'!$A$16,0,IF('Step 1 START HERE'!$M$24='Data Validation'!$A$18,'Emission Calculations'!F275,IF('Step 1 START HERE'!$M$24='Data Validation'!$A$17,'Emission Calculations'!K275)))","v":0}]
[{"$f":"'Step 3 Product data'!R$17","v":"HAP Name"},{"$f":"IF('Step 1 START HERE'!$M$24='Data Validation'!$A$16,0,IF('Step 1 START HERE'!$M$24='Data Validation'!$A$18,'Emission Calculations'!B276,IF('Step 1 START HERE'!$M$24='Data Validation'!$A$17,'Emission Calculations'!G276)))","v":0},{"$f":"IF('Step 1 START HERE'!$M$24='Data Validation'!$A$16,0,IF('Step 1 START HERE'!$M$24='Data Validation'!$A$18,'Emission Calculations'!C276,IF('Step 1 START HERE'!$M$24='Data Validation'!$A$17,'Emission Calculations'!H276)))","v":0},{"$f":"IF('Step 1 START HERE'!$M$24='Data Validation'!$A$16,0,IF('Step 1 START HERE'!$M$24='Data Validation'!$A$18,'Emission Calculations'!D276,IF('Step 1 START HERE'!$M$24='Data Validation'!$A$17,'Emission Calculations'!I276)))","v":0},{"$f":"IF('Step 1 START HERE'!$M$24='Data Validation'!$A$16,0,IF('Step 1 START HERE'!$M$24='Data Validation'!$A$18,'Emission Calculations'!E276,IF('Step 1 START HERE'!$M$24='Data Validation'!$A$17,'Emission Calculations'!J276)))","v":0},{"$f":"IF('Step 1 START HERE'!$M$24='Data Validation'!$A$16,0,IF('Step 1 START HERE'!$M$24='Data Validation'!$A$18,'Emission Calculations'!F276,IF('Step 1 START HERE'!$M$24='Data Validation'!$A$17,'Emission Calculations'!K276)))","v":0}]
[{"$f":"'Step 3 Product data'!S$17","v":"HAP Name"},{"$f":"IF('Step 1 START HERE'!$M$24='Data Validation'!$A$16,0,IF('Step 1 START HERE'!$M$24='Data Validation'!$A$18,'Emission Calculations'!B277,IF('Step 1 START HERE'!$M$24='Data Validation'!$A$17,'Emission Calculations'!G277)))","v":0},{"$f":"IF('Step 1 START HERE'!$M$24='Data Validation'!$A$16,0,IF('Step 1 START HERE'!$M$24='Data Validation'!$A$18,'Emission Calculations'!C277,IF('Step 1 START HERE'!$M$24='Data Validation'!$A$17,'Emission Calculations'!H277)))","v":0},{"$f":"IF('Step 1 START HERE'!$M$24='Data Validation'!$A$16,0,IF('Step 1 START HERE'!$M$24='Data Validation'!$A$18,'Emission Calculations'!D277,IF('Step 1 START HERE'!$M$24='Data Validation'!$A$17,'Emission Calculations'!I277)))","v":0},{"$f":"IF('Step 1 START HERE'!$M$24='Data Validation'!$A$16,0,IF('Step 1 START HERE'!$M$24='Data Validation'!$A$18,'Emission Calculations'!E277,IF('Step 1 START HERE'!$M$24='Data Validation'!$A$17,'Emission Calculations'!J277)))","v":0},{"$f":"IF('Step 1 START HERE'!$M$24='Data Validation'!$A$16,0,IF('Step 1 START HERE'!$M$24='Data Validation'!$A$18,'Emission Calculations'!F277,IF('Step 1 START HERE'!$M$24='Data Validation'!$A$17,'Emission Calculations'!K277)))","v":0}]
[{"$f":"'Step 3 Product data'!T$17","v":"HAP Name"},{"$f":"IF('Step 1 START HERE'!$M$24='Data Validation'!$A$16,0,IF('Step 1 START HERE'!$M$24='Data Validation'!$A$18,'Emission Calculations'!B278,IF('Step 1 START HERE'!$M$24='Data Validation'!$A$17,'Emission Calculations'!G278)))","v":0},{"$f":"IF('Step 1 START HERE'!$M$24='Data Validation'!$A$16,0,IF('Step 1 START HERE'!$M$24='Data Validation'!$A$18,'Emission Calculations'!C278,IF('Step 1 START HERE'!$M$24='Data Validation'!$A$17,'Emission Calculations'!H278)))","v":0},{"$f":"IF('Step 1 START HERE'!$M$24='Data Validation'!$A$16,0,IF('Step 1 START HERE'!$M$24='Data Validation'!$A$18,'Emission Calculations'!D278,IF('Step 1 START HERE'!$M$24='Data Validation'!$A$17,'Emission Calculations'!I278)))","v":0},{"$f":"IF('Step 1 START HERE'!$M$24='Data Validation'!$A$16,0,IF('Step 1 START HERE'!$M$24='Data Validation'!$A$18,'Emission Calculations'!E278,IF('Step 1 START HERE'!$M$24='Data Validation'!$A$17,'Emission Calculations'!J278)))","v":0},{"$f":"IF('Step 1 START HERE'!$M$24='Data Validation'!$A$16,0,IF('Step 1 START HERE'!$M$24='Data Validation'!$A$18,'Emission Calculations'!F278,IF('Step 1 START HERE'!$M$24='Data Validation'!$A$17,'Emission Calculations'!K278)))","v":0}]
[{"$f":"'Step 3 Product data'!U$17","v":"HAP Name"},{"$f":"IF('Step 1 START HERE'!$M$24='Data Validation'!$A$16,0,IF('Step 1 START HERE'!$M$24='Data Validation'!$A$18,'Emission Calculations'!B279,IF('Step 1 START HERE'!$M$24='Data Validation'!$A$17,'Emission Calculations'!G279)))","v":0},{"$f":"IF('Step 1 START HERE'!$M$24='Data Validation'!$A$16,0,IF('Step 1 START HERE'!$M$24='Data Validation'!$A$18,'Emission Calculations'!C279,IF('Step 1 START HERE'!$M$24='Data Validation'!$A$17,'Emission Calculations'!H279)))","v":0},{"$f":"IF('Step 1 START HERE'!$M$24='Data Validation'!$A$16,0,IF('Step 1 START HERE'!$M$24='Data Validation'!$A$18,'Emission Calculations'!D279,IF('Step 1 START HERE'!$M$24='Data Validation'!$A$17,'Emission Calculations'!I279)))","v":0},{"$f":"IF('Step 1 START HERE'!$M$24='Data Validation'!$A$16,0,IF('Step 1 START HERE'!$M$24='Data Validation'!$A$18,'Emission Calculations'!E279,IF('Step 1 START HERE'!$M$24='Data Validation'!$A$17,'Emission Calculations'!J279)))","v":0},{"$f":"IF('Step 1 START HERE'!$M$24='Data Validation'!$A$16,0,IF('Step 1 START HERE'!$M$24='Data Validation'!$A$18,'Emission Calculations'!F279,IF('Step 1 START HERE'!$M$24='Data Validation'!$A$17,'Emission Calculations'!K279)))","v":0}]
[{"$f":"'Step 3 Product data'!V$17","v":"HAP Name"},{"$f":"IF('Step 1 START HERE'!$M$24='Data Validation'!$A$16,0,IF('Step 1 START HERE'!$M$24='Data Validation'!$A$18,'Emission Calculations'!B280,IF('Step 1 START HERE'!$M$24='Data Validation'!$A$17,'Emission Calculations'!G280)))","v":0},{"$f":"IF('Step 1 START HERE'!$M$24='Data Validation'!$A$16,0,IF('Step 1 START HERE'!$M$24='Data Validation'!$A$18,'Emission Calculations'!C280,IF('Step 1 START HERE'!$M$24='Data Validation'!$A$17,'Emission Calculations'!H280)))","v":0},{"$f":"IF('Step 1 START HERE'!$M$24='Data Validation'!$A$16,0,IF('Step 1 START HERE'!$M$24='Data Validation'!$A$18,'Emission Calculations'!D280,IF('Step 1 START HERE'!$M$24='Data Validation'!$A$17,'Emission Calculations'!I280)))","v":0},{"$f":"IF('Step 1 START HERE'!$M$24='Data Validation'!$A$16,0,IF('Step 1 START HERE'!$M$24='Data Validation'!$A$18,'Emission Calculations'!E280,IF('Step 1 START HERE'!$M$24='Data Validation'!$A$17,'Emission Calculations'!J280)))","v":0},{"$f":"IF('Step 1 START HERE'!$M$24='Data Validation'!$A$16,0,IF('Step 1 START HERE'!$M$24='Data Validation'!$A$18,'Emission Calculations'!F280,IF('Step 1 START HERE'!$M$24='Data Validation'!$A$17,'Emission Calculations'!K280)))","v":0}]
[{"$f":"'Step 3 Product data'!W$17","v":"HAP Name"},{"$f":"IF('Step 1 START HERE'!$M$24='Data Validation'!$A$16,0,IF('Step 1 START HERE'!$M$24='Data Validation'!$A$18,'Emission Calculations'!B281,IF('Step 1 START HERE'!$M$24='Data Validation'!$A$17,'Emission Calculations'!G281)))","v":0},{"$f":"IF('Step 1 START HERE'!$M$24='Data Validation'!$A$16,0,IF('Step 1 START HERE'!$M$24='Data Validation'!$A$18,'Emission Calculations'!C281,IF('Step 1 START HERE'!$M$24='Data Validation'!$A$17,'Emission Calculations'!H281)))","v":0},{"$f":"IF('Step 1 START HERE'!$M$24='Data Validation'!$A$16,0,IF('Step 1 START HERE'!$M$24='Data Validation'!$A$18,'Emission Calculations'!D281,IF('Step 1 START HERE'!$M$24='Data Validation'!$A$17,'Emission Calculations'!I281)))","v":0},{"$f":"IF('Step 1 START HERE'!$M$24='Data Validation'!$A$16,0,IF('Step 1 START HERE'!$M$24='Data Validation'!$A$18,'Emission Calculations'!E281,IF('Step 1 START HERE'!$M$24='Data Validation'!$A$17,'Emission Calculations'!J281)))","v":0},{"$f":"IF('Step 1 START HERE'!$M$24='Data Validation'!$A$16,0,IF('Step 1 START HERE'!$M$24='Data Validation'!$A$18,'Emission Calculations'!F281,IF('Step 1 START HERE'!$M$24='Data Validation'!$A$17,'Emission Calculations'!K281)))","v":0}]
[{"$f":"'Step 3 Product data'!X$17","v":"HAP Name"},{"$f":"IF('Step 1 START HERE'!$M$24='Data Validation'!$A$16,0,IF('Step 1 START HERE'!$M$24='Data Validation'!$A$18,'Emission Calculations'!B282,IF('Step 1 START HERE'!$M$24='Data Validation'!$A$17,'Emission Calculations'!G282)))","v":0},{"$f":"IF('Step 1 START HERE'!$M$24='Data Validation'!$A$16,0,IF('Step 1 START HERE'!$M$24='Data Validation'!$A$18,'Emission Calculations'!C282,IF('Step 1 START HERE'!$M$24='Data Validation'!$A$17,'Emission Calculations'!H282)))","v":0},{"$f":"IF('Step 1 START HERE'!$M$24='Data Validation'!$A$16,0,IF('Step 1 START HERE'!$M$24='Data Validation'!$A$18,'Emission Calculations'!D282,IF('Step 1 START HERE'!$M$24='Data Validation'!$A$17,'Emission Calculations'!I282)))","v":0},{"$f":"IF('Step 1 START HERE'!$M$24='Data Validation'!$A$16,0,IF('Step 1 START HERE'!$M$24='Data Validation'!$A$18,'Emission Calculations'!E282,IF('Step 1 START HERE'!$M$24='Data Validation'!$A$17,'Emission Calculations'!J282)))","v":0},{"$f":"IF('Step 1 START HERE'!$M$24='Data Validation'!$A$16,0,IF('Step 1 START HERE'!$M$24='Data Validation'!$A$18,'Emission Calculations'!F282,IF('Step 1 START HERE'!$M$24='Data Validation'!$A$17,'Emission Calculations'!K282)))","v":0}]
["HAP Individual Max",{"$f":"IF('Step 1 START HERE'!$M$24='Data Validation'!$A$16,0,IF('Step 1 START HERE'!$M$24='Data Validation'!$A$18,'Emission Calculations'!B283,IF('Step 1 START HERE'!$M$24='Data Validation'!$A$17,'Emission Calculations'!G283)))","v":0},{"$f":"IF('Step 1 START HERE'!$M$24='Data Validation'!$A$16,0,IF('Step 1 START HERE'!$M$24='Data Validation'!$A$18,'Emission Calculations'!C283,IF('Step 1 START HERE'!$M$24='Data Validation'!$A$17,'Emission Calculations'!H283)))","v":0},{"$f":"IF('Step 1 START HERE'!$M$24='Data Validation'!$A$16,0,IF('Step 1 START HERE'!$M$24='Data Validation'!$A$18,'Emission Calculations'!D283,IF('Step 1 START HERE'!$M$24='Data Validation'!$A$17,'Emission Calculations'!I283)))","v":0},{"$f":"IF('Step 1 START HERE'!$M$24='Data Validation'!$A$16,0,IF('Step 1 START HERE'!$M$24='Data Validation'!$A$18,'Emission Calculations'!E283,IF('Step 1 START HERE'!$M$24='Data Validation'!$A$17,'Emission Calculations'!J283)))","v":0},{"$f":"IF('Step 1 START HERE'!$M$24='Data Validation'!$A$16,0,IF('Step 1 START HERE'!$M$24='Data Validation'!$A$18,'Emission Calculations'!F283,IF('Step 1 START HERE'!$M$24='Data Validation'!$A$17,'Emission Calculations'!K283)))","v":0},10,5,2.5]
["HAP Total",{"$f":"IF('Step 1 START HERE'!$M$24='Data Validation'!$A$16,0,IF('Step 1 START HERE'!$M$24='Data Validation'!$A$18,'Emission Calculations'!B284,IF('Step 1 START HERE'!$M$24='Data Validation'!$A$17,'Emission Calculations'!G284)))","v":0},{"$f":"IF('Step 1 START HERE'!$M$24='Data Validation'!$A$16,0,IF('Step 1 START HERE'!$M$24='Data Validation'!$A$18,'Emission Calculations'!C284,IF('Step 1 START HERE'!$M$24='Data Validation'!$A$17,'Emission Calculations'!H284)))","v":0},{"$f":"IF('Step 1 START HERE'!$M$24='Data Validation'!$A$16,0,IF('Step 1 START HERE'!$M$24='Data Validation'!$A$18,'Emission Calculations'!D284,IF('Step 1 START HERE'!$M$24='Data Validation'!$A$17,'Emission Calculations'!I284)))","v":0},{"$f":"IF('Step 1 START HERE'!$M$24='Data Validation'!$A$16,0,IF('Step 1 START HERE'!$M$24='Data Validation'!$A$18,'Emission Calculations'!E284,IF('Step 1 START HERE'!$M$24='Data Validation'!$A$17,'Emission Calculations'!J284)))","v":0},{"$f":"IF('Step 1 START HERE'!$M$24='Data Validation'!$A$16,0,IF('Step 1 START HERE'!$M$24='Data Validation'!$A$18,'Emission Calculations'!F284,IF('Step 1 START HERE'!$M$24='Data Validation'!$A$17,'Emission Calculations'!K284)))","v":0},25,12.5,6.25,6]
["Total Gallons Used",{"$f":"IF('Step 1 START HERE'!$M$24='Data Validation'!$A$16,0,IF('Step 1 START HERE'!$M$24='Data Validation'!$A$18,'Emission Calculations'!B285,IF('Step 1 START HERE'!$M$24='Data Validation'!$A$17,'Emission Calculations'!G285)))","v":0},{"$f":"IF('Step 1 START HERE'!$M$24='Data Validation'!$A$16,0,IF('Step 1 START HERE'!$M$24='Data Validation'!$A$18,'Emission Calculations'!C285,IF('Step 1 START HERE'!$M$24='Data Validation'!$A$17,'Emission Calculations'!H285)))","v":0},{"$f":"IF('Step 1 START HERE'!$M$24='Data Validation'!$A$16,0,IF('Step 1 START HERE'!$M$24='Data Validation'!$A$18,'Emission Calculations'!D285,IF('Step 1 START HERE'!$M$24='Data Validation'!$A$17,'Emission Calculations'!I285)))","v":0},{"$f":"IF('Step 1 START HERE'!$M$24='Data Validation'!$A$16,0,IF('Step 1 START HERE'!$M$24='Data Validation'!$A$18,'Emission Calculations'!E285,IF('Step 1 START HERE'!$M$24='Data Validation'!$A$17,'Emission Calculations'!J285)))","v":0},{"$f":"IF('Step 1 START HERE'!$M$24='Data Validation'!$A$16,0,IF('Step 1 START HERE'!$M$24='Data Validation'!$A$18,'Emission Calculations'!F285,IF('Step 1 START HERE'!$M$24='Data Validation'!$A$17,'Emission Calculations'!K285)))","v":0},"N/A","N/A","N/A",2000]
[]
[]
["Paint and solvent recycling",{"$f":"B10","v":2019},{"$f":"C10","v":2020},2021,2022,2023]
[{"$f":"A37","v":"Total Gallons Used"},{"$f":"B37","v":0},0,0,0,0]
["Total gallons paint/solvent recycled",0,0,0,0,0]
["Percent gallons emitted",{"$f":"IFERROR(((B37-B42)/B37),0)","v":0},{"$f":"IFERROR(((C37-C42)/C37),0)","v":0},{"$f":"IFERROR(((D37-D42)/D37),0)","v":0},{"$f":"IFERROR(((E37-E42)/E37),0)","v":0},{"$f":"IFERROR(((F37-F42)/F37),0)","v":0}]
[]
[]
["Actual annual emissions \nwith recycling credit",{"$f":"B10","v":2019},{"$f":"C10","v":2020},{"$f":"D10","v":2021},{"$f":"E10","v":2022},{"$f":"F10","v":2023},"State Permit Limits","Option D Permit Limits",null,"Conditionally Exempt\nCoating Facility"]
[]
[null,null,null,null,null,null,null,null," Reduced Recordkeeping"]
[]
[null,{"$f":"B14","v":"Jan-Dec"},"Jan-Dec","Jan-Dec","Jan-Dec","Jan-Dec",null,7007.1130000000003,null,7008.24]
[null,"(ton/yr)","(ton/yr)","(ton/yr)","(ton/yr)","(ton/yr)","(ton/yr)","(ton/yr)","(ton/yr)","(ton/yr)"]
[{"$f":"A16","v":"PM"},{"$f":"IF($B$43>0,B16*$B$43,0)","v":0},{"$f":"IF(C$43>0,C16*C$43,0)","v":0},0,0,0,100,50,25]
["PM10",0,0,0,0,0,25,50,25]
["VOC",0,0,0,0,0,100,50,25,10]
["HAP Name",0,0,0,0,0]
["HAP Name",0,0,0,0,0]
["HAP Name",0,0,0,0,0]
["HAP Name",0,0,0,0,0]
["HAP Name",0,0,0,0,0]
["HAP Name",0,0,0,0,0]
["HAP Name",0,0,0,0,0]
["HAP Name",0,0,0,0,0]
["HAP Name",0,0,0,0,0]
["HAP Name",0,0,0,0,0]
["HAP Name",0,0,0,0,0]
["HAP Name",0,0,0,0,0]
["HAP Name",0,0,0,0,0]
["HAP Name",0,0,0,0,0]
["HAP Name",0,0,0,0,0]
["HAP Name",0,0,0,0,0]
["HAP Individual Max",0,0,0,0,0,10,5,2.5]
["HAP Total",0,0,0,0,0,25,12.5,6.25,6]
["Total gallons used",{"$f":"B37-B42","v":0},{"$f":"C37-C42","v":0},{"$f":"D37-D42","v":0},{"$f":"E37-E42","v":0},{"$f":"F37-F42","v":0},"N/A","N/A","N/A",2000]
[]
[]
[]
[]
[]
[]
[]
[]
[]
[]
[]
[]
[]
[]
[]
[]
[]
[]
[]
[]
[]
[]
[]
[]
[]
[]
[]
[]
[]
[]
[]
[]
[]
[]
[]
[]
[]
[]
[]
[]
[]
[]
[]
[]
[]
[]
[]
[]
[]
[]
[]
[]
[]
[]
[]
[]
[]
[]
[]
[]
[]
[]
[]
[]
[]
[]
[]
[]
[]
[]
[]
[]
[]
[]
[]
[]
[]
[]
[]
[]
[]
[]
[]
[]
[]
[]
[]
[]
[]
[]
[]
[]
[]
[]
[]
[]
[]
[]
[]
["Monthly Actual Emissions","(values are calculated automatically based on your data and equations in a hidden Emission Calculations tab)"]
[null,{"$f":"'Step 3 Product data'!AD17","v":"Jan"},{"$f":"'Step 3 Product data'!AE17","v":"Feb"},{"$f":"'Step 3 Product data'!AF17","v":"Mar"},{"$f":"'Step 3 Product data'!AG17","v":"Apr"},{"$f":"'Step 3 Product data'!AH17","v":"May"},{"$f":"'Step 3 Product data'!AI17","v":"Jun"},{"$f":"'Step 3 Product data'!AJ17","v":"Jul"},{"$f":"'Step 3 Product data'!AK17","v":"Aug"},{"$f":"'Step 3 Product data'!AL17","v":"Sep"},{"$f":"'Step 3 Product data'!AM17","v":"Oct"},{"$f":"'Step 3 Product data'!AN17","v":"Nov"},{"$f":"'Step 3 Product data'!AO17","v":"Dec"},{"$f":"'Step 3 Product data'!AP17","v":"Jan"},{"$f":"'Step 3 Product data'!AQ17","v":"Feb"},{"$f":"'Step 3 Product data'!AR17","v":"Mar"},{"$f":"'Step 3 Product data'!AS17","v":"Apr"},{"$f":"'Step 3 Product data'!AT17","v":"May"},{"$f":"'Step 3 Product data'!AU17","v":"Jun"},{"$f":"'Step 3 Product data'!AV17","v":"Jul"},{"$f":"'Step 3 Product data'!AW17","v":"Aug"},{"$f":"'Step 3 Product data'!AX17","v":"Sep"},{"$f":"'Step 3 Product data'!AY17","v":"Oct"},{"$f":"'Step 3 Product data'!AZ17","v":"Nov"},{"$f":"'Step 3 Product data'!BA17","v":"Dec"},{"$f":"'Step 3 Product data'!BB17","v":"Jan"},{"$f":"'Step 3 Product data'!BC17","v":"Feb"},{"$f":"'Step 3 Product data'!BD17","v":"Mar"},{"$f":"'Step 3 Product data'!BE17","v":"Apr"},{"$f":"'Step 3 Product data'!BF17","v":"May"},{"$f":"'Step 3 Product data'!BG17","v":"Jun"},{"$f":"'Step 3 Product data'!BH17","v":"Jul"},{"$f":"'Step 3 Product data'!BI17","v":"Aug"},{"$f":"'Step 3 Product data'!BJ17","v":"Sep"},{"$f":"'Step 3 Product data'!BK17","v":"Oct"},{"$f":"'Step 3 Product data'!BL17","v":"Nov"},{"$f":"'Step 3 Product data'!BM17","v":"Dec"},{"$f":"'Step 3 Product data'!BN17","v":"Jan"},{"$f":"'Step 3 Product data'!BO17","v":"Feb"},{"$f":"'Step 3 Product data'!BP17","v":"Mar"},{"$f":"'Step 3 Product data'!BQ17","v":"Apr"},{"$f":"'Step 3 Product data'!BR17","v":"May"},{"$f":"'Step 3 Product data'!BS17","v":"Jun"},{"$f":"'Step 3 Product data'!BT17","v":"Jul"},{"$f":"'Step 3 Product data'!BU17","v":"Aug"},{"$f":"'Step 3 Product data'!BV17","v":"Sep"},{"$f":"'Step 3 Product data'!BW17","v":"Oct"},{"$f":"'Step 3 Product data'!BX17","v":"Nov"},{"$f":"'Step 3 Product data'!BY17","v":"Dec"},{"$f":"'Step 3 Product data'!BZ17","v":"Jan"},{"$f":"'Step 3 Product data'!CA17","v":"Feb"},{"$f":"'Step 3 Product data'!CB17","v":"Mar"},{"$f":"'Step 3 Product data'!CC17","v":"Apr"},{"$f":"'Step 3 Product data'!CD17","v":"May"},{"$f":"'Step 3 Product data'!CE17","v":"Jun"},{"$f":"'Step 3 Product data'!CF17","v":"Jul"},{"$f":"'Step 3 Product data'!CG17","v":"Aug"},{"$f":"'Step 3 Product data'!CH17","v":"Sep"},{"$f":"'Step 3 Product data'!CI17","v":"Oct"},{"$f":"'Step 3 Product data'!CJ17","v":"Nov"},{"$f":"'Step 3 Product data'!CK17","v":"Dec"}]
[null,{"$f":"'Step 3 Product data'!AD18","v":2019},{"$f":"'Step 3 Product data'!AE18","v":2019},{"$f":"'Step 3 Product data'!AF18","v":2019},{"$f":"'Step 3 Product data'!AG18","v":2019},{"$f":"'Step 3 Product data'!AH18","v":2019},{"$f":"'Step 3 Product data'!AI18","v":2019},{"$f":"'Step 3 Product data'!AJ18","v":2019},{"$f":"'Step 3 Product data'!AK18","v":2019},{"$f":"'Step 3 Product data'!AL18","v":2019},{"$f":"'Step 3 Product data'!AM18","v":2019},{"$f":"'Step 3 Product data'!AN18","v":2019},{"$f":"'Step 3 Product data'!AO18","v":2019},{"$f":"'Step 3 Product data'!AP18","v":2020},{"$f":"'Step 3 Product data'!AQ18","v":2020},{"$f":"'Step 3 Product data'!AR18","v":2020},{"$f":"'Step 3 Product data'!AS18","v":2020},{"$f":"'Step 3 Product data'!AT18","v":2020},{"$f":"'Step 3 Product data'!AU18","v":2020},{"$f":"'Step 3 Product data'!AV18","v":2020},{"$f":"'Step 3 Product data'!AW18","v":2020},{"$f":"'Step 3 Product data'!AX18","v":2020},{"$f":"'Step 3 Product data'!AY18","v":2020},{"$f":"'Step 3 Product data'!AZ18","v":2020},{"$f":"'Step 3 Product data'!BA18","v":2020},{"$f":"'Step 3 Product data'!BB18","v":2021},{"$f":"'Step 3 Product data'!BC18","v":2021},{"$f":"'Step 3 Product data'!BD18","v":2021},{"$f":"'Step 3 Product data'!BE18","v":2021},{"$f":"'Step 3 Product data'!BF18","v":2021},{"$f":"'Step 3 Product data'!BG18","v":2021},{"$f":"'Step 3 Product data'!BH18","v":2021},{"$f":"'Step 3 Product data'!BI18","v":2021},{"$f":"'Step 3 Product data'!BJ18","v":2021},{"$f":"'Step 3 Product data'!BK18","v":2021},{"$f":"'Step 3 Product data'!BL18","v":2021},{"$f":"'Step 3 Product data'!BM18","v":2021},{"$f":"'Step 3 Product data'!BN18","v":2022},{"$f":"'Step 3 Product data'!BO18","v":2022},{"$f":"'Step 3 Product data'!BP18","v":2022},{"$f":"'Step 3 Product data'!BQ18","v":2022},{"$f":"'Step 3 Product data'!BR18","v":2022},{"$f":"'Step 3 Product data'!BS18","v":2022},{"$f":"'Step 3 Product data'!BT18","v":2022},{"$f":"'Step 3 Product data'!BU18","v":2022},{"$f":"'Step 3 Product data'!BV18","v":2022},{"$f":"'Step 3 Product data'!BW18","v":2022},{"$f":"'Step 3 Product data'!BX18","v":2022},{"$f":"'Step 3 Product data'!BY18","v":2022},{"$f":"'Step 3 Product data'!BZ18","v":2023},{"$f":"'Step 3 Product data'!CA18","v":2023},{"$f":"'Step 3 Product data'!CB18","v":2023},{"$f":"'Step 3 Product data'!CC18","v":2023},{"$f":"'Step 3 Product data'!CD18","v":2023},{"$f":"'Step 3 Product data'!CE18","v":2023},{"$f":"'Step 3 Product data'!CF18","v":2023},{"$f":"'Step 3 Product data'!CG18","v":2023},{"$f":"'Step 3 Product data'!CH18","v":2023},{"$f":"'Step 3 Product data'!CI18","v":2023},{"$f":"'Step 3 Product data'!CJ18","v":2023},{"$f":"'Step 3 Product data'!CK18","v":2023}]
[null,"(tons)","(tons)","(tons)","(tons)","(tons)","(tons)","(tons)","(tons)","(tons)","(tons)","(tons)","(tons)","(tons)","(tons)","(tons)","(tons)","(tons)","(tons)","(tons)","(tons)","(tons)","(tons)","(tons)","(tons)","(tons)","(tons)","(tons)","(tons)","(tons)","(tons)","(tons)","(tons)","(tons)","(tons)","(tons)","(tons)","(tons)","(tons)","(tons)","(tons)","(tons)","(tons)","(tons)","(tons)","(tons)","(tons)","(tons)","(tons)","(tons)","(tons)","(tons)","(tons)","(tons)","(tons)","(tons)","(tons)","(tons)","(tons)","(tons)","(tons)"]
[{"$f":"'Step 3 Product data'!H17","v":"PM/PM10\ntransfer efficiency is not applied here"},{"$f":"SUMPRODUCT('Emission Calculations'!AE10:AE74,'Emission Calculations'!$I$10:$I$74)/2000","v":0},{"$f":"SUMPRODUCT('Emission Calculations'!AF10:AF74,'Emission Calculations'!$I$10:$I$74)/2000","v":0},{"$f":"SUMPRODUCT('Emission Calculations'!AG10:AG74,'Emission Calculations'!$I$10:$I$74)/2000","v":0},{"$f":"SUMPRODUCT('Emission Calculations'!AH10:AH74,'Emission Calculations'!$I$10:$I$74)/2000","v":0},{"$f":"SUMPRODUCT('Emission Calculations'!AI10:AI74,'Emission Calculations'!$I$10:$I$74)/2000","v":0},{"$f":"SUMPRODUCT('Emission Calculations'!AJ10:AJ74,'Emission Calculations'!$I$10:$I$74)/2000","v":0},{"$f":"SUMPRODUCT('Emission Calculations'!AK10:AK74,'Emission Calculations'!$I$10:$I$74)/2000","v":0},{"$f":"SUMPRODUCT('Emission Calculations'!AL10:AL74,'Emission Calculations'!$I$10:$I$74)/2000","v":0},{"$f":"SUMPRODUCT('Emission Calculations'!AM10:AM74,'Emission Calculations'!$I$10:$I$74)/2000","v":0},{"$f":"SUMPRODUCT('Emission Calculations'!AN10:AN74,'Emission Calculations'!$I$10:$I$74)/2000","v":0},{"$f":"SUMPRODUCT('Emission Calculations'!AO10:AO74,'Emission Calculations'!$I$10:$I$74)/2000","v":0},{"$f":"SUMPRODUCT('Emission Calculations'!AP10:AP74,'Emission Calculations'!$I$10:$I$74)/2000","v":0},{"$f":"SUMPRODUCT('Emission Calculations'!AQ10:AQ74,'Emission Calculations'!$I$10:$I$74)/2000","v":0},{"$f":"SUMPRODUCT('Emission Calculations'!AR10:AR74,'Emission Calculations'!$I$10:$I$74)/2000","v":0},{"$f":"SUMPRODUCT('Emission Calculations'!AS10:AS74,'Emission Calculations'!$I$10:$I$74)/2000","v":0},{"$f":"SUMPRODUCT('Emission Calculations'!AT10:AT74,'Emission Calculations'!$I$10:$I$74)/2000","v":0},{"$f":"SUMPRODUCT('Emission Calculations'!AU10:AU74,'Emission Calculations'!$I$10:$I$74)/2000","v":0},{"$f":"SUMPRODUCT('Emission Calculations'!AV10:AV74,'Emission Calculations'!$I$10:$I$74)/2000","v":0},{"$f":"SUMPRODUCT('Emission Calculations'!AW10:AW74,'Emission Calculations'!$I$10:$I$74)/2000","v":0},{"$f":"SUMPRODUCT('Emission Calculations'!AX10:AX74,'Emission Calculations'!$I$10:$I$74)/2000","v":0},{"$f":"SUMPRODUCT('Emission Calculations'!AY10:AY74,'Emission Calculations'!$I$10:$I$74)/2000","v":0},{"$f":"SUMPRODUCT('Emission Calculations'!AZ10:AZ74,'Emission Calculations'!$I$10:$I$74)/2000","v":0},{"$f":"SUMPRODUCT('Emission Calculations'!BA10:BA74,'Emission Calculations'!$I$10:$I$74)/2000","v":0},{"$f":"SUMPRODUCT('Emission Calculations'!BB10:BB74,'Emission Calculations'!$I$10:$I$74)/2000","v":0},{"$f":"SUMPRODUCT('Emission Calculations'!BC10:BC74,'Emission Calculations'!$I$10:$I$74)/2000","v":0},{"$f":"SUMPRODUCT('Emission Calculations'!BD10:BD74,'Emission Calculations'!$I$10:$I$74)/2000","v":0},{"$f":"SUMPRODUCT('Emission Calculations'!BE10:BE74,'Emission Calculations'!$I$10:$I$74)/2000","v":0},{"$f":"SUMPRODUCT('Emission Calculations'!BF10:BF74,'Emission Calculations'!$I$10:$I$74)/2000","v":0},{"$f":"SUMPRODUCT('Emission Calculations'!BG10:BG74,'Emission Calculations'!$I$10:$I$74)/2000","v":0},{"$f":"SUMPRODUCT('Emission Calculations'!BH10:BH74,'Emission Calculations'!$I$10:$I$74)/2000","v":0},{"$f":"SUMPRODUCT('Emission Calculations'!BI10:BI74,'Emission Calculations'!$I$10:$I$74)/2000","v":0},{"$f":"SUMPRODUCT('Emission Calculations'!BJ10:BJ74,'Emission Calculations'!$I$10:$I$74)/2000","v":0},{"$f":"SUMPRODUCT('Emission Calculations'!BK10:BK74,'Emission Calculations'!$I$10:$I$74)/2000","v":0},{"$f":"SUMPRODUCT('Emission Calculations'!BL10:BL74,'Emission Calculations'!$I$10:$I$74)/2000","v":0},{"$f":"SUMPRODUCT('Emission Calculations'!BM10:BM74,'Emission Calculations'!$I$10:$I$74)/2000","v":0},{"$f":"SUMPRODUCT('Emission Calculations'!BN10:BN74,'Emission Calculations'!$I$10:$I$74)/2000","v":0},{"$f":"SUMPRODUCT('Emission Calculations'!BO10:BO74,'Emission Calculations'!$I$10:$I$74)/2000","v":0},{"$f":"SUMPRODUCT('Emission Calculations'!BP10:BP74,'Emission Calculations'!$I$10:$I$74)/2000","v":0},{"$f":"SUMPRODUCT('Emission Calculations'!BQ10:BQ74,'Emission Calculations'!$I$10:$I$74)/2000","v":0},{"$f":"SUMPRODUCT('Emission Calculations'!BR10:BR74,'Emission Calculations'!$I$10:$I$74)/2000","v":0},{"$f":"SUMPRODUCT('Emission Calculations'!BS10:BS74,'Emission Calculations'!$I$10:$I$74)/2000","v":0},{"$f":"SUMPRODUCT('Emission Calculations'!BT10:BT74,'Emission Calculations'!$I$10:$I$74)/2000","v":0},{"$f":"SUMPRODUCT('Emission Calculations'!BU10:BU74,'Emission Calculations'!$I$10:$I$74)/2000","v":0},{"$f":"SUMPRODUCT('Emission Calculations'!BV10:BV74,'Emission Calculations'!$I$10:$I$74)/2000","v":0},{"$f":"SUMPRODUCT('Emission Calculations'!BW10:BW74,'Emission Calculations'!$I$10:$I$74)/2000","v":0},{"$f":"SUMPRODUCT('Emission Calculations'!BX10:BX74,'Emission Calculations'!$I$10:$I$74)/2000","v":0},{"$f":"SUMPRODUCT('Emission Calculations'!BY10:BY74,'Emission Calculations'!$I$10:$I$74)/2000","v":0},{"$f":"SUMPRODUCT('Emission Calculations'!BZ10:BZ74,'Emission Calculations'!$I$10:$I$74)/2000","v":0},{"$f":"SUMPRODUCT('Emission Calculations'!CA10:CA74,'Emission Calculations'!$I$10:$I$74)/2000","v":0},{"$f":"SUMPRODUCT('Emission Calculations'!CB10:CB74,'Emission Calculations'!$I$10:$I$74)/2000","v":0},{"$f":"SUMPRODUCT('Emission Calculations'!CC10:CC74,'Emission Calculations'!$I$10:$I$74)/2000","v":0},{"$f":"SUMPRODUCT('Emission Calculations'!CD10:CD74,'Emission Calculations'!$I$10:$I$74)/2000","v":0},{"$f":"SUMPRODUCT('Emission Calculations'!CE10:CE74,'Emission Calculations'!$I$10:$I$74)/2000","v":0},{"$f":"SUMPRODUCT('Emission Calculations'!CF10:CF74,'Emission Calculations'!$I$10:$I$74)/2000","v":0},{"$f":"SUMPRODUCT('Emission Calculations'!CG10:CG74,'Emission Calculations'!$I$10:$I$74)/2000","v":0},{"$f":"SUMPRODUCT('Emission Calculations'!CH10:CH74,'Emission Calculations'!$I$10:$I$74)/2000","v":0},{"$f":"SUMPRODUCT('Emission Calculations'!CI10:CI74,'Emission Calculations'!$I$10:$I$74)/2000","v":0},{"$f":"SUMPRODUCT('Emission Calculations'!CJ10:CJ74,'Emission Calculations'!$I$10:$I$74)/2000","v":0},{"$f":"SUMPRODUCT('Emission Calculations'!CK10:CK74,'Emission Calculations'!$I$10:$I$74)/2000","v":0},{"$f":"SUMPRODUCT('Emission Calculations'!CL10:CL74,'Emission Calculations'!$I$10:$I$74)/2000","v":0}]
[{"$f":"'Emission Calculations'!A266","v":"VOC"},{"$f":"SUMPRODUCT('Emission Calculations'!AE10:AE74,'Emission Calculations'!$H$10:$H$74)/2000","v":0},{"$f":"SUMPRODUCT('Emission Calculations'!AF10:AF74,'Emission Calculations'!$H$10:$H$74)/2000","v":0},{"$f":"SUMPRODUCT('Emission Calculations'!AG10:AG74,'Emission Calculations'!$H$10:$H$74)/2000","v":0},{"$f":"SUMPRODUCT('Emission Calculations'!AH10:AH74,'Emission Calculations'!$H$10:$H$74)/2000","v":0},{"$f":"SUMPRODUCT('Emission Calculations'!AI10:AI74,'Emission Calculations'!$H$10:$H$74)/2000","v":0},{"$f":"SUMPRODUCT('Emission Calculations'!AJ10:AJ74,'Emission Calculations'!$H$10:$H$74)/2000","v":0},{"$f":"SUMPRODUCT('Emission Calculations'!AK10:AK74,'Emission Calculations'!$H$10:$H$74)/2000","v":0},{"$f":"SUMPRODUCT('Emission Calculations'!AL10:AL74,'Emission Calculations'!$H$10:$H$74)/2000","v":0},{"$f":"SUMPRODUCT('Emission Calculations'!AM10:AM74,'Emission Calculations'!$H$10:$H$74)/2000","v":0},{"$f":"SUMPRODUCT('Emission Calculations'!AN10:AN74,'Emission Calculations'!$H$10:$H$74)/2000","v":0},{"$f":"SUMPRODUCT('Emission Calculations'!AO10:AO74,'Emission Calculations'!$H$10:$H$74)/2000","v":0},{"$f":"SUMPRODUCT('Emission Calculations'!AP10:AP74,'Emission Calculations'!$H$10:$H$74)/2000","v":0},{"$f":"SUMPRODUCT('Emission Calculations'!AQ10:AQ74,'Emission Calculations'!$H$10:$H$74)/2000","v":0},{"$f":"SUMPRODUCT('Emission Calculations'!AR10:AR74,'Emission Calculations'!$H$10:$H$74)/2000","v":0},{"$f":"SUMPRODUCT('Emission Calculations'!AS10:AS74,'Emission Calculations'!$H$10:$H$74)/2000","v":0},{"$f":"SUMPRODUCT('Emission Calculations'!AT10:AT74,'Emission Calculations'!$H$10:$H$74)/2000","v":0},{"$f":"SUMPRODUCT('Emission Calculations'!AU10:AU74,'Emission Calculations'!$H$10:$H$74)/2000","v":0},{"$f":"SUMPRODUCT('Emission Calculations'!AV10:AV74,'Emission Calculations'!$H$10:$H$74)/2000","v":0},{"$f":"SUMPRODUCT('Emission Calculations'!AW10:AW74,'Emission Calculations'!$H$10:$H$74)/2000","v":0},{"$f":"SUMPRODUCT('Emission Calculations'!AX10:AX74,'Emission Calculations'!$H$10:$H$74)/2000","v":0},{"$f":"SUMPRODUCT('Emission Calculations'!AY10:AY74,'Emission Calculations'!$H$10:$H$74)/2000","v":0},{"$f":"SUMPRODUCT('Emission Calculations'!AZ10:AZ74,'Emission Calculations'!$H$10:$H$74)/2000","v":0},{"$f":"SUMPRODUCT('Emission Calculations'!BA10:BA74,'Emission Calculations'!$H$10:$H$74)/2000","v":0},{"$f":"SUMPRODUCT('Emission Calculations'!BB10:BB74,'Emission Calculations'!$H$10:$H$74)/2000","v":0},{"$f":"SUMPRODUCT('Emission Calculations'!BC10:BC74,'Emission Calculations'!$H$10:$H$74)/2000","v":0},{"$f":"SUMPRODUCT('Emission Calculations'!BD10:BD74,'Emission Calculations'!$H$10:$H$74)/2000","v":0},{"$f":"SUMPRODUCT('Emission Calculations'!BE10:BE74,'Emission Calculations'!$H$10:$H$74)/2000","v":0},{"$f":"SUMPRODUCT('Emission Calculations'!BF10:BF74,'Emission Calculations'!$H$10:$H$74)/2000","v":0},{"$f":"SUMPRODUCT('Emission Calculations'!BG10:BG74,'Emission Calculations'!$H$10:$H$74)/2000","v":0},{"$f":"SUMPRODUCT('Emission Calculations'!BH10:BH74,'Emission Calculations'!$H$10:$H$74)/2000","v":0},{"$f":"SUMPRODUCT('Emission Calculations'!BI10:BI74,'Emission Calculations'!$H$10:$H$74)/2000","v":0},{"$f":"SUMPRODUCT('Emission Calculations'!BJ10:BJ74,'Emission Calculations'!$H$10:$H$74)/2000","v":0},{"$f":"SUMPRODUCT('Emission Calculations'!BK10:BK74,'Emission Calculations'!$H$10:$H$74)/2000","v":0},{"$f":"SUMPRODUCT('Emission Calculations'!BL10:BL74,'Emission Calculations'!$H$10:$H$74)/2000","v":0},{"$f":"SUMPRODUCT('Emission Calculations'!BM10:BM74,'Emission Calculations'!$H$10:$H$74)/2000","v":0},{"$f":"SUMPRODUCT('Emission Calculations'!BN10:BN74,'Emission Calculations'!$H$10:$H$74)/2000","v":0},{"$f":"SUMPRODUCT('Emission Calculations'!BO10:BO74,'Emission Calculations'!$H$10:$H$74)/2000","v":0},{"$f":"SUMPRODUCT('Emission Calculations'!BP10:BP74,'Emission Calculations'!$H$10:$H$74)/2000","v":0},{"$f":"SUMPRODUCT('Emission Calculations'!BQ10:BQ74,'Emission Calculations'!$H$10:$H$74)/2000","v":0},{"$f":"SUMPRODUCT('Emission Calculations'!BR10:BR74,'Emission Calculations'!$H$10:$H$74)/2000","v":0},{"$f":"SUMPRODUCT('Emission Calculations'!BS10:BS74,'Emission Calculations'!$H$10:$H$74)/2000","v":0},{"$f":"SUMPRODUCT('Emission Calculations'!BT10:BT74,'Emission Calculations'!$H$10:$H$74)/2000","v":0},{"$f":"SUMPRODUCT('Emission Calculations'!BU10:BU74,'Emission Calculations'!$H$10:$H$74)/2000","v":0},{"$f":"SUMPRODUCT('Emission Calculations'!BV10:BV74,'Emission Calculations'!$H$10:$H$74)/2000","v":0},{"$f":"SUMPRODUCT('Emission Calculations'!BW10:BW74,'Emission Calculations'!$H$10:$H$74)/2000","v":0},{"$f":"SUMPRODUCT('Emission Calculations'!BX10:BX74,'Emission Calculations'!$H$10:$H$74)/2000","v":0},{"$f":"SUMPRODUCT('Emission Calculations'!BY10:BY74,'Emission Calculations'!$H$10:$H$74)/2000","v":0},{"$f":"SUMPRODUCT('Emission Calculations'!BZ10:BZ74,'Emission Calculations'!$H$10:$H$74)/2000","v":0},{"$f":"SUMPRODUCT('Emission Calculations'!CA10:CA74,'Emission Calculations'!$H$10:$H$74)/2000","v":0},{"$f":"SUMPRODUCT('Emission Calculations'!CB10:CB74,'Emission Calculations'!$H$10:$H$74)/2000","v":0},{"$f":"SUMPRODUCT('Emission Calculations'!CC10:CC74,'Emission Calculations'!$H$10:$H$74)/2000","v":0},{"$f":"SUMPRODUCT('Emission Calculations'!CD10:CD74,'Emission Calculations'!$H$10:$H$74)/2000","v":0},{"$f":"SUMPRODUCT('Emission Calculations'!CE10:CE74,'Emission Calculations'!$H$10:$H$74)/2000","v":0},{"$f":"SUMPRODUCT('Emission Calculations'!CF10:CF74,'Emission Calculations'!$H$10:$H$74)/2000","v":0},{"$f":"SUMPRODUCT('Emission Calculations'!CG10:CG74,'Emission Calculations'!$H$10:$H$74)/2000","v":0},{"$f":"SUMPRODUCT('Emission Calculations'!CH10:CH74,'Emission Calculations'!$H$10:$H$74)/2000","v":0},{"$f":"SUMPRODUCT('Emission Calculations'!CI10:CI74,'Emission Calculations'!$H$10:$H$74)/2000","v":0},{"$f":"SUMPRODUCT('Emission Calculations'!CJ10:CJ74,'Emission Calculations'!$H$10:$H$74)/2000","v":0},{"$f":"SUMPRODUCT('Emission Calculations'!CK10:CK74,'Emission Calculations'!$H$10:$H$74)/2000","v":0},{"$f":"SUMPRODUCT('Emission Calculations'!CL10:CL74,'Emission Calculations'!$H$10:$H$74)/2000","v":0}]
[{"$f":"'Emission Calculations'!A267","v":"HAP Name"},{"$f":"SUMPRODUCT('Emission Calculations'!AE10:AE74,'Emission Calculations'!$J$10:$J$74)/2000","v":0},{"$f":"SUMPRODUCT('Emission Calculations'!AF10:AF74,'Emission Calculations'!$J$10:$J$74)/2000","v":0},{"$f":"SUMPRODUCT('Emission Calculations'!AG10:AG74,'Emission Calculations'!$J$10:$J$74)/2000","v":0},{"$f":"SUMPRODUCT('Emission Calculations'!AH10:AH74,'Emission Calculations'!$J$10:$J$74)/2000","v":0},{"$f":"SUMPRODUCT('Emission Calculations'!AI10:AI74,'Emission Calculations'!$J$10:$J$74)/2000","v":0},{"$f":"SUMPRODUCT('Emission Calculations'!AJ10:AJ74,'Emission Calculations'!$J$10:$J$74)/2000","v":0},{"$f":"SUMPRODUCT('Emission Calculations'!AK10:AK74,'Emission Calculations'!$J$10:$J$74)/2000","v":0},{"$f":"SUMPRODUCT('Emission Calculations'!AL10:AL74,'Emission Calculations'!$J$10:$J$74)/2000","v":0},{"$f":"SUMPRODUCT('Emission Calculations'!AM10:AM74,'Emission Calculations'!$J$10:$J$74)/2000","v":0},{"$f":"SUMPRODUCT('Emission Calculations'!AN10:AN74,'Emission Calculations'!$J$10:$J$74)/2000","v":0},{"$f":"SUMPRODUCT('Emission Calculations'!AO10:AO74,'Emission Calculations'!$J$10:$J$74)/2000","v":0},{"$f":"SUMPRODUCT('Emission Calculations'!AP10:AP74,'Emission Calculations'!$J$10:$J$74)/2000","v":0},{"$f":"SUMPRODUCT('Emission Calculations'!AQ10:AQ74,'Emission Calculations'!$J$10:$J$74)/2000","v":0},{"$f":"SUMPRODUCT('Emission Calculations'!AR10:AR74,'Emission Calculations'!$J$10:$J$74)/2000","v":0},{"$f":"SUMPRODUCT('Emission Calculations'!AS10:AS74,'Emission Calculations'!$J$10:$J$74)/2000","v":0},{"$f":"SUMPRODUCT('Emission Calculations'!AT10:AT74,'Emission Calculations'!$J$10:$J$74)/2000","v":0},{"$f":"SUMPRODUCT('Emission Calculations'!AU10:AU74,'Emission Calculations'!$J$10:$J$74)/2000","v":0},{"$f":"SUMPRODUCT('Emission Calculations'!AV10:AV74,'Emission Calculations'!$J$10:$J$74)/2000","v":0},{"$f":"SUMPRODUCT('Emission Calculations'!AW10:AW74,'Emission Calculations'!$J$10:$J$74)/2000","v":0},{"$f":"SUMPRODUCT('Emission Calculations'!AX10:AX74,'Emission Calculations'!$J$10:$J$74)/2000","v":0},{"$f":"SUMPRODUCT('Emission Calculations'!AY10:AY74,'Emission Calculations'!$J$10:$J$74)/2000","v":0},{"$f":"SUMPRODUCT('Emission Calculations'!AZ10:AZ74,'Emission Calculations'!$J$10:$J$74)/2000","v":0},{"$f":"SUMPRODUCT('Emission Calculations'!BA10:BA74,'Emission Calculations'!$J$10:$J$74)/2000","v":0},{"$f":"SUMPRODUCT('Emission Calculations'!BB10:BB74,'Emission Calculations'!$J$10:$J$74)/2000","v":0},{"$f":"SUMPRODUCT('Emission Calculations'!BC10:BC74,'Emission Calculations'!$J$10:$J$74)/2000","v":0},{"$f":"SUMPRODUCT('Emission Calculations'!BD10:BD74,'Emission Calculations'!$J$10:$J$74)/2000","v":0},{"$f":"SUMPRODUCT('Emission Calculations'!BE10:BE74,'Emission Calculations'!$J$10:$J$74)/2000","v":0},{"$f":"SUMPRODUCT('Emission Calculations'!BF10:BF74,'Emission Calculations'!$J$10:$J$74)/2000","v":0},{"$f":"SUMPRODUCT('Emission Calculations'!BG10:BG74,'Emission Calculations'!$J$10:$J$74)/2000","v":0},{"$f":"SUMPRODUCT('Emission Calculations'!BH10:BH74,'Emission Calculations'!$J$10:$J$74)/2000","v":0},{"$f":"SUMPRODUCT('Emission Calculations'!BI10:BI74,'Emission Calculations'!$J$10:$J$74)/2000","v":0},{"$f":"SUMPRODUCT('Emission Calculations'!BJ10:BJ74,'Emission Calculations'!$J$10:$J$74)/2000","v":0},{"$f":"SUMPRODUCT('Emission Calculations'!BK10:BK74,'Emission Calculations'!$J$10:$J$74)/2000","v":0},{"$f":"SUMPRODUCT('Emission Calculations'!BL10:BL74,'Emission Calculations'!$J$10:$J$74)/2000","v":0},{"$f":"SUMPRODUCT('Emission Calculations'!BM10:BM74,'Emission Calculations'!$J$10:$J$74)/2000","v":0},{"$f":"SUMPRODUCT('Emission Calculations'!BN10:BN74,'Emission Calculations'!$J$10:$J$74)/2000","v":0},{"$f":"SUMPRODUCT('Emission Calculations'!BO10:BO74,'Emission Calculations'!$J$10:$J$74)/2000","v":0},{"$f":"SUMPRODUCT('Emission Calculations'!BP10:BP74,'Emission Calculations'!$J$10:$J$74)/2000","v":0},{"$f":"SUMPRODUCT('Emission Calculations'!BQ10:BQ74,'Emission Calculations'!$J$10:$J$74)/2000","v":0},{"$f":"SUMPRODUCT('Emission Calculations'!BR10:BR74,'Emission Calculations'!$J$10:$J$74)/2000","v":0},{"$f":"SUMPRODUCT('Emission Calculations'!BS10:BS74,'Emission Calculations'!$J$10:$J$74)/2000","v":0},{"$f":"SUMPRODUCT('Emission Calculations'!BT10:BT74,'Emission Calculations'!$J$10:$J$74)/2000","v":0},{"$f":"SUMPRODUCT('Emission Calculations'!BU10:BU74,'Emission Calculations'!$J$10:$J$74)/2000","v":0},{"$f":"SUMPRODUCT('Emission Calculations'!BV10:BV74,'Emission Calculations'!$J$10:$J$74)/2000","v":0},{"$f":"SUMPRODUCT('Emission Calculations'!BW10:BW74,'Emission Calculations'!$J$10:$J$74)/2000","v":0},{"$f":"SUMPRODUCT('Emission Calculations'!BX10:BX74,'Emission Calculations'!$J$10:$J$74)/2000","v":0},{"$f":"SUMPRODUCT('Emission Calculations'!BY10:BY74,'Emission Calculations'!$J$10:$J$74)/2000","v":0},{"$f":"SUMPRODUCT('Emission Calculations'!BZ10:BZ74,'Emission Calculations'!$J$10:$J$74)/2000","v":0},{"$f":"SUMPRODUCT('Emission Calculations'!CA10:CA74,'Emission Calculations'!$J$10:$J$74)/2000","v":0},{"$f":"SUMPRODUCT('Emission Calculations'!CB10:CB74,'Emission Calculations'!$J$10:$J$74)/2000","v":0},{"$f":"SUMPRODUCT('Emission Calculations'!CC10:CC74,'Emission Calculations'!$J$10:$J$74)/2000","v":0},{"$f":"SUMPRODUCT('Emission Calculations'!CD10:CD74,'Emission Calculations'!$J$10:$J$74)/2000","v":0},{"$f":"SUMPRODUCT('Emission Calculations'!CE10:CE74,'Emission Calculations'!$J$10:$J$74)/2000","v":0},{"$f":"SUMPRODUCT('Emission Calculations'!CF10:CF74,'Emission Calculations'!$J$10:$J$74)/2000","v":0},{"$f":"SUMPRODUCT('Emission Calculations'!CG10:CG74,'Emission Calculations'!$J$10:$J$74)/2000","v":0},{"$f":"SUMPRODUCT('Emission Calculations'!CH10:CH74,'Emission Calculations'!$J$10:$J$74)/2000","v":0},{"$f":"SUMPRODUCT('Emission Calculations'!CI10:CI74,'Emission Calculations'!$J$10:$J$74)/2000","v":0},{"$f":"SUMPRODUCT('Emission Calculations'!CJ10:CJ74,'Emission Calculations'!$J$10:$J$74)/2000","v":0},{"$f":"SUMPRODUCT('Emission Calculations'!CK10:CK74,'Emission Calculations'!$J$10:$J$74)/2000","v":0},{"$f":"SUMPRODUCT('Emission Calculations'!CL10:CL74,'Emission Calculations'!$J$10:$J$74)/2000","v":0}]
[{"$f":"'Emission Calculations'!A268","v":"HAP Name"},{"$f":"SUMPRODUCT('Emission Calculations'!AE10:AE74,'Emission Calculations'!$K$10:$K$74)/2000","v":0},{"$f":"SUMPRODUCT('Emission Calculations'!AF10:AF74,'Emission Calculations'!$K$10:$K$74)/2000","v":0},{"$f":"SUMPRODUCT('Emission Calculations'!AG10:AG74,'Emission Calculations'!$K$10:$K$74)/2000","v":0},{"$f":"SUMPRODUCT('Emission Calculations'!AH10:AH74,'Emission Calculations'!$K$10:$K$74)/2000","v":0},{"$f":"SUMPRODUCT('Emission Calculations'!AI10:AI74,'Emission Calculations'!$K$10:$K$74)/2000","v":0},{"$f":"SUMPRODUCT('Emission Calculations'!AJ10:AJ74,'Emission Calculations'!$K$10:$K$74)/2000","v":0},{"$f":"SUMPRODUCT('Emission Calculations'!AK10:AK74,'Emission Calculations'!$K$10:$K$74)/2000","v":0},{"$f":"SUMPRODUCT('Emission Calculations'!AL10:AL74,'Emission Calculations'!$K$10:$K$74)/2000","v":0},{"$f":"SUMPRODUCT('Emission Calculations'!AM10:AM74,'Emission Calculations'!$K$10:$K$74)/2000","v":0},{"$f":"SUMPRODUCT('Emission Calculations'!AN10:AN74,'Emission Calculations'!$K$10:$K$74)/2000","v":0},{"$f":"SUMPRODUCT('Emission Calculations'!AO10:AO74,'Emission Calculations'!$K$10:$K$74)/2000","v":0},{"$f":"SUMPRODUCT('Emission Calculations'!AP10:AP74,'Emission Calculations'!$K$10:$K$74)/2000","v":0},{"$f":"SUMPRODUCT('Emission Calculations'!AQ10:AQ74,'Emission Calculations'!$K$10:$K$74)/2000","v":0},{"$f":"SUMPRODUCT('Emission Calculations'!AR10:AR74,'Emission Calculations'!$K$10:$K$74)/2000","v":0},{"$f":"SUMPRODUCT('Emission Calculations'!AS10:AS74,'Emission Calculations'!$K$10:$K$74)/2000","v":0},{"$f":"SUMPRODUCT('Emission Calculations'!AT10:AT74,'Emission Calculations'!$K$10:$K$74)/2000","v":0},{"$f":"SUMPRODUCT('Emission Calculations'!AU10:AU74,'Emission Calculations'!$K$10:$K$74)/2000","v":0},{"$f":"SUMPRODUCT('Emission Calculations'!AV10:AV74,'Emission Calculations'!$K$10:$K$74)/2000","v":0},{"$f":"SUMPRODUCT('Emission Calculations'!AW10:AW74,'Emission Calculations'!$K$10:$K$74)/2000","v":0},{"$f":"SUMPRODUCT('Emission Calculations'!AX10:AX74,'Emission Calculations'!$K$10:$K$74)/2000","v":0},{"$f":"SUMPRODUCT('Emission Calculations'!AY10:AY74,'Emission Calculations'!$K$10:$K$74)/2000","v":0},{"$f":"SUMPRODUCT('Emission Calculations'!AZ10:AZ74,'Emission Calculations'!$K$10:$K$74)/2000","v":0},{"$f":"SUMPRODUCT('Emission Calculations'!BA10:BA74,'Emission Calculations'!$K$10:$K$74)/2000","v":0},{"$f":"SUMPRODUCT('Emission Calculations'!BB10:BB74,'Emission Calculations'!$K$10:$K$74)/2000","v":0},{"$f":"SUMPRODUCT('Emission Calculations'!BC10:BC74,'Emission Calculations'!$K$10:$K$74)/2000","v":0},{"$f":"SUMPRODUCT('Emission Calculations'!BD10:BD74,'Emission Calculations'!$K$10:$K$74)/2000","v":0},{"$f":"SUMPRODUCT('Emission Calculations'!BE10:BE74,'Emission Calculations'!$K$10:$K$74)/2000","v":0},{"$f":"SUMPRODUCT('Emission Calculations'!BF10:BF74,'Emission Calculations'!$K$10:$K$74)/2000","v":0},{"$f":"SUMPRODUCT('Emission Calculations'!BG10:BG74,'Emission Calculations'!$K$10:$K$74)/2000","v":0},{"$f":"SUMPRODUCT('Emission Calculations'!BH10:BH74,'Emission Calculations'!$K$10:$K$74)/2000","v":0},{"$f":"SUMPRODUCT('Emission Calculations'!BI10:BI74,'Emission Calculations'!$K$10:$K$74)/2000","v":0},{"$f":"SUMPRODUCT('Emission Calculations'!BJ10:BJ74,'Emission Calculations'!$K$10:$K$74)/2000","v":0},{"$f":"SUMPRODUCT('Emission Calculations'!BK10:BK74,'Emission Calculations'!$K$10:$K$74)/2000","v":0},{"$f":"SUMPRODUCT('Emission Calculations'!BL10:BL74,'Emission Calculations'!$K$10:$K$74)/2000","v":0},{"$f":"SUMPRODUCT('Emission Calculations'!BM10:BM74,'Emission Calculations'!$K$10:$K$74)/2000","v":0},{"$f":"SUMPRODUCT('Emission Calculations'!BN10:BN74,'Emission Calculations'!$K$10:$K$74)/2000","v":0},{"$f":"SUMPRODUCT('Emission Calculations'!BO10:BO74,'Emission Calculations'!$K$10:$K$74)/2000","v":0},{"$f":"SUMPRODUCT('Emission Calculations'!BP10:BP74,'Emission Calculations'!$K$10:$K$74)/2000","v":0},{"$f":"SUMPRODUCT('Emission Calculations'!BQ10:BQ74,'Emission Calculations'!$K$10:$K$74)/2000","v":0},{"$f":"SUMPRODUCT('Emission Calculations'!BR10:BR74,'Emission Calculations'!$K$10:$K$74)/2000","v":0},{"$f":"SUMPRODUCT('Emission Calculations'!BS10:BS74,'Emission Calculations'!$K$10:$K$74)/2000","v":0},{"$f":"SUMPRODUCT('Emission Calculations'!BT10:BT74,'Emission Calculations'!$K$10:$K$74)/2000","v":0},{"$f":"SUMPRODUCT('Emission Calculations'!BU10:BU74,'Emission Calculations'!$K$10:$K$74)/2000","v":0},{"$f":"SUMPRODUCT('Emission Calculations'!BV10:BV74,'Emission Calculations'!$K$10:$K$74)/2000","v":0},{"$f":"SUMPRODUCT('Emission Calculations'!BW10:BW74,'Emission Calculations'!$K$10:$K$74)/2000","v":0},{"$f":"SUMPRODUCT('Emission Calculations'!BX10:BX74,'Emission Calculations'!$K$10:$K$74)/2000","v":0},{"$f":"SUMPRODUCT('Emission Calculations'!BY10:BY74,'Emission Calculations'!$K$10:$K$74)/2000","v":0},{"$f":"SUMPRODUCT('Emission Calculations'!BZ10:BZ74,'Emission Calculations'!$K$10:$K$74)/2000","v":0},{"$f":"SUMPRODUCT('Emission Calculations'!CA10:CA74,'Emission Calculations'!$K$10:$K$74)/2000","v":0},{"$f":"SUMPRODUCT('Emission Calculations'!CB10:CB74,'Emission Calculations'!$K$10:$K$74)/2000","v":0},{"$f":"SUMPRODUCT('Emission Calculations'!CC10:CC74,'Emission Calculations'!$K$10:$K$74)/2000","v":0},{"$f":"SUMPRODUCT('Emission Calculations'!CD10:CD74,'Emission Calculations'!$K$10:$K$74)/2000","v":0},{"$f":"SUMPRODUCT('Emission Calculations'!CE10:CE74,'Emission Calculations'!$K$10:$K$74)/2000","v":0},{"$f":"SUMPRODUCT('Emission Calculations'!CF10:CF74,'Emission Calculations'!$K$10:$K$74)/2000","v":0},{"$f":"SUMPRODUCT('Emission Calculations'!CG10:CG74,'Emission Calculations'!$K$10:$K$74)/2000","v":0},{"$f":"SUMPRODUCT('Emission Calculations'!CH10:CH74,'Emission Calculations'!$K$10:$K$74)/2000","v":0},{"$f":"SUMPRODUCT('Emission Calculations'!CI10:CI74,'Emission Calculations'!$K$10:$K$74)/2000","v":0},{"$f":"SUMPRODUCT('Emission Calculations'!CJ10:CJ74,'Emission Calculations'!$K$10:$K$74)/2000","v":0},{"$f":"SUMPRODUCT('Emission Calculations'!CK10:CK74,'Emission Calculations'!$K$10:$K$74)/2000","v":0},{"$f":"SUMPRODUCT('Emission Calculations'!CL10:CL74,'Emission Calculations'!$K$10:$K$74)/2000","v":0}]
[{"$f":"'Emission Calculations'!A269","v":"HAP Name"},{"$f":"SUMPRODUCT('Emission Calculations'!AE10:AE74,'Emission Calculations'!$L$10:$L$74)/2000","v":0},{"$f":"SUMPRODUCT('Emission Calculations'!AF10:AF74,'Emission Calculations'!$L$10:$L$74)/2000","v":0},{"$f":"SUMPRODUCT('Emission Calculations'!AG10:AG74,'Emission Calculations'!$L$10:$L$74)/2000","v":0},{"$f":"SUMPRODUCT('Emission Calculations'!AH10:AH74,'Emission Calculations'!$L$10:$L$74)/2000","v":0},{"$f":"SUMPRODUCT('Emission Calculations'!AI10:AI74,'Emission Calculations'!$L$10:$L$74)/2000","v":0},{"$f":"SUMPRODUCT('Emission Calculations'!AJ10:AJ74,'Emission Calculations'!$L$10:$L$74)/2000","v":0},{"$f":"SUMPRODUCT('Emission Calculations'!AK10:AK74,'Emission Calculations'!$L$10:$L$74)/2000","v":0},{"$f":"SUMPRODUCT('Emission Calculations'!AL10:AL74,'Emission Calculations'!$L$10:$L$74)/2000","v":0},{"$f":"SUMPRODUCT('Emission Calculations'!AM10:AM74,'Emission Calculations'!$L$10:$L$74)/2000","v":0},{"$f":"SUMPRODUCT('Emission Calculations'!AN10:AN74,'Emission Calculations'!$L$10:$L$74)/2000","v":0},{"$f":"SUMPRODUCT('Emission Calculations'!AO10:AO74,'Emission Calculations'!$L$10:$L$74)/2000","v":0},{"$f":"SUMPRODUCT('Emission Calculations'!AP10:AP74,'Emission Calculations'!$L$10:$L$74)/2000","v":0},{"$f":"SUMPRODUCT('Emission Calculations'!AQ10:AQ74,'Emission Calculations'!$L$10:$L$74)/2000","v":0},{"$f":"SUMPRODUCT('Emission Calculations'!AR10:AR74,'Emission Calculations'!$L$10:$L$74)/2000","v":0},{"$f":"SUMPRODUCT('Emission Calculations'!AS10:AS74,'Emission Calculations'!$L$10:$L$74)/2000","v":0},{"$f":"SUMPRODUCT('Emission Calculations'!AT10:AT74,'Emission Calculations'!$L$10:$L$74)/2000","v":0},{"$f":"SUMPRODUCT('Emission Calculations'!AU10:AU74,'Emission Calculations'!$L$10:$L$74)/2000","v":0},{"$f":"SUMPRODUCT('Emission Calculations'!AV10:AV74,'Emission Calculations'!$L$10:$L$74)/2000","v":0},{"$f":"SUMPRODUCT('Emission Calculations'!AW10:AW74,'Emission Calculations'!$L$10:$L$74)/2000","v":0},{"$f":"SUMPRODUCT('Emission Calculations'!AX10:AX74,'Emission Calculations'!$L$10:$L$74)/2000","v":0},{"$f":"SUMPRODUCT('Emission Calculations'!AY10:AY74,'Emission Calculations'!$L$10:$L$74)/2000","v":0},{"$f":"SUMPRODUCT('Emission Calculations'!AZ10:AZ74,'Emission Calculations'!$L$10:$L$74)/2000","v":0},{"$f":"SUMPRODUCT('Emission Calculations'!BA10:BA74,'Emission Calculations'!$L$10:$L$74)/2000","v":0},{"$f":"SUMPRODUCT('Emission Calculations'!BB10:BB74,'Emission Calculations'!$L$10:$L$74)/2000","v":0},{"$f":"SUMPRODUCT('Emission Calculations'!BC10:BC74,'Emission Calculations'!$L$10:$L$74)/2000","v":0},{"$f":"SUMPRODUCT('Emission Calculations'!BD10:BD74,'Emission Calculations'!$L$10:$L$74)/2000","v":0},{"$f":"SUMPRODUCT('Emission Calculations'!BE10:BE74,'Emission Calculations'!$L$10:$L$74)/2000","v":0},{"$f":"SUMPRODUCT('Emission Calculations'!BF10:BF74,'Emission Calculations'!$L$10:$L$74)/2000","v":0},{"$f":"SUMPRODUCT('Emission Calculations'!BG10:BG74,'Emission Calculations'!$L$10:$L$74)/2000","v":0},{"$f":"SUMPRODUCT('Emission Calculations'!BH10:BH74,'Emission Calculations'!$L$10:$L$74)/2000","v":0},{"$f":"SUMPRODUCT('Emission Calculations'!BI10:BI74,'Emission Calculations'!$L$10:$L$74)/2000","v":0},{"$f":"SUMPRODUCT('Emission Calculations'!BJ10:BJ74,'Emission Calculations'!$L$10:$L$74)/2000","v":0},{"$f":"SUMPRODUCT('Emission Calculations'!BK10:BK74,'Emission Calculations'!$L$10:$L$74)/2000","v":0},{"$f":"SUMPRODUCT('Emission Calculations'!BL10:BL74,'Emission Calculations'!$L$10:$L$74)/2000","v":0},{"$f":"SUMPRODUCT('Emission Calculations'!BM10:BM74,'Emission Calculations'!$L$10:$L$74)/2000","v":0},{"$f":"SUMPRODUCT('Emission Calculations'!BN10:BN74,'Emission Calculations'!$L$10:$L$74)/2000","v":0},{"$f":"SUMPRODUCT('Emission Calculations'!BO10:BO74,'Emission Calculations'!$L$10:$L$74)/2000","v":0},{"$f":"SUMPRODUCT('Emission Calculations'!BP10:BP74,'Emission Calculations'!$L$10:$L$74)/2000","v":0},{"$f":"SUMPRODUCT('Emission Calculations'!BQ10:BQ74,'Emission Calculations'!$L$10:$L$74)/2000","v":0},{"$f":"SUMPRODUCT('Emission Calculations'!BR10:BR74,'Emission Calculations'!$L$10:$L$74)/2000","v":0},{"$f":"SUMPRODUCT('Emission Calculations'!BS10:BS74,'Emission Calculations'!$L$10:$L$74)/2000","v":0},{"$f":"SUMPRODUCT('Emission Calculations'!BT10:BT74,'Emission Calculations'!$L$10:$L$74)/2000","v":0},{"$f":"SUMPRODUCT('Emission Calculations'!BU10:BU74,'Emission Calculations'!$L$10:$L$74)/2000","v":0},{"$f":"SUMPRODUCT('Emission Calculations'!BV10:BV74,'Emission Calculations'!$L$10:$L$74)/2000","v":0},{"$f":"SUMPRODUCT('Emission Calculations'!BW10:BW74,'Emission Calculations'!$L$10:$L$74)/2000","v":0},{"$f":"SUMPRODUCT('Emission Calculations'!BX10:BX74,'Emission Calculations'!$L$10:$L$74)/2000","v":0},{"$f":"SUMPRODUCT('Emission Calculations'!BY10:BY74,'Emission Calculations'!$L$10:$L$74)/2000","v":0},{"$f":"SUMPRODUCT('Emission Calculations'!BZ10:BZ74,'Emission Calculations'!$L$10:$L$74)/2000","v":0},{"$f":"SUMPRODUCT('Emission Calculations'!CA10:CA74,'Emission Calculations'!$L$10:$L$74)/2000","v":0},{"$f":"SUMPRODUCT('Emission Calculations'!CB10:CB74,'Emission Calculations'!$L$10:$L$74)/2000","v":0},{"$f":"SUMPRODUCT('Emission Calculations'!CC10:CC74,'Emission Calculations'!$L$10:$L$74)/2000","v":0},{"$f":"SUMPRODUCT('Emission Calculations'!CD10:CD74,'Emission Calculations'!$L$10:$L$74)/2000","v":0},{"$f":"SUMPRODUCT('Emission Calculations'!CE10:CE74,'Emission Calculations'!$L$10:$L$74)/2000","v":0},{"$f":"SUMPRODUCT('Emission Calculations'!CF10:CF74,'Emission Calculations'!$L$10:$L$74)/2000","v":0},{"$f":"SUMPRODUCT('Emission Calculations'!CG10:CG74,'Emission Calculations'!$L$10:$L$74)/2000","v":0},{"$f":"SUMPRODUCT('Emission Calculations'!CH10:CH74,'Emission Calculations'!$L$10:$L$74)/2000","v":0},{"$f":"SUMPRODUCT('Emission Calculations'!CI10:CI74,'Emission Calculations'!$L$10:$L$74)/2000","v":0},{"$f":"SUMPRODUCT('Emission Calculations'!CJ10:CJ74,'Emission Calculations'!$L$10:$L$74)/2000","v":0},{"$f":"SUMPRODUCT('Emission Calculations'!CK10:CK74,'Emission Calculations'!$L$10:$L$74)/2000","v":0},{"$f":"SUMPRODUCT('Emission Calculations'!CL10:CL74,'Emission Calculations'!$L$10:$L$74)/2000","v":0}]
[{"$f":"'Emission Calculations'!A270","v":"HAP Name"},{"$f":"SUMPRODUCT('Emission Calculations'!AE$10:AE$74,'Emission Calculations'!$M$10:$M$74)/2000","v":0},{"$f":"SUMPRODUCT('Emission Calculations'!AF$10:AF$74,'Emission Calculations'!$M$10:$M$74)/2000","v":0},{"$f":"SUMPRODUCT('Emission Calculations'!AG$10:AG$74,'Emission Calculations'!$M$10:$M$74)/2000","v":0},{"$f":"SUMPRODUCT('Emission Calculations'!AH$10:AH$74,'Emission Calculations'!$M$10:$M$74)/2000","v":0},{"$f":"SUMPRODUCT('Emission Calculations'!AI$10:AI$74,'Emission Calculations'!$M$10:$M$74)/2000","v":0},{"$f":"SUMPRODUCT('Emission Calculations'!AJ$10:AJ$74,'Emission Calculations'!$M$10:$M$74)/2000","v":0},{"$f":"SUMPRODUCT('Emission Calculations'!AK$10:AK$74,'Emission Calculations'!$M$10:$M$74)/2000","v":0},{"$f":"SUMPRODUCT('Emission Calculations'!AL$10:AL$74,'Emission Calculations'!$M$10:$M$74)/2000","v":0},{"$f":"SUMPRODUCT('Emission Calculations'!AM$10:AM$74,'Emission Calculations'!$M$10:$M$74)/2000","v":0},{"$f":"SUMPRODUCT('Emission Calculations'!AN$10:AN$74,'Emission Calculations'!$M$10:$M$74)/2000","v":0},{"$f":"SUMPRODUCT('Emission Calculations'!AO$10:AO$74,'Emission Calculations'!$M$10:$M$74)/2000","v":0},{"$f":"SUMPRODUCT('Emission Calculations'!AP$10:AP$74,'Emission Calculations'!$M$10:$M$74)/2000","v":0},{"$f":"SUMPRODUCT('Emission Calculations'!AQ$10:AQ$74,'Emission Calculations'!$M$10:$M$74)/2000","v":0},{"$f":"SUMPRODUCT('Emission Calculations'!AR$10:AR$74,'Emission Calculations'!$M$10:$M$74)/2000","v":0},{"$f":"SUMPRODUCT('Emission Calculations'!AS$10:AS$74,'Emission Calculations'!$M$10:$M$74)/2000","v":0},{"$f":"SUMPRODUCT('Emission Calculations'!AT$10:AT$74,'Emission Calculations'!$M$10:$M$74)/2000","v":0},{"$f":"SUMPRODUCT('Emission Calculations'!AU$10:AU$74,'Emission Calculations'!$M$10:$M$74)/2000","v":0},{"$f":"SUMPRODUCT('Emission Calculations'!AV$10:AV$74,'Emission Calculations'!$M$10:$M$74)/2000","v":0},{"$f":"SUMPRODUCT('Emission Calculations'!AW$10:AW$74,'Emission Calculations'!$M$10:$M$74)/2000","v":0},{"$f":"SUMPRODUCT('Emission Calculations'!AX$10:AX$74,'Emission Calculations'!$M$10:$M$74)/2000","v":0},{"$f":"SUMPRODUCT('Emission Calculations'!AY$10:AY$74,'Emission Calculations'!$M$10:$M$74)/2000","v":0},{"$f":"SUMPRODUCT('Emission Calculations'!AZ$10:AZ$74,'Emission Calculations'!$M$10:$M$74)/2000","v":0},{"$f":"SUMPRODUCT('Emission Calculations'!BA$10:BA$74,'Emission Calculations'!$M$10:$M$74)/2000","v":0},{"$f":"SUMPRODUCT('Emission Calculations'!BB$10:BB$74,'Emission Calculations'!$M$10:$M$74)/2000","v":0},{"$f":"SUMPRODUCT('Emission Calculations'!BC$10:BC$74,'Emission Calculations'!$M$10:$M$74)/2000","v":0},{"$f":"SUMPRODUCT('Emission Calculations'!BD$10:BD$74,'Emission Calculations'!$M$10:$M$74)/2000","v":0},{"$f":"SUMPRODUCT('Emission Calculations'!BE$10:BE$74,'Emission Calculations'!$M$10:$M$74)/2000","v":0},{"$f":"SUMPRODUCT('Emission Calculations'!BF$10:BF$74,'Emission Calculations'!$M$10:$M$74)/2000","v":0},{"$f":"SUMPRODUCT('Emission Calculations'!BG$10:BG$74,'Emission Calculations'!$M$10:$M$74)/2000","v":0},{"$f":"SUMPRODUCT('Emission Calculations'!BH$10:BH$74,'Emission Calculations'!$M$10:$M$74)/2000","v":0},{"$f":"SUMPRODUCT('Emission Calculations'!BI$10:BI$74,'Emission Calculations'!$M$10:$M$74)/2000","v":0},{"$f":"SUMPRODUCT('Emission Calculations'!BJ$10:BJ$74,'Emission Calculations'!$M$10:$M$74)/2000","v":0},{"$f":"SUMPRODUCT('Emission Calculations'!BK$10:BK$74,'Emission Calculations'!$M$10:$M$74)/2000","v":0},{"$f":"SUMPRODUCT('Emission Calculations'!BL$10:BL$74,'Emission Calculations'!$M$10:$M$74)/2000","v":0},{"$f":"SUMPRODUCT('Emission Calculations'!BM$10:BM$74,'Emission Calculations'!$M$10:$M$74)/2000","v":0},{"$f":"SUMPRODUCT('Emission Calculations'!BN$10:BN$74,'Emission Calculations'!$M$10:$M$74)/2000","v":0},{"$f":"SUMPRODUCT('Emission Calculations'!BO$10:BO$74,'Emission Calculations'!$M$10:$M$74)/2000","v":0},{"$f":"SUMPRODUCT('Emission Calculations'!BP$10:BP$74,'Emission Calculations'!$M$10:$M$74)/2000","v":0},{"$f":"SUMPRODUCT('Emission Calculations'!BQ$10:BQ$74,'Emission Calculations'!$M$10:$M$74)/2000","v":0},{"$f":"SUMPRODUCT('Emission Calculations'!BR$10:BR$74,'Emission Calculations'!$M$10:$M$74)/2000","v":0},{"$f":"SUMPRODUCT('Emission Calculations'!BS$10:BS$74,'Emission Calculations'!$M$10:$M$74)/2000","v":0},{"$f":"SUMPRODUCT('Emission Calculations'!BT$10:BT$74,'Emission Calculations'!$M$10:$M$74)/2000","v":0},{"$f":"SUMPRODUCT('Emission Calculations'!BU$10:BU$74,'Emission Calculations'!$M$10:$M$74)/2000","v":0},{"$f":"SUMPRODUCT('Emission Calculations'!BV$10:BV$74,'Emission Calculations'!$M$10:$M$74)/2000","v":0},{"$f":"SUMPRODUCT('Emission Calculations'!BW$10:BW$74,'Emission Calculations'!$M$10:$M$74)/2000","v":0},{"$f":"SUMPRODUCT('Emission Calculations'!BX$10:BX$74,'Emission Calculations'!$M$10:$M$74)/2000","v":0},{"$f":"SUMPRODUCT('Emission Calculations'!BY$10:BY$74,'Emission Calculations'!$M$10:$M$74)/2000","v":0},{"$f":"SUMPRODUCT('Emission Calculations'!BZ$10:BZ$74,'Emission Calculations'!$M$10:$M$74)/2000","v":0},{"$f":"SUMPRODUCT('Emission Calculations'!CA$10:CA$74,'Emission Calculations'!$M$10:$M$74)/2000","v":0},{"$f":"SUMPRODUCT('Emission Calculations'!CB$10:CB$74,'Emission Calculations'!$M$10:$M$74)/2000","v":0},{"$f":"SUMPRODUCT('Emission Calculations'!CC$10:CC$74,'Emission Calculations'!$M$10:$M$74)/2000","v":0},{"$f":"SUMPRODUCT('Emission Calculations'!CD$10:CD$74,'Emission Calculations'!$M$10:$M$74)/2000","v":0},{"$f":"SUMPRODUCT('Emission Calculations'!CE$10:CE$74,'Emission Calculations'!$M$10:$M$74)/2000","v":0},{"$f":"SUMPRODUCT('Emission Calculations'!CF$10:CF$74,'Emission Calculations'!$M$10:$M$74)/2000","v":0},{"$f":"SUMPRODUCT('Emission Calculations'!CG$10:CG$74,'Emission Calculations'!$M$10:$M$74)/2000","v":0},{"$f":"SUMPRODUCT('Emission Calculations'!CH$10:CH$74,'Emission Calculations'!$M$10:$M$74)/2000","v":0},{"$f":"SUMPRODUCT('Emission Calculations'!CI$10:CI$74,'Emission Calculations'!$M$10:$M$74)/2000","v":0},{"$f":"SUMPRODUCT('Emission Calculations'!CJ$10:CJ$74,'Emission Calculations'!$M$10:$M$74)/2000","v":0},{"$f":"SUMPRODUCT('Emission Calculations'!CK$10:CK$74,'Emission Calculations'!$M$10:$M$74)/2000","v":0},{"$f":"SUMPRODUCT('Emission Calculations'!CL$10:CL$74,'Emission Calculations'!$M$10:$M$74)/2000","v":0}]
[{"$f":"'Emission Calculations'!A271","v":"HAP Name"},{"$f":"SUMPRODUCT('Emission Calculations'!AE$10:AE$74,'Emission Calculations'!$N$10:$N$74)/2000","v":0},{"$f":"SUMPRODUCT('Emission Calculations'!AF$10:AF$74,'Emission Calculations'!$N$10:$N$74)/2000","v":0},{"$f":"SUMPRODUCT('Emission Calculations'!AG$10:AG$74,'Emission Calculations'!$N$10:$N$74)/2000","v":0},{"$f":"SUMPRODUCT('Emission Calculations'!AH$10:AH$74,'Emission Calculations'!$N$10:$N$74)/2000","v":0},{"$f":"SUMPRODUCT('Emission Calculations'!AI$10:AI$74,'Emission Calculations'!$N$10:$N$74)/2000","v":0},{"$f":"SUMPRODUCT('Emission Calculations'!AJ$10:AJ$74,'Emission Calculations'!$N$10:$N$74)/2000","v":0},{"$f":"SUMPRODUCT('Emission Calculations'!AK$10:AK$74,'Emission Calculations'!$N$10:$N$74)/2000","v":0},{"$f":"SUMPRODUCT('Emission Calculations'!AL$10:AL$74,'Emission Calculations'!$N$10:$N$74)/2000","v":0},{"$f":"SUMPRODUCT('Emission Calculations'!AM$10:AM$74,'Emission Calculations'!$N$10:$N$74)/2000","v":0},{"$f":"SUMPRODUCT('Emission Calculations'!AN$10:AN$74,'Emission Calculations'!$N$10:$N$74)/2000","v":0},{"$f":"SUMPRODUCT('Emission Calculations'!AO$10:AO$74,'Emission Calculations'!$N$10:$N$74)/2000","v":0},{"$f":"SUMPRODUCT('Emission Calculations'!AP$10:AP$74,'Emission Calculations'!$N$10:$N$74)/2000","v":0},{"$f":"SUMPRODUCT('Emission Calculations'!AQ$10:AQ$74,'Emission Calculations'!$N$10:$N$74)/2000","v":0},{"$f":"SUMPRODUCT('Emission Calculations'!AR$10:AR$74,'Emission Calculations'!$N$10:$N$74)/2000","v":0},{"$f":"SUMPRODUCT('Emission Calculations'!AS$10:AS$74,'Emission Calculations'!$N$10:$N$74)/2000","v":0},{"$f":"SUMPRODUCT('Emission Calculations'!AT$10:AT$74,'Emission Calculations'!$N$10:$N$74)/2000","v":0},{"$f":"SUMPRODUCT('Emission Calculations'!AU$10:AU$74,'Emission Calculations'!$N$10:$N$74)/2000","v":0},{"$f":"SUMPRODUCT('Emission Calculations'!AV$10:AV$74,'Emission Calculations'!$N$10:$N$74)/2000","v":0},{"$f":"SUMPRODUCT('Emission Calculations'!AW$10:AW$74,'Emission Calculations'!$N$10:$N$74)/2000","v":0},{"$f":"SUMPRODUCT('Emission Calculations'!AX$10:AX$74,'Emission Calculations'!$N$10:$N$74)/2000","v":0},{"$f":"SUMPRODUCT('Emission Calculations'!AY$10:AY$74,'Emission Calculations'!$N$10:$N$74)/2000","v":0},{"$f":"SUMPRODUCT('Emission Calculations'!AZ$10:AZ$74,'Emission Calculations'!$N$10:$N$74)/2000","v":0},{"$f":"SUMPRODUCT('Emission Calculations'!BA$10:BA$74,'Emission Calculations'!$N$10:$N$74)/2000","v":0},{"$f":"SUMPRODUCT('Emission Calculations'!BB$10:BB$74,'Emission Calculations'!$N$10:$N$74)/2000","v":0},{"$f":"SUMPRODUCT('Emission Calculations'!BC$10:BC$74,'Emission Calculations'!$N$10:$N$74)/2000","v":0},{"$f":"SUMPRODUCT('Emission Calculations'!BD$10:BD$74,'Emission Calculations'!$N$10:$N$74)/2000","v":0},{"$f":"SUMPRODUCT('Emission Calculations'!BE$10:BE$74,'Emission Calculations'!$N$10:$N$74)/2000","v":0},{"$f":"SUMPRODUCT('Emission Calculations'!BF$10:BF$74,'Emission Calculations'!$N$10:$N$74)/2000","v":0},{"$f":"SUMPRODUCT('Emission Calculations'!BG$10:BG$74,'Emission Calculations'!$N$10:$N$74)/2000","v":0},{"$f":"SUMPRODUCT('Emission Calculations'!BH$10:BH$74,'Emission Calculations'!$N$10:$N$74)/2000","v":0},{"$f":"SUMPRODUCT('Emission Calculations'!BI$10:BI$74,'Emission Calculations'!$N$10:$N$74)/2000","v":0},{"$f":"SUMPRODUCT('Emission Calculations'!BJ$10:BJ$74,'Emission Calculations'!$N$10:$N$74)/2000","v":0},{"$f":"SUMPRODUCT('Emission Calculations'!BK$10:BK$74,'Emission Calculations'!$N$10:$N$74)/2000","v":0},{"$f":"SUMPRODUCT('Emission Calculations'!BL$10:BL$74,'Emission Calculations'!$N$10:$N$74)/2000","v":0},{"$f":"SUMPRODUCT('Emission Calculations'!BM$10:BM$74,'Emission Calculations'!$N$10:$N$74)/2000","v":0},{"$f":"SUMPRODUCT('Emission Calculations'!BN$10:BN$74,'Emission Calculations'!$N$10:$N$74)/2000","v":0},{"$f":"SUMPRODUCT('Emission Calculations'!BO$10:BO$74,'Emission Calculations'!$N$10:$N$74)/2000","v":0},{"$f":"SUMPRODUCT('Emission Calculations'!BP$10:BP$74,'Emission Calculations'!$N$10:$N$74)/2000","v":0},{"$f":"SUMPRODUCT('Emission Calculations'!BQ$10:BQ$74,'Emission Calculations'!$N$10:$N$74)/2000","v":0},{"$f":"SUMPRODUCT('Emission Calculations'!BR$10:BR$74,'Emission Calculations'!$N$10:$N$74)/2000","v":0},{"$f":"SUMPRODUCT('Emission Calculations'!BS$10:BS$74,'Emission Calculations'!$N$10:$N$74)/2000","v":0},{"$f":"SUMPRODUCT('Emission Calculations'!BT$10:BT$74,'Emission Calculations'!$N$10:$N$74)/2000","v":0},{"$f":"SUMPRODUCT('Emission Calculations'!BU$10:BU$74,'Emission Calculations'!$N$10:$N$74)/2000","v":0},{"$f":"SUMPRODUCT('Emission Calculations'!BV$10:BV$74,'Emission Calculations'!$N$10:$N$74)/2000","v":0},{"$f":"SUMPRODUCT('Emission Calculations'!BW$10:BW$74,'Emission Calculations'!$N$10:$N$74)/2000","v":0},{"$f":"SUMPRODUCT('Emission Calculations'!BX$10:BX$74,'Emission Calculations'!$N$10:$N$74)/2000","v":0},{"$f":"SUMPRODUCT('Emission Calculations'!BY$10:BY$74,'Emission Calculations'!$N$10:$N$74)/2000","v":0},{"$f":"SUMPRODUCT('Emission Calculations'!BZ$10:BZ$74,'Emission Calculations'!$N$10:$N$74)/2000","v":0},{"$f":"SUMPRODUCT('Emission Calculations'!CA$10:CA$74,'Emission Calculations'!$N$10:$N$74)/2000","v":0},{"$f":"SUMPRODUCT('Emission Calculations'!CB$10:CB$74,'Emission Calculations'!$N$10:$N$74)/2000","v":0},{"$f":"SUMPRODUCT('Emission Calculations'!CC$10:CC$74,'Emission Calculations'!$N$10:$N$74)/2000","v":0},{"$f":"SUMPRODUCT('Emission Calculations'!CD$10:CD$74,'Emission Calculations'!$N$10:$N$74)/2000","v":0},{"$f":"SUMPRODUCT('Emission Calculations'!CE$10:CE$74,'Emission Calculations'!$N$10:$N$74)/2000","v":0},{"$f":"SUMPRODUCT('Emission Calculations'!CF$10:CF$74,'Emission Calculations'!$N$10:$N$74)/2000","v":0},{"$f":"SUMPRODUCT('Emission Calculations'!CG$10:CG$74,'Emission Calculations'!$N$10:$N$74)/2000","v":0},{"$f":"SUMPRODUCT('Emission Calculations'!CH$10:CH$74,'Emission Calculations'!$N$10:$N$74)/2000","v":0},{"$f":"SUMPRODUCT('Emission Calculations'!CI$10:CI$74,'Emission Calculations'!$N$10:$N$74)/2000","v":0},{"$f":"SUMPRODUCT('Emission Calculations'!CJ$10:CJ$74,'Emission Calculations'!$N$10:$N$74)/2000","v":0},{"$f":"SUMPRODUCT('Emission Calculations'!CK$10:CK$74,'Emission Calculations'!$N$10:$N$74)/2000","v":0},{"$f":"SUMPRODUCT('Emission Calculations'!CL$10:CL$74,'Emission Calculations'!$N$10:$N$74)/2000","v":0}]
[{"$f":"'Emission Calculations'!A272","v":"HAP Name"},{"$f":"SUMPRODUCT('Emission Calculations'!AE$10:AE$74,'Emission Calculations'!$O$10:$O$74)/2000","v":0},{"$f":"SUMPRODUCT('Emission Calculations'!AF$10:AF$74,'Emission Calculations'!$O$10:$O$74)/2000","v":0},{"$f":"SUMPRODUCT('Emission Calculations'!AG$10:AG$74,'Emission Calculations'!$O$10:$O$74)/2000","v":0},{"$f":"SUMPRODUCT('Emission Calculations'!AH$10:AH$74,'Emission Calculations'!$O$10:$O$74)/2000","v":0},{"$f":"SUMPRODUCT('Emission Calculations'!AI$10:AI$74,'Emission Calculations'!$O$10:$O$74)/2000","v":0},{"$f":"SUMPRODUCT('Emission Calculations'!AJ$10:AJ$74,'Emission Calculations'!$O$10:$O$74)/2000","v":0},{"$f":"SUMPRODUCT('Emission Calculations'!AK$10:AK$74,'Emission Calculations'!$O$10:$O$74)/2000","v":0},{"$f":"SUMPRODUCT('Emission Calculations'!AL$10:AL$74,'Emission Calculations'!$O$10:$O$74)/2000","v":0},{"$f":"SUMPRODUCT('Emission Calculations'!AM$10:AM$74,'Emission Calculations'!$O$10:$O$74)/2000","v":0},{"$f":"SUMPRODUCT('Emission Calculations'!AN$10:AN$74,'Emission Calculations'!$O$10:$O$74)/2000","v":0},{"$f":"SUMPRODUCT('Emission Calculations'!AO$10:AO$74,'Emission Calculations'!$O$10:$O$74)/2000","v":0},{"$f":"SUMPRODUCT('Emission Calculations'!AP$10:AP$74,'Emission Calculations'!$O$10:$O$74)/2000","v":0},{"$f":"SUMPRODUCT('Emission Calculations'!AQ$10:AQ$74,'Emission Calculations'!$O$10:$O$74)/2000","v":0},{"$f":"SUMPRODUCT('Emission Calculations'!AR$10:AR$74,'Emission Calculations'!$O$10:$O$74)/2000","v":0},{"$f":"SUMPRODUCT('Emission Calculations'!AS$10:AS$74,'Emission Calculations'!$O$10:$O$74)/2000","v":0},{"$f":"SUMPRODUCT('Emission Calculations'!AT$10:AT$74,'Emission Calculations'!$O$10:$O$74)/2000","v":0},{"$f":"SUMPRODUCT('Emission Calculations'!AU$10:AU$74,'Emission Calculations'!$O$10:$O$74)/2000","v":0},{"$f":"SUMPRODUCT('Emission Calculations'!AV$10:AV$74,'Emission Calculations'!$O$10:$O$74)/2000","v":0},{"$f":"SUMPRODUCT('Emission Calculations'!AW$10:AW$74,'Emission Calculations'!$O$10:$O$74)/2000","v":0},{"$f":"SUMPRODUCT('Emission Calculations'!AX$10:AX$74,'Emission Calculations'!$O$10:$O$74)/2000","v":0},{"$f":"SUMPRODUCT('Emission Calculations'!AY$10:AY$74,'Emission Calculations'!$O$10:$O$74)/2000","v":0},{"$f":"SUMPRODUCT('Emission Calculations'!AZ$10:AZ$74,'Emission Calculations'!$O$10:$O$74)/2000","v":0},{"$f":"SUMPRODUCT('Emission Calculations'!BA$10:BA$74,'Emission Calculations'!$O$10:$O$74)/2000","v":0},{"$f":"SUMPRODUCT('Emission Calculations'!BB$10:BB$74,'Emission Calculations'!$O$10:$O$74)/2000","v":0},{"$f":"SUMPRODUCT('Emission Calculations'!BC$10:BC$74,'Emission Calculations'!$O$10:$O$74)/2000","v":0},{"$f":"SUMPRODUCT('Emission Calculations'!BD$10:BD$74,'Emission Calculations'!$O$10:$O$74)/2000","v":0},{"$f":"SUMPRODUCT('Emission Calculations'!BE$10:BE$74,'Emission Calculations'!$O$10:$O$74)/2000","v":0},{"$f":"SUMPRODUCT('Emission Calculations'!BF$10:BF$74,'Emission Calculations'!$O$10:$O$74)/2000","v":0},{"$f":"SUMPRODUCT('Emission Calculations'!BG$10:BG$74,'Emission Calculations'!$O$10:$O$74)/2000","v":0},{"$f":"SUMPRODUCT('Emission Calculations'!BH$10:BH$74,'Emission Calculations'!$O$10:$O$74)/2000","v":0},{"$f":"SUMPRODUCT('Emission Calculations'!BI$10:BI$74,'Emission Calculations'!$O$10:$O$74)/2000","v":0},{"$f":"SUMPRODUCT('Emission Calculations'!BJ$10:BJ$74,'Emission Calculations'!$O$10:$O$74)/2000","v":0},{"$f":"SUMPRODUCT('Emission Calculations'!BK$10:BK$74,'Emission Calculations'!$O$10:$O$74)/2000","v":0},{"$f":"SUMPRODUCT('Emission Calculations'!BL$10:BL$74,'Emission Calculations'!$O$10:$O$74)/2000","v":0},{"$f":"SUMPRODUCT('Emission Calculations'!BM$10:BM$74,'Emission Calculations'!$O$10:$O$74)/2000","v":0},{"$f":"SUMPRODUCT('Emission Calculations'!BN$10:BN$74,'Emission Calculations'!$O$10:$O$74)/2000","v":0},{"$f":"SUMPRODUCT('Emission Calculations'!BO$10:BO$74,'Emission Calculations'!$O$10:$O$74)/2000","v":0},{"$f":"SUMPRODUCT('Emission Calculations'!BP$10:BP$74,'Emission Calculations'!$O$10:$O$74)/2000","v":0},{"$f":"SUMPRODUCT('Emission Calculations'!BQ$10:BQ$74,'Emission Calculations'!$O$10:$O$74)/2000","v":0},{"$f":"SUMPRODUCT('Emission Calculations'!BR$10:BR$74,'Emission Calculations'!$O$10:$O$74)/2000","v":0},{"$f":"SUMPRODUCT('Emission Calculations'!BS$10:BS$74,'Emission Calculations'!$O$10:$O$74)/2000","v":0},{"$f":"SUMPRODUCT('Emission Calculations'!BT$10:BT$74,'Emission Calculations'!$O$10:$O$74)/2000","v":0},{"$f":"SUMPRODUCT('Emission Calculations'!BU$10:BU$74,'Emission Calculations'!$O$10:$O$74)/2000","v":0},{"$f":"SUMPRODUCT('Emission Calculations'!BV$10:BV$74,'Emission Calculations'!$O$10:$O$74)/2000","v":0},{"$f":"SUMPRODUCT('Emission Calculations'!BW$10:BW$74,'Emission Calculations'!$O$10:$O$74)/2000","v":0},{"$f":"SUMPRODUCT('Emission Calculations'!BX$10:BX$74,'Emission Calculations'!$O$10:$O$74)/2000","v":0},{"$f":"SUMPRODUCT('Emission Calculations'!BY$10:BY$74,'Emission Calculations'!$O$10:$O$74)/2000","v":0},{"$f":"SUMPRODUCT('Emission Calculations'!BZ$10:BZ$74,'Emission Calculations'!$O$10:$O$74)/2000","v":0},{"$f":"SUMPRODUCT('Emission Calculations'!CA$10:CA$74,'Emission Calculations'!$O$10:$O$74)/2000","v":0},{"$f":"SUMPRODUCT('Emission Calculations'!CB$10:CB$74,'Emission Calculations'!$O$10:$O$74)/2000","v":0},{"$f":"SUMPRODUCT('Emission Calculations'!CC$10:CC$74,'Emission Calculations'!$O$10:$O$74)/2000","v":0},{"$f":"SUMPRODUCT('Emission Calculations'!CD$10:CD$74,'Emission Calculations'!$O$10:$O$74)/2000","v":0},{"$f":"SUMPRODUCT('Emission Calculations'!CE$10:CE$74,'Emission Calculations'!$O$10:$O$74)/2000","v":0},{"$f":"SUMPRODUCT('Emission Calculations'!CF$10:CF$74,'Emission Calculations'!$O$10:$O$74)/2000","v":0},{"$f":"SUMPRODUCT('Emission Calculations'!CG$10:CG$74,'Emission Calculations'!$O$10:$O$74)/2000","v":0},{"$f":"SUMPRODUCT('Emission Calculations'!CH$10:CH$74,'Emission Calculations'!$O$10:$O$74)/2000","v":0},{"$f":"SUMPRODUCT('Emission Calculations'!CI$10:CI$74,'Emission Calculations'!$O$10:$O$74)/2000","v":0},{"$f":"SUMPRODUCT('Emission Calculations'!CJ$10:CJ$74,'Emission Calculations'!$O$10:$O$74)/2000","v":0},{"$f":"SUMPRODUCT('Emission Calculations'!CK$10:CK$74,'Emission Calculations'!$O$10:$O$74)/2000","v":0},{"$f":"SUMPRODUCT('Emission Calculations'!CL$10:CL$74,'Emission Calculations'!$O$10:$O$74)/2000","v":0}]
[{"$f":"'Emission Calculations'!A273","v":"HAP Name"},{"$f":"SUMPRODUCT('Emission Calculations'!AE$10:AE$74,'Emission Calculations'!$P$10:$P$74)/2000","v":0},{"$f":"SUMPRODUCT('Emission Calculations'!AF$10:AF$74,'Emission Calculations'!$P$10:$P$74)/2000","v":0},{"$f":"SUMPRODUCT('Emission Calculations'!AG$10:AG$74,'Emission Calculations'!$P$10:$P$74)/2000","v":0},{"$f":"SUMPRODUCT('Emission Calculations'!AH$10:AH$74,'Emission Calculations'!$P$10:$P$74)/2000","v":0},{"$f":"SUMPRODUCT('Emission Calculations'!AI$10:AI$74,'Emission Calculations'!$P$10:$P$74)/2000","v":0},{"$f":"SUMPRODUCT('Emission Calculations'!AJ$10:AJ$74,'Emission Calculations'!$P$10:$P$74)/2000","v":0},{"$f":"SUMPRODUCT('Emission Calculations'!AK$10:AK$74,'Emission Calculations'!$P$10:$P$74)/2000","v":0},{"$f":"SUMPRODUCT('Emission Calculations'!AL$10:AL$74,'Emission Calculations'!$P$10:$P$74)/2000","v":0},{"$f":"SUMPRODUCT('Emission Calculations'!AM$10:AM$74,'Emission Calculations'!$P$10:$P$74)/2000","v":0},{"$f":"SUMPRODUCT('Emission Calculations'!AN$10:AN$74,'Emission Calculations'!$P$10:$P$74)/2000","v":0},{"$f":"SUMPRODUCT('Emission Calculations'!AO$10:AO$74,'Emission Calculations'!$P$10:$P$74)/2000","v":0},{"$f":"SUMPRODUCT('Emission Calculations'!AP$10:AP$74,'Emission Calculations'!$P$10:$P$74)/2000","v":0},{"$f":"SUMPRODUCT('Emission Calculations'!AQ$10:AQ$74,'Emission Calculations'!$P$10:$P$74)/2000","v":0},{"$f":"SUMPRODUCT('Emission Calculations'!AR$10:AR$74,'Emission Calculations'!$P$10:$P$74)/2000","v":0},{"$f":"SUMPRODUCT('Emission Calculations'!AS$10:AS$74,'Emission Calculations'!$P$10:$P$74)/2000","v":0},{"$f":"SUMPRODUCT('Emission Calculations'!AT$10:AT$74,'Emission Calculations'!$P$10:$P$74)/2000","v":0},{"$f":"SUMPRODUCT('Emission Calculations'!AU$10:AU$74,'Emission Calculations'!$P$10:$P$74)/2000","v":0},{"$f":"SUMPRODUCT('Emission Calculations'!AV$10:AV$74,'Emission Calculations'!$P$10:$P$74)/2000","v":0},{"$f":"SUMPRODUCT('Emission Calculations'!AW$10:AW$74,'Emission Calculations'!$P$10:$P$74)/2000","v":0},{"$f":"SUMPRODUCT('Emission Calculations'!AX$10:AX$74,'Emission Calculations'!$P$10:$P$74)/2000","v":0},{"$f":"SUMPRODUCT('Emission Calculations'!AY$10:AY$74,'Emission Calculations'!$P$10:$P$74)/2000","v":0},{"$f":"SUMPRODUCT('Emission Calculations'!AZ$10:AZ$74,'Emission Calculations'!$P$10:$P$74)/2000","v":0},{"$f":"SUMPRODUCT('Emission Calculations'!BA$10:BA$74,'Emission Calculations'!$P$10:$P$74)/2000","v":0},{"$f":"SUMPRODUCT('Emission Calculations'!BB$10:BB$74,'Emission Calculations'!$P$10:$P$74)/2000","v":0},{"$f":"SUMPRODUCT('Emission Calculations'!BC$10:BC$74,'Emission Calculations'!$P$10:$P$74)/2000","v":0},{"$f":"SUMPRODUCT('Emission Calculations'!BD$10:BD$74,'Emission Calculations'!$P$10:$P$74)/2000","v":0},{"$f":"SUMPRODUCT('Emission Calculations'!BE$10:BE$74,'Emission Calculations'!$P$10:$P$74)/2000","v":0},{"$f":"SUMPRODUCT('Emission Calculations'!BF$10:BF$74,'Emission Calculations'!$P$10:$P$74)/2000","v":0},{"$f":"SUMPRODUCT('Emission Calculations'!BG$10:BG$74,'Emission Calculations'!$P$10:$P$74)/2000","v":0},{"$f":"SUMPRODUCT('Emission Calculations'!BH$10:BH$74,'Emission Calculations'!$P$10:$P$74)/2000","v":0},{"$f":"SUMPRODUCT('Emission Calculations'!BI$10:BI$74,'Emission Calculations'!$P$10:$P$74)/2000","v":0},{"$f":"SUMPRODUCT('Emission Calculations'!BJ$10:BJ$74,'Emission Calculations'!$P$10:$P$74)/2000","v":0},{"$f":"SUMPRODUCT('Emission Calculations'!BK$10:BK$74,'Emission Calculations'!$P$10:$P$74)/2000","v":0},{"$f":"SUMPRODUCT('Emission Calculations'!BL$10:BL$74,'Emission Calculations'!$P$10:$P$74)/2000","v":0},{"$f":"SUMPRODUCT('Emission Calculations'!BM$10:BM$74,'Emission Calculations'!$P$10:$P$74)/2000","v":0},{"$f":"SUMPRODUCT('Emission Calculations'!BN$10:BN$74,'Emission Calculations'!$P$10:$P$74)/2000","v":0},{"$f":"SUMPRODUCT('Emission Calculations'!BO$10:BO$74,'Emission Calculations'!$P$10:$P$74)/2000","v":0},{"$f":"SUMPRODUCT('Emission Calculations'!BP$10:BP$74,'Emission Calculations'!$P$10:$P$74)/2000","v":0},{"$f":"SUMPRODUCT('Emission Calculations'!BQ$10:BQ$74,'Emission Calculations'!$P$10:$P$74)/2000","v":0},{"$f":"SUMPRODUCT('Emission Calculations'!BR$10:BR$74,'Emission Calculations'!$P$10:$P$74)/2000","v":0},{"$f":"SUMPRODUCT('Emission Calculations'!BS$10:BS$74,'Emission Calculations'!$P$10:$P$74)/2000","v":0},{"$f":"SUMPRODUCT('Emission Calculations'!BT$10:BT$74,'Emission Calculations'!$P$10:$P$74)/2000","v":0},{"$f":"SUMPRODUCT('Emission Calculations'!BU$10:BU$74,'Emission Calculations'!$P$10:$P$74)/2000","v":0},{"$f":"SUMPRODUCT('Emission Calculations'!BV$10:BV$74,'Emission Calculations'!$P$10:$P$74)/2000","v":0},{"$f":"SUMPRODUCT('Emission Calculations'!BW$10:BW$74,'Emission Calculations'!$P$10:$P$74)/2000","v":0},{"$f":"SUMPRODUCT('Emission Calculations'!BX$10:BX$74,'Emission Calculations'!$P$10:$P$74)/2000","v":0},{"$f":"SUMPRODUCT('Emission Calculations'!BY$10:BY$74,'Emission Calculations'!$P$10:$P$74)/2000","v":0},{"$f":"SUMPRODUCT('Emission Calculations'!BZ$10:BZ$74,'Emission Calculations'!$P$10:$P$74)/2000","v":0},{"$f":"SUMPRODUCT('Emission Calculations'!CA$10:CA$74,'Emission Calculations'!$P$10:$P$74)/2000","v":0},{"$f":"SUMPRODUCT('Emission Calculations'!CB$10:CB$74,'Emission Calculations'!$P$10:$P$74)/2000","v":0},{"$f":"SUMPRODUCT('Emission Calculations'!CC$10:CC$74,'Emission Calculations'!$P$10:$P$74)/2000","v":0},{"$f":"SUMPRODUCT('Emission Calculations'!CD$10:CD$74,'Emission Calculations'!$P$10:$P$74)/2000","v":0},{"$f":"SUMPRODUCT('Emission Calculations'!CE$10:CE$74,'Emission Calculations'!$P$10:$P$74)/2000","v":0},{"$f":"SUMPRODUCT('Emission Calculations'!CF$10:CF$74,'Emission Calculations'!$P$10:$P$74)/2000","v":0},{"$f":"SUMPRODUCT('Emission Calculations'!CG$10:CG$74,'Emission Calculations'!$P$10:$P$74)/2000","v":0},{"$f":"SUMPRODUCT('Emission Calculations'!CH$10:CH$74,'Emission Calculations'!$P$10:$P$74)/2000","v":0},{"$f":"SUMPRODUCT('Emission Calculations'!CI$10:CI$74,'Emission Calculations'!$P$10:$P$74)/2000","v":0},{"$f":"SUMPRODUCT('Emission Calculations'!CJ$10:CJ$74,'Emission Calculations'!$P$10:$P$74)/2000","v":0},{"$f":"SUMPRODUCT('Emission Calculations'!CK$10:CK$74,'Emission Calculations'!$P$10:$P$74)/2000","v":0},{"$f":"SUMPRODUCT('Emission Calculations'!CL$10:CL$74,'Emission Calculations'!$P$10:$P$74)/2000","v":0}]
[{"$f":"'Emission Calculations'!A274","v":"HAP Name"},{"$f":"SUMPRODUCT('Emission Calculations'!AE$10:AE$74,'Emission Calculations'!$Q$10:$Q$74)/2000","v":0},{"$f":"SUMPRODUCT('Emission Calculations'!AF$10:AF$74,'Emission Calculations'!$Q$10:$Q$74)/2000","v":0},{"$f":"SUMPRODUCT('Emission Calculations'!AG$10:AG$74,'Emission Calculations'!$Q$10:$Q$74)/2000","v":0},{"$f":"SUMPRODUCT('Emission Calculations'!AH$10:AH$74,'Emission Calculations'!$Q$10:$Q$74)/2000","v":0},{"$f":"SUMPRODUCT('Emission Calculations'!AI$10:AI$74,'Emission Calculations'!$Q$10:$Q$74)/2000","v":0},{"$f":"SUMPRODUCT('Emission Calculations'!AJ$10:AJ$74,'Emission Calculations'!$Q$10:$Q$74)/2000","v":0},{"$f":"SUMPRODUCT('Emission Calculations'!AK$10:AK$74,'Emission Calculations'!$Q$10:$Q$74)/2000","v":0},{"$f":"SUMPRODUCT('Emission Calculations'!AL$10:AL$74,'Emission Calculations'!$Q$10:$Q$74)/2000","v":0},{"$f":"SUMPRODUCT('Emission Calculations'!AM$10:AM$74,'Emission Calculations'!$Q$10:$Q$74)/2000","v":0},{"$f":"SUMPRODUCT('Emission Calculations'!AN$10:AN$74,'Emission Calculations'!$Q$10:$Q$74)/2000","v":0},{"$f":"SUMPRODUCT('Emission Calculations'!AO$10:AO$74,'Emission Calculations'!$Q$10:$Q$74)/2000","v":0},{"$f":"SUMPRODUCT('Emission Calculations'!AP$10:AP$74,'Emission Calculations'!$Q$10:$Q$74)/2000","v":0},{"$f":"SUMPRODUCT('Emission Calculations'!AQ$10:AQ$74,'Emission Calculations'!$Q$10:$Q$74)/2000","v":0},{"$f":"SUMPRODUCT('Emission Calculations'!AR$10:AR$74,'Emission Calculations'!$Q$10:$Q$74)/2000","v":0},{"$f":"SUMPRODUCT('Emission Calculations'!AS$10:AS$74,'Emission Calculations'!$Q$10:$Q$74)/2000","v":0},{"$f":"SUMPRODUCT('Emission Calculations'!AT$10:AT$74,'Emission Calculations'!$Q$10:$Q$74)/2000","v":0},{"$f":"SUMPRODUCT('Emission Calculations'!AU$10:AU$74,'Emission Calculations'!$Q$10:$Q$74)/2000","v":0},{"$f":"SUMPRODUCT('Emission Calculations'!AV$10:AV$74,'Emission Calculations'!$Q$10:$Q$74)/2000","v":0},{"$f":"SUMPRODUCT('Emission Calculations'!AW$10:AW$74,'Emission Calculations'!$Q$10:$Q$74)/2000","v":0},{"$f":"SUMPRODUCT('Emission Calculations'!AX$10:AX$74,'Emission Calculations'!$Q$10:$Q$74)/2000","v":0},{"$f":"SUMPRODUCT('Emission Calculations'!AY$10:AY$74,'Emission Calculations'!$Q$10:$Q$74)/2000","v":0},{"$f":"SUMPRODUCT('Emission Calculations'!AZ$10:AZ$74,'Emission Calculations'!$Q$10:$Q$74)/2000","v":0},{"$f":"SUMPRODUCT('Emission Calculations'!BA$10:BA$74,'Emission Calculations'!$Q$10:$Q$74)/2000","v":0},{"$f":"SUMPRODUCT('Emission Calculations'!BB$10:BB$74,'Emission Calculations'!$Q$10:$Q$74)/2000","v":0},{"$f":"SUMPRODUCT('Emission Calculations'!BC$10:BC$74,'Emission Calculations'!$Q$10:$Q$74)/2000","v":0},{"$f":"SUMPRODUCT('Emission Calculations'!BD$10:BD$74,'Emission Calculations'!$Q$10:$Q$74)/2000","v":0},{"$f":"SUMPRODUCT('Emission Calculations'!BE$10:BE$74,'Emission Calculations'!$Q$10:$Q$74)/2000","v":0},{"$f":"SUMPRODUCT('Emission Calculations'!BF$10:BF$74,'Emission Calculations'!$Q$10:$Q$74)/2000","v":0},{"$f":"SUMPRODUCT('Emission Calculations'!BG$10:BG$74,'Emission Calculations'!$Q$10:$Q$74)/2000","v":0},{"$f":"SUMPRODUCT('Emission Calculations'!BH$10:BH$74,'Emission Calculations'!$Q$10:$Q$74)/2000","v":0},{"$f":"SUMPRODUCT('Emission Calculations'!BI$10:BI$74,'Emission Calculations'!$Q$10:$Q$74)/2000","v":0},{"$f":"SUMPRODUCT('Emission Calculations'!BJ$10:BJ$74,'Emission Calculations'!$Q$10:$Q$74)/2000","v":0},{"$f":"SUMPRODUCT('Emission Calculations'!BK$10:BK$74,'Emission Calculations'!$Q$10:$Q$74)/2000","v":0},{"$f":"SUMPRODUCT('Emission Calculations'!BL$10:BL$74,'Emission Calculations'!$Q$10:$Q$74)/2000","v":0},{"$f":"SUMPRODUCT('Emission Calculations'!BM$10:BM$74,'Emission Calculations'!$Q$10:$Q$74)/2000","v":0},{"$f":"SUMPRODUCT('Emission Calculations'!BN$10:BN$74,'Emission Calculations'!$Q$10:$Q$74)/2000","v":0},{"$f":"SUMPRODUCT('Emission Calculations'!BO$10:BO$74,'Emission Calculations'!$Q$10:$Q$74)/2000","v":0},{"$f":"SUMPRODUCT('Emission Calculations'!BP$10:BP$74,'Emission Calculations'!$Q$10:$Q$74)/2000","v":0},{"$f":"SUMPRODUCT('Emission Calculations'!BQ$10:BQ$74,'Emission Calculations'!$Q$10:$Q$74)/2000","v":0},{"$f":"SUMPRODUCT('Emission Calculations'!BR$10:BR$74,'Emission Calculations'!$Q$10:$Q$74)/2000","v":0},{"$f":"SUMPRODUCT('Emission Calculations'!BS$10:BS$74,'Emission Calculations'!$Q$10:$Q$74)/2000","v":0},{"$f":"SUMPRODUCT('Emission Calculations'!BT$10:BT$74,'Emission Calculations'!$Q$10:$Q$74)/2000","v":0},{"$f":"SUMPRODUCT('Emission Calculations'!BU$10:BU$74,'Emission Calculations'!$Q$10:$Q$74)/2000","v":0},{"$f":"SUMPRODUCT('Emission Calculations'!BV$10:BV$74,'Emission Calculations'!$Q$10:$Q$74)/2000","v":0},{"$f":"SUMPRODUCT('Emission Calculations'!BW$10:BW$74,'Emission Calculations'!$Q$10:$Q$74)/2000","v":0},{"$f":"SUMPRODUCT('Emission Calculations'!BX$10:BX$74,'Emission Calculations'!$Q$10:$Q$74)/2000","v":0},{"$f":"SUMPRODUCT('Emission Calculations'!BY$10:BY$74,'Emission Calculations'!$Q$10:$Q$74)/2000","v":0},{"$f":"SUMPRODUCT('Emission Calculations'!BZ$10:BZ$74,'Emission Calculations'!$Q$10:$Q$74)/2000","v":0},{"$f":"SUMPRODUCT('Emission Calculations'!CA$10:CA$74,'Emission Calculations'!$Q$10:$Q$74)/2000","v":0},{"$f":"SUMPRODUCT('Emission Calculations'!CB$10:CB$74,'Emission Calculations'!$Q$10:$Q$74)/2000","v":0},{"$f":"SUMPRODUCT('Emission Calculations'!CC$10:CC$74,'Emission Calculations'!$Q$10:$Q$74)/2000","v":0},{"$f":"SUMPRODUCT('Emission Calculations'!CD$10:CD$74,'Emission Calculations'!$Q$10:$Q$74)/2000","v":0},{"$f":"SUMPRODUCT('Emission Calculations'!CE$10:CE$74,'Emission Calculations'!$Q$10:$Q$74)/2000","v":0},{"$f":"SUMPRODUCT('Emission Calculations'!CF$10:CF$74,'Emission Calculations'!$Q$10:$Q$74)/2000","v":0},{"$f":"SUMPRODUCT('Emission Calculations'!CG$10:CG$74,'Emission Calculations'!$Q$10:$Q$74)/2000","v":0},{"$f":"SUMPRODUCT('Emission Calculations'!CH$10:CH$74,'Emission Calculations'!$Q$10:$Q$74)/2000","v":0},{"$f":"SUMPRODUCT('Emission Calculations'!CI$10:CI$74,'Emission Calculations'!$Q$10:$Q$74)/2000","v":0},{"$f":"SUMPRODUCT('Emission Calculations'!CJ$10:CJ$74,'Emission Calculations'!$Q$10:$Q$74)/2000","v":0},{"$f":"SUMPRODUCT('Emission Calculations'!CK$10:CK$74,'Emission Calculations'!$Q$10:$Q$74)/2000","v":0},{"$f":"SUMPRODUCT('Emission Calculations'!CL$10:CL$74,'Emission Calculations'!$Q$10:$Q$74)/2000","v":0}]
[{"$f":"'Emission Calculations'!A275","v":"HAP Name"},{"$f":"SUMPRODUCT('Emission Calculations'!AE$10:AE$74,'Emission Calculations'!$R$10:$R$74)/2000","v":0},{"$f":"SUMPRODUCT('Emission Calculations'!AF$10:AF$74,'Emission Calculations'!$R$10:$R$74)/2000","v":0},{"$f":"SUMPRODUCT('Emission Calculations'!AG$10:AG$74,'Emission Calculations'!$R$10:$R$74)/2000","v":0},{"$f":"SUMPRODUCT('Emission Calculations'!AH$10:AH$74,'Emission Calculations'!$R$10:$R$74)/2000","v":0},{"$f":"SUMPRODUCT('Emission Calculations'!AI$10:AI$74,'Emission Calculations'!$R$10:$R$74)/2000","v":0},{"$f":"SUMPRODUCT('Emission Calculations'!AJ$10:AJ$74,'Emission Calculations'!$R$10:$R$74)/2000","v":0},{"$f":"SUMPRODUCT('Emission Calculations'!AK$10:AK$74,'Emission Calculations'!$R$10:$R$74)/2000","v":0},{"$f":"SUMPRODUCT('Emission Calculations'!AL$10:AL$74,'Emission Calculations'!$R$10:$R$74)/2000","v":0},{"$f":"SUMPRODUCT('Emission Calculations'!AM$10:AM$74,'Emission Calculations'!$R$10:$R$74)/2000","v":0},{"$f":"SUMPRODUCT('Emission Calculations'!AN$10:AN$74,'Emission Calculations'!$R$10:$R$74)/2000","v":0},{"$f":"SUMPRODUCT('Emission Calculations'!AO$10:AO$74,'Emission Calculations'!$R$10:$R$74)/2000","v":0},{"$f":"SUMPRODUCT('Emission Calculations'!AP$10:AP$74,'Emission Calculations'!$R$10:$R$74)/2000","v":0},{"$f":"SUMPRODUCT('Emission Calculations'!AQ$10:AQ$74,'Emission Calculations'!$R$10:$R$74)/2000","v":0},{"$f":"SUMPRODUCT('Emission Calculations'!AR$10:AR$74,'Emission Calculations'!$R$10:$R$74)/2000","v":0},{"$f":"SUMPRODUCT('Emission Calculations'!AS$10:AS$74,'Emission Calculations'!$R$10:$R$74)/2000","v":0},{"$f":"SUMPRODUCT('Emission Calculations'!AT$10:AT$74,'Emission Calculations'!$R$10:$R$74)/2000","v":0},{"$f":"SUMPRODUCT('Emission Calculations'!AU$10:AU$74,'Emission Calculations'!$R$10:$R$74)/2000","v":0},{"$f":"SUMPRODUCT('Emission Calculations'!AV$10:AV$74,'Emission Calculations'!$R$10:$R$74)/2000","v":0},{"$f":"SUMPRODUCT('Emission Calculations'!AW$10:AW$74,'Emission Calculations'!$R$10:$R$74)/2000","v":0},{"$f":"SUMPRODUCT('Emission Calculations'!AX$10:AX$74,'Emission Calculations'!$R$10:$R$74)/2000","v":0},{"$f":"SUMPRODUCT('Emission Calculations'!AY$10:AY$74,'Emission Calculations'!$R$10:$R$74)/2000","v":0},{"$f":"SUMPRODUCT('Emission Calculations'!AZ$10:AZ$74,'Emission Calculations'!$R$10:$R$74)/2000","v":0},{"$f":"SUMPRODUCT('Emission Calculations'!BA$10:BA$74,'Emission Calculations'!$R$10:$R$74)/2000","v":0},{"$f":"SUMPRODUCT('Emission Calculations'!BB$10:BB$74,'Emission Calculations'!$R$10:$R$74)/2000","v":0},{"$f":"SUMPRODUCT('Emission Calculations'!BC$10:BC$74,'Emission Calculations'!$R$10:$R$74)/2000","v":0},{"$f":"SUMPRODUCT('Emission Calculations'!BD$10:BD$74,'Emission Calculations'!$R$10:$R$74)/2000","v":0},{"$f":"SUMPRODUCT('Emission Calculations'!BE$10:BE$74,'Emission Calculations'!$R$10:$R$74)/2000","v":0},{"$f":"SUMPRODUCT('Emission Calculations'!BF$10:BF$74,'Emission Calculations'!$R$10:$R$74)/2000","v":0},{"$f":"SUMPRODUCT('Emission Calculations'!BG$10:BG$74,'Emission Calculations'!$R$10:$R$74)/2000","v":0},{"$f":"SUMPRODUCT('Emission Calculations'!BH$10:BH$74,'Emission Calculations'!$R$10:$R$74)/2000","v":0},{"$f":"SUMPRODUCT('Emission Calculations'!BI$10:BI$74,'Emission Calculations'!$R$10:$R$74)/2000","v":0},{"$f":"SUMPRODUCT('Emission Calculations'!BJ$10:BJ$74,'Emission Calculations'!$R$10:$R$74)/2000","v":0},{"$f":"SUMPRODUCT('Emission Calculations'!BK$10:BK$74,'Emission Calculations'!$R$10:$R$74)/2000","v":0},{"$f":"SUMPRODUCT('Emission Calculations'!BL$10:BL$74,'Emission Calculations'!$R$10:$R$74)/2000","v":0},{"$f":"SUMPRODUCT('Emission Calculations'!BM$10:BM$74,'Emission Calculations'!$R$10:$R$74)/2000","v":0},{"$f":"SUMPRODUCT('Emission Calculations'!BN$10:BN$74,'Emission Calculations'!$R$10:$R$74)/2000","v":0},{"$f":"SUMPRODUCT('Emission Calculations'!BO$10:BO$74,'Emission Calculations'!$R$10:$R$74)/2000","v":0},{"$f":"SUMPRODUCT('Emission Calculations'!BP$10:BP$74,'Emission Calculations'!$R$10:$R$74)/2000","v":0},{"$f":"SUMPRODUCT('Emission Calculations'!BQ$10:BQ$74,'Emission Calculations'!$R$10:$R$74)/2000","v":0},{"$f":"SUMPRODUCT('Emission Calculations'!BR$10:BR$74,'Emission Calculations'!$R$10:$R$74)/2000","v":0},{"$f":"SUMPRODUCT('Emission Calculations'!BS$10:BS$74,'Emission Calculations'!$R$10:$R$74)/2000","v":0},{"$f":"SUMPRODUCT('Emission Calculations'!BT$10:BT$74,'Emission Calculations'!$R$10:$R$74)/2000","v":0},{"$f":"SUMPRODUCT('Emission Calculations'!BU$10:BU$74,'Emission Calculations'!$R$10:$R$74)/2000","v":0},{"$f":"SUMPRODUCT('Emission Calculations'!BV$10:BV$74,'Emission Calculations'!$R$10:$R$74)/2000","v":0},{"$f":"SUMPRODUCT('Emission Calculations'!BW$10:BW$74,'Emission Calculations'!$R$10:$R$74)/2000","v":0},{"$f":"SUMPRODUCT('Emission Calculations'!BX$10:BX$74,'Emission Calculations'!$R$10:$R$74)/2000","v":0},{"$f":"SUMPRODUCT('Emission Calculations'!BY$10:BY$74,'Emission Calculations'!$R$10:$R$74)/2000","v":0},{"$f":"SUMPRODUCT('Emission Calculations'!BZ$10:BZ$74,'Emission Calculations'!$R$10:$R$74)/2000","v":0},{"$f":"SUMPRODUCT('Emission Calculations'!CA$10:CA$74,'Emission Calculations'!$R$10:$R$74)/2000","v":0},{"$f":"SUMPRODUCT('Emission Calculations'!CB$10:CB$74,'Emission Calculations'!$R$10:$R$74)/2000","v":0},{"$f":"SUMPRODUCT('Emission Calculations'!CC$10:CC$74,'Emission Calculations'!$R$10:$R$74)/2000","v":0},{"$f":"SUMPRODUCT('Emission Calculations'!CD$10:CD$74,'Emission Calculations'!$R$10:$R$74)/2000","v":0},{"$f":"SUMPRODUCT('Emission Calculations'!CE$10:CE$74,'Emission Calculations'!$R$10:$R$74)/2000","v":0},{"$f":"SUMPRODUCT('Emission Calculations'!CF$10:CF$74,'Emission Calculations'!$R$10:$R$74)/2000","v":0},{"$f":"SUMPRODUCT('Emission Calculations'!CG$10:CG$74,'Emission Calculations'!$R$10:$R$74)/2000","v":0},{"$f":"SUMPRODUCT('Emission Calculations'!CH$10:CH$74,'Emission Calculations'!$R$10:$R$74)/2000","v":0},{"$f":"SUMPRODUCT('Emission Calculations'!CI$10:CI$74,'Emission Calculations'!$R$10:$R$74)/2000","v":0},{"$f":"SUMPRODUCT('Emission Calculations'!CJ$10:CJ$74,'Emission Calculations'!$R$10:$R$74)/2000","v":0},{"$f":"SUMPRODUCT('Emission Calculations'!CK$10:CK$74,'Emission Calculations'!$R$10:$R$74)/2000","v":0},{"$f":"SUMPRODUCT('Emission Calculations'!CL$10:CL$74,'Emission Calculations'!$R$10:$R$74)/2000","v":0}]
[{"$f":"'Emission Calculations'!A276","v":"HAP Name"},{"$f":"SUMPRODUCT('Emission Calculations'!AE$10:AE$74,'Emission Calculations'!$S$10:$S$74)/2000","v":0},{"$f":"SUMPRODUCT('Emission Calculations'!AF$10:AF$74,'Emission Calculations'!$S$10:$S$74)/2000","v":0},{"$f":"SUMPRODUCT('Emission Calculations'!AG$10:AG$74,'Emission Calculations'!$S$10:$S$74)/2000","v":0},{"$f":"SUMPRODUCT('Emission Calculations'!AH$10:AH$74,'Emission Calculations'!$S$10:$S$74)/2000","v":0},{"$f":"SUMPRODUCT('Emission Calculations'!AI$10:AI$74,'Emission Calculations'!$S$10:$S$74)/2000","v":0},{"$f":"SUMPRODUCT('Emission Calculations'!AJ$10:AJ$74,'Emission Calculations'!$S$10:$S$74)/2000","v":0},{"$f":"SUMPRODUCT('Emission Calculations'!AK$10:AK$74,'Emission Calculations'!$S$10:$S$74)/2000","v":0},{"$f":"SUMPRODUCT('Emission Calculations'!AL$10:AL$74,'Emission Calculations'!$S$10:$S$74)/2000","v":0},{"$f":"SUMPRODUCT('Emission Calculations'!AM$10:AM$74,'Emission Calculations'!$S$10:$S$74)/2000","v":0},{"$f":"SUMPRODUCT('Emission Calculations'!AN$10:AN$74,'Emission Calculations'!$S$10:$S$74)/2000","v":0},{"$f":"SUMPRODUCT('Emission Calculations'!AO$10:AO$74,'Emission Calculations'!$S$10:$S$74)/2000","v":0},{"$f":"SUMPRODUCT('Emission Calculations'!AP$10:AP$74,'Emission Calculations'!$S$10:$S$74)/2000","v":0},{"$f":"SUMPRODUCT('Emission Calculations'!AQ$10:AQ$74,'Emission Calculations'!$S$10:$S$74)/2000","v":0},{"$f":"SUMPRODUCT('Emission Calculations'!AR$10:AR$74,'Emission Calculations'!$S$10:$S$74)/2000","v":0},{"$f":"SUMPRODUCT('Emission Calculations'!AS$10:AS$74,'Emission Calculations'!$S$10:$S$74)/2000","v":0},{"$f":"SUMPRODUCT('Emission Calculations'!AT$10:AT$74,'Emission Calculations'!$S$10:$S$74)/2000","v":0},{"$f":"SUMPRODUCT('Emission Calculations'!AU$10:AU$74,'Emission Calculations'!$S$10:$S$74)/2000","v":0},{"$f":"SUMPRODUCT('Emission Calculations'!AV$10:AV$74,'Emission Calculations'!$S$10:$S$74)/2000","v":0},{"$f":"SUMPRODUCT('Emission Calculations'!AW$10:AW$74,'Emission Calculations'!$S$10:$S$74)/2000","v":0},{"$f":"SUMPRODUCT('Emission Calculations'!AX$10:AX$74,'Emission Calculations'!$S$10:$S$74)/2000","v":0},{"$f":"SUMPRODUCT('Emission Calculations'!AY$10:AY$74,'Emission Calculations'!$S$10:$S$74)/2000","v":0},{"$f":"SUMPRODUCT('Emission Calculations'!AZ$10:AZ$74,'Emission Calculations'!$S$10:$S$74)/2000","v":0},{"$f":"SUMPRODUCT('Emission Calculations'!BA$10:BA$74,'Emission Calculations'!$S$10:$S$74)/2000","v":0},{"$f":"SUMPRODUCT('Emission Calculations'!BB$10:BB$74,'Emission Calculations'!$S$10:$S$74)/2000","v":0},{"$f":"SUMPRODUCT('Emission Calculations'!BC$10:BC$74,'Emission Calculations'!$S$10:$S$74)/2000","v":0},{"$f":"SUMPRODUCT('Emission Calculations'!BD$10:BD$74,'Emission Calculations'!$S$10:$S$74)/2000","v":0},{"$f":"SUMPRODUCT('Emission Calculations'!BE$10:BE$74,'Emission Calculations'!$S$10:$S$74)/2000","v":0},{"$f":"SUMPRODUCT('Emission Calculations'!BF$10:BF$74,'Emission Calculations'!$S$10:$S$74)/2000","v":0},{"$f":"SUMPRODUCT('Emission Calculations'!BG$10:BG$74,'Emission Calculations'!$S$10:$S$74)/2000","v":0},{"$f":"SUMPRODUCT('Emission Calculations'!BH$10:BH$74,'Emission Calculations'!$S$10:$S$74)/2000","v":0},{"$f":"SUMPRODUCT('Emission Calculations'!BI$10:BI$74,'Emission Calculations'!$S$10:$S$74)/2000","v":0},{"$f":"SUMPRODUCT('Emission Calculations'!BJ$10:BJ$74,'Emission Calculations'!$S$10:$S$74)/2000","v":0},{"$f":"SUMPRODUCT('Emission Calculations'!BK$10:BK$74,'Emission Calculations'!$S$10:$S$74)/2000","v":0},{"$f":"SUMPRODUCT('Emission Calculations'!BL$10:BL$74,'Emission Calculations'!$S$10:$S$74)/2000","v":0},{"$f":"SUMPRODUCT('Emission Calculations'!BM$10:BM$74,'Emission Calculations'!$S$10:$S$74)/2000","v":0},{"$f":"SUMPRODUCT('Emission Calculations'!BN$10:BN$74,'Emission Calculations'!$S$10:$S$74)/2000","v":0},{"$f":"SUMPRODUCT('Emission Calculations'!BO$10:BO$74,'Emission Calculations'!$S$10:$S$74)/2000","v":0},{"$f":"SUMPRODUCT('Emission Calculations'!BP$10:BP$74,'Emission Calculations'!$S$10:$S$74)/2000","v":0},{"$f":"SUMPRODUCT('Emission Calculations'!BQ$10:BQ$74,'Emission Calculations'!$S$10:$S$74)/2000","v":0},{"$f":"SUMPRODUCT('Emission Calculations'!BR$10:BR$74,'Emission Calculations'!$S$10:$S$74)/2000","v":0},{"$f":"SUMPRODUCT('Emission Calculations'!BS$10:BS$74,'Emission Calculations'!$S$10:$S$74)/2000","v":0},{"$f":"SUMPRODUCT('Emission Calculations'!BT$10:BT$74,'Emission Calculations'!$S$10:$S$74)/2000","v":0},{"$f":"SUMPRODUCT('Emission Calculations'!BU$10:BU$74,'Emission Calculations'!$S$10:$S$74)/2000","v":0},{"$f":"SUMPRODUCT('Emission Calculations'!BV$10:BV$74,'Emission Calculations'!$S$10:$S$74)/2000","v":0},{"$f":"SUMPRODUCT('Emission Calculations'!BW$10:BW$74,'Emission Calculations'!$S$10:$S$74)/2000","v":0},{"$f":"SUMPRODUCT('Emission Calculations'!BX$10:BX$74,'Emission Calculations'!$S$10:$S$74)/2000","v":0},{"$f":"SUMPRODUCT('Emission Calculations'!BY$10:BY$74,'Emission Calculations'!$S$10:$S$74)/2000","v":0},{"$f":"SUMPRODUCT('Emission Calculations'!BZ$10:BZ$74,'Emission Calculations'!$S$10:$S$74)/2000","v":0},{"$f":"SUMPRODUCT('Emission Calculations'!CA$10:CA$74,'Emission Calculations'!$S$10:$S$74)/2000","v":0},{"$f":"SUMPRODUCT('Emission Calculations'!CB$10:CB$74,'Emission Calculations'!$S$10:$S$74)/2000","v":0},{"$f":"SUMPRODUCT('Emission Calculations'!CC$10:CC$74,'Emission Calculations'!$S$10:$S$74)/2000","v":0},{"$f":"SUMPRODUCT('Emission Calculations'!CD$10:CD$74,'Emission Calculations'!$S$10:$S$74)/2000","v":0},{"$f":"SUMPRODUCT('Emission Calculations'!CE$10:CE$74,'Emission Calculations'!$S$10:$S$74)/2000","v":0},{"$f":"SUMPRODUCT('Emission Calculations'!CF$10:CF$74,'Emission Calculations'!$S$10:$S$74)/2000","v":0},{"$f":"SUMPRODUCT('Emission Calculations'!CG$10:CG$74,'Emission Calculations'!$S$10:$S$74)/2000","v":0},{"$f":"SUMPRODUCT('Emission Calculations'!CH$10:CH$74,'Emission Calculations'!$S$10:$S$74)/2000","v":0},{"$f":"SUMPRODUCT('Emission Calculations'!CI$10:CI$74,'Emission Calculations'!$S$10:$S$74)/2000","v":0},{"$f":"SUMPRODUCT('Emission Calculations'!CJ$10:CJ$74,'Emission Calculations'!$S$10:$S$74)/2000","v":0},{"$f":"SUMPRODUCT('Emission Calculations'!CK$10:CK$74,'Emission Calculations'!$S$10:$S$74)/2000","v":0},{"$f":"SUMPRODUCT('Emission Calculations'!CL$10:CL$74,'Emission Calculations'!$S$10:$S$74)/2000","v":0}]
[{"$f":"'Emission Calculations'!A277","v":"HAP Name"},{"$f":"SUMPRODUCT('Emission Calculations'!AE$10:AE$74,'Emission Calculations'!$T$10:$T$74)/2000","v":0},{"$f":"SUMPRODUCT('Emission Calculations'!AF$10:AF$74,'Emission Calculations'!$T$10:$T$74)/2000","v":0},{"$f":"SUMPRODUCT('Emission Calculations'!AG$10:AG$74,'Emission Calculations'!$T$10:$T$74)/2000","v":0},{"$f":"SUMPRODUCT('Emission Calculations'!AH$10:AH$74,'Emission Calculations'!$T$10:$T$74)/2000","v":0},{"$f":"SUMPRODUCT('Emission Calculations'!AI$10:AI$74,'Emission Calculations'!$T$10:$T$74)/2000","v":0},{"$f":"SUMPRODUCT('Emission Calculations'!AJ$10:AJ$74,'Emission Calculations'!$T$10:$T$74)/2000","v":0},{"$f":"SUMPRODUCT('Emission Calculations'!AK$10:AK$74,'Emission Calculations'!$T$10:$T$74)/2000","v":0},{"$f":"SUMPRODUCT('Emission Calculations'!AL$10:AL$74,'Emission Calculations'!$T$10:$T$74)/2000","v":0},{"$f":"SUMPRODUCT('Emission Calculations'!AM$10:AM$74,'Emission Calculations'!$T$10:$T$74)/2000","v":0},{"$f":"SUMPRODUCT('Emission Calculations'!AN$10:AN$74,'Emission Calculations'!$T$10:$T$74)/2000","v":0},{"$f":"SUMPRODUCT('Emission Calculations'!AO$10:AO$74,'Emission Calculations'!$T$10:$T$74)/2000","v":0},{"$f":"SUMPRODUCT('Emission Calculations'!AP$10:AP$74,'Emission Calculations'!$T$10:$T$74)/2000","v":0},{"$f":"SUMPRODUCT('Emission Calculations'!AQ$10:AQ$74,'Emission Calculations'!$T$10:$T$74)/2000","v":0},{"$f":"SUMPRODUCT('Emission Calculations'!AR$10:AR$74,'Emission Calculations'!$T$10:$T$74)/2000","v":0},{"$f":"SUMPRODUCT('Emission Calculations'!AS$10:AS$74,'Emission Calculations'!$T$10:$T$74)/2000","v":0},{"$f":"SUMPRODUCT('Emission Calculations'!AT$10:AT$74,'Emission Calculations'!$T$10:$T$74)/2000","v":0},{"$f":"SUMPRODUCT('Emission Calculations'!AU$10:AU$74,'Emission Calculations'!$T$10:$T$74)/2000","v":0},{"$f":"SUMPRODUCT('Emission Calculations'!AV$10:AV$74,'Emission Calculations'!$T$10:$T$74)/2000","v":0},{"$f":"SUMPRODUCT('Emission Calculations'!AW$10:AW$74,'Emission Calculations'!$T$10:$T$74)/2000","v":0},{"$f":"SUMPRODUCT('Emission Calculations'!AX$10:AX$74,'Emission Calculations'!$T$10:$T$74)/2000","v":0},{"$f":"SUMPRODUCT('Emission Calculations'!AY$10:AY$74,'Emission Calculations'!$T$10:$T$74)/2000","v":0},{"$f":"SUMPRODUCT('Emission Calculations'!AZ$10:AZ$74,'Emission Calculations'!$T$10:$T$74)/2000","v":0},{"$f":"SUMPRODUCT('Emission Calculations'!BA$10:BA$74,'Emission Calculations'!$T$10:$T$74)/2000","v":0},{"$f":"SUMPRODUCT('Emission Calculations'!BB$10:BB$74,'Emission Calculations'!$T$10:$T$74)/2000","v":0},{"$f":"SUMPRODUCT('Emission Calculations'!BC$10:BC$74,'Emission Calculations'!$T$10:$T$74)/2000","v":0},{"$f":"SUMPRODUCT('Emission Calculations'!BD$10:BD$74,'Emission Calculations'!$T$10:$T$74)/2000","v":0},{"$f":"SUMPRODUCT('Emission Calculations'!BE$10:BE$74,'Emission Calculations'!$T$10:$T$74)/2000","v":0},{"$f":"SUMPRODUCT('Emission Calculations'!BF$10:BF$74,'Emission Calculations'!$T$10:$T$74)/2000","v":0},{"$f":"SUMPRODUCT('Emission Calculations'!BG$10:BG$74,'Emission Calculations'!$T$10:$T$74)/2000","v":0},{"$f":"SUMPRODUCT('Emission Calculations'!BH$10:BH$74,'Emission Calculations'!$T$10:$T$74)/2000","v":0},{"$f":"SUMPRODUCT('Emission Calculations'!BI$10:BI$74,'Emission Calculations'!$T$10:$T$74)/2000","v":0},{"$f":"SUMPRODUCT('Emission Calculations'!BJ$10:BJ$74,'Emission Calculations'!$T$10:$T$74)/2000","v":0},{"$f":"SUMPRODUCT('Emission Calculations'!BK$10:BK$74,'Emission Calculations'!$T$10:$T$74)/2000","v":0},{"$f":"SUMPRODUCT('Emission Calculations'!BL$10:BL$74,'Emission Calculations'!$T$10:$T$74)/2000","v":0},{"$f":"SUMPRODUCT('Emission Calculations'!BM$10:BM$74,'Emission Calculations'!$T$10:$T$74)/2000","v":0},{"$f":"SUMPRODUCT('Emission Calculations'!BN$10:BN$74,'Emission Calculations'!$T$10:$T$74)/2000","v":0},{"$f":"SUMPRODUCT('Emission Calculations'!BO$10:BO$74,'Emission Calculations'!$T$10:$T$74)/2000","v":0},{"$f":"SUMPRODUCT('Emission Calculations'!BP$10:BP$74,'Emission Calculations'!$T$10:$T$74)/2000","v":0},{"$f":"SUMPRODUCT('Emission Calculations'!BQ$10:BQ$74,'Emission Calculations'!$T$10:$T$74)/2000","v":0},{"$f":"SUMPRODUCT('Emission Calculations'!BR$10:BR$74,'Emission Calculations'!$T$10:$T$74)/2000","v":0},{"$f":"SUMPRODUCT('Emission Calculations'!BS$10:BS$74,'Emission Calculations'!$T$10:$T$74)/2000","v":0},{"$f":"SUMPRODUCT('Emission Calculations'!BT$10:BT$74,'Emission Calculations'!$T$10:$T$74)/2000","v":0},{"$f":"SUMPRODUCT('Emission Calculations'!BU$10:BU$74,'Emission Calculations'!$T$10:$T$74)/2000","v":0},{"$f":"SUMPRODUCT('Emission Calculations'!BV$10:BV$74,'Emission Calculations'!$T$10:$T$74)/2000","v":0},{"$f":"SUMPRODUCT('Emission Calculations'!BW$10:BW$74,'Emission Calculations'!$T$10:$T$74)/2000","v":0},{"$f":"SUMPRODUCT('Emission Calculations'!BX$10:BX$74,'Emission Calculations'!$T$10:$T$74)/2000","v":0},{"$f":"SUMPRODUCT('Emission Calculations'!BY$10:BY$74,'Emission Calculations'!$T$10:$T$74)/2000","v":0},{"$f":"SUMPRODUCT('Emission Calculations'!BZ$10:BZ$74,'Emission Calculations'!$T$10:$T$74)/2000","v":0},{"$f":"SUMPRODUCT('Emission Calculations'!CA$10:CA$74,'Emission Calculations'!$T$10:$T$74)/2000","v":0},{"$f":"SUMPRODUCT('Emission Calculations'!CB$10:CB$74,'Emission Calculations'!$T$10:$T$74)/2000","v":0},{"$f":"SUMPRODUCT('Emission Calculations'!CC$10:CC$74,'Emission Calculations'!$T$10:$T$74)/2000","v":0},{"$f":"SUMPRODUCT('Emission Calculations'!CD$10:CD$74,'Emission Calculations'!$T$10:$T$74)/2000","v":0},{"$f":"SUMPRODUCT('Emission Calculations'!CE$10:CE$74,'Emission Calculations'!$T$10:$T$74)/2000","v":0},{"$f":"SUMPRODUCT('Emission Calculations'!CF$10:CF$74,'Emission Calculations'!$T$10:$T$74)/2000","v":0},{"$f":"SUMPRODUCT('Emission Calculations'!CG$10:CG$74,'Emission Calculations'!$T$10:$T$74)/2000","v":0},{"$f":"SUMPRODUCT('Emission Calculations'!CH$10:CH$74,'Emission Calculations'!$T$10:$T$74)/2000","v":0},{"$f":"SUMPRODUCT('Emission Calculations'!CI$10:CI$74,'Emission Calculations'!$T$10:$T$74)/2000","v":0},{"$f":"SUMPRODUCT('Emission Calculations'!CJ$10:CJ$74,'Emission Calculations'!$T$10:$T$74)/2000","v":0},{"$f":"SUMPRODUCT('Emission Calculations'!CK$10:CK$74,'Emission Calculations'!$T$10:$T$74)/2000","v":0},{"$f":"SUMPRODUCT('Emission Calculations'!CL$10:CL$74,'Emission Calculations'!$T$10:$T$74)/2000","v":0}]
[{"$f":"'Emission Calculations'!A278","v":"HAP Name"},{"$f":"SUMPRODUCT('Emission Calculations'!AE$10:AE$74,'Emission Calculations'!$U$10:$U$74)/2000","v":0},{"$f":"SUMPRODUCT('Emission Calculations'!AF$10:AF$74,'Emission Calculations'!$U$10:$U$74)/2000","v":0},{"$f":"SUMPRODUCT('Emission Calculations'!AG$10:AG$74,'Emission Calculations'!$U$10:$U$74)/2000","v":0},{"$f":"SUMPRODUCT('Emission Calculations'!AH$10:AH$74,'Emission Calculations'!$U$10:$U$74)/2000","v":0},{"$f":"SUMPRODUCT('Emission Calculations'!AI$10:AI$74,'Emission Calculations'!$U$10:$U$74)/2000","v":0},{"$f":"SUMPRODUCT('Emission Calculations'!AJ$10:AJ$74,'Emission Calculations'!$U$10:$U$74)/2000","v":0},{"$f":"SUMPRODUCT('Emission Calculations'!AK$10:AK$74,'Emission Calculations'!$U$10:$U$74)/2000","v":0},{"$f":"SUMPRODUCT('Emission Calculations'!AL$10:AL$74,'Emission Calculations'!$U$10:$U$74)/2000","v":0},{"$f":"SUMPRODUCT('Emission Calculations'!AM$10:AM$74,'Emission Calculations'!$U$10:$U$74)/2000","v":0},{"$f":"SUMPRODUCT('Emission Calculations'!AN$10:AN$74,'Emission Calculations'!$U$10:$U$74)/2000","v":0},{"$f":"SUMPRODUCT('Emission Calculations'!AO$10:AO$74,'Emission Calculations'!$U$10:$U$74)/2000","v":0},{"$f":"SUMPRODUCT('Emission Calculations'!AP$10:AP$74,'Emission Calculations'!$U$10:$U$74)/2000","v":0},{"$f":"SUMPRODUCT('Emission Calculations'!AQ$10:AQ$74,'Emission Calculations'!$U$10:$U$74)/2000","v":0},{"$f":"SUMPRODUCT('Emission Calculations'!AR$10:AR$74,'Emission Calculations'!$U$10:$U$74)/2000","v":0},{"$f":"SUMPRODUCT('Emission Calculations'!AS$10:AS$74,'Emission Calculations'!$U$10:$U$74)/2000","v":0},{"$f":"SUMPRODUCT('Emission Calculations'!AT$10:AT$74,'Emission Calculations'!$U$10:$U$74)/2000","v":0},{"$f":"SUMPRODUCT('Emission Calculations'!AU$10:AU$74,'Emission Calculations'!$U$10:$U$74)/2000","v":0},{"$f":"SUMPRODUCT('Emission Calculations'!AV$10:AV$74,'Emission Calculations'!$U$10:$U$74)/2000","v":0},{"$f":"SUMPRODUCT('Emission Calculations'!AW$10:AW$74,'Emission Calculations'!$U$10:$U$74)/2000","v":0},{"$f":"SUMPRODUCT('Emission Calculations'!AX$10:AX$74,'Emission Calculations'!$U$10:$U$74)/2000","v":0},{"$f":"SUMPRODUCT('Emission Calculations'!AY$10:AY$74,'Emission Calculations'!$U$10:$U$74)/2000","v":0},{"$f":"SUMPRODUCT('Emission Calculations'!AZ$10:AZ$74,'Emission Calculations'!$U$10:$U$74)/2000","v":0},{"$f":"SUMPRODUCT('Emission Calculations'!BA$10:BA$74,'Emission Calculations'!$U$10:$U$74)/2000","v":0},{"$f":"SUMPRODUCT('Emission Calculations'!BB$10:BB$74,'Emission Calculations'!$U$10:$U$74)/2000","v":0},{"$f":"SUMPRODUCT('Emission Calculations'!BC$10:BC$74,'Emission Calculations'!$U$10:$U$74)/2000","v":0},{"$f":"SUMPRODUCT('Emission Calculations'!BD$10:BD$74,'Emission Calculations'!$U$10:$U$74)/2000","v":0},{"$f":"SUMPRODUCT('Emission Calculations'!BE$10:BE$74,'Emission Calculations'!$U$10:$U$74)/2000","v":0},{"$f":"SUMPRODUCT('Emission Calculations'!BF$10:BF$74,'Emission Calculations'!$U$10:$U$74)/2000","v":0},{"$f":"SUMPRODUCT('Emission Calculations'!BG$10:BG$74,'Emission Calculations'!$U$10:$U$74)/2000","v":0},{"$f":"SUMPRODUCT('Emission Calculations'!BH$10:BH$74,'Emission Calculations'!$U$10:$U$74)/2000","v":0},{"$f":"SUMPRODUCT('Emission Calculations'!BI$10:BI$74,'Emission Calculations'!$U$10:$U$74)/2000","v":0},{"$f":"SUMPRODUCT('Emission Calculations'!BJ$10:BJ$74,'Emission Calculations'!$U$10:$U$74)/2000","v":0},{"$f":"SUMPRODUCT('Emission Calculations'!BK$10:BK$74,'Emission Calculations'!$U$10:$U$74)/2000","v":0},{"$f":"SUMPRODUCT('Emission Calculations'!BL$10:BL$74,'Emission Calculations'!$U$10:$U$74)/2000","v":0},{"$f":"SUMPRODUCT('Emission Calculations'!BM$10:BM$74,'Emission Calculations'!$U$10:$U$74)/2000","v":0},{"$f":"SUMPRODUCT('Emission Calculations'!BN$10:BN$74,'Emission Calculations'!$U$10:$U$74)/2000","v":0},{"$f":"SUMPRODUCT('Emission Calculations'!BO$10:BO$74,'Emission Calculations'!$U$10:$U$74)/2000","v":0},{"$f":"SUMPRODUCT('Emission Calculations'!BP$10:BP$74,'Emission Calculations'!$U$10:$U$74)/2000","v":0},{"$f":"SUMPRODUCT('Emission Calculations'!BQ$10:BQ$74,'Emission Calculations'!$U$10:$U$74)/2000","v":0},{"$f":"SUMPRODUCT('Emission Calculations'!BR$10:BR$74,'Emission Calculations'!$U$10:$U$74)/2000","v":0},{"$f":"SUMPRODUCT('Emission Calculations'!BS$10:BS$74,'Emission Calculations'!$U$10:$U$74)/2000","v":0},{"$f":"SUMPRODUCT('Emission Calculations'!BT$10:BT$74,'Emission Calculations'!$U$10:$U$74)/2000","v":0},{"$f":"SUMPRODUCT('Emission Calculations'!BU$10:BU$74,'Emission Calculations'!$U$10:$U$74)/2000","v":0},{"$f":"SUMPRODUCT('Emission Calculations'!BV$10:BV$74,'Emission Calculations'!$U$10:$U$74)/2000","v":0},{"$f":"SUMPRODUCT('Emission Calculations'!BW$10:BW$74,'Emission Calculations'!$U$10:$U$74)/2000","v":0},{"$f":"SUMPRODUCT('Emission Calculations'!BX$10:BX$74,'Emission Calculations'!$U$10:$U$74)/2000","v":0},{"$f":"SUMPRODUCT('Emission Calculations'!BY$10:BY$74,'Emission Calculations'!$U$10:$U$74)/2000","v":0},{"$f":"SUMPRODUCT('Emission Calculations'!BZ$10:BZ$74,'Emission Calculations'!$U$10:$U$74)/2000","v":0},{"$f":"SUMPRODUCT('Emission Calculations'!CA$10:CA$74,'Emission Calculations'!$U$10:$U$74)/2000","v":0},{"$f":"SUMPRODUCT('Emission Calculations'!CB$10:CB$74,'Emission Calculations'!$U$10:$U$74)/2000","v":0},{"$f":"SUMPRODUCT('Emission Calculations'!CC$10:CC$74,'Emission Calculations'!$U$10:$U$74)/2000","v":0},{"$f":"SUMPRODUCT('Emission Calculations'!CD$10:CD$74,'Emission Calculations'!$U$10:$U$74)/2000","v":0},{"$f":"SUMPRODUCT('Emission Calculations'!CE$10:CE$74,'Emission Calculations'!$U$10:$U$74)/2000","v":0},{"$f":"SUMPRODUCT('Emission Calculations'!CF$10:CF$74,'Emission Calculations'!$U$10:$U$74)/2000","v":0},{"$f":"SUMPRODUCT('Emission Calculations'!CG$10:CG$74,'Emission Calculations'!$U$10:$U$74)/2000","v":0},{"$f":"SUMPRODUCT('Emission Calculations'!CH$10:CH$74,'Emission Calculations'!$U$10:$U$74)/2000","v":0},{"$f":"SUMPRODUCT('Emission Calculations'!CI$10:CI$74,'Emission Calculations'!$U$10:$U$74)/2000","v":0},{"$f":"SUMPRODUCT('Emission Calculations'!CJ$10:CJ$74,'Emission Calculations'!$U$10:$U$74)/2000","v":0},{"$f":"SUMPRODUCT('Emission Calculations'!CK$10:CK$74,'Emission Calculations'!$U$10:$U$74)/2000","v":0},{"$f":"SUMPRODUCT('Emission Calculations'!CL$10:CL$74,'Emission Calculations'!$U$10:$U$74)/2000","v":0}]
[{"$f":"'Emission Calculations'!A279","v":"HAP Name"},{"$f":"SUMPRODUCT('Emission Calculations'!AE$10:AE$74,'Emission Calculations'!$V$10:$V$74)/2000","v":0},{"$f":"SUMPRODUCT('Emission Calculations'!AF$10:AF$74,'Emission Calculations'!$V$10:$V$74)/2000","v":0},{"$f":"SUMPRODUCT('Emission Calculations'!AG$10:AG$74,'Emission Calculations'!$V$10:$V$74)/2000","v":0},{"$f":"SUMPRODUCT('Emission Calculations'!AH$10:AH$74,'Emission Calculations'!$V$10:$V$74)/2000","v":0},{"$f":"SUMPRODUCT('Emission Calculations'!AI$10:AI$74,'Emission Calculations'!$V$10:$V$74)/2000","v":0},{"$f":"SUMPRODUCT('Emission Calculations'!AJ$10:AJ$74,'Emission Calculations'!$V$10:$V$74)/2000","v":0},{"$f":"SUMPRODUCT('Emission Calculations'!AK$10:AK$74,'Emission Calculations'!$V$10:$V$74)/2000","v":0},{"$f":"SUMPRODUCT('Emission Calculations'!AL$10:AL$74,'Emission Calculations'!$V$10:$V$74)/2000","v":0},{"$f":"SUMPRODUCT('Emission Calculations'!AM$10:AM$74,'Emission Calculations'!$V$10:$V$74)/2000","v":0},{"$f":"SUMPRODUCT('Emission Calculations'!AN$10:AN$74,'Emission Calculations'!$V$10:$V$74)/2000","v":0},{"$f":"SUMPRODUCT('Emission Calculations'!AO$10:AO$74,'Emission Calculations'!$V$10:$V$74)/2000","v":0},{"$f":"SUMPRODUCT('Emission Calculations'!AP$10:AP$74,'Emission Calculations'!$V$10:$V$74)/2000","v":0},{"$f":"SUMPRODUCT('Emission Calculations'!AQ$10:AQ$74,'Emission Calculations'!$V$10:$V$74)/2000","v":0},{"$f":"SUMPRODUCT('Emission Calculations'!AR$10:AR$74,'Emission Calculations'!$V$10:$V$74)/2000","v":0},{"$f":"SUMPRODUCT('Emission Calculations'!AS$10:AS$74,'Emission Calculations'!$V$10:$V$74)/2000","v":0},{"$f":"SUMPRODUCT('Emission Calculations'!AT$10:AT$74,'Emission Calculations'!$V$10:$V$74)/2000","v":0},{"$f":"SUMPRODUCT('Emission Calculations'!AU$10:AU$74,'Emission Calculations'!$V$10:$V$74)/2000","v":0},{"$f":"SUMPRODUCT('Emission Calculations'!AV$10:AV$74,'Emission Calculations'!$V$10:$V$74)/2000","v":0},{"$f":"SUMPRODUCT('Emission Calculations'!AW$10:AW$74,'Emission Calculations'!$V$10:$V$74)/2000","v":0},{"$f":"SUMPRODUCT('Emission Calculations'!AX$10:AX$74,'Emission Calculations'!$V$10:$V$74)/2000","v":0},{"$f":"SUMPRODUCT('Emission Calculations'!AY$10:AY$74,'Emission Calculations'!$V$10:$V$74)/2000","v":0},{"$f":"SUMPRODUCT('Emission Calculations'!AZ$10:AZ$74,'Emission Calculations'!$V$10:$V$74)/2000","v":0},{"$f":"SUMPRODUCT('Emission Calculations'!BA$10:BA$74,'Emission Calculations'!$V$10:$V$74)/2000","v":0},{"$f":"SUMPRODUCT('Emission Calculations'!BB$10:BB$74,'Emission Calculations'!$V$10:$V$74)/2000","v":0},{"$f":"SUMPRODUCT('Emission Calculations'!BC$10:BC$74,'Emission Calculations'!$V$10:$V$74)/2000","v":0},{"$f":"SUMPRODUCT('Emission Calculations'!BD$10:BD$74,'Emission Calculations'!$V$10:$V$74)/2000","v":0},{"$f":"SUMPRODUCT('Emission Calculations'!BE$10:BE$74,'Emission Calculations'!$V$10:$V$74)/2000","v":0},{"$f":"SUMPRODUCT('Emission Calculations'!BF$10:BF$74,'Emission Calculations'!$V$10:$V$74)/2000","v":0},{"$f":"SUMPRODUCT('Emission Calculations'!BG$10:BG$74,'Emission Calculations'!$V$10:$V$74)/2000","v":0},{"$f":"SUMPRODUCT('Emission Calculations'!BH$10:BH$74,'Emission Calculations'!$V$10:$V$74)/2000","v":0},{"$f":"SUMPRODUCT('Emission Calculations'!BI$10:BI$74,'Emission Calculations'!$V$10:$V$74)/2000","v":0},{"$f":"SUMPRODUCT('Emission Calculations'!BJ$10:BJ$74,'Emission Calculations'!$V$10:$V$74)/2000","v":0},{"$f":"SUMPRODUCT('Emission Calculations'!BK$10:BK$74,'Emission Calculations'!$V$10:$V$74)/2000","v":0},{"$f":"SUMPRODUCT('Emission Calculations'!BL$10:BL$74,'Emission Calculations'!$V$10:$V$74)/2000","v":0},{"$f":"SUMPRODUCT('Emission Calculations'!BM$10:BM$74,'Emission Calculations'!$V$10:$V$74)/2000","v":0},{"$f":"SUMPRODUCT('Emission Calculations'!BN$10:BN$74,'Emission Calculations'!$V$10:$V$74)/2000","v":0},{"$f":"SUMPRODUCT('Emission Calculations'!BO$10:BO$74,'Emission Calculations'!$V$10:$V$74)/2000","v":0},{"$f":"SUMPRODUCT('Emission Calculations'!BP$10:BP$74,'Emission Calculations'!$V$10:$V$74)/2000","v":0},{"$f":"SUMPRODUCT('Emission Calculations'!BQ$10:BQ$74,'Emission Calculations'!$V$10:$V$74)/2000","v":0},{"$f":"SUMPRODUCT('Emission Calculations'!BR$10:BR$74,'Emission Calculations'!$V$10:$V$74)/2000","v":0},{"$f":"SUMPRODUCT('Emission Calculations'!BS$10:BS$74,'Emission Calculations'!$V$10:$V$74)/2000","v":0},{"$f":"SUMPRODUCT('Emission Calculations'!BT$10:BT$74,'Emission Calculations'!$V$10:$V$74)/2000","v":0},{"$f":"SUMPRODUCT('Emission Calculations'!BU$10:BU$74,'Emission Calculations'!$V$10:$V$74)/2000","v":0},{"$f":"SUMPRODUCT('Emission Calculations'!BV$10:BV$74,'Emission Calculations'!$V$10:$V$74)/2000","v":0},{"$f":"SUMPRODUCT('Emission Calculations'!BW$10:BW$74,'Emission Calculations'!$V$10:$V$74)/2000","v":0},{"$f":"SUMPRODUCT('Emission Calculations'!BX$10:BX$74,'Emission Calculations'!$V$10:$V$74)/2000","v":0},{"$f":"SUMPRODUCT('Emission Calculations'!BY$10:BY$74,'Emission Calculations'!$V$10:$V$74)/2000","v":0},{"$f":"SUMPRODUCT('Emission Calculations'!BZ$10:BZ$74,'Emission Calculations'!$V$10:$V$74)/2000","v":0},{"$f":"SUMPRODUCT('Emission Calculations'!CA$10:CA$74,'Emission Calculations'!$V$10:$V$74)/2000","v":0},{"$f":"SUMPRODUCT('Emission Calculations'!CB$10:CB$74,'Emission Calculations'!$V$10:$V$74)/2000","v":0},{"$f":"SUMPRODUCT('Emission Calculations'!CC$10:CC$74,'Emission Calculations'!$V$10:$V$74)/2000","v":0},{"$f":"SUMPRODUCT('Emission Calculations'!CD$10:CD$74,'Emission Calculations'!$V$10:$V$74)/2000","v":0},{"$f":"SUMPRODUCT('Emission Calculations'!CE$10:CE$74,'Emission Calculations'!$V$10:$V$74)/2000","v":0},{"$f":"SUMPRODUCT('Emission Calculations'!CF$10:CF$74,'Emission Calculations'!$V$10:$V$74)/2000","v":0},{"$f":"SUMPRODUCT('Emission Calculations'!CG$10:CG$74,'Emission Calculations'!$V$10:$V$74)/2000","v":0},{"$f":"SUMPRODUCT('Emission Calculations'!CH$10:CH$74,'Emission Calculations'!$V$10:$V$74)/2000","v":0},{"$f":"SUMPRODUCT('Emission Calculations'!CI$10:CI$74,'Emission Calculations'!$V$10:$V$74)/2000","v":0},{"$f":"SUMPRODUCT('Emission Calculations'!CJ$10:CJ$74,'Emission Calculations'!$V$10:$V$74)/2000","v":0},{"$f":"SUMPRODUCT('Emission Calculations'!CK$10:CK$74,'Emission Calculations'!$V$10:$V$74)/2000","v":0},{"$f":"SUMPRODUCT('Emission Calculations'!CL$10:CL$74,'Emission Calculations'!$V$10:$V$74)/2000","v":0}]
[{"$f":"'Emission Calculations'!A280","v":"HAP Name"},{"$f":"SUMPRODUCT('Emission Calculations'!AE$10:AE$74,'Emission Calculations'!$W$10:$W$74)/2000","v":0},{"$f":"SUMPRODUCT('Emission Calculations'!AF$10:AF$74,'Emission Calculations'!$W$10:$W$74)/2000","v":0},{"$f":"SUMPRODUCT('Emission Calculations'!AG$10:AG$74,'Emission Calculations'!$W$10:$W$74)/2000","v":0},{"$f":"SUMPRODUCT('Emission Calculations'!AH$10:AH$74,'Emission Calculations'!$W$10:$W$74)/2000","v":0},{"$f":"SUMPRODUCT('Emission Calculations'!AI$10:AI$74,'Emission Calculations'!$W$10:$W$74)/2000","v":0},{"$f":"SUMPRODUCT('Emission Calculations'!AJ$10:AJ$74,'Emission Calculations'!$W$10:$W$74)/2000","v":0},{"$f":"SUMPRODUCT('Emission Calculations'!AK$10:AK$74,'Emission Calculations'!$W$10:$W$74)/2000","v":0},{"$f":"SUMPRODUCT('Emission Calculations'!AL$10:AL$74,'Emission Calculations'!$W$10:$W$74)/2000","v":0},{"$f":"SUMPRODUCT('Emission Calculations'!AM$10:AM$74,'Emission Calculations'!$W$10:$W$74)/2000","v":0},{"$f":"SUMPRODUCT('Emission Calculations'!AN$10:AN$74,'Emission Calculations'!$W$10:$W$74)/2000","v":0},{"$f":"SUMPRODUCT('Emission Calculations'!AO$10:AO$74,'Emission Calculations'!$W$10:$W$74)/2000","v":0},{"$f":"SUMPRODUCT('Emission Calculations'!AP$10:AP$74,'Emission Calculations'!$W$10:$W$74)/2000","v":0},{"$f":"SUMPRODUCT('Emission Calculations'!AQ$10:AQ$74,'Emission Calculations'!$W$10:$W$74)/2000","v":0},{"$f":"SUMPRODUCT('Emission Calculations'!AR$10:AR$74,'Emission Calculations'!$W$10:$W$74)/2000","v":0},{"$f":"SUMPRODUCT('Emission Calculations'!AS$10:AS$74,'Emission Calculations'!$W$10:$W$74)/2000","v":0},{"$f":"SUMPRODUCT('Emission Calculations'!AT$10:AT$74,'Emission Calculations'!$W$10:$W$74)/2000","v":0},{"$f":"SUMPRODUCT('Emission Calculations'!AU$10:AU$74,'Emission Calculations'!$W$10:$W$74)/2000","v":0},{"$f":"SUMPRODUCT('Emission Calculations'!AV$10:AV$74,'Emission Calculations'!$W$10:$W$74)/2000","v":0},{"$f":"SUMPRODUCT('Emission Calculations'!AW$10:AW$74,'Emission Calculations'!$W$10:$W$74)/2000","v":0},{"$f":"SUMPRODUCT('Emission Calculations'!AX$10:AX$74,'Emission Calculations'!$W$10:$W$74)/2000","v":0},{"$f":"SUMPRODUCT('Emission Calculations'!AY$10:AY$74,'Emission Calculations'!$W$10:$W$74)/2000","v":0},{"$f":"SUMPRODUCT('Emission Calculations'!AZ$10:AZ$74,'Emission Calculations'!$W$10:$W$74)/2000","v":0},{"$f":"SUMPRODUCT('Emission Calculations'!BA$10:BA$74,'Emission Calculations'!$W$10:$W$74)/2000","v":0},{"$f":"SUMPRODUCT('Emission Calculations'!BB$10:BB$74,'Emission Calculations'!$W$10:$W$74)/2000","v":0},{"$f":"SUMPRODUCT('Emission Calculations'!BC$10:BC$74,'Emission Calculations'!$W$10:$W$74)/2000","v":0},{"$f":"SUMPRODUCT('Emission Calculations'!BD$10:BD$74,'Emission Calculations'!$W$10:$W$74)/2000","v":0},{"$f":"SUMPRODUCT('Emission Calculations'!BE$10:BE$74,'Emission Calculations'!$W$10:$W$74)/2000","v":0},{"$f":"SUMPRODUCT('Emission Calculations'!BF$10:BF$74,'Emission Calculations'!$W$10:$W$74)/2000","v":0},{"$f":"SUMPRODUCT('Emission Calculations'!BG$10:BG$74,'Emission Calculations'!$W$10:$W$74)/2000","v":0},{"$f":"SUMPRODUCT('Emission Calculations'!BH$10:BH$74,'Emission Calculations'!$W$10:$W$74)/2000","v":0},{"$f":"SUMPRODUCT('Emission Calculations'!BI$10:BI$74,'Emission Calculations'!$W$10:$W$74)/2000","v":0},{"$f":"SUMPRODUCT('Emission Calculations'!BJ$10:BJ$74,'Emission Calculations'!$W$10:$W$74)/2000","v":0},{"$f":"SUMPRODUCT('Emission Calculations'!BK$10:BK$74,'Emission Calculations'!$W$10:$W$74)/2000","v":0},{"$f":"SUMPRODUCT('Emission Calculations'!BL$10:BL$74,'Emission Calculations'!$W$10:$W$74)/2000","v":0},{"$f":"SUMPRODUCT('Emission Calculations'!BM$10:BM$74,'Emission Calculations'!$W$10:$W$74)/2000","v":0},{"$f":"SUMPRODUCT('Emission Calculations'!BN$10:BN$74,'Emission Calculations'!$W$10:$W$74)/2000","v":0},{"$f":"SUMPRODUCT('Emission Calculations'!BO$10:BO$74,'Emission Calculations'!$W$10:$W$74)/2000","v":0},{"$f":"SUMPRODUCT('Emission Calculations'!BP$10:BP$74,'Emission Calculations'!$W$10:$W$74)/2000","v":0},{"$f":"SUMPRODUCT('Emission Calculations'!BQ$10:BQ$74,'Emission Calculations'!$W$10:$W$74)/2000","v":0},{"$f":"SUMPRODUCT('Emission Calculations'!BR$10:BR$74,'Emission Calculations'!$W$10:$W$74)/2000","v":0},{"$f":"SUMPRODUCT('Emission Calculations'!BS$10:BS$74,'Emission Calculations'!$W$10:$W$74)/2000","v":0},{"$f":"SUMPRODUCT('Emission Calculations'!BT$10:BT$74,'Emission Calculations'!$W$10:$W$74)/2000","v":0},{"$f":"SUMPRODUCT('Emission Calculations'!BU$10:BU$74,'Emission Calculations'!$W$10:$W$74)/2000","v":0},{"$f":"SUMPRODUCT('Emission Calculations'!BV$10:BV$74,'Emission Calculations'!$W$10:$W$74)/2000","v":0},{"$f":"SUMPRODUCT('Emission Calculations'!BW$10:BW$74,'Emission Calculations'!$W$10:$W$74)/2000","v":0},{"$f":"SUMPRODUCT('Emission Calculations'!BX$10:BX$74,'Emission Calculations'!$W$10:$W$74)/2000","v":0},{"$f":"SUMPRODUCT('Emission Calculations'!BY$10:BY$74,'Emission Calculations'!$W$10:$W$74)/2000","v":0},{"$f":"SUMPRODUCT('Emission Calculations'!BZ$10:BZ$74,'Emission Calculations'!$W$10:$W$74)/2000","v":0},{"$f":"SUMPRODUCT('Emission Calculations'!CA$10:CA$74,'Emission Calculations'!$W$10:$W$74)/2000","v":0},{"$f":"SUMPRODUCT('Emission Calculations'!CB$10:CB$74,'Emission Calculations'!$W$10:$W$74)/2000","v":0},{"$f":"SUMPRODUCT('Emission Calculations'!CC$10:CC$74,'Emission Calculations'!$W$10:$W$74)/2000","v":0},{"$f":"SUMPRODUCT('Emission Calculations'!CD$10:CD$74,'Emission Calculations'!$W$10:$W$74)/2000","v":0},{"$f":"SUMPRODUCT('Emission Calculations'!CE$10:CE$74,'Emission Calculations'!$W$10:$W$74)/2000","v":0},{"$f":"SUMPRODUCT('Emission Calculations'!CF$10:CF$74,'Emission Calculations'!$W$10:$W$74)/2000","v":0},{"$f":"SUMPRODUCT('Emission Calculations'!CG$10:CG$74,'Emission Calculations'!$W$10:$W$74)/2000","v":0},{"$f":"SUMPRODUCT('Emission Calculations'!CH$10:CH$74,'Emission Calculations'!$W$10:$W$74)/2000","v":0},{"$f":"SUMPRODUCT('Emission Calculations'!CI$10:CI$74,'Emission Calculations'!$W$10:$W$74)/2000","v":0},{"$f":"SUMPRODUCT('Emission Calculations'!CJ$10:CJ$74,'Emission Calculations'!$W$10:$W$74)/2000","v":0},{"$f":"SUMPRODUCT('Emission Calculations'!CK$10:CK$74,'Emission Calculations'!$W$10:$W$74)/2000","v":0},{"$f":"SUMPRODUCT('Emission Calculations'!CL$10:CL$74,'Emission Calculations'!$W$10:$W$74)/2000","v":0}]
[{"$f":"'Emission Calculations'!A281","v":"HAP Name"},{"$f":"SUMPRODUCT('Emission Calculations'!AE$10:AE$74,'Emission Calculations'!$X$10:$X$74)/2000","v":0},{"$f":"SUMPRODUCT('Emission Calculations'!AF$10:AF$74,'Emission Calculations'!$X$10:$X$74)/2000","v":0},{"$f":"SUMPRODUCT('Emission Calculations'!AG$10:AG$74,'Emission Calculations'!$X$10:$X$74)/2000","v":0},{"$f":"SUMPRODUCT('Emission Calculations'!AH$10:AH$74,'Emission Calculations'!$X$10:$X$74)/2000","v":0},{"$f":"SUMPRODUCT('Emission Calculations'!AI$10:AI$74,'Emission Calculations'!$X$10:$X$74)/2000","v":0},{"$f":"SUMPRODUCT('Emission Calculations'!AJ$10:AJ$74,'Emission Calculations'!$X$10:$X$74)/2000","v":0},{"$f":"SUMPRODUCT('Emission Calculations'!AK$10:AK$74,'Emission Calculations'!$X$10:$X$74)/2000","v":0},{"$f":"SUMPRODUCT('Emission Calculations'!AL$10:AL$74,'Emission Calculations'!$X$10:$X$74)/2000","v":0},{"$f":"SUMPRODUCT('Emission Calculations'!AM$10:AM$74,'Emission Calculations'!$X$10:$X$74)/2000","v":0},{"$f":"SUMPRODUCT('Emission Calculations'!AN$10:AN$74,'Emission Calculations'!$X$10:$X$74)/2000","v":0},{"$f":"SUMPRODUCT('Emission Calculations'!AO$10:AO$74,'Emission Calculations'!$X$10:$X$74)/2000","v":0},{"$f":"SUMPRODUCT('Emission Calculations'!AP$10:AP$74,'Emission Calculations'!$X$10:$X$74)/2000","v":0},{"$f":"SUMPRODUCT('Emission Calculations'!AQ$10:AQ$74,'Emission Calculations'!$X$10:$X$74)/2000","v":0},{"$f":"SUMPRODUCT('Emission Calculations'!AR$10:AR$74,'Emission Calculations'!$X$10:$X$74)/2000","v":0},{"$f":"SUMPRODUCT('Emission Calculations'!AS$10:AS$74,'Emission Calculations'!$X$10:$X$74)/2000","v":0},{"$f":"SUMPRODUCT('Emission Calculations'!AT$10:AT$74,'Emission Calculations'!$X$10:$X$74)/2000","v":0},{"$f":"SUMPRODUCT('Emission Calculations'!AU$10:AU$74,'Emission Calculations'!$X$10:$X$74)/2000","v":0},{"$f":"SUMPRODUCT('Emission Calculations'!AV$10:AV$74,'Emission Calculations'!$X$10:$X$74)/2000","v":0},{"$f":"SUMPRODUCT('Emission Calculations'!AW$10:AW$74,'Emission Calculations'!$X$10:$X$74)/2000","v":0},{"$f":"SUMPRODUCT('Emission Calculations'!AX$10:AX$74,'Emission Calculations'!$X$10:$X$74)/2000","v":0},{"$f":"SUMPRODUCT('Emission Calculations'!AY$10:AY$74,'Emission Calculations'!$X$10:$X$74)/2000","v":0},{"$f":"SUMPRODUCT('Emission Calculations'!AZ$10:AZ$74,'Emission Calculations'!$X$10:$X$74)/2000","v":0},{"$f":"SUMPRODUCT('Emission Calculations'!BA$10:BA$74,'Emission Calculations'!$X$10:$X$74)/2000","v":0},{"$f":"SUMPRODUCT('Emission Calculations'!BB$10:BB$74,'Emission Calculations'!$X$10:$X$74)/2000","v":0},{"$f":"SUMPRODUCT('Emission Calculations'!BC$10:BC$74,'Emission Calculations'!$X$10:$X$74)/2000","v":0},{"$f":"SUMPRODUCT('Emission Calculations'!BD$10:BD$74,'Emission Calculations'!$X$10:$X$74)/2000","v":0},{"$f":"SUMPRODUCT('Emission Calculations'!BE$10:BE$74,'Emission Calculations'!$X$10:$X$74)/2000","v":0},{"$f":"SUMPRODUCT('Emission Calculations'!BF$10:BF$74,'Emission Calculations'!$X$10:$X$74)/2000","v":0},{"$f":"SUMPRODUCT('Emission Calculations'!BG$10:BG$74,'Emission Calculations'!$X$10:$X$74)/2000","v":0},{"$f":"SUMPRODUCT('Emission Calculations'!BH$10:BH$74,'Emission Calculations'!$X$10:$X$74)/2000","v":0},{"$f":"SUMPRODUCT('Emission Calculations'!BI$10:BI$74,'Emission Calculations'!$X$10:$X$74)/2000","v":0},{"$f":"SUMPRODUCT('Emission Calculations'!BJ$10:BJ$74,'Emission Calculations'!$X$10:$X$74)/2000","v":0},{"$f":"SUMPRODUCT('Emission Calculations'!BK$10:BK$74,'Emission Calculations'!$X$10:$X$74)/2000","v":0},{"$f":"SUMPRODUCT('Emission Calculations'!BL$10:BL$74,'Emission Calculations'!$X$10:$X$74)/2000","v":0},{"$f":"SUMPRODUCT('Emission Calculations'!BM$10:BM$74,'Emission Calculations'!$X$10:$X$74)/2000","v":0},{"$f":"SUMPRODUCT('Emission Calculations'!BN$10:BN$74,'Emission Calculations'!$X$10:$X$74)/2000","v":0},{"$f":"SUMPRODUCT('Emission Calculations'!BO$10:BO$74,'Emission Calculations'!$X$10:$X$74)/2000","v":0},{"$f":"SUMPRODUCT('Emission Calculations'!BP$10:BP$74,'Emission Calculations'!$X$10:$X$74)/2000","v":0},{"$f":"SUMPRODUCT('Emission Calculations'!BQ$10:BQ$74,'Emission Calculations'!$X$10:$X$74)/2000","v":0},{"$f":"SUMPRODUCT('Emission Calculations'!BR$10:BR$74,'Emission Calculations'!$X$10:$X$74)/2000","v":0},{"$f":"SUMPRODUCT('Emission Calculations'!BS$10:BS$74,'Emission Calculations'!$X$10:$X$74)/2000","v":0},{"$f":"SUMPRODUCT('Emission Calculations'!BT$10:BT$74,'Emission Calculations'!$X$10:$X$74)/2000","v":0},{"$f":"SUMPRODUCT('Emission Calculations'!BU$10:BU$74,'Emission Calculations'!$X$10:$X$74)/2000","v":0},{"$f":"SUMPRODUCT('Emission Calculations'!BV$10:BV$74,'Emission Calculations'!$X$10:$X$74)/2000","v":0},{"$f":"SUMPRODUCT('Emission Calculations'!BW$10:BW$74,'Emission Calculations'!$X$10:$X$74)/2000","v":0},{"$f":"SUMPRODUCT('Emission Calculations'!BX$10:BX$74,'Emission Calculations'!$X$10:$X$74)/2000","v":0},{"$f":"SUMPRODUCT('Emission Calculations'!BY$10:BY$74,'Emission Calculations'!$X$10:$X$74)/2000","v":0},{"$f":"SUMPRODUCT('Emission Calculations'!BZ$10:BZ$74,'Emission Calculations'!$X$10:$X$74)/2000","v":0},{"$f":"SUMPRODUCT('Emission Calculations'!CA$10:CA$74,'Emission Calculations'!$X$10:$X$74)/2000","v":0},{"$f":"SUMPRODUCT('Emission Calculations'!CB$10:CB$74,'Emission Calculations'!$X$10:$X$74)/2000","v":0},{"$f":"SUMPRODUCT('Emission Calculations'!CC$10:CC$74,'Emission Calculations'!$X$10:$X$74)/2000","v":0},{"$f":"SUMPRODUCT('Emission Calculations'!CD$10:CD$74,'Emission Calculations'!$X$10:$X$74)/2000","v":0},{"$f":"SUMPRODUCT('Emission Calculations'!CE$10:CE$74,'Emission Calculations'!$X$10:$X$74)/2000","v":0},{"$f":"SUMPRODUCT('Emission Calculations'!CF$10:CF$74,'Emission Calculations'!$X$10:$X$74)/2000","v":0},{"$f":"SUMPRODUCT('Emission Calculations'!CG$10:CG$74,'Emission Calculations'!$X$10:$X$74)/2000","v":0},{"$f":"SUMPRODUCT('Emission Calculations'!CH$10:CH$74,'Emission Calculations'!$X$10:$X$74)/2000","v":0},{"$f":"SUMPRODUCT('Emission Calculations'!CI$10:CI$74,'Emission Calculations'!$X$10:$X$74)/2000","v":0},{"$f":"SUMPRODUCT('Emission Calculations'!CJ$10:CJ$74,'Emission Calculations'!$X$10:$X$74)/2000","v":0},{"$f":"SUMPRODUCT('Emission Calculations'!CK$10:CK$74,'Emission Calculations'!$X$10:$X$74)/2000","v":0},{"$f":"SUMPRODUCT('Emission Calculations'!CL$10:CL$74,'Emission Calculations'!$X$10:$X$74)/2000","v":0}]
[{"$f":"'Emission Calculations'!A282","v":"HAP Name"},{"$f":"SUMPRODUCT('Emission Calculations'!AE$10:AE$74,'Emission Calculations'!$Y$10:$Y$74)/2000","v":0},{"$f":"SUMPRODUCT('Emission Calculations'!AF$10:AF$74,'Emission Calculations'!$Y$10:$Y$74)/2000","v":0},{"$f":"SUMPRODUCT('Emission Calculations'!AG$10:AG$74,'Emission Calculations'!$Y$10:$Y$74)/2000","v":0},{"$f":"SUMPRODUCT('Emission Calculations'!AH$10:AH$74,'Emission Calculations'!$Y$10:$Y$74)/2000","v":0},{"$f":"SUMPRODUCT('Emission Calculations'!AI$10:AI$74,'Emission Calculations'!$Y$10:$Y$74)/2000","v":0},{"$f":"SUMPRODUCT('Emission Calculations'!AJ$10:AJ$74,'Emission Calculations'!$Y$10:$Y$74)/2000","v":0},{"$f":"SUMPRODUCT('Emission Calculations'!AK$10:AK$74,'Emission Calculations'!$Y$10:$Y$74)/2000","v":0},{"$f":"SUMPRODUCT('Emission Calculations'!AL$10:AL$74,'Emission Calculations'!$Y$10:$Y$74)/2000","v":0},{"$f":"SUMPRODUCT('Emission Calculations'!AM$10:AM$74,'Emission Calculations'!$Y$10:$Y$74)/2000","v":0},{"$f":"SUMPRODUCT('Emission Calculations'!AN$10:AN$74,'Emission Calculations'!$Y$10:$Y$74)/2000","v":0},{"$f":"SUMPRODUCT('Emission Calculations'!AO$10:AO$74,'Emission Calculations'!$Y$10:$Y$74)/2000","v":0},{"$f":"SUMPRODUCT('Emission Calculations'!AP$10:AP$74,'Emission Calculations'!$Y$10:$Y$74)/2000","v":0},{"$f":"SUMPRODUCT('Emission Calculations'!AQ$10:AQ$74,'Emission Calculations'!$Y$10:$Y$74)/2000","v":0},{"$f":"SUMPRODUCT('Emission Calculations'!AR$10:AR$74,'Emission Calculations'!$Y$10:$Y$74)/2000","v":0},{"$f":"SUMPRODUCT('Emission Calculations'!AS$10:AS$74,'Emission Calculations'!$Y$10:$Y$74)/2000","v":0},{"$f":"SUMPRODUCT('Emission Calculations'!AT$10:AT$74,'Emission Calculations'!$Y$10:$Y$74)/2000","v":0},{"$f":"SUMPRODUCT('Emission Calculations'!AU$10:AU$74,'Emission Calculations'!$Y$10:$Y$74)/2000","v":0},{"$f":"SUMPRODUCT('Emission Calculations'!AV$10:AV$74,'Emission Calculations'!$Y$10:$Y$74)/2000","v":0},{"$f":"SUMPRODUCT('Emission Calculations'!AW$10:AW$74,'Emission Calculations'!$Y$10:$Y$74)/2000","v":0},{"$f":"SUMPRODUCT('Emission Calculations'!AX$10:AX$74,'Emission Calculations'!$Y$10:$Y$74)/2000","v":0},{"$f":"SUMPRODUCT('Emission Calculations'!AY$10:AY$74,'Emission Calculations'!$Y$10:$Y$74)/2000","v":0},{"$f":"SUMPRODUCT('Emission Calculations'!AZ$10:AZ$74,'Emission Calculations'!$Y$10:$Y$74)/2000","v":0},{"$f":"SUMPRODUCT('Emission Calculations'!BA$10:BA$74,'Emission Calculations'!$Y$10:$Y$74)/2000","v":0},{"$f":"SUMPRODUCT('Emission Calculations'!BB$10:BB$74,'Emission Calculations'!$Y$10:$Y$74)/2000","v":0},{"$f":"SUMPRODUCT('Emission Calculations'!BC$10:BC$74,'Emission Calculations'!$Y$10:$Y$74)/2000","v":0},{"$f":"SUMPRODUCT('Emission Calculations'!BD$10:BD$74,'Emission Calculations'!$Y$10:$Y$74)/2000","v":0},{"$f":"SUMPRODUCT('Emission Calculations'!BE$10:BE$74,'Emission Calculations'!$Y$10:$Y$74)/2000","v":0},{"$f":"SUMPRODUCT('Emission Calculations'!BF$10:BF$74,'Emission Calculations'!$Y$10:$Y$74)/2000","v":0},{"$f":"SUMPRODUCT('Emission Calculations'!BG$10:BG$74,'Emission Calculations'!$Y$10:$Y$74)/2000","v":0},{"$f":"SUMPRODUCT('Emission Calculations'!BH$10:BH$74,'Emission Calculations'!$Y$10:$Y$74)/2000","v":0},{"$f":"SUMPRODUCT('Emission Calculations'!BI$10:BI$74,'Emission Calculations'!$Y$10:$Y$74)/2000","v":0},{"$f":"SUMPRODUCT('Emission Calculations'!BJ$10:BJ$74,'Emission Calculations'!$Y$10:$Y$74)/2000","v":0},{"$f":"SUMPRODUCT('Emission Calculations'!BK$10:BK$74,'Emission Calculations'!$Y$10:$Y$74)/2000","v":0},{"$f":"SUMPRODUCT('Emission Calculations'!BL$10:BL$74,'Emission Calculations'!$Y$10:$Y$74)/2000","v":0},{"$f":"SUMPRODUCT('Emission Calculations'!BM$10:BM$74,'Emission Calculations'!$Y$10:$Y$74)/2000","v":0},{"$f":"SUMPRODUCT('Emission Calculations'!BN$10:BN$74,'Emission Calculations'!$Y$10:$Y$74)/2000","v":0},{"$f":"SUMPRODUCT('Emission Calculations'!BO$10:BO$74,'Emission Calculations'!$Y$10:$Y$74)/2000","v":0},{"$f":"SUMPRODUCT('Emission Calculations'!BP$10:BP$74,'Emission Calculations'!$Y$10:$Y$74)/2000","v":0},{"$f":"SUMPRODUCT('Emission Calculations'!BQ$10:BQ$74,'Emission Calculations'!$Y$10:$Y$74)/2000","v":0},{"$f":"SUMPRODUCT('Emission Calculations'!BR$10:BR$74,'Emission Calculations'!$Y$10:$Y$74)/2000","v":0},{"$f":"SUMPRODUCT('Emission Calculations'!BS$10:BS$74,'Emission Calculations'!$Y$10:$Y$74)/2000","v":0},{"$f":"SUMPRODUCT('Emission Calculations'!BT$10:BT$74,'Emission Calculations'!$Y$10:$Y$74)/2000","v":0},{"$f":"SUMPRODUCT('Emission Calculations'!BU$10:BU$74,'Emission Calculations'!$Y$10:$Y$74)/2000","v":0},{"$f":"SUMPRODUCT('Emission Calculations'!BV$10:BV$74,'Emission Calculations'!$Y$10:$Y$74)/2000","v":0},{"$f":"SUMPRODUCT('Emission Calculations'!BW$10:BW$74,'Emission Calculations'!$Y$10:$Y$74)/2000","v":0},{"$f":"SUMPRODUCT('Emission Calculations'!BX$10:BX$74,'Emission Calculations'!$Y$10:$Y$74)/2000","v":0},{"$f":"SUMPRODUCT('Emission Calculations'!BY$10:BY$74,'Emission Calculations'!$Y$10:$Y$74)/2000","v":0},{"$f":"SUMPRODUCT('Emission Calculations'!BZ$10:BZ$74,'Emission Calculations'!$Y$10:$Y$74)/2000","v":0},{"$f":"SUMPRODUCT('Emission Calculations'!CA$10:CA$74,'Emission Calculations'!$Y$10:$Y$74)/2000","v":0},{"$f":"SUMPRODUCT('Emission Calculations'!CB$10:CB$74,'Emission Calculations'!$Y$10:$Y$74)/2000","v":0},{"$f":"SUMPRODUCT('Emission Calculations'!CC$10:CC$74,'Emission Calculations'!$Y$10:$Y$74)/2000","v":0},{"$f":"SUMPRODUCT('Emission Calculations'!CD$10:CD$74,'Emission Calculations'!$Y$10:$Y$74)/2000","v":0},{"$f":"SUMPRODUCT('Emission Calculations'!CE$10:CE$74,'Emission Calculations'!$Y$10:$Y$74)/2000","v":0},{"$f":"SUMPRODUCT('Emission Calculations'!CF$10:CF$74,'Emission Calculations'!$Y$10:$Y$74)/2000","v":0},{"$f":"SUMPRODUCT('Emission Calculations'!CG$10:CG$74,'Emission Calculations'!$Y$10:$Y$74)/2000","v":0},{"$f":"SUMPRODUCT('Emission Calculations'!CH$10:CH$74,'Emission Calculations'!$Y$10:$Y$74)/2000","v":0},{"$f":"SUMPRODUCT('Emission Calculations'!CI$10:CI$74,'Emission Calculations'!$Y$10:$Y$74)/2000","v":0},{"$f":"SUMPRODUCT('Emission Calculations'!CJ$10:CJ$74,'Emission Calculations'!$Y$10:$Y$74)/2000","v":0},{"$f":"SUMPRODUCT('Emission Calculations'!CK$10:CK$74,'Emission Calculations'!$Y$10:$Y$74)/2000","v":0},{"$f":"SUMPRODUCT('Emission Calculations'!CL$10:CL$74,'Emission Calculations'!$Y$10:$Y$74)/2000","v":0}]
["HAP Total ",{"$f":"SUM(B179:B194)","v":0},0,0,0,0,0,0,0,0,0,0,0,0,0,0,0,0,0,0,0,0,0,0,0,0,0,0,0,0,0,0,0,{"$f":"SUM(AH179:AH194)","v":0},0,0,0,0,0,0,0,0,0,0,0,0,0,0,0,0,0,0,0,0,0,0,0,0,0,0,0]
["Total Gallons Used",{"$f":"'Emission Calculations'!#REF!","v":{"$error":"#REF!"}},{"$f":"'Emission Calculations'!#REF!","v":{"$error":"#REF!"}},{"$f":"'Emission Calculations'!#REF!","v":{"$error":"#REF!"}},{"$f":"'Emission Calculations'!#REF!","v":{"$error":"#REF!"}},{"$f":"'Emission Calculations'!#REF!","v":{"$error":"#REF!"}},{"$f":"'Emission Calculations'!#REF!","v":{"$error":"#REF!"}},{"$f":"'Emission Calculations'!#REF!","v":{"$error":"#REF!"}},{"$f":"'Emission Calculations'!#REF!","v":{"$error":"#REF!"}},{"$f":"'Emission Calculations'!#REF!","v":{"$error":"#REF!"}},{"$f":"'Emission Calculations'!#REF!","v":{"$error":"#REF!"}},{"$f":"'Emission Calculations'!#REF!","v":{"$error":"#REF!"}},{"$f":"'Emission Calculations'!#REF!","v":{"$error":"#REF!"}},{"$f":"'Emission Calculations'!#REF!","v":{"$error":"#REF!"}},{"$f":"'Emission Calculations'!#REF!","v":{"$error":"#REF!"}},{"$f":"'Emission Calculations'!#REF!","v":{"$error":"#REF!"}},{"$f":"'Emission Calculations'!#REF!","v":{"$error":"#REF!"}},{"$f":"'Emission Calculations'!#REF!","v":{"$error":"#REF!"}},{"$f":"'Emission Calculations'!#REF!","v":{"$error":"#REF!"}},{"$f":"'Emission Calculations'!#REF!","v":{"$error":"#REF!"}},{"$f":"'Emission Calculations'!#REF!","v":{"$error":"#REF!"}},{"$f":"'Emission Calculations'!#REF!","v":{"$error":"#REF!"}},{"$f":"'Emission Calculations'!#REF!","v":{"$error":"#REF!"}},{"$f":"'Emission Calculations'!#REF!","v":{"$error":"#REF!"}},{"$f":"'Emission Calculations'!#REF!","v":{"$error":"#REF!"}},{"$f":"'Emission Calculations'!#REF!","v":{"$error":"#REF!"}},{"$f":"'Emission Calculations'!#REF!","v":{"$error":"#REF!"}},{"$f":"'Emission Calculations'!#REF!","v":{"$error":"#REF!"}},{"$f":"'Emission Calculations'!#REF!","v":{"$error":"#REF!"}},{"$f":"'Emission Calculations'!#REF!","v":{"$error":"#REF!"}},{"$f":"'Emission Calculations'!#REF!","v":{"$error":"#REF!"}},{"$f":"'Emission Calculations'!#REF!","v":{"$error":"#REF!"}},{"$f":"'Emission Calculations'!#REF!","v":{"$error":"#REF!"}},{"$f":"'Emission Calculations'!#REF!","v":{"$error":"#REF!"}},{"$f":"'Emission Calculations'!#REF!","v":{"$error":"#REF!"}},{"$f":"'Emission Calculations'!#REF!","v":{"$error":"#REF!"}},{"$f":"'Emission Calculations'!#REF!","v":{"$error":"#REF!"}},{"$f":"'Emission Calculations'!#REF!","v":{"$error":"#REF!"}},{"$f":"'Emission Calculations'!#REF!","v":{"$error":"#REF!"}},{"$f":"'Emission Calculations'!#REF!","v":{"$error":"#REF!"}},{"$f":"'Emission Calculations'!#REF!","v":{"$error":"#REF!"}},{"$f":"'Emission Calculations'!#REF!","v":{"$error":"#REF!"}},{"$f":"'Emission Calculations'!#REF!","v":{"$error":"#REF!"}},{"$f":"'Emission Calculations'!#REF!","v":{"$error":"#REF!"}},{"$f":"'Emission Calculations'!#REF!","v":{"$error":"#REF!"}},{"$f":"'Emission Calculations'!#REF!","v":{"$error":"#REF!"}},{"$f":"'Emission Calculations'!#REF!","v":{"$error":"#REF!"}},{"$f":"'Emission Calculations'!#REF!","v":{"$error":"#REF!"}},{"$f":"'Emission Calculations'!#REF!","v":{"$error":"#REF!"}},{"$f":"'Emission Calculations'!#REF!","v":{"$error":"#REF!"}},{"$f":"'Emission Calculations'!#REF!","v":{"$error":"#REF!"}},{"$f":"'Emission Calculations'!#REF!","v":{"$error":"#REF!"}},{"$f":"'Emission Calculations'!#REF!","v":{"$error":"#REF!"}},{"$f":"'Emission Calculations'!#REF!","v":{"$error":"#REF!"}},{"$f":"'Emission Calculations'!#REF!","v":{"$error":"#REF!"}},{"$f":"'Emission Calculations'!#REF!","v":{"$error":"#REF!"}},{"$f":"'Emission Calculations'!#REF!","v":{"$error":"#REF!"}},{"$f":"'Emission Calculations'!#REF!","v":{"$error":"#REF!"}},{"$f":"'Emission Calculations'!#REF!","v":{"$error":"#REF!"}},{"$f":"'Emission Calculations'!#REF!","v":{"$error":"#REF!"}},{"$f":"'Emission Calculations'!#REF!","v":{"$error":"#REF!"}}]
[]
[]
["Monthly Actual Rolling Totals","(current 12-month total is highlighted in green)"]
[null,{"$f":"B174","v":"Jan"},"Feb","Mar","Apr","May","Jun","Jul","Aug","Sep","Oct","Nov","Dec","Jan","Feb","Mar","Apr","May","Jun","Jul","Aug","Sep","Oct","Nov","Dec","Jan","Feb","Mar","Apr","May","Jun","Jul","Aug",{"$f":"AH174","v":"Sep"},"Oct","Nov","Dec","Jan","Feb","Mar","Apr","May","Jun","Jul","Aug","Sep","Oct","Nov","Dec","Jan","Feb","Mar","Apr","May","Jun","Jul","Aug","Sep","Oct","Nov","Dec"]
[null,{"$f":"B175","v":2019},2019,2019,2019,2019,2019,2019,2019,2019,2019,2019,2019,2020,2020,2020,2020,2020,2020,2020,2020,2020,2020,2020,2020,2021,2021,2021,2021,2021,2021,2021,2021,{"$f":"AH175","v":2021},2021,2021,2021,2022,2022,2022,2022,2022,2022,2022,2022,2022,2022,2022,2022,2023,2023,2023,2023,2023,2023,2023,2023,2023,2023,2023,2023]
[null,"(tons)","(tons)","(tons)","(tons)","(tons)","(tons)","(tons)","(tons)","(tons)","(tons)","(tons)","(tons)","(tons)","(tons)","(tons)","(tons)","(tons)","(tons)","(tons)","(tons)","(tons)","(tons)","(tons)","(tons)","(tons)","(tons)","(tons)","(tons)","(tons)","(tons)","(tons)","(tons)","(tons)","(tons)","(tons)","(tons)","(tons)","(tons)","(tons)","(tons)","(tons)","(tons)","(tons)","(tons)","(tons)","(tons)","(tons)","(tons)","(tons)","(tons)","(tons)","(tons)","(tons)","(tons)","(tons)","(tons)","(tons)","(tons)","(tons)","(tons)"]
[null,"1 month","2 months","3 months","4 months","5 months","6 months","7 months","8 months","9 months","10 months","11 months","12 months","Feb-Jan","Mar-Feb","Apr-Mar","May-Apr","Jun-May","July-Jun","Aug-July","Sept-Aug","Oct-Sept","Nov-Oct","Dec-Nov","Jan-Dec","Feb-Jan","Mar-Feb","Apr-Mar","May-Apr","Jun-May","July-Jun","Aug-July","Sept-Aug","Oct-Sept","Nov-Oct","Dec-Nov","Jan-Dec","Feb-Jan","Mar-Feb","Apr-Mar","May-Apr","Jun-May","July-Jun","Aug-July","Sept-Aug","Oct-Sept","Nov-Oct","Dec-Nov","Jan-Dec","Jan-Dec","Jan-Dec","Jan-Dec","Jan-Dec","Jan-Dec","Jan-Dec","Jan-Dec","Jan-Dec","Jan-Dec","Jan-Dec","Jan-Dec","Jan-Dec"]
[{"$f":"A177","v":"PM/PM10\ntransfer efficiency is not applied here"},0,{"$f":"SUM(B177:C177)","v":0},{"$f":"SUM(B177:D177)","v":0},{"$f":"SUM(B177:E177)","v":0},{"$f":"SUM(B177:F177)","v":0},{"$f":"SUM(B177:G177)","v":0},{"$f":"SUM(B177:H177)","v":0},{"$f":"SUM(B177:I177)","v":0},{"$f":"SUM(B177:J177)","v":0},{"$f":"SUM(B177:K177)","v":0},{"$f":"SUM(B177:L177)","v":0},{"$f":"SUM(B177:M177)","v":0},0,0,0,0,0,0,0,0,0,{"$f":"SUM(L177:W177)","v":0},0,0,0,0,0,0,0,0,0,{"$f":"SUM(V177:AG177)","v":0},0,0,0,0,0,0,0,0,0,{"$f":"SUM(AF177:AQ177)","v":0},0,0,0,0,0,0,0,0,0,{"$f":"SUM(AP177:BA177)","v":0},0,0,0,0,0,0,0,0]
["VOC",0,0,0,0,0,0,0,0,0,0,0,0,0,0,0,0,0,0,0,0,0,0,0,0,0,0,0,0,0,0,0,0,0,0,0,0,0,0,0,0,0,0,0,0,0,0,0,0,0,0,0,0,0,0,0,0,0,0,0,0]
["HAP Name",0,0,0,0,0,0,0,0,0,0,0,0,0,0,0,0,0,0,0,0,0,0,0,0,0,0,0,0,0,0,0,0,0,0,0,0,0,0,0,0,0,0,0,0,0,0,0,0,0,0,0,0,0,0,0,0,0,0,0,0]
["HAP Name",0,0,0,0,0,0,0,0,0,0,0,0,0,0,0,0,0,0,0,0,0,0,0,0,0,0,0,0,0,0,0,0,0,0,0,0,0,0,0,0,0,0,0,0,0,0,0,0,0,0,0,0,0,0,0,0,0,0,0,0]
["HAP Name",0,0,0,0,0,0,0,0,0,0,0,0,0,0,0,0,0,0,0,0,0,0,0,0,0,0,0,0,0,0,0,0,0,0,0,0,0,0,0,0,0,0,0,0,0,0,0,0,0,0,0,0,0,0,0,0,0,0,0,0]
["HAP Name",0,0,0,0,0,0,0,0,0,0,0,{"$f":"SUM(B182:M182)","v":0},{"$f":"SUM(C182:N182)","v":0},{"$f":"SUM(D182:O182)","v":0},{"$f":"SUM(E182:P182)","v":0},{"$f":"SUM(F182:Q182)","v":0},{"$f":"SUM(G182:R182)","v":0},{"$f":"SUM(H182:S182)","v":0},{"$f":"SUM(I182:T182)","v":0},{"$f":"SUM(J182:U182)","v":0},{"$f":"SUM(K182:V182)","v":0},{"$f":"SUM(L182:W182)","v":0},0,0,0,0,0,0,0,0,0,0,0,0,0,0,0,0,0,0,0,0,0,0,0,0,0,0,0,0,0,0,0,0,0,0,0,0,0,0]
["HAP Name",0,0,0,0,0,0,0,0,0,0,0,0,0,0,0,0,0,0,0,0,0,0,0,0,0,0,0,0,0,0,0,0,0,0,0,0,0,0,0,0,0,0,0,0,0,0,0,0,0,0,0,0,0,0,0,0,0,0,0,0]
["HAP Name",0,0,0,0,0,0,0,0,0,0,0,0,0,0,0,0,0,0,0,0,0,0,0,0,0,0,0,0,0,0,0,0,0,0,0,0,0,0,0,0,0,0,0,0,0,0,0,0,0,0,0,0,0,0,0,0,0,0,0,0]
["HAP Name",0,0,0,0,0,0,0,0,0,0,0,0,0,0,0,0,0,0,0,0,0,0,0,0,0,0,0,0,0,0,0,0,0,0,0,0,0,0,0,0,0,0,0,0,0,0,0,0,0,0,0,0,0,0,0,0,0,0,0,0]
["HAP Name",0,0,0,0,0,0,0,0,0,0,0,0,0,0,0,0,0,0,0,0,0,0,0,0,0,0,0,0,0,0,0,0,0,0,0,0,0,0,0,0,0,0,0,0,0,0,0,0,0,0,0,0,0,0,0,0,0,0,0,0]
["HAP Name",0,0,0,0,0,0,0,0,0,0,0,0,0,0,0,0,0,0,0,0,0,0,0,0,0,0,0,0,0,0,0,0,0,0,0,0,0,0,0,0,0,0,0,0,0,0,0,0,0,0,0,0,0,0,0,0,0,0,0,0]
["HAP Name",0,0,0,0,0,0,0,0,0,0,0,0,0,0,0,0,0,0,0,0,0,0,0,0,0,0,0,0,0,0,0,0,0,0,0,0,0,0,0,0,0,0,{"$f":"SUM(AG188:AR188)","v":0},0,0,0,0,0,0,0,0,0,0,0,0,0,0,0,0,0]
["HAP Name",0,0,0,0,0,0,0,0,0,0,0,0,0,0,0,0,0,0,0,0,0,{"$f":"SUM(L189:W189)","v":0},0,0,0,0,0,{"$f":"SUM(R189:AC189)","v":0},0,0,0,0,0,0,0,0,0,0,0,0,0,0,0,0,0,0,0,0,0,0,0,0,0,0,0,0,0,0,0,0]
["HAP Name",0,0,0,0,0,0,0,0,0,0,0,0,0,0,0,0,0,0,0,0,0,0,0,0,0,0,0,0,0,0,0,0,0,0,0,0,0,0,0,0,0,0,0,0,0,0,0,0,0,0,0,0,0,0,0,0,0,0,0,0]
["HAP Name",0,0,0,0,0,0,0,0,0,0,0,0,0,0,0,0,0,0,0,0,0,0,0,0,0,0,0,0,0,0,0,0,0,0,0,0,0,0,0,0,0,0,0,0,0,0,0,0,0,0,0,0,0,0,0,0,0,0,0,0]
["HAP Name",0,0,0,0,0,0,0,0,0,0,0,0,0,0,0,0,0,0,0,0,0,0,0,0,0,0,0,0,0,0,0,0,0,0,0,0,0,0,0,0,0,0,0,0,0,0,0,0,0,0,0,0,0,0,0,0,0,0,0,0]
["HAP Name",0,0,0,0,0,0,0,0,0,0,0,0,0,0,0,0,0,0,0,0,0,0,0,0,0,0,0,0,0,0,0,0,0,0,0,0,0,0,0,0,0,0,0,0,0,0,0,0,0,0,0,0,0,0,0,0,0,0,0,0]
["HAP Name",0,0,0,0,0,0,0,0,0,0,0,0,0,0,0,0,0,0,0,0,0,0,0,0,0,0,0,0,0,0,0,0,0,0,0,0,0,0,0,0,0,0,0,0,0,0,0,0,0,0,0,0,0,0,0,0,0,0,0,0]
["HAP Total",{"$f":"B195","v":0},0,0,0,0,0,0,0,0,0,0,0,0,0,0,0,0,0,0,0,0,0,0,0,0,0,0,0,0,0,0,0,0,0,0,0,0,0,0,0,0,0,0,0,0,0,0,0,0,0,0,0,0,0,0,0,0,0,0,0]
["Total Gallons Used",{"$f":"B196","v":{"$error":"#REF!"}},{"$error":"#REF!"},{"$error":"#REF!"},{"$error":"#REF!"},{"$error":"#REF!"},{"$error":"#REF!"},{"$error":"#REF!"},{"$error":"#REF!"},{"$error":"#REF!"},{"$error":"#REF!"},{"$error":"#REF!"},{"$error":"#REF!"},{"$error":"#REF!"},{"$error":"#REF!"},{"$error":"#REF!"},{"$error":"#REF!"},{"$error":"#REF!"},{"$error":"#REF!"},{"$error":"#REF!"},{"$error":"#REF!"},{"$error":"#REF!"},{"$error":"#REF!"},{"$error":"#REF!"},{"$error":"#REF!"},{"$error":"#REF!"},{"$error":"#REF!"},{"$error":"#REF!"},{"$error":"#REF!"},{"$error":"#REF!"},{"$error":"#REF!"},{"$error":"#REF!"},{"$error":"#REF!"},{"$error":"#REF!"},{"$error":"#REF!"},{"$error":"#REF!"},{"$error":"#REF!"},{"$error":"#REF!"},{"$error":"#REF!"},{"$error":"#REF!"},{"$error":"#REF!"},{"$error":"#REF!"},{"$error":"#REF!"},{"$error":"#REF!"},{"$error":"#REF!"},{"$error":"#REF!"},{"$error":"#REF!"},{"$error":"#REF!"},{"$error":"#REF!"},{"$error":"#REF!"},{"$error":"#REF!"},{"$error":"#REF!"},{"$error":"#REF!"},{"$error":"#REF!"},{"$error":"#REF!"},{"$error":"#REF!"},{"$error":"#REF!"},{"$error":"#REF!"},{"$error":"#REF!"},{"$error":"#REF!"},{"$error":"#REF!"}]

{"sheet":"Step 6 Monthly & rolling total","index":7,"n_rows":62,"n_cols":61,"rows_kept":62,"cut":false,"hidden":false,"merged":[[38,0,41,0],[4,10,4,12],[0,0,0,12],[4,1,4,3],[5,1,5,3],[9,0,11,0],[4,5,4,8],[5,6,6,10]]}
[{"$f":"Instructions!G2","v":"p-sbap5-22  • 5/7/2019"}]
["Step 6"]
["Monthly emissions & rolling totals"]
[]
[null,"Control equipment selected",null,null,null,"PM/PM10 Capture Efficiency"]
[null,{"$f":"'Step 5 Actual annual emissions'!B6:D6","v":"Type of Control Equipment"},null,null,null,{"$f":"'Step 5 Actual annual emissions'!G6","v":0},"Capture efficiency may only be used if the requirements in Minn. R. 7011.0060 to 7011.0080 are met."]
[]
[]
["Monthly actual emissions","(values are calculated automatically based on your data and equations in a hidden Emission Calculations tab)"]
[null,{"$f":"'Step 3 Product data'!AD17","v":"Jan"},{"$f":"'Step 3 Product data'!AE17","v":"Feb"},{"$f":"'Step 3 Product data'!AF17","v":"Mar"},{"$f":"'Step 3 Product data'!AG17","v":"Apr"},{"$f":"'Step 3 Product data'!AH17","v":"May"},{"$f":"'Step 3 Product data'!AI17","v":"Jun"},{"$f":"'Step 3 Product data'!AJ17","v":"Jul"},{"$f":"'Step 3 Product data'!AK17","v":"Aug"},{"$f":"'Step 3 Product data'!AL17","v":"Sep"},{"$f":"'Step 3 Product data'!AM17","v":"Oct"},{"$f":"'Step 3 Product data'!AN17","v":"Nov"},{"$f":"'Step 3 Product data'!AO17","v":"Dec"},{"$f":"'Step 3 Product data'!AP17","v":"Jan"},{"$f":"'Step 3 Product data'!AQ17","v":"Feb"},{"$f":"'Step 3 Product data'!AR17","v":"Mar"},{"$f":"'Step 3 Product data'!AS17","v":"Apr"},{"$f":"'Step 3 Product data'!AT17","v":"May"},{"$f":"'Step 3 Product data'!AU17","v":"Jun"},{"$f":"'Step 3 Product data'!AV17","v":"Jul"},{"$f":"'Step 3 Product data'!AW17","v":"Aug"},{"$f":"'Step 3 Product data'!AX17","v":"Sep"},{"$f":"'Step 3 Product data'!AY17","v":"Oct"},{"$f":"'Step 3 Product data'!AZ17","v":"Nov"},{"$f":"'Step 3 Product data'!BA17","v":"Dec"},{"$f":"'Step 3 Product data'!BB17","v":"Jan"},{"$f":"'Step 3 Product data'!BC17","v":"Feb"},{"$f":"'Step 3 Product data'!BD17","v":"Mar"},{"$f":"'Step 3 Product data'!BE17","v":"Apr"},{"$f":"'Step 3 Product data'!BF17","v":"May"},{"$f":"'Step 3 Product data'!BG17","v":"Jun"},{"$f":"'Step 3 Product data'!BH17","v":"Jul"},{"$f":"'Step 3 Product data'!BI17","v":"Aug"},{"$f":"'Step 3 Product data'!BJ17","v":"Sep"},{"$f":"'Step 3 Product data'!BK17","v":"Oct"},{"$f":"'Step 3 Product data'!BL17","v":"Nov"},{"$f":"'Step 3 Product data'!BM17","v":"Dec"},{"$f":"'Step 3 Product data'!BN17","v":"Jan"},{"$f":"'Step 3 Product data'!BO17","v":"Feb"},{"$f":"'Step 3 Product data'!BP17","v":"Mar"},{"$f":"'Step 3 Product data'!BQ17","v":"Apr"},{"$f":"'Step 3 Product data'!BR17","v":"May"},{"$f":"'Step 3 Product data'!BS17","v":"Jun"},{"$f":"'Step 3 Product data'!BT17","v":"Jul"},{"$f":"'Step 3 Product data'!BU17","v":"Aug"},{"$f":"'Step 3 Product data'!BV17","v":"Sep"},{"$f":"'Step 3 Product data'!BW17","v":"Oct"},{"$f":"'Step 3 Product data'!BX17","v":"Nov"},{"$f":"'Step 3 Product data'!BY17","v":"Dec"},{"$f":"'Step 3 Product data'!BZ17","v":"Jan"},{"$f":"'Step 3 Product data'!CA17","v":"Feb"},{"$f":"'Step 3 Product data'!CB17","v":"Mar"},{"$f":"'Step 3 Product data'!CC17","v":"Apr"},{"$f":"'Step 3 Product data'!CD17","v":"May"},{"$f":"'Step 3 Product data'!CE17","v":"Jun"},{"$f":"'Step 3 Product data'!CF17","v":"Jul"},{"$f":"'Step 3 Product data'!CG17","v":"Aug"},{"$f":"'Step 3 Product data'!CH17","v":"Sep"},{"$f":"'Step 3 Product data'!CI17","v":"Oct"},{"$f":"'Step 3 Product data'!CJ17","v":"Nov"},{"$f":"'Step 3 Product data'!CK17","v":"Dec"}]
[null,{"$f":"'Step 3 Product data'!AD18","v":2019},{"$f":"'Step 3 Product data'!AE18","v":2019},{"$f":"'Step 3 Product data'!AF18","v":2019},{"$f":"'Step 3 Product data'!AG18","v":2019},{"$f":"'Step 3 Product data'!AH18","v":2019},{"$f":"'Step 3 Product data'!AI18","v":2019},{"$f":"'Step 3 Product data'!AJ18","v":2019},{"$f":"'Step 3 Product data'!AK18","v":2019},{"$f":"'Step 3 Product data'!AL18","v":2019},{"$f":"'Step 3 Product data'!AM18","v":2019},{"$f":"'Step 3 Product data'!AN18","v":2019},{"$f":"'Step 3 Product data'!AO18","v":2019},{"$f":"'Step 3 Product data'!AP18","v":2020},{"$f":"'Step 3 Product data'!AQ18","v":2020},{"$f":"'Step 3 Product data'!AR18","v":2020},{"$f":"'Step 3 Product data'!AS18","v":2020},{"$f":"'Step 3 Product data'!AT18","v":2020},{"$f":"'Step 3 Product data'!AU18","v":2020},{"$f":"'Step 3 Product data'!AV18","v":2020},{"$f":"'Step 3 Product data'!AW18","v":2020},{"$f":"'Step 3 Product data'!AX18","v":2020},{"$f":"'Step 3 Product data'!AY18","v":2020},{"$f":"'Step 3 Product data'!AZ18","v":2020},{"$f":"'Step 3 Product data'!BA18","v":2020},{"$f":"'Step 3 Product data'!BB18","v":2021},{"$f":"'Step 3 Product data'!BC18","v":2021},{"$f":"'Step 3 Product data'!BD18","v":2021},{"$f":"'Step 3 Product data'!BE18","v":2021},{"$f":"'Step 3 Product data'!BF18","v":2021},{"$f":"'Step 3 Product data'!BG18","v":2021},{"$f":"'Step 3 Product data'!BH18","v":2021},{"$f":"'Step 3 Product data'!BI18","v":2021},{"$f":"'Step 3 Product data'!BJ18","v":2021},{"$f":"'Step 3 Product data'!BK18","v":2021},{"$f":"'Step 3 Product data'!BL18","v":2021},{"$f":"'Step 3 Product data'!BM18","v":2021},{"$f":"'Step 3 Product data'!BN18","v":2022},{"$f":"'Step 3 Product data'!BO18","v":2022},{"$f":"'Step 3 Product data'!BP18","v":2022},{"$f":"'Step 3 Product data'!BQ18","v":2022},{"$f":"'Step 3 Product data'!BR18","v":2022},{"$f":"'Step 3 Product data'!BS18","v":2022},{"$f":"'Step 3 Product data'!BT18","v":2022},{"$f":"'Step 3 Product data'!BU18","v":2022},{"$f":"'Step 3 Product data'!BV18","v":2022},{"$f":"'Step 3 Product data'!BW18","v":2022},{"$f":"'Step 3 Product data'!BX18","v":2022},{"$f":"'Step 3 Product data'!BY18","v":2022},{"$f":"'Step 3 Product data'!BZ18","v":2023},{"$f":"'Step 3 Product data'!CA18","v":2023},{"$f":"'Step 3 Product data'!CB18","v":2023},{"$f":"'Step 3 Product data'!CC18","v":2023},{"$f":"'Step 3 Product data'!CD18","v":2023},{"$f":"'Step 3 Product data'!CE18","v":2023},{"$f":"'Step 3 Product data'!CF18","v":2023},{"$f":"'Step 3 Product data'!CG18","v":2023},{"$f":"'Step 3 Product data'!CH18","v":2023},{"$f":"'Step 3 Product data'!CI18","v":2023},{"$f":"'Step 3 Product data'!CJ18","v":2023},{"$f":"'Step 3 Product data'!CK18","v":2023}]
[null,"(tons)","(tons)","(tons)","(tons)","(tons)","(tons)","(tons)","(tons)","(tons)","(tons)","(tons)","(tons)","(tons)","(tons)","(tons)","(tons)","(tons)","(tons)","(tons)","(tons)","(tons)","(tons)","(tons)","(tons)","(tons)","(tons)","(tons)","(tons)","(tons)","(tons)","(tons)","(tons)","(tons)","(tons)","(tons)","(tons)","(tons)","(tons)","(tons)","(tons)","(tons)","(tons)","(tons)","(tons)","(tons)","(tons)","(tons)","(tons)","(tons)","(tons)","(tons)","(tons)","(tons)","(tons)","(tons)","(tons)","(tons)","(tons)","(tons)","(tons)"]
["% emitted, based on recycling",{"$f":"IFERROR(((B33-B34)/B33),0)","v":0},{"$f":"IFERROR(((C33-C34)/C33),0)","v":0},0,0,0,0,0,0,0,0,0,0,{"$f":"'Step 5 Actual annual emissions'!$C$43","v":0},{"$f":"'Step 5 Actual annual emissions'!$C$43","v":0},{"$f":"'Step 5 Actual annual emissions'!$C$43","v":0},{"$f":"'Step 5 Actual annual emissions'!$C$43","v":0},{"$f":"'Step 5 Actual annual emissions'!$C$43","v":0},{"$f":"'Step 5 Actual annual emissions'!$C$43","v":0},{"$f":"'Step 5 Actual annual emissions'!$C$43","v":0},{"$f":"'Step 5 Actual annual emissions'!$C$43","v":0},{"$f":"'Step 5 Actual annual emissions'!$C$43","v":0},{"$f":"'Step 5 Actual annual emissions'!$C$43","v":0},{"$f":"'Step 5 Actual annual emissions'!$C$43","v":0},{"$f":"'Step 5 Actual annual emissions'!$C$43","v":0},{"$f":"'Step 5 Actual annual emissions'!$D$43","v":0},{"$f":"'Step 5 Actual annual emissions'!$D$43","v":0},{"$f":"'Step 5 Actual annual emissions'!$D$43","v":0},{"$f":"'Step 5 Actual annual emissions'!$D$43","v":0},{"$f":"'Step 5 Actual annual emissions'!$D$43","v":0},{"$f":"'Step 5 Actual annual emissions'!$D$43","v":0},{"$f":"'Step 5 Actual annual emissions'!$D$43","v":0},{"$f":"'Step 5 Actual annual emissions'!$D$43","v":0},{"$f":"'Step 5 Actual annual emissions'!$D$43","v":0},{"$f":"'Step 5 Actual annual emissions'!$D$43","v":0},{"$f":"'Step 5 Actual annual emissions'!$D$43","v":0},{"$f":"'Step 5 Actual annual emissions'!$D$43","v":0},{"$f":"'Step 5 Actual annual emissions'!$E$43","v":0},{"$f":"'Step 5 Actual annual emissions'!$E$43","v":0},{"$f":"'Step 5 Actual annual emissions'!$E$43","v":0},{"$f":"'Step 5 Actual annual emissions'!$E$43","v":0},{"$f":"'Step 5 Actual annual emissions'!$E$43","v":0},{"$f":"'Step 5 Actual annual emissions'!$E$43","v":0},{"$f":"'Step 5 Actual annual emissions'!$E$43","v":0},{"$f":"'Step 5 Actual annual emissions'!$E$43","v":0},{"$f":"'Step 5 Actual annual emissions'!$E$43","v":0},{"$f":"'Step 5 Actual annual emissions'!$E$43","v":0},{"$f":"'Step 5 Actual annual emissions'!$E$43","v":0},{"$f":"'Step 5 Actual annual emissions'!$E$43","v":0},{"$f":"'Step 5 Actual annual emissions'!$F$43","v":0},{"$f":"'Step 5 Actual annual emissions'!$F$43","v":0},{"$f":"'Step 5 Actual annual emissions'!$F$43","v":0},{"$f":"'Step 5 Actual annual emissions'!$F$43","v":0},{"$f":"'Step 5 Actual annual emissions'!$F$43","v":0},{"$f":"'Step 5 Actual annual emissions'!$F$43","v":0},{"$f":"'Step 5 Actual annual emissions'!$F$43","v":0},{"$f":"'Step 5 Actual annual emissions'!$F$43","v":0},{"$f":"'Step 5 Actual annual emissions'!$F$43","v":0},{"$f":"'Step 5 Actual annual emissions'!$F$43","v":0},{"$f":"'Step 5 Actual annual emissions'!$F$43","v":0},{"$f":"'Step 5 Actual annual emissions'!$F$43","v":0}]
["PM/PM10",{"$f":"B13*SUMPRODUCT('Emission Calculations'!AE10:AE74,'Emission Calculations'!$I$10:$I$74)/2000","v":0},{"$f":"C13*SUMPRODUCT('Emission Calculations'!AF10:AF74,'Emission Calculations'!$I$10:$I$74)/2000","v":0},{"$f":"D13*SUMPRODUCT('Emission Calculations'!AG10:AG74,'Emission Calculations'!$I$10:$I$74)/2000","v":0},{"$f":"E13*SUMPRODUCT('Emission Calculations'!AH10:AH74,'Emission Calculations'!$I$10:$I$74)/2000","v":0},{"$f":"F13*SUMPRODUCT('Emission Calculations'!AI10:AI74,'Emission Calculations'!$I$10:$I$74)/2000","v":0},{"$f":"G13*SUMPRODUCT('Emission Calculations'!AJ10:AJ74,'Emission Calculations'!$I$10:$I$74)/2000","v":0},{"$f":"H13*SUMPRODUCT('Emission Calculations'!AK10:AK74,'Emission Calculations'!$I$10:$I$74)/2000","v":0},{"$f":"I13*SUMPRODUCT('Emission Calculations'!AL10:AL74,'Emission Calculations'!$I$10:$I$74)/2000","v":0},{"$f":"J13*SUMPRODUCT('Emission Calculations'!AM10:AM74,'Emission Calculations'!$I$10:$I$74)/2000","v":0},{"$f":"K13*SUMPRODUCT('Emission Calculations'!AN10:AN74,'Emission Calculations'!$I$10:$I$74)/2000","v":0},{"$f":"L13*SUMPRODUCT('Emission Calculations'!AO10:AO74,'Emission Calculations'!$I$10:$I$74)/2000","v":0},{"$f":"M13*SUMPRODUCT('Emission Calculations'!AP10:AP74,'Emission Calculations'!$I$10:$I$74)/2000","v":0},{"$f":"N13*SUMPRODUCT('Emission Calculations'!AQ10:AQ74,'Emission Calculations'!$I$10:$I$74)/2000","v":0},{"$f":"O13*SUMPRODUCT('Emission Calculations'!AR10:AR74,'Emission Calculations'!$I$10:$I$74)/2000","v":0},{"$f":"P13*SUMPRODUCT('Emission Calculations'!AS10:AS74,'Emission Calculations'!$I$10:$I$74)/2000","v":0},{"$f":"Q13*SUMPRODUCT('Emission Calculations'!AT10:AT74,'Emission Calculations'!$I$10:$I$74)/2000","v":0},{"$f":"R13*SUMPRODUCT('Emission Calculations'!AU10:AU74,'Emission Calculations'!$I$10:$I$74)/2000","v":0},{"$f":"S13*SUMPRODUCT('Emission Calculations'!AV10:AV74,'Emission Calculations'!$I$10:$I$74)/2000","v":0},{"$f":"T13*SUMPRODUCT('Emission Calculations'!AW10:AW74,'Emission Calculations'!$I$10:$I$74)/2000","v":0},{"$f":"U13*SUMPRODUCT('Emission Calculations'!AX10:AX74,'Emission Calculations'!$I$10:$I$74)/2000","v":0},{"$f":"V13*SUMPRODUCT('Emission Calculations'!AY10:AY74,'Emission Calculations'!$I$10:$I$74)/2000","v":0},{"$f":"W13*SUMPRODUCT('Emission Calculations'!AZ10:AZ74,'Emission Calculations'!$I$10:$I$74)/2000","v":0},{"$f":"X13*SUMPRODUCT('Emission Calculations'!BA10:BA74,'Emission Calculations'!$I$10:$I$74)/2000","v":0},{"$f":"Y13*SUMPRODUCT('Emission Calculations'!BB10:BB74,'Emission Calculations'!$I$10:$I$74)/2000","v":0},{"$f":"Z13*SUMPRODUCT('Emission Calculations'!BC10:BC74,'Emission Calculations'!$I$10:$I$74)/2000","v":0},{"$f":"AA13*SUMPRODUCT('Emission Calculations'!BD10:BD74,'Emission Calculations'!$I$10:$I$74)/2000","v":0},{"$f":"AB13*SUMPRODUCT('Emission Calculations'!BE10:BE74,'Emission Calculations'!$I$10:$I$74)/2000","v":0},{"$f":"AC13*SUMPRODUCT('Emission Calculations'!BF10:BF74,'Emission Calculations'!$I$10:$I$74)/2000","v":0},{"$f":"AD13*SUMPRODUCT('Emission Calculations'!BG10:BG74,'Emission Calculations'!$I$10:$I$74)/2000","v":0},{"$f":"AE13*SUMPRODUCT('Emission Calculations'!BH10:BH74,'Emission Calculations'!$I$10:$I$74)/2000","v":0},{"$f":"AF13*SUMPRODUCT('Emission Calculations'!BI10:BI74,'Emission Calculations'!$I$10:$I$74)/2000","v":0},{"$f":"AG13*SUMPRODUCT('Emission Calculations'!BJ10:BJ74,'Emission Calculations'!$I$10:$I$74)/2000","v":0},{"$f":"AH13*SUMPRODUCT('Emission Calculations'!BK10:BK74,'Emission Calculations'!$I$10:$I$74)/2000","v":0},{"$f":"AI13*SUMPRODUCT('Emission Calculations'!BL10:BL74,'Emission Calculations'!$I$10:$I$74)/2000","v":0},{"$f":"AJ13*SUMPRODUCT('Emission Calculations'!BM10:BM74,'Emission Calculations'!$I$10:$I$74)/2000","v":0},{"$f":"AK13*SUMPRODUCT('Emission Calculations'!BN10:BN74,'Emission Calculations'!$I$10:$I$74)/2000","v":0},{"$f":"AL13*SUMPRODUCT('Emission Calculations'!BO10:BO74,'Emission Calculations'!$I$10:$I$74)/2000","v":0},{"$f":"AM13*SUMPRODUCT('Emission Calculations'!BP10:BP74,'Emission Calculations'!$I$10:$I$74)/2000","v":0},{"$f":"AN13*SUMPRODUCT('Emission Calculations'!BQ10:BQ74,'Emission Calculations'!$I$10:$I$74)/2000","v":0},{"$f":"AO13*SUMPRODUCT('Emission Calculations'!BR10:BR74,'Emission Calculations'!$I$10:$I$74)/2000","v":0},{"$f":"AP13*SUMPRODUCT('Emission Calculations'!BS10:BS74,'Emission Calculations'!$I$10:$I$74)/2000","v":0},{"$f":"AQ13*SUMPRODUCT('Emission Calculations'!BT10:BT74,'Emission Calculations'!$I$10:$I$74)/2000","v":0},{"$f":"AR13*SUMPRODUCT('Emission Calculations'!BU10:BU74,'Emission Calculations'!$I$10:$I$74)/2000","v":0},{"$f":"AS13*SUMPRODUCT('Emission Calculations'!BV10:BV74,'Emission Calculations'!$I$10:$I$74)/2000","v":0},{"$f":"AT13*SUMPRODUCT('Emission Calculations'!BW10:BW74,'Emission Calculations'!$I$10:$I$74)/2000","v":0},{"$f":"AU13*SUMPRODUCT('Emission Calculations'!BX10:BX74,'Emission Calculations'!$I$10:$I$74)/2000","v":0},{"$f":"AV13*SUMPRODUCT('Emission Calculations'!BY10:BY74,'Emission Calculations'!$I$10:$I$74)/2000","v":0},{"$f":"AW13*SUMPRODUCT('Emission Calculations'!BZ10:BZ74,'Emission Calculations'!$I$10:$I$74)/2000","v":0},{"$f":"AX13*SUMPRODUCT('Emission Calculations'!CA10:CA74,'Emission Calculations'!$I$10:$I$74)/2000","v":0},{"$f":"AY13*SUMPRODUCT('Emission Calculations'!CB10:CB74,'Emission Calculations'!$I$10:$I$74)/2000","v":0},{"$f":"AZ13*SUMPRODUCT('Emission Calculations'!CC10:CC74,'Emission Calculations'!$I$10:$I$74)/2000","v":0},{"$f":"BA13*SUMPRODUCT('Emission Calculations'!CD10:CD74,'Emission Calculations'!$I$10:$I$74)/2000","v":0},{"$f":"BB13*SUMPRODUCT('Emission Calculations'!CE10:CE74,'Emission Calculations'!$I$10:$I$74)/2000","v":0},{"$f":"BC13*SUMPRODUCT('Emission Calculations'!CF10:CF74,'Emission Calculations'!$I$10:$I$74)/2000","v":0},{"$f":"BD13*SUMPRODUCT('Emission Calculations'!CG10:CG74,'Emission Calculations'!$I$10:$I$74)/2000","v":0},{"$f":"BE13*SUMPRODUCT('Emission Calculations'!CH10:CH74,'Emission Calculations'!$I$10:$I$74)/2000","v":0},{"$f":"BF13*SUMPRODUCT('Emission Calculations'!CI10:CI74,'Emission Calculations'!$I$10:$I$74)/2000","v":0},{"$f":"BG13*SUMPRODUCT('Emission Calculations'!CJ10:CJ74,'Emission Calculations'!$I$10:$I$74)/2000","v":0},{"$f":"BH13*SUMPRODUCT('Emission Calculations'!CK10:CK74,'Emission Calculations'!$I$10:$I$74)/2000","v":0},{"$f":"BI13*SUMPRODUCT('Emission Calculations'!CL10:CL74,'Emission Calculations'!$I$10:$I$74)/2000","v":0}]
[{"$f":"'Emission Calculations'!A266","v":"VOC"},{"$f":"SUMPRODUCT('Emission Calculations'!AE10:AE74,'Emission Calculations'!$H$10:$H$74)/2000","v":0},{"$f":"SUMPRODUCT('Emission Calculations'!AF10:AF74,'Emission Calculations'!$H$10:$H$74)/2000","v":0},{"$f":"SUMPRODUCT('Emission Calculations'!AG10:AG74,'Emission Calculations'!$H$10:$H$74)/2000","v":0},{"$f":"SUMPRODUCT('Emission Calculations'!AH10:AH74,'Emission Calculations'!$H$10:$H$74)/2000","v":0},{"$f":"SUMPRODUCT('Emission Calculations'!AI10:AI74,'Emission Calculations'!$H$10:$H$74)/2000","v":0},{"$f":"SUMPRODUCT('Emission Calculations'!AJ10:AJ74,'Emission Calculations'!$H$10:$H$74)/2000","v":0},{"$f":"SUMPRODUCT('Emission Calculations'!AK10:AK74,'Emission Calculations'!$H$10:$H$74)/2000","v":0},{"$f":"SUMPRODUCT('Emission Calculations'!AL10:AL74,'Emission Calculations'!$H$10:$H$74)/2000","v":0},{"$f":"SUMPRODUCT('Emission Calculations'!AM10:AM74,'Emission Calculations'!$H$10:$H$74)/2000","v":0},{"$f":"SUMPRODUCT('Emission Calculations'!AN10:AN74,'Emission Calculations'!$H$10:$H$74)/2000","v":0},{"$f":"SUMPRODUCT('Emission Calculations'!AO10:AO74,'Emission Calculations'!$H$10:$H$74)/2000","v":0},{"$f":"SUMPRODUCT('Emission Calculations'!AP10:AP74,'Emission Calculations'!$H$10:$H$74)/2000","v":0},{"$f":"SUMPRODUCT('Emission Calculations'!AQ10:AQ74,'Emission Calculations'!$H$10:$H$74)/2000","v":0},{"$f":"SUMPRODUCT('Emission Calculations'!AR10:AR74,'Emission Calculations'!$H$10:$H$74)/2000","v":0},{"$f":"SUMPRODUCT('Emission Calculations'!AS10:AS74,'Emission Calculations'!$H$10:$H$74)/2000","v":0},{"$f":"SUMPRODUCT('Emission Calculations'!AT10:AT74,'Emission Calculations'!$H$10:$H$74)/2000","v":0},{"$f":"SUMPRODUCT('Emission Calculations'!AU10:AU74,'Emission Calculations'!$H$10:$H$74)/2000","v":0},{"$f":"SUMPRODUCT('Emission Calculations'!AV10:AV74,'Emission Calculations'!$H$10:$H$74)/2000","v":0},{"$f":"SUMPRODUCT('Emission Calculations'!AW10:AW74,'Emission Calculations'!$H$10:$H$74)/2000","v":0},{"$f":"SUMPRODUCT('Emission Calculations'!AX10:AX74,'Emission Calculations'!$H$10:$H$74)/2000","v":0},{"$f":"SUMPRODUCT('Emission Calculations'!AY10:AY74,'Emission Calculations'!$H$10:$H$74)/2000","v":0},{"$f":"SUMPRODUCT('Emission Calculations'!AZ10:AZ74,'Emission Calculations'!$H$10:$H$74)/2000","v":0},{"$f":"SUMPRODUCT('Emission Calculations'!BA10:BA74,'Emission Calculations'!$H$10:$H$74)/2000","v":0},{"$f":"SUMPRODUCT('Emission Calculations'!BB10:BB74,'Emission Calculations'!$H$10:$H$74)/2000","v":0},{"$f":"SUMPRODUCT('Emission Calculations'!BC10:BC74,'Emission Calculations'!$H$10:$H$74)/2000","v":0},{"$f":"SUMPRODUCT('Emission Calculations'!BD10:BD74,'Emission Calculations'!$H$10:$H$74)/2000","v":0},{"$f":"SUMPRODUCT('Emission Calculations'!BE10:BE74,'Emission Calculations'!$H$10:$H$74)/2000","v":0},{"$f":"SUMPRODUCT('Emission Calculations'!BF10:BF74,'Emission Calculations'!$H$10:$H$74)/2000","v":0},{"$f":"SUMPRODUCT('Emission Calculations'!BG10:BG74,'Emission Calculations'!$H$10:$H$74)/2000","v":0},{"$f":"SUMPRODUCT('Emission Calculations'!BH10:BH74,'Emission Calculations'!$H$10:$H$74)/2000","v":0},{"$f":"SUMPRODUCT('Emission Calculations'!BI10:BI74,'Emission Calculations'!$H$10:$H$74)/2000","v":0},{"$f":"SUMPRODUCT('Emission Calculations'!BJ10:BJ74,'Emission Calculations'!$H$10:$H$74)/2000","v":0},{"$f":"SUMPRODUCT('Emission Calculations'!BK10:BK74,'Emission Calculations'!$H$10:$H$74)/2000","v":0},{"$f":"SUMPRODUCT('Emission Calculations'!BL10:BL74,'Emission Calculations'!$H$10:$H$74)/2000","v":0},{"$f":"SUMPRODUCT('Emission Calculations'!BM10:BM74,'Emission Calculations'!$H$10:$H$74)/2000","v":0},{"$f":"SUMPRODUCT('Emission Calculations'!BN10:BN74,'Emission Calculations'!$H$10:$H$74)/2000","v":0},{"$f":"SUMPRODUCT('Emission Calculations'!BO10:BO74,'Emission Calculations'!$H$10:$H$74)/2000","v":0},{"$f":"SUMPRODUCT('Emission Calculations'!BP10:BP74,'Emission Calculations'!$H$10:$H$74)/2000","v":0},{"$f":"SUMPRODUCT('Emission Calculations'!BQ10:BQ74,'Emission Calculations'!$H$10:$H$74)/2000","v":0},{"$f":"SUMPRODUCT('Emission Calculations'!BR10:BR74,'Emission Calculations'!$H$10:$H$74)/2000","v":0},{"$f":"SUMPRODUCT('Emission Calculations'!BS10:BS74,'Emission Calculations'!$H$10:$H$74)/2000","v":0},{"$f":"SUMPRODUCT('Emission Calculations'!BT10:BT74,'Emission Calculations'!$H$10:$H$74)/2000","v":0},{"$f":"SUMPRODUCT('Emission Calculations'!BU10:BU74,'Emission Calculations'!$H$10:$H$74)/2000","v":0},{"$f":"SUMPRODUCT('Emission Calculations'!BV10:BV74,'Emission Calculations'!$H$10:$H$74)/2000","v":0},{"$f":"SUMPRODUCT('Emission Calculations'!BW10:BW74,'Emission Calculations'!$H$10:$H$74)/2000","v":0},{"$f":"SUMPRODUCT('Emission Calculations'!BX10:BX74,'Emission Calculations'!$H$10:$H$74)/2000","v":0},{"$f":"SUMPRODUCT('Emission Calculations'!BY10:BY74,'Emission Calculations'!$H$10:$H$74)/2000","v":0},{"$f":"SUMPRODUCT('Emission Calculations'!BZ10:BZ74,'Emission Calculations'!$H$10:$H$74)/2000","v":0},{"$f":"SUMPRODUCT('Emission Calculations'!CA10:CA74,'Emission Calculations'!$H$10:$H$74)/2000","v":0},{"$f":"SUMPRODUCT('Emission Calculations'!CB10:CB74,'Emission Calculations'!$H$10:$H$74)/2000","v":0},{"$f":"SUMPRODUCT('Emission Calculations'!CC10:CC74,'Emission Calculations'!$H$10:$H$74)/2000","v":0},{"$f":"SUMPRODUCT('Emission Calculations'!CD10:CD74,'Emission Calculations'!$H$10:$H$74)/2000","v":0},{"$f":"SUMPRODUCT('Emission Calculations'!CE10:CE74,'Emission Calculations'!$H$10:$H$74)/2000","v":0},{"$f":"SUMPRODUCT('Emission Calculations'!CF10:CF74,'Emission Calculations'!$H$10:$H$74)/2000","v":0},{"$f":"SUMPRODUCT('Emission Calculations'!CG10:CG74,'Emission Calculations'!$H$10:$H$74)/2000","v":0},{"$f":"SUMPRODUCT('Emission Calculations'!CH10:CH74,'Emission Calculations'!$H$10:$H$74)/2000","v":0},{"$f":"SUMPRODUCT('Emission Calculations'!CI10:CI74,'Emission Calculations'!$H$10:$H$74)/2000","v":0},{"$f":"SUMPRODUCT('Emission Calculations'!CJ10:CJ74,'Emission Calculations'!$H$10:$H$74)/2000","v":0},{"$f":"SUMPRODUCT('Emission Calculations'!CK10:CK74,'Emission Calculations'!$H$10:$H$74)/2000","v":0},{"$f":"SUMPRODUCT('Emission Calculations'!CL10:CL74,'Emission Calculations'!$H$10:$H$74)/2000","v":0}]
[{"$f":"'Emission Calculations'!A267","v":"HAP Name"},{"$f":"IF('Emission Calculations'!$J$7=TRUE,(B13*SUMPRODUCT('Emission Calculations'!AE10:AE74,'Emission Calculations'!$J$10:$J$74)/2000),(SUMPRODUCT('Emission Calculations'!AE10:AE74,'Emission Calculations'!$J$10:$J$74)/2000))","v":0},{"$f":"IF('Emission Calculations'!$J$7=TRUE,(C13*SUMPRODUCT('Emission Calculations'!AF10:AF74,'Emission Calculations'!$J$10:$J$74)/2000),(SUMPRODUCT('Emission Calculations'!AF10:AF74,'Emission Calculations'!$J$10:$J$74)/2000))","v":0},{"$f":"IF('Emission Calculations'!$J$7=TRUE,(D13*SUMPRODUCT('Emission Calculations'!AG10:AG74,'Emission Calculations'!$J$10:$J$74)/2000),(SUMPRODUCT('Emission Calculations'!AG10:AG74,'Emission Calculations'!$J$10:$J$74)/2000))","v":0},{"$f":"IF('Emission Calculations'!$J$7=TRUE,(E13*SUMPRODUCT('Emission Calculations'!AH10:AH74,'Emission Calculations'!$J$10:$J$74)/2000),(SUMPRODUCT('Emission Calculations'!AH10:AH74,'Emission Calculations'!$J$10:$J$74)/2000))","v":0},{"$f":"IF('Emission Calculations'!$J$7=TRUE,(F13*SUMPRODUCT('Emission Calculations'!AI10:AI74,'Emission Calculations'!$J$10:$J$74)/2000),(SUMPRODUCT('Emission Calculations'!AI10:AI74,'Emission Calculations'!$J$10:$J$74)/2000))","v":0},{"$f":"IF('Emission Calculations'!$J$7=TRUE,(G13*SUMPRODUCT('Emission Calculations'!AJ10:AJ74,'Emission Calculations'!$J$10:$J$74)/2000),(SUMPRODUCT('Emission Calculations'!AJ10:AJ74,'Emission Calculations'!$J$10:$J$74)/2000))","v":0},{"$f":"IF('Emission Calculations'!$J$7=TRUE,(H13*SUMPRODUCT('Emission Calculations'!AK10:AK74,'Emission Calculations'!$J$10:$J$74)/2000),(SUMPRODUCT('Emission Calculations'!AK10:AK74,'Emission Calculations'!$J$10:$J$74)/2000))","v":0},{"$f":"IF('Emission Calculations'!$J$7=TRUE,(I13*SUMPRODUCT('Emission Calculations'!AL10:AL74,'Emission Calculations'!$J$10:$J$74)/2000),(SUMPRODUCT('Emission Calculations'!AL10:AL74,'Emission Calculations'!$J$10:$J$74)/2000))","v":0},{"$f":"IF('Emission Calculations'!$J$7=TRUE,(J13*SUMPRODUCT('Emission Calculations'!AM10:AM74,'Emission Calculations'!$J$10:$J$74)/2000),(SUMPRODUCT('Emission Calculations'!AM10:AM74,'Emission Calculations'!$J$10:$J$74)/2000))","v":0},{"$f":"IF('Emission Calculations'!$J$7=TRUE,(K13*SUMPRODUCT('Emission Calculations'!AN10:AN74,'Emission Calculations'!$J$10:$J$74)/2000),(SUMPRODUCT('Emission Calculations'!AN10:AN74,'Emission Calculations'!$J$10:$J$74)/2000))","v":0},{"$f":"IF('Emission Calculations'!$J$7=TRUE,(L13*SUMPRODUCT('Emission Calculations'!AO10:AO74,'Emission Calculations'!$J$10:$J$74)/2000),(SUMPRODUCT('Emission Calculations'!AO10:AO74,'Emission Calculations'!$J$10:$J$74)/2000))","v":0},{"$f":"IF('Emission Calculations'!$J$7=TRUE,(M13*SUMPRODUCT('Emission Calculations'!AP10:AP74,'Emission Calculations'!$J$10:$J$74)/2000),(SUMPRODUCT('Emission Calculations'!AP10:AP74,'Emission Calculations'!$J$10:$J$74)/2000))","v":0},{"$f":"IF('Emission Calculations'!$J$7=TRUE,(N13*SUMPRODUCT('Emission Calculations'!AQ10:AQ74,'Emission Calculations'!$J$10:$J$74)/2000),(SUMPRODUCT('Emission Calculations'!AQ10:AQ74,'Emission Calculations'!$J$10:$J$74)/2000))","v":0},{"$f":"IF('Emission Calculations'!$J$7=TRUE,(O13*SUMPRODUCT('Emission Calculations'!AR10:AR74,'Emission Calculations'!$J$10:$J$74)/2000),(SUMPRODUCT('Emission Calculations'!AR10:AR74,'Emission Calculations'!$J$10:$J$74)/2000))","v":0},{"$f":"IF('Emission Calculations'!$J$7=TRUE,(P13*SUMPRODUCT('Emission Calculations'!AS10:AS74,'Emission Calculations'!$J$10:$J$74)/2000),(SUMPRODUCT('Emission Calculations'!AS10:AS74,'Emission Calculations'!$J$10:$J$74)/2000))","v":0},{"$f":"IF('Emission Calculations'!$J$7=TRUE,(Q13*SUMPRODUCT('Emission Calculations'!AT10:AT74,'Emission Calculations'!$J$10:$J$74)/2000),(SUMPRODUCT('Emission Calculations'!AT10:AT74,'Emission Calculations'!$J$10:$J$74)/2000))","v":0},{"$f":"IF('Emission Calculations'!$J$7=TRUE,(R13*SUMPRODUCT('Emission Calculations'!AU10:AU74,'Emission Calculations'!$J$10:$J$74)/2000),(SUMPRODUCT('Emission Calculations'!AU10:AU74,'Emission Calculations'!$J$10:$J$74)/2000))","v":0},{"$f":"IF('Emission Calculations'!$J$7=TRUE,(S13*SUMPRODUCT('Emission Calculations'!AV10:AV74,'Emission Calculations'!$J$10:$J$74)/2000),(SUMPRODUCT('Emission Calculations'!AV10:AV74,'Emission Calculations'!$J$10:$J$74)/2000))","v":0},{"$f":"IF('Emission Calculations'!$J$7=TRUE,(T13*SUMPRODUCT('Emission Calculations'!AW10:AW74,'Emission Calculations'!$J$10:$J$74)/2000),(SUMPRODUCT('Emission Calculations'!AW10:AW74,'Emission Calculations'!$J$10:$J$74)/2000))","v":0},{"$f":"IF('Emission Calculations'!$J$7=TRUE,(U13*SUMPRODUCT('Emission Calculations'!AX10:AX74,'Emission Calculations'!$J$10:$J$74)/2000),(SUMPRODUCT('Emission Calculations'!AX10:AX74,'Emission Calculations'!$J$10:$J$74)/2000))","v":0},{"$f":"IF('Emission Calculations'!$J$7=TRUE,(V13*SUMPRODUCT('Emission Calculations'!AY10:AY74,'Emission Calculations'!$J$10:$J$74)/2000),(SUMPRODUCT('Emission Calculations'!AY10:AY74,'Emission Calculations'!$J$10:$J$74)/2000))","v":0},{"$f":"IF('Emission Calculations'!$J$7=TRUE,(W13*SUMPRODUCT('Emission Calculations'!AZ10:AZ74,'Emission Calculations'!$J$10:$J$74)/2000),(SUMPRODUCT('Emission Calculations'!AZ10:AZ74,'Emission Calculations'!$J$10:$J$74)/2000))","v":0},{"$f":"IF('Emission Calculations'!$J$7=TRUE,(X13*SUMPRODUCT('Emission Calculations'!BA10:BA74,'Emission Calculations'!$J$10:$J$74)/2000),(SUMPRODUCT('Emission Calculations'!BA10:BA74,'Emission Calculations'!$J$10:$J$74)/2000))","v":0},{"$f":"IF('Emission Calculations'!$J$7=TRUE,(Y13*SUMPRODUCT('Emission Calculations'!BB10:BB74,'Emission Calculations'!$J$10:$J$74)/2000),(SUMPRODUCT('Emission Calculations'!BB10:BB74,'Emission Calculations'!$J$10:$J$74)/2000))","v":0},{"$f":"IF('Emission Calculations'!$J$7=TRUE,(Z13*SUMPRODUCT('Emission Calculations'!BC10:BC74,'Emission Calculations'!$J$10:$J$74)/2000),(SUMPRODUCT('Emission Calculations'!BC10:BC74,'Emission Calculations'!$J$10:$J$74)/2000))","v":0},{"$f":"IF('Emission Calculations'!$J$7=TRUE,(AA13*SUMPRODUCT('Emission Calculations'!BD10:BD74,'Emission Calculations'!$J$10:$J$74)/2000),(SUMPRODUCT('Emission Calculations'!BD10:BD74,'Emission Calculations'!$J$10:$J$74)/2000))","v":0},{"$f":"IF('Emission Calculations'!$J$7=TRUE,(AB13*SUMPRODUCT('Emission Calculations'!BE10:BE74,'Emission Calculations'!$J$10:$J$74)/2000),(SUMPRODUCT('Emission Calculations'!BE10:BE74,'Emission Calculations'!$J$10:$J$74)/2000))","v":0},{"$f":"IF('Emission Calculations'!$J$7=TRUE,(AC13*SUMPRODUCT('Emission Calculations'!BF10:BF74,'Emission Calculations'!$J$10:$J$74)/2000),(SUMPRODUCT('Emission Calculations'!BF10:BF74,'Emission Calculations'!$J$10:$J$74)/2000))","v":0},{"$f":"IF('Emission Calculations'!$J$7=TRUE,(AD13*SUMPRODUCT('Emission Calculations'!BG10:BG74,'Emission Calculations'!$J$10:$J$74)/2000),(SUMPRODUCT('Emission Calculations'!BG10:BG74,'Emission Calculations'!$J$10:$J$74)/2000))","v":0},{"$f":"IF('Emission Calculations'!$J$7=TRUE,(AE13*SUMPRODUCT('Emission Calculations'!BH10:BH74,'Emission Calculations'!$J$10:$J$74)/2000),(SUMPRODUCT('Emission Calculations'!BH10:BH74,'Emission Calculations'!$J$10:$J$74)/2000))","v":0},{"$f":"IF('Emission Calculations'!$J$7=TRUE,(AF13*SUMPRODUCT('Emission Calculations'!BI10:BI74,'Emission Calculations'!$J$10:$J$74)/2000),(SUMPRODUCT('Emission Calculations'!BI10:BI74,'Emission Calculations'!$J$10:$J$74)/2000))","v":0},{"$f":"IF('Emission Calculations'!$J$7=TRUE,(AG13*SUMPRODUCT('Emission Calculations'!BJ10:BJ74,'Emission Calculations'!$J$10:$J$74)/2000),(SUMPRODUCT('Emission Calculations'!BJ10:BJ74,'Emission Calculations'!$J$10:$J$74)/2000))","v":0},{"$f":"IF('Emission Calculations'!$J$7=TRUE,(AH13*SUMPRODUCT('Emission Calculations'!BK10:BK74,'Emission Calculations'!$J$10:$J$74)/2000),(SUMPRODUCT('Emission Calculations'!BK10:BK74,'Emission Calculations'!$J$10:$J$74)/2000))","v":0},{"$f":"IF('Emission Calculations'!$J$7=TRUE,(AI13*SUMPRODUCT('Emission Calculations'!BL10:BL74,'Emission Calculations'!$J$10:$J$74)/2000),(SUMPRODUCT('Emission Calculations'!BL10:BL74,'Emission Calculations'!$J$10:$J$74)/2000))","v":0},{"$f":"IF('Emission Calculations'!$J$7=TRUE,(AJ13*SUMPRODUCT('Emission Calculations'!BM10:BM74,'Emission Calculations'!$J$10:$J$74)/2000),(SUMPRODUCT('Emission Calculations'!BM10:BM74,'Emission Calculations'!$J$10:$J$74)/2000))","v":0},{"$f":"IF('Emission Calculations'!$J$7=TRUE,(AK13*SUMPRODUCT('Emission Calculations'!BN10:BN74,'Emission Calculations'!$J$10:$J$74)/2000),(SUMPRODUCT('Emission Calculations'!BN10:BN74,'Emission Calculations'!$J$10:$J$74)/2000))","v":0},{"$f":"IF('Emission Calculations'!$J$7=TRUE,(AL13*SUMPRODUCT('Emission Calculations'!BO10:BO74,'Emission Calculations'!$J$10:$J$74)/2000),(SUMPRODUCT('Emission Calculations'!BO10:BO74,'Emission Calculations'!$J$10:$J$74)/2000))","v":0},{"$f":"IF('Emission Calculations'!$J$7=TRUE,(AM13*SUMPRODUCT('Emission Calculations'!BP10:BP74,'Emission Calculations'!$J$10:$J$74)/2000),(SUMPRODUCT('Emission Calculations'!BP10:BP74,'Emission Calculations'!$J$10:$J$74)/2000))","v":0},{"$f":"IF('Emission Calculations'!$J$7=TRUE,(AN13*SUMPRODUCT('Emission Calculations'!BQ10:BQ74,'Emission Calculations'!$J$10:$J$74)/2000),(SUMPRODUCT('Emission Calculations'!BQ10:BQ74,'Emission Calculations'!$J$10:$J$74)/2000))","v":0},{"$f":"IF('Emission Calculations'!$J$7=TRUE,(AO13*SUMPRODUCT('Emission Calculations'!BR10:BR74,'Emission Calculations'!$J$10:$J$74)/2000),(SUMPRODUCT('Emission Calculations'!BR10:BR74,'Emission Calculations'!$J$10:$J$74)/2000))","v":0},{"$f":"IF('Emission Calculations'!$J$7=TRUE,(AP13*SUMPRODUCT('Emission Calculations'!BS10:BS74,'Emission Calculations'!$J$10:$J$74)/2000),(SUMPRODUCT('Emission Calculations'!BS10:BS74,'Emission Calculations'!$J$10:$J$74)/2000))","v":0},{"$f":"IF('Emission Calculations'!$J$7=TRUE,(AQ13*SUMPRODUCT('Emission Calculations'!BT10:BT74,'Emission Calculations'!$J$10:$J$74)/2000),(SUMPRODUCT('Emission Calculations'!BT10:BT74,'Emission Calculations'!$J$10:$J$74)/2000))","v":0},{"$f":"IF('Emission Calculations'!$J$7=TRUE,(AR13*SUMPRODUCT('Emission Calculations'!BU10:BU74,'Emission Calculations'!$J$10:$J$74)/2000),(SUMPRODUCT('Emission Calculations'!BU10:BU74,'Emission Calculations'!$J$10:$J$74)/2000))","v":0},{"$f":"IF('Emission Calculations'!$J$7=TRUE,(AS13*SUMPRODUCT('Emission Calculations'!BV10:BV74,'Emission Calculations'!$J$10:$J$74)/2000),(SUMPRODUCT('Emission Calculations'!BV10:BV74,'Emission Calculations'!$J$10:$J$74)/2000))","v":0},{"$f":"IF('Emission Calculations'!$J$7=TRUE,(AT13*SUMPRODUCT('Emission Calculations'!BW10:BW74,'Emission Calculations'!$J$10:$J$74)/2000),(SUMPRODUCT('Emission Calculations'!BW10:BW74,'Emission Calculations'!$J$10:$J$74)/2000))","v":0},{"$f":"IF('Emission Calculations'!$J$7=TRUE,(AU13*SUMPRODUCT('Emission Calculations'!BX10:BX74,'Emission Calculations'!$J$10:$J$74)/2000),(SUMPRODUCT('Emission Calculations'!BX10:BX74,'Emission Calculations'!$J$10:$J$74)/2000))","v":0},{"$f":"IF('Emission Calculations'!$J$7=TRUE,(AV13*SUMPRODUCT('Emission Calculations'!BY10:BY74,'Emission Calculations'!$J$10:$J$74)/2000),(SUMPRODUCT('Emission Calculations'!BY10:BY74,'Emission Calculations'!$J$10:$J$74)/2000))","v":0},{"$f":"IF('Emission Calculations'!$J$7=TRUE,(AW13*SUMPRODUCT('Emission Calculations'!BZ10:BZ74,'Emission Calculations'!$J$10:$J$74)/2000),(SUMPRODUCT('Emission Calculations'!BZ10:BZ74,'Emission Calculations'!$J$10:$J$74)/2000))","v":0},{"$f":"IF('Emission Calculations'!$J$7=TRUE,(AX13*SUMPRODUCT('Emission Calculations'!CA10:CA74,'Emission Calculations'!$J$10:$J$74)/2000),(SUMPRODUCT('Emission Calculations'!CA10:CA74,'Emission Calculations'!$J$10:$J$74)/2000))","v":0},{"$f":"IF('Emission Calculations'!$J$7=TRUE,(AY13*SUMPRODUCT('Emission Calculations'!CB10:CB74,'Emission Calculations'!$J$10:$J$74)/2000),(SUMPRODUCT('Emission Calculations'!CB10:CB74,'Emission Calculations'!$J$10:$J$74)/2000))","v":0},{"$f":"IF('Emission Calculations'!$J$7=TRUE,(AZ13*SUMPRODUCT('Emission Calculations'!CC10:CC74,'Emission Calculations'!$J$10:$J$74)/2000),(SUMPRODUCT('Emission Calculations'!CC10:CC74,'Emission Calculations'!$J$10:$J$74)/2000))","v":0},{"$f":"IF('Emission Calculations'!$J$7=TRUE,(BA13*SUMPRODUCT('Emission Calculations'!CD10:CD74,'Emission Calculations'!$J$10:$J$74)/2000),(SUMPRODUCT('Emission Calculations'!CD10:CD74,'Emission Calculations'!$J$10:$J$74)/2000))","v":0},{"$f":"IF('Emission Calculations'!$J$7=TRUE,(BB13*SUMPRODUCT('Emission Calculations'!CE10:CE74,'Emission Calculations'!$J$10:$J$74)/2000),(SUMPRODUCT('Emission Calculations'!CE10:CE74,'Emission Calculations'!$J$10:$J$74)/2000))","v":0},{"$f":"IF('Emission Calculations'!$J$7=TRUE,(BC13*SUMPRODUCT('Emission Calculations'!CF10:CF74,'Emission Calculations'!$J$10:$J$74)/2000),(SUMPRODUCT('Emission Calculations'!CF10:CF74,'Emission Calculations'!$J$10:$J$74)/2000))","v":0},{"$f":"IF('Emission Calculations'!$J$7=TRUE,(BD13*SUMPRODUCT('Emission Calculations'!CG10:CG74,'Emission Calculations'!$J$10:$J$74)/2000),(SUMPRODUCT('Emission Calculations'!CG10:CG74,'Emission Calculations'!$J$10:$J$74)/2000))","v":0},{"$f":"IF('Emission Calculations'!$J$7=TRUE,(BE13*SUMPRODUCT('Emission Calculations'!CH10:CH74,'Emission Calculations'!$J$10:$J$74)/2000),(SUMPRODUCT('Emission Calculations'!CH10:CH74,'Emission Calculations'!$J$10:$J$74)/2000))","v":0},{"$f":"IF('Emission Calculations'!$J$7=TRUE,(BF13*SUMPRODUCT('Emission Calculations'!CI10:CI74,'Emission Calculations'!$J$10:$J$74)/2000),(SUMPRODUCT('Emission Calculations'!CI10:CI74,'Emission Calculations'!$J$10:$J$74)/2000))","v":0},{"$f":"IF('Emission Calculations'!$J$7=TRUE,(BG13*SUMPRODUCT('Emission Calculations'!CJ10:CJ74,'Emission Calculations'!$J$10:$J$74)/2000),(SUMPRODUCT('Emission Calculations'!CJ10:CJ74,'Emission Calculations'!$J$10:$J$74)/2000))","v":0},{"$f":"IF('Emission Calculations'!$J$7=TRUE,(BH13*SUMPRODUCT('Emission Calculations'!CK10:CK74,'Emission Calculations'!$J$10:$J$74)/2000),(SUMPRODUCT('Emission Calculations'!CK10:CK74,'Emission Calculations'!$J$10:$J$74)/2000))","v":0},{"$f":"IF('Emission Calculations'!$J$7=TRUE,(BI13*SUMPRODUCT('Emission Calculations'!CL10:CL74,'Emission Calculations'!$J$10:$J$74)/2000),(SUMPRODUCT('Emission Calculations'!CL10:CL74,'Emission Calculations'!$J$10:$J$74)/2000))","v":0}]
[{"$f":"'Emission Calculations'!A268","v":"HAP Name"},{"$f":"IF('Emission Calculations'!$K$7=TRUE,(B13*SUMPRODUCT('Emission Calculations'!AE10:AE74,'Emission Calculations'!$K$10:$K$74)/2000),(SUMPRODUCT('Emission Calculations'!AE10:AE74,'Emission Calculations'!$K$10:$K$74)/2000))","v":0},{"$f":"IF('Emission Calculations'!$K$7=TRUE,(C13*SUMPRODUCT('Emission Calculations'!AF10:AF74,'Emission Calculations'!$K$10:$K$74)/2000),(SUMPRODUCT('Emission Calculations'!AF10:AF74,'Emission Calculations'!$K$10:$K$74)/2000))","v":0},{"$f":"IF('Emission Calculations'!$K$7=TRUE,(D13*SUMPRODUCT('Emission Calculations'!AG10:AG74,'Emission Calculations'!$K$10:$K$74)/2000),(SUMPRODUCT('Emission Calculations'!AG10:AG74,'Emission Calculations'!$K$10:$K$74)/2000))","v":0},{"$f":"IF('Emission Calculations'!$K$7=TRUE,(E13*SUMPRODUCT('Emission Calculations'!AH10:AH74,'Emission Calculations'!$K$10:$K$74)/2000),(SUMPRODUCT('Emission Calculations'!AH10:AH74,'Emission Calculations'!$K$10:$K$74)/2000))","v":0},{"$f":"IF('Emission Calculations'!$K$7=TRUE,(F13*SUMPRODUCT('Emission Calculations'!AI10:AI74,'Emission Calculations'!$K$10:$K$74)/2000),(SUMPRODUCT('Emission Calculations'!AI10:AI74,'Emission Calculations'!$K$10:$K$74)/2000))","v":0},{"$f":"IF('Emission Calculations'!$K$7=TRUE,(G13*SUMPRODUCT('Emission Calculations'!AJ10:AJ74,'Emission Calculations'!$K$10:$K$74)/2000),(SUMPRODUCT('Emission Calculations'!AJ10:AJ74,'Emission Calculations'!$K$10:$K$74)/2000))","v":0},{"$f":"IF('Emission Calculations'!$K$7=TRUE,(H13*SUMPRODUCT('Emission Calculations'!AK10:AK74,'Emission Calculations'!$K$10:$K$74)/2000),(SUMPRODUCT('Emission Calculations'!AK10:AK74,'Emission Calculations'!$K$10:$K$74)/2000))","v":0},{"$f":"IF('Emission Calculations'!$K$7=TRUE,(I13*SUMPRODUCT('Emission Calculations'!AL10:AL74,'Emission Calculations'!$K$10:$K$74)/2000),(SUMPRODUCT('Emission Calculations'!AL10:AL74,'Emission Calculations'!$K$10:$K$74)/2000))","v":0},{"$f":"IF('Emission Calculations'!$K$7=TRUE,(J13*SUMPRODUCT('Emission Calculations'!AM10:AM74,'Emission Calculations'!$K$10:$K$74)/2000),(SUMPRODUCT('Emission Calculations'!AM10:AM74,'Emission Calculations'!$K$10:$K$74)/2000))","v":0},{"$f":"IF('Emission Calculations'!$K$7=TRUE,(K13*SUMPRODUCT('Emission Calculations'!AN10:AN74,'Emission Calculations'!$K$10:$K$74)/2000),(SUMPRODUCT('Emission Calculations'!AN10:AN74,'Emission Calculations'!$K$10:$K$74)/2000))","v":0},{"$f":"IF('Emission Calculations'!$K$7=TRUE,(L13*SUMPRODUCT('Emission Calculations'!AO10:AO74,'Emission Calculations'!$K$10:$K$74)/2000),(SUMPRODUCT('Emission Calculations'!AO10:AO74,'Emission Calculations'!$K$10:$K$74)/2000))","v":0},{"$f":"IF('Emission Calculations'!$K$7=TRUE,(M13*SUMPRODUCT('Emission Calculations'!AP10:AP74,'Emission Calculations'!$K$10:$K$74)/2000),(SUMPRODUCT('Emission Calculations'!AP10:AP74,'Emission Calculations'!$K$10:$K$74)/2000))","v":0},{"$f":"IF('Emission Calculations'!$K$7=TRUE,(N13*SUMPRODUCT('Emission Calculations'!AQ10:AQ74,'Emission Calculations'!$K$10:$K$74)/2000),(SUMPRODUCT('Emission Calculations'!AQ10:AQ74,'Emission Calculations'!$K$10:$K$74)/2000))","v":0},{"$f":"IF('Emission Calculations'!$K$7=TRUE,(O13*SUMPRODUCT('Emission Calculations'!AR10:AR74,'Emission Calculations'!$K$10:$K$74)/2000),(SUMPRODUCT('Emission Calculations'!AR10:AR74,'Emission Calculations'!$K$10:$K$74)/2000))","v":0},{"$f":"IF('Emission Calculations'!$K$7=TRUE,(P13*SUMPRODUCT('Emission Calculations'!AS10:AS74,'Emission Calculations'!$K$10:$K$74)/2000),(SUMPRODUCT('Emission Calculations'!AS10:AS74,'Emission Calculations'!$K$10:$K$74)/2000))","v":0},{"$f":"IF('Emission Calculations'!$K$7=TRUE,(Q13*SUMPRODUCT('Emission Calculations'!AT10:AT74,'Emission Calculations'!$K$10:$K$74)/2000),(SUMPRODUCT('Emission Calculations'!AT10:AT74,'Emission Calculations'!$K$10:$K$74)/2000))","v":0},{"$f":"IF('Emission Calculations'!$K$7=TRUE,(R13*SUMPRODUCT('Emission Calculations'!AU10:AU74,'Emission Calculations'!$K$10:$K$74)/2000),(SUMPRODUCT('Emission Calculations'!AU10:AU74,'Emission Calculations'!$K$10:$K$74)/2000))","v":0},{"$f":"IF('Emission Calculations'!$K$7=TRUE,(S13*SUMPRODUCT('Emission Calculations'!AV10:AV74,'Emission Calculations'!$K$10:$K$74)/2000),(SUMPRODUCT('Emission Calculations'!AV10:AV74,'Emission Calculations'!$K$10:$K$74)/2000))","v":0},{"$f":"IF('Emission Calculations'!$K$7=TRUE,(T13*SUMPRODUCT('Emission Calculations'!AW10:AW74,'Emission Calculations'!$K$10:$K$74)/2000),(SUMPRODUCT('Emission Calculations'!AW10:AW74,'Emission Calculations'!$K$10:$K$74)/2000))","v":0},{"$f":"IF('Emission Calculations'!$K$7=TRUE,(U13*SUMPRODUCT('Emission Calculations'!AX10:AX74,'Emission Calculations'!$K$10:$K$74)/2000),(SUMPRODUCT('Emission Calculations'!AX10:AX74,'Emission Calculations'!$K$10:$K$74)/2000))","v":0},{"$f":"IF('Emission Calculations'!$K$7=TRUE,(V13*SUMPRODUCT('Emission Calculations'!AY10:AY74,'Emission Calculations'!$K$10:$K$74)/2000),(SUMPRODUCT('Emission Calculations'!AY10:AY74,'Emission Calculations'!$K$10:$K$74)/2000))","v":0},{"$f":"IF('Emission Calculations'!$K$7=TRUE,(W13*SUMPRODUCT('Emission Calculations'!AZ10:AZ74,'Emission Calculations'!$K$10:$K$74)/2000),(SUMPRODUCT('Emission Calculations'!AZ10:AZ74,'Emission Calculations'!$K$10:$K$74)/2000))","v":0},{"$f":"IF('Emission Calculations'!$K$7=TRUE,(X13*SUMPRODUCT('Emission Calculations'!BA10:BA74,'Emission Calculations'!$K$10:$K$74)/2000),(SUMPRODUCT('Emission Calculations'!BA10:BA74,'Emission Calculations'!$K$10:$K$74)/2000))","v":0},{"$f":"IF('Emission Calculations'!$K$7=TRUE,(Y13*SUMPRODUCT('Emission Calculations'!BB10:BB74,'Emission Calculations'!$K$10:$K$74)/2000),(SUMPRODUCT('Emission Calculations'!BB10:BB74,'Emission Calculations'!$K$10:$K$74)/2000))","v":0},{"$f":"IF('Emission Calculations'!$K$7=TRUE,(Z13*SUMPRODUCT('Emission Calculations'!BC10:BC74,'Emission Calculations'!$K$10:$K$74)/2000),(SUMPRODUCT('Emission Calculations'!BC10:BC74,'Emission Calculations'!$K$10:$K$74)/2000))","v":0},{"$f":"IF('Emission Calculations'!$K$7=TRUE,(AA13*SUMPRODUCT('Emission Calculations'!BD10:BD74,'Emission Calculations'!$K$10:$K$74)/2000),(SUMPRODUCT('Emission Calculations'!BD10:BD74,'Emission Calculations'!$K$10:$K$74)/2000))","v":0},{"$f":"IF('Emission Calculations'!$K$7=TRUE,(AB13*SUMPRODUCT('Emission Calculations'!BE10:BE74,'Emission Calculations'!$K$10:$K$74)/2000),(SUMPRODUCT('Emission Calculations'!BE10:BE74,'Emission Calculations'!$K$10:$K$74)/2000))","v":0},{"$f":"IF('Emission Calculations'!$K$7=TRUE,(AC13*SUMPRODUCT('Emission Calculations'!BF10:BF74,'Emission Calculations'!$K$10:$K$74)/2000),(SUMPRODUCT('Emission Calculations'!BF10:BF74,'Emission Calculations'!$K$10:$K$74)/2000))","v":0},{"$f":"IF('Emission Calculations'!$K$7=TRUE,(AD13*SUMPRODUCT('Emission Calculations'!BG10:BG74,'Emission Calculations'!$K$10:$K$74)/2000),(SUMPRODUCT('Emission Calculations'!BG10:BG74,'Emission Calculations'!$K$10:$K$74)/2000))","v":0},{"$f":"IF('Emission Calculations'!$K$7=TRUE,(AE13*SUMPRODUCT('Emission Calculations'!BH10:BH74,'Emission Calculations'!$K$10:$K$74)/2000),(SUMPRODUCT('Emission Calculations'!BH10:BH74,'Emission Calculations'!$K$10:$K$74)/2000))","v":0},{"$f":"IF('Emission Calculations'!$K$7=TRUE,(AF13*SUMPRODUCT('Emission Calculations'!BI10:BI74,'Emission Calculations'!$K$10:$K$74)/2000),(SUMPRODUCT('Emission Calculations'!BI10:BI74,'Emission Calculations'!$K$10:$K$74)/2000))","v":0},{"$f":"IF('Emission Calculations'!$K$7=TRUE,(AG13*SUMPRODUCT('Emission Calculations'!BJ10:BJ74,'Emission Calculations'!$K$10:$K$74)/2000),(SUMPRODUCT('Emission Calculations'!BJ10:BJ74,'Emission Calculations'!$K$10:$K$74)/2000))","v":0},{"$f":"IF('Emission Calculations'!$K$7=TRUE,(AH13*SUMPRODUCT('Emission Calculations'!BK10:BK74,'Emission Calculations'!$K$10:$K$74)/2000),(SUMPRODUCT('Emission Calculations'!BK10:BK74,'Emission Calculations'!$K$10:$K$74)/2000))","v":0},{"$f":"IF('Emission Calculations'!$K$7=TRUE,(AI13*SUMPRODUCT('Emission Calculations'!BL10:BL74,'Emission Calculations'!$K$10:$K$74)/2000),(SUMPRODUCT('Emission Calculations'!BL10:BL74,'Emission Calculations'!$K$10:$K$74)/2000))","v":0},{"$f":"IF('Emission Calculations'!$K$7=TRUE,(AJ13*SUMPRODUCT('Emission Calculations'!BM10:BM74,'Emission Calculations'!$K$10:$K$74)/2000),(SUMPRODUCT('Emission Calculations'!BM10:BM74,'Emission Calculations'!$K$10:$K$74)/2000))","v":0},{"$f":"IF('Emission Calculations'!$K$7=TRUE,(AK13*SUMPRODUCT('Emission Calculations'!BN10:BN74,'Emission Calculations'!$K$10:$K$74)/2000),(SUMPRODUCT('Emission Calculations'!BN10:BN74,'Emission Calculations'!$K$10:$K$74)/2000))","v":0},{"$f":"IF('Emission Calculations'!$K$7=TRUE,(AL13*SUMPRODUCT('Emission Calculations'!BO10:BO74,'Emission Calculations'!$K$10:$K$74)/2000),(SUMPRODUCT('Emission Calculations'!BO10:BO74,'Emission Calculations'!$K$10:$K$74)/2000))","v":0},{"$f":"IF('Emission Calculations'!$K$7=TRUE,(AM13*SUMPRODUCT('Emission Calculations'!BP10:BP74,'Emission Calculations'!$K$10:$K$74)/2000),(SUMPRODUCT('Emission Calculations'!BP10:BP74,'Emission Calculations'!$K$10:$K$74)/2000))","v":0},{"$f":"IF('Emission Calculations'!$K$7=TRUE,(AN13*SUMPRODUCT('Emission Calculations'!BQ10:BQ74,'Emission Calculations'!$K$10:$K$74)/2000),(SUMPRODUCT('Emission Calculations'!BQ10:BQ74,'Emission Calculations'!$K$10:$K$74)/2000))","v":0},{"$f":"IF('Emission Calculations'!$K$7=TRUE,(AO13*SUMPRODUCT('Emission Calculations'!BR10:BR74,'Emission Calculations'!$K$10:$K$74)/2000),(SUMPRODUCT('Emission Calculations'!BR10:BR74,'Emission Calculations'!$K$10:$K$74)/2000))","v":0},{"$f":"IF('Emission Calculations'!$K$7=TRUE,(AP13*SUMPRODUCT('Emission Calculations'!BS10:BS74,'Emission Calculations'!$K$10:$K$74)/2000),(SUMPRODUCT('Emission Calculations'!BS10:BS74,'Emission Calculations'!$K$10:$K$74)/2000))","v":0},{"$f":"IF('Emission Calculations'!$K$7=TRUE,(AQ13*SUMPRODUCT('Emission Calculations'!BT10:BT74,'Emission Calculations'!$K$10:$K$74)/2000),(SUMPRODUCT('Emission Calculations'!BT10:BT74,'Emission Calculations'!$K$10:$K$74)/2000))","v":0},{"$f":"IF('Emission Calculations'!$K$7=TRUE,(AR13*SUMPRODUCT('Emission Calculations'!BU10:BU74,'Emission Calculations'!$K$10:$K$74)/2000),(SUMPRODUCT('Emission Calculations'!BU10:BU74,'Emission Calculations'!$K$10:$K$74)/2000))","v":0},{"$f":"IF('Emission Calculations'!$K$7=TRUE,(AS13*SUMPRODUCT('Emission Calculations'!BV10:BV74,'Emission Calculations'!$K$10:$K$74)/2000),(SUMPRODUCT('Emission Calculations'!BV10:BV74,'Emission Calculations'!$K$10:$K$74)/2000))","v":0},{"$f":"IF('Emission Calculations'!$K$7=TRUE,(AT13*SUMPRODUCT('Emission Calculations'!BW10:BW74,'Emission Calculations'!$K$10:$K$74)/2000),(SUMPRODUCT('Emission Calculations'!BW10:BW74,'Emission Calculations'!$K$10:$K$74)/2000))","v":0},{"$f":"IF('Emission Calculations'!$K$7=TRUE,(AU13*SUMPRODUCT('Emission Calculations'!BX10:BX74,'Emission Calculations'!$K$10:$K$74)/2000),(SUMPRODUCT('Emission Calculations'!BX10:BX74,'Emission Calculations'!$K$10:$K$74)/2000))","v":0},{"$f":"IF('Emission Calculations'!$K$7=TRUE,(AV13*SUMPRODUCT('Emission Calculations'!BY10:BY74,'Emission Calculations'!$K$10:$K$74)/2000),(SUMPRODUCT('Emission Calculations'!BY10:BY74,'Emission Calculations'!$K$10:$K$74)/2000))","v":0},{"$f":"IF('Emission Calculations'!$K$7=TRUE,(AW13*SUMPRODUCT('Emission Calculations'!BZ10:BZ74,'Emission Calculations'!$K$10:$K$74)/2000),(SUMPRODUCT('Emission Calculations'!BZ10:BZ74,'Emission Calculations'!$K$10:$K$74)/2000))","v":0},{"$f":"IF('Emission Calculations'!$K$7=TRUE,(AX13*SUMPRODUCT('Emission Calculations'!CA10:CA74,'Emission Calculations'!$K$10:$K$74)/2000),(SUMPRODUCT('Emission Calculations'!CA10:CA74,'Emission Calculations'!$K$10:$K$74)/2000))","v":0},{"$f":"IF('Emission Calculations'!$K$7=TRUE,(AY13*SUMPRODUCT('Emission Calculations'!CB10:CB74,'Emission Calculations'!$K$10:$K$74)/2000),(SUMPRODUCT('Emission Calculations'!CB10:CB74,'Emission Calculations'!$K$10:$K$74)/2000))","v":0},{"$f":"IF('Emission Calculations'!$K$7=TRUE,(AZ13*SUMPRODUCT('Emission Calculations'!CC10:CC74,'Emission Calculations'!$K$10:$K$74)/2000),(SUMPRODUCT('Emission Calculations'!CC10:CC74,'Emission Calculations'!$K$10:$K$74)/2000))","v":0},{"$f":"IF('Emission Calculations'!$K$7=TRUE,(BA13*SUMPRODUCT('Emission Calculations'!CD10:CD74,'Emission Calculations'!$K$10:$K$74)/2000),(SUMPRODUCT('Emission Calculations'!CD10:CD74,'Emission Calculations'!$K$10:$K$74)/2000))","v":0},{"$f":"IF('Emission Calculations'!$K$7=TRUE,(BB13*SUMPRODUCT('Emission Calculations'!CE10:CE74,'Emission Calculations'!$K$10:$K$74)/2000),(SUMPRODUCT('Emission Calculations'!CE10:CE74,'Emission Calculations'!$K$10:$K$74)/2000))","v":0},{"$f":"IF('Emission Calculations'!$K$7=TRUE,(BC13*SUMPRODUCT('Emission Calculations'!CF10:CF74,'Emission Calculations'!$K$10:$K$74)/2000),(SUMPRODUCT('Emission Calculations'!CF10:CF74,'Emission Calculations'!$K$10:$K$74)/2000))","v":0},{"$f":"IF('Emission Calculations'!$K$7=TRUE,(BD13*SUMPRODUCT('Emission Calculations'!CG10:CG74,'Emission Calculations'!$K$10:$K$74)/2000),(SUMPRODUCT('Emission Calculations'!CG10:CG74,'Emission Calculations'!$K$10:$K$74)/2000))","v":0},{"$f":"IF('Emission Calculations'!$K$7=TRUE,(BE13*SUMPRODUCT('Emission Calculations'!CH10:CH74,'Emission Calculations'!$K$10:$K$74)/2000),(SUMPRODUCT('Emission Calculations'!CH10:CH74,'Emission Calculations'!$K$10:$K$74)/2000))","v":0},{"$f":"IF('Emission Calculations'!$K$7=TRUE,(BF13*SUMPRODUCT('Emission Calculations'!CI10:CI74,'Emission Calculations'!$K$10:$K$74)/2000),(SUMPRODUCT('Emission Calculations'!CI10:CI74,'Emission Calculations'!$K$10:$K$74)/2000))","v":0},{"$f":"IF('Emission Calculations'!$K$7=TRUE,(BG13*SUMPRODUCT('Emission Calculations'!CJ10:CJ74,'Emission Calculations'!$K$10:$K$74)/2000),(SUMPRODUCT('Emission Calculations'!CJ10:CJ74,'Emission Calculations'!$K$10:$K$74)/2000))","v":0},{"$f":"IF('Emission Calculations'!$K$7=TRUE,(BH13*SUMPRODUCT('Emission Calculations'!CK10:CK74,'Emission Calculations'!$K$10:$K$74)/2000),(SUMPRODUCT('Emission Calculations'!CK10:CK74,'Emission Calculations'!$K$10:$K$74)/2000))","v":0},{"$f":"IF('Emission Calculations'!$K$7=TRUE,(BI13*SUMPRODUCT('Emission Calculations'!CL10:CL74,'Emission Calculations'!$K$10:$K$74)/2000),(SUMPRODUCT('Emission Calculations'!CL10:CL74,'Emission Calculations'!$K$10:$K$74)/2000))","v":0}]
[{"$f":"'Emission Calculations'!A269","v":"HAP Name"},{"$f":"IF('Emission Calculations'!$L$7=TRUE,(B13*SUMPRODUCT('Emission Calculations'!AE10:AE74,'Emission Calculations'!$L$10:$L$74)/2000),(SUMPRODUCT('Emission Calculations'!AE10:AE74,'Emission Calculations'!$L$10:$L$74)/2000))","v":0},{"$f":"IF('Emission Calculations'!$L$7=TRUE,(C13*SUMPRODUCT('Emission Calculations'!AF10:AF74,'Emission Calculations'!$L$10:$L$74)/2000),(SUMPRODUCT('Emission Calculations'!AF10:AF74,'Emission Calculations'!$L$10:$L$74)/2000))","v":0},{"$f":"IF('Emission Calculations'!$L$7=TRUE,(D13*SUMPRODUCT('Emission Calculations'!AG10:AG74,'Emission Calculations'!$L$10:$L$74)/2000),(SUMPRODUCT('Emission Calculations'!AG10:AG74,'Emission Calculations'!$L$10:$L$74)/2000))","v":0},{"$f":"IF('Emission Calculations'!$L$7=TRUE,(E13*SUMPRODUCT('Emission Calculations'!AH10:AH74,'Emission Calculations'!$L$10:$L$74)/2000),(SUMPRODUCT('Emission Calculations'!AH10:AH74,'Emission Calculations'!$L$10:$L$74)/2000))","v":0},{"$f":"IF('Emission Calculations'!$L$7=TRUE,(F13*SUMPRODUCT('Emission Calculations'!AI10:AI74,'Emission Calculations'!$L$10:$L$74)/2000),(SUMPRODUCT('Emission Calculations'!AI10:AI74,'Emission Calculations'!$L$10:$L$74)/2000))","v":0},{"$f":"IF('Emission Calculations'!$L$7=TRUE,(G13*SUMPRODUCT('Emission Calculations'!AJ10:AJ74,'Emission Calculations'!$L$10:$L$74)/2000),(SUMPRODUCT('Emission Calculations'!AJ10:AJ74,'Emission Calculations'!$L$10:$L$74)/2000))","v":0},{"$f":"IF('Emission Calculations'!$L$7=TRUE,(H13*SUMPRODUCT('Emission Calculations'!AK10:AK74,'Emission Calculations'!$L$10:$L$74)/2000),(SUMPRODUCT('Emission Calculations'!AK10:AK74,'Emission Calculations'!$L$10:$L$74)/2000))","v":0},{"$f":"IF('Emission Calculations'!$L$7=TRUE,(I13*SUMPRODUCT('Emission Calculations'!AL10:AL74,'Emission Calculations'!$L$10:$L$74)/2000),(SUMPRODUCT('Emission Calculations'!AL10:AL74,'Emission Calculations'!$L$10:$L$74)/2000))","v":0},{"$f":"IF('Emission Calculations'!$L$7=TRUE,(J13*SUMPRODUCT('Emission Calculations'!AM10:AM74,'Emission Calculations'!$L$10:$L$74)/2000),(SUMPRODUCT('Emission Calculations'!AM10:AM74,'Emission Calculations'!$L$10:$L$74)/2000))","v":0},{"$f":"IF('Emission Calculations'!$L$7=TRUE,(K13*SUMPRODUCT('Emission Calculations'!AN10:AN74,'Emission Calculations'!$L$10:$L$74)/2000),(SUMPRODUCT('Emission Calculations'!AN10:AN74,'Emission Calculations'!$L$10:$L$74)/2000))","v":0},{"$f":"IF('Emission Calculations'!$L$7=TRUE,(L13*SUMPRODUCT('Emission Calculations'!AO10:AO74,'Emission Calculations'!$L$10:$L$74)/2000),(SUMPRODUCT('Emission Calculations'!AO10:AO74,'Emission Calculations'!$L$10:$L$74)/2000))","v":0},{"$f":"IF('Emission Calculations'!$L$7=TRUE,(M13*SUMPRODUCT('Emission Calculations'!AP10:AP74,'Emission Calculations'!$L$10:$L$74)/2000),(SUMPRODUCT('Emission Calculations'!AP10:AP74,'Emission Calculations'!$L$10:$L$74)/2000))","v":0},{"$f":"IF('Emission Calculations'!$L$7=TRUE,(N13*SUMPRODUCT('Emission Calculations'!AQ10:AQ74,'Emission Calculations'!$L$10:$L$74)/2000),(SUMPRODUCT('Emission Calculations'!AQ10:AQ74,'Emission Calculations'!$L$10:$L$74)/2000))","v":0},{"$f":"IF('Emission Calculations'!$L$7=TRUE,(O13*SUMPRODUCT('Emission Calculations'!AR10:AR74,'Emission Calculations'!$L$10:$L$74)/2000),(SUMPRODUCT('Emission Calculations'!AR10:AR74,'Emission Calculations'!$L$10:$L$74)/2000))","v":0},{"$f":"IF('Emission Calculations'!$L$7=TRUE,(P13*SUMPRODUCT('Emission Calculations'!AS10:AS74,'Emission Calculations'!$L$10:$L$74)/2000),(SUMPRODUCT('Emission Calculations'!AS10:AS74,'Emission Calculations'!$L$10:$L$74)/2000))","v":0},{"$f":"IF('Emission Calculations'!$L$7=TRUE,(Q13*SUMPRODUCT('Emission Calculations'!AT10:AT74,'Emission Calculations'!$L$10:$L$74)/2000),(SUMPRODUCT('Emission Calculations'!AT10:AT74,'Emission Calculations'!$L$10:$L$74)/2000))","v":0},{"$f":"IF('Emission Calculations'!$L$7=TRUE,(R13*SUMPRODUCT('Emission Calculations'!AU10:AU74,'Emission Calculations'!$L$10:$L$74)/2000),(SUMPRODUCT('Emission Calculations'!AU10:AU74,'Emission Calculations'!$L$10:$L$74)/2000))","v":0},{"$f":"IF('Emission Calculations'!$L$7=TRUE,(S13*SUMPRODUCT('Emission Calculations'!AV10:AV74,'Emission Calculations'!$L$10:$L$74)/2000),(SUMPRODUCT('Emission Calculations'!AV10:AV74,'Emission Calculations'!$L$10:$L$74)/2000))","v":0},{"$f":"IF('Emission Calculations'!$L$7=TRUE,(T13*SUMPRODUCT('Emission Calculations'!AW10:AW74,'Emission Calculations'!$L$10:$L$74)/2000),(SUMPRODUCT('Emission Calculations'!AW10:AW74,'Emission Calculations'!$L$10:$L$74)/2000))","v":0},{"$f":"IF('Emission Calculations'!$L$7=TRUE,(U13*SUMPRODUCT('Emission Calculations'!AX10:AX74,'Emission Calculations'!$L$10:$L$74)/2000),(SUMPRODUCT('Emission Calculations'!AX10:AX74,'Emission Calculations'!$L$10:$L$74)/2000))","v":0},{"$f":"IF('Emission Calculations'!$L$7=TRUE,(V13*SUMPRODUCT('Emission Calculations'!AY10:AY74,'Emission Calculations'!$L$10:$L$74)/2000),(SUMPRODUCT('Emission Calculations'!AY10:AY74,'Emission Calculations'!$L$10:$L$74)/2000))","v":0},{"$f":"IF('Emission Calculations'!$L$7=TRUE,(W13*SUMPRODUCT('Emission Calculations'!AZ10:AZ74,'Emission Calculations'!$L$10:$L$74)/2000),(SUMPRODUCT('Emission Calculations'!AZ10:AZ74,'Emission Calculations'!$L$10:$L$74)/2000))","v":0},{"$f":"IF('Emission Calculations'!$L$7=TRUE,(X13*SUMPRODUCT('Emission Calculations'!BA10:BA74,'Emission Calculations'!$L$10:$L$74)/2000),(SUMPRODUCT('Emission Calculations'!BA10:BA74,'Emission Calculations'!$L$10:$L$74)/2000))","v":0},{"$f":"IF('Emission Calculations'!$L$7=TRUE,(Y13*SUMPRODUCT('Emission Calculations'!BB10:BB74,'Emission Calculations'!$L$10:$L$74)/2000),(SUMPRODUCT('Emission Calculations'!BB10:BB74,'Emission Calculations'!$L$10:$L$74)/2000))","v":0},{"$f":"IF('Emission Calculations'!$L$7=TRUE,(Z13*SUMPRODUCT('Emission Calculations'!BC10:BC74,'Emission Calculations'!$L$10:$L$74)/2000),(SUMPRODUCT('Emission Calculations'!BC10:BC74,'Emission Calculations'!$L$10:$L$74)/2000))","v":0},{"$f":"IF('Emission Calculations'!$L$7=TRUE,(AA13*SUMPRODUCT('Emission Calculations'!BD10:BD74,'Emission Calculations'!$L$10:$L$74)/2000),(SUMPRODUCT('Emission Calculations'!BD10:BD74,'Emission Calculations'!$L$10:$L$74)/2000))","v":0},{"$f":"IF('Emission Calculations'!$L$7=TRUE,(AB13*SUMPRODUCT('Emission Calculations'!BE10:BE74,'Emission Calculations'!$L$10:$L$74)/2000),(SUMPRODUCT('Emission Calculations'!BE10:BE74,'Emission Calculations'!$L$10:$L$74)/2000))","v":0},{"$f":"IF('Emission Calculations'!$L$7=TRUE,(AC13*SUMPRODUCT('Emission Calculations'!BF10:BF74,'Emission Calculations'!$L$10:$L$74)/2000),(SUMPRODUCT('Emission Calculations'!BF10:BF74,'Emission Calculations'!$L$10:$L$74)/2000))","v":0},{"$f":"IF('Emission Calculations'!$L$7=TRUE,(AD13*SUMPRODUCT('Emission Calculations'!BG10:BG74,'Emission Calculations'!$L$10:$L$74)/2000),(SUMPRODUCT('Emission Calculations'!BG10:BG74,'Emission Calculations'!$L$10:$L$74)/2000))","v":0},{"$f":"IF('Emission Calculations'!$L$7=TRUE,(AE13*SUMPRODUCT('Emission Calculations'!BH10:BH74,'Emission Calculations'!$L$10:$L$74)/2000),(SUMPRODUCT('Emission Calculations'!BH10:BH74,'Emission Calculations'!$L$10:$L$74)/2000))","v":0},{"$f":"IF('Emission Calculations'!$L$7=TRUE,(AF13*SUMPRODUCT('Emission Calculations'!BI10:BI74,'Emission Calculations'!$L$10:$L$74)/2000),(SUMPRODUCT('Emission Calculations'!BI10:BI74,'Emission Calculations'!$L$10:$L$74)/2000))","v":0},{"$f":"IF('Emission Calculations'!$L$7=TRUE,(AG13*SUMPRODUCT('Emission Calculations'!BJ10:BJ74,'Emission Calculations'!$L$10:$L$74)/2000),(SUMPRODUCT('Emission Calculations'!BJ10:BJ74,'Emission Calculations'!$L$10:$L$74)/2000))","v":0},{"$f":"IF('Emission Calculations'!$L$7=TRUE,(AH13*SUMPRODUCT('Emission Calculations'!BK10:BK74,'Emission Calculations'!$L$10:$L$74)/2000),(SUMPRODUCT('Emission Calculations'!BK10:BK74,'Emission Calculations'!$L$10:$L$74)/2000))","v":0},{"$f":"IF('Emission Calculations'!$L$7=TRUE,(AI13*SUMPRODUCT('Emission Calculations'!BL10:BL74,'Emission Calculations'!$L$10:$L$74)/2000),(SUMPRODUCT('Emission Calculations'!BL10:BL74,'Emission Calculations'!$L$10:$L$74)/2000))","v":0},{"$f":"IF('Emission Calculations'!$L$7=TRUE,(AJ13*SUMPRODUCT('Emission Calculations'!BM10:BM74,'Emission Calculations'!$L$10:$L$74)/2000),(SUMPRODUCT('Emission Calculations'!BM10:BM74,'Emission Calculations'!$L$10:$L$74)/2000))","v":0},{"$f":"IF('Emission Calculations'!$L$7=TRUE,(AK13*SUMPRODUCT('Emission Calculations'!BN10:BN74,'Emission Calculations'!$L$10:$L$74)/2000),(SUMPRODUCT('Emission Calculations'!BN10:BN74,'Emission Calculations'!$L$10:$L$74)/2000))","v":0},{"$f":"IF('Emission Calculations'!$L$7=TRUE,(AL13*SUMPRODUCT('Emission Calculations'!BO10:BO74,'Emission Calculations'!$L$10:$L$74)/2000),(SUMPRODUCT('Emission Calculations'!BO10:BO74,'Emission Calculations'!$L$10:$L$74)/2000))","v":0},{"$f":"IF('Emission Calculations'!$L$7=TRUE,(AM13*SUMPRODUCT('Emission Calculations'!BP10:BP74,'Emission Calculations'!$L$10:$L$74)/2000),(SUMPRODUCT('Emission Calculations'!BP10:BP74,'Emission Calculations'!$L$10:$L$74)/2000))","v":0},{"$f":"IF('Emission Calculations'!$L$7=TRUE,(AN13*SUMPRODUCT('Emission Calculations'!BQ10:BQ74,'Emission Calculations'!$L$10:$L$74)/2000),(SUMPRODUCT('Emission Calculations'!BQ10:BQ74,'Emission Calculations'!$L$10:$L$74)/2000))","v":0},{"$f":"IF('Emission Calculations'!$L$7=TRUE,(AO13*SUMPRODUCT('Emission Calculations'!BR10:BR74,'Emission Calculations'!$L$10:$L$74)/2000),(SUMPRODUCT('Emission Calculations'!BR10:BR74,'Emission Calculations'!$L$10:$L$74)/2000))","v":0},{"$f":"IF('Emission Calculations'!$L$7=TRUE,(AP13*SUMPRODUCT('Emission Calculations'!BS10:BS74,'Emission Calculations'!$L$10:$L$74)/2000),(SUMPRODUCT('Emission Calculations'!BS10:BS74,'Emission Calculations'!$L$10:$L$74)/2000))","v":0},{"$f":"IF('Emission Calculations'!$L$7=TRUE,(AQ13*SUMPRODUCT('Emission Calculations'!BT10:BT74,'Emission Calculations'!$L$10:$L$74)/2000),(SUMPRODUCT('Emission Calculations'!BT10:BT74,'Emission Calculations'!$L$10:$L$74)/2000))","v":0},{"$f":"IF('Emission Calculations'!$L$7=TRUE,(AR13*SUMPRODUCT('Emission Calculations'!BU10:BU74,'Emission Calculations'!$L$10:$L$74)/2000),(SUMPRODUCT('Emission Calculations'!BU10:BU74,'Emission Calculations'!$L$10:$L$74)/2000))","v":0},{"$f":"IF('Emission Calculations'!$L$7=TRUE,(AS13*SUMPRODUCT('Emission Calculations'!BV10:BV74,'Emission Calculations'!$L$10:$L$74)/2000),(SUMPRODUCT('Emission Calculations'!BV10:BV74,'Emission Calculations'!$L$10:$L$74)/2000))","v":0},{"$f":"IF('Emission Calculations'!$L$7=TRUE,(AT13*SUMPRODUCT('Emission Calculations'!BW10:BW74,'Emission Calculations'!$L$10:$L$74)/2000),(SUMPRODUCT('Emission Calculations'!BW10:BW74,'Emission Calculations'!$L$10:$L$74)/2000))","v":0},{"$f":"IF('Emission Calculations'!$L$7=TRUE,(AU13*SUMPRODUCT('Emission Calculations'!BX10:BX74,'Emission Calculations'!$L$10:$L$74)/2000),(SUMPRODUCT('Emission Calculations'!BX10:BX74,'Emission Calculations'!$L$10:$L$74)/2000))","v":0},{"$f":"IF('Emission Calculations'!$L$7=TRUE,(AV13*SUMPRODUCT('Emission Calculations'!BY10:BY74,'Emission Calculations'!$L$10:$L$74)/2000),(SUMPRODUCT('Emission Calculations'!BY10:BY74,'Emission Calculations'!$L$10:$L$74)/2000))","v":0},{"$f":"IF('Emission Calculations'!$L$7=TRUE,(AW13*SUMPRODUCT('Emission Calculations'!BZ10:BZ74,'Emission Calculations'!$L$10:$L$74)/2000),(SUMPRODUCT('Emission Calculations'!BZ10:BZ74,'Emission Calculations'!$L$10:$L$74)/2000))","v":0},{"$f":"IF('Emission Calculations'!$L$7=TRUE,(AX13*SUMPRODUCT('Emission Calculations'!CA10:CA74,'Emission Calculations'!$L$10:$L$74)/2000),(SUMPRODUCT('Emission Calculations'!CA10:CA74,'Emission Calculations'!$L$10:$L$74)/2000))","v":0},{"$f":"IF('Emission Calculations'!$L$7=TRUE,(AY13*SUMPRODUCT('Emission Calculations'!CB10:CB74,'Emission Calculations'!$L$10:$L$74)/2000),(SUMPRODUCT('Emission Calculations'!CB10:CB74,'Emission Calculations'!$L$10:$L$74)/2000))","v":0},{"$f":"IF('Emission Calculations'!$L$7=TRUE,(AZ13*SUMPRODUCT('Emission Calculations'!CC10:CC74,'Emission Calculations'!$L$10:$L$74)/2000),(SUMPRODUCT('Emission Calculations'!CC10:CC74,'Emission Calculations'!$L$10:$L$74)/2000))","v":0},{"$f":"IF('Emission Calculations'!$L$7=TRUE,(BA13*SUMPRODUCT('Emission Calculations'!CD10:CD74,'Emission Calculations'!$L$10:$L$74)/2000),(SUMPRODUCT('Emission Calculations'!CD10:CD74,'Emission Calculations'!$L$10:$L$74)/2000))","v":0},{"$f":"IF('Emission Calculations'!$L$7=TRUE,(BB13*SUMPRODUCT('Emission Calculations'!CE10:CE74,'Emission Calculations'!$L$10:$L$74)/2000),(SUMPRODUCT('Emission Calculations'!CE10:CE74,'Emission Calculations'!$L$10:$L$74)/2000))","v":0},{"$f":"IF('Emission Calculations'!$L$7=TRUE,(BC13*SUMPRODUCT('Emission Calculations'!CF10:CF74,'Emission Calculations'!$L$10:$L$74)/2000),(SUMPRODUCT('Emission Calculations'!CF10:CF74,'Emission Calculations'!$L$10:$L$74)/2000))","v":0},{"$f":"IF('Emission Calculations'!$L$7=TRUE,(BD13*SUMPRODUCT('Emission Calculations'!CG10:CG74,'Emission Calculations'!$L$10:$L$74)/2000),(SUMPRODUCT('Emission Calculations'!CG10:CG74,'Emission Calculations'!$L$10:$L$74)/2000))","v":0},{"$f":"IF('Emission Calculations'!$L$7=TRUE,(BE13*SUMPRODUCT('Emission Calculations'!CH10:CH74,'Emission Calculations'!$L$10:$L$74)/2000),(SUMPRODUCT('Emission Calculations'!CH10:CH74,'Emission Calculations'!$L$10:$L$74)/2000))","v":0},{"$f":"IF('Emission Calculations'!$L$7=TRUE,(BF13*SUMPRODUCT('Emission Calculations'!CI10:CI74,'Emission Calculations'!$L$10:$L$74)/2000),(SUMPRODUCT('Emission Calculations'!CI10:CI74,'Emission Calculations'!$L$10:$L$74)/2000))","v":0},{"$f":"IF('Emission Calculations'!$L$7=TRUE,(BG13*SUMPRODUCT('Emission Calculations'!CJ10:CJ74,'Emission Calculations'!$L$10:$L$74)/2000),(SUMPRODUCT('Emission Calculations'!CJ10:CJ74,'Emission Calculations'!$L$10:$L$74)/2000))","v":0},{"$f":"IF('Emission Calculations'!$L$7=TRUE,(BH13*SUMPRODUCT('Emission Calculations'!CK10:CK74,'Emission Calculations'!$L$10:$L$74)/2000),(SUMPRODUCT('Emission Calculations'!CK10:CK74,'Emission Calculations'!$L$10:$L$74)/2000))","v":0},{"$f":"IF('Emission Calculations'!$L$7=TRUE,(BI13*SUMPRODUCT('Emission Calculations'!CL10:CL74,'Emission Calculations'!$L$10:$L$74)/2000),(SUMPRODUCT('Emission Calculations'!CL10:CL74,'Emission Calculations'!$L$10:$L$74)/2000))","v":0}]
[{"$f":"'Emission Calculations'!A270","v":"HAP Name"},{"$f":"IF('Emission Calculations'!$M$7=TRUE,(B13*SUMPRODUCT('Emission Calculations'!AE$10:AE$74,'Emission Calculations'!$M$10:$M$74)/2000),SUMPRODUCT('Emission Calculations'!AE$10:AE$74,'Emission Calculations'!$M$10:$M$74)/2000)","v":0},{"$f":"IF('Emission Calculations'!$M$7=TRUE,(C13*SUMPRODUCT('Emission Calculations'!AF$10:AF$74,'Emission Calculations'!$M$10:$M$74)/2000),SUMPRODUCT('Emission Calculations'!AF$10:AF$74,'Emission Calculations'!$M$10:$M$74)/2000)","v":0},{"$f":"IF('Emission Calculations'!$M$7=TRUE,(D13*SUMPRODUCT('Emission Calculations'!AG$10:AG$74,'Emission Calculations'!$M$10:$M$74)/2000),SUMPRODUCT('Emission Calculations'!AG$10:AG$74,'Emission Calculations'!$M$10:$M$74)/2000)","v":0},{"$f":"IF('Emission Calculations'!$M$7=TRUE,(E13*SUMPRODUCT('Emission Calculations'!AH$10:AH$74,'Emission Calculations'!$M$10:$M$74)/2000),SUMPRODUCT('Emission Calculations'!AH$10:AH$74,'Emission Calculations'!$M$10:$M$74)/2000)","v":0},{"$f":"IF('Emission Calculations'!$M$7=TRUE,(F13*SUMPRODUCT('Emission Calculations'!AI$10:AI$74,'Emission Calculations'!$M$10:$M$74)/2000),SUMPRODUCT('Emission Calculations'!AI$10:AI$74,'Emission Calculations'!$M$10:$M$74)/2000)","v":0},{"$f":"IF('Emission Calculations'!$M$7=TRUE,(G13*SUMPRODUCT('Emission Calculations'!AJ$10:AJ$74,'Emission Calculations'!$M$10:$M$74)/2000),SUMPRODUCT('Emission Calculations'!AJ$10:AJ$74,'Emission Calculations'!$M$10:$M$74)/2000)","v":0},{"$f":"IF('Emission Calculations'!$M$7=TRUE,(H13*SUMPRODUCT('Emission Calculations'!AK$10:AK$74,'Emission Calculations'!$M$10:$M$74)/2000),SUMPRODUCT('Emission Calculations'!AK$10:AK$74,'Emission Calculations'!$M$10:$M$74)/2000)","v":0},{"$f":"IF('Emission Calculations'!$M$7=TRUE,(I13*SUMPRODUCT('Emission Calculations'!AL$10:AL$74,'Emission Calculations'!$M$10:$M$74)/2000),SUMPRODUCT('Emission Calculations'!AL$10:AL$74,'Emission Calculations'!$M$10:$M$74)/2000)","v":0},{"$f":"IF('Emission Calculations'!$M$7=TRUE,(J13*SUMPRODUCT('Emission Calculations'!AM$10:AM$74,'Emission Calculations'!$M$10:$M$74)/2000),SUMPRODUCT('Emission Calculations'!AM$10:AM$74,'Emission Calculations'!$M$10:$M$74)/2000)","v":0},{"$f":"IF('Emission Calculations'!$M$7=TRUE,(K13*SUMPRODUCT('Emission Calculations'!AN$10:AN$74,'Emission Calculations'!$M$10:$M$74)/2000),SUMPRODUCT('Emission Calculations'!AN$10:AN$74,'Emission Calculations'!$M$10:$M$74)/2000)","v":0},{"$f":"IF('Emission Calculations'!$M$7=TRUE,(L13*SUMPRODUCT('Emission Calculations'!AO$10:AO$74,'Emission Calculations'!$M$10:$M$74)/2000),SUMPRODUCT('Emission Calculations'!AO$10:AO$74,'Emission Calculations'!$M$10:$M$74)/2000)","v":0},{"$f":"IF('Emission Calculations'!$M$7=TRUE,(M13*SUMPRODUCT('Emission Calculations'!AP$10:AP$74,'Emission Calculations'!$M$10:$M$74)/2000),SUMPRODUCT('Emission Calculations'!AP$10:AP$74,'Emission Calculations'!$M$10:$M$74)/2000)","v":0},{"$f":"IF('Emission Calculations'!$M$7=TRUE,(N13*SUMPRODUCT('Emission Calculations'!AQ$10:AQ$74,'Emission Calculations'!$M$10:$M$74)/2000),SUMPRODUCT('Emission Calculations'!AQ$10:AQ$74,'Emission Calculations'!$M$10:$M$74)/2000)","v":0},{"$f":"IF('Emission Calculations'!$M$7=TRUE,(O13*SUMPRODUCT('Emission Calculations'!AR$10:AR$74,'Emission Calculations'!$M$10:$M$74)/2000),SUMPRODUCT('Emission Calculations'!AR$10:AR$74,'Emission Calculations'!$M$10:$M$74)/2000)","v":0},{"$f":"IF('Emission Calculations'!$M$7=TRUE,(P13*SUMPRODUCT('Emission Calculations'!AS$10:AS$74,'Emission Calculations'!$M$10:$M$74)/2000),SUMPRODUCT('Emission Calculations'!AS$10:AS$74,'Emission Calculations'!$M$10:$M$74)/2000)","v":0},{"$f":"IF('Emission Calculations'!$M$7=TRUE,(Q13*SUMPRODUCT('Emission Calculations'!AT$10:AT$74,'Emission Calculations'!$M$10:$M$74)/2000),SUMPRODUCT('Emission Calculations'!AT$10:AT$74,'Emission Calculations'!$M$10:$M$74)/2000)","v":0},{"$f":"IF('Emission Calculations'!$M$7=TRUE,(R13*SUMPRODUCT('Emission Calculations'!AU$10:AU$74,'Emission Calculations'!$M$10:$M$74)/2000),SUMPRODUCT('Emission Calculations'!AU$10:AU$74,'Emission Calculations'!$M$10:$M$74)/2000)","v":0},{"$f":"IF('Emission Calculations'!$M$7=TRUE,(S13*SUMPRODUCT('Emission Calculations'!AV$10:AV$74,'Emission Calculations'!$M$10:$M$74)/2000),SUMPRODUCT('Emission Calculations'!AV$10:AV$74,'Emission Calculations'!$M$10:$M$74)/2000)","v":0},{"$f":"IF('Emission Calculations'!$M$7=TRUE,(T13*SUMPRODUCT('Emission Calculations'!AW$10:AW$74,'Emission Calculations'!$M$10:$M$74)/2000),SUMPRODUCT('Emission Calculations'!AW$10:AW$74,'Emission Calculations'!$M$10:$M$74)/2000)","v":0},{"$f":"IF('Emission Calculations'!$M$7=TRUE,(U13*SUMPRODUCT('Emission Calculations'!AX$10:AX$74,'Emission Calculations'!$M$10:$M$74)/2000),SUMPRODUCT('Emission Calculations'!AX$10:AX$74,'Emission Calculations'!$M$10:$M$74)/2000)","v":0},{"$f":"IF('Emission Calculations'!$M$7=TRUE,(V13*SUMPRODUCT('Emission Calculations'!AY$10:AY$74,'Emission Calculations'!$M$10:$M$74)/2000),SUMPRODUCT('Emission Calculations'!AY$10:AY$74,'Emission Calculations'!$M$10:$M$74)/2000)","v":0},{"$f":"IF('Emission Calculations'!$M$7=TRUE,(W13*SUMPRODUCT('Emission Calculations'!AZ$10:AZ$74,'Emission Calculations'!$M$10:$M$74)/2000),SUMPRODUCT('Emission Calculations'!AZ$10:AZ$74,'Emission Calculations'!$M$10:$M$74)/2000)","v":0},{"$f":"IF('Emission Calculations'!$M$7=TRUE,(X13*SUMPRODUCT('Emission Calculations'!BA$10:BA$74,'Emission Calculations'!$M$10:$M$74)/2000),SUMPRODUCT('Emission Calculations'!BA$10:BA$74,'Emission Calculations'!$M$10:$M$74)/2000)","v":0},{"$f":"IF('Emission Calculations'!$M$7=TRUE,(Y13*SUMPRODUCT('Emission Calculations'!BB$10:BB$74,'Emission Calculations'!$M$10:$M$74)/2000),SUMPRODUCT('Emission Calculations'!BB$10:BB$74,'Emission Calculations'!$M$10:$M$74)/2000)","v":0},{"$f":"IF('Emission Calculations'!$M$7=TRUE,(Z13*SUMPRODUCT('Emission Calculations'!BC$10:BC$74,'Emission Calculations'!$M$10:$M$74)/2000),SUMPRODUCT('Emission Calculations'!BC$10:BC$74,'Emission Calculations'!$M$10:$M$74)/2000)","v":0},{"$f":"IF('Emission Calculations'!$M$7=TRUE,(AA13*SUMPRODUCT('Emission Calculations'!BD$10:BD$74,'Emission Calculations'!$M$10:$M$74)/2000),SUMPRODUCT('Emission Calculations'!BD$10:BD$74,'Emission Calculations'!$M$10:$M$74)/2000)","v":0},{"$f":"IF('Emission Calculations'!$M$7=TRUE,(AB13*SUMPRODUCT('Emission Calculations'!BE$10:BE$74,'Emission Calculations'!$M$10:$M$74)/2000),SUMPRODUCT('Emission Calculations'!BE$10:BE$74,'Emission Calculations'!$M$10:$M$74)/2000)","v":0},{"$f":"IF('Emission Calculations'!$M$7=TRUE,(AC13*SUMPRODUCT('Emission Calculations'!BF$10:BF$74,'Emission Calculations'!$M$10:$M$74)/2000),SUMPRODUCT('Emission Calculations'!BF$10:BF$74,'Emission Calculations'!$M$10:$M$74)/2000)","v":0},{"$f":"IF('Emission Calculations'!$M$7=TRUE,(AD13*SUMPRODUCT('Emission Calculations'!BG$10:BG$74,'Emission Calculations'!$M$10:$M$74)/2000),SUMPRODUCT('Emission Calculations'!BG$10:BG$74,'Emission Calculations'!$M$10:$M$74)/2000)","v":0},{"$f":"IF('Emission Calculations'!$M$7=TRUE,(AE13*SUMPRODUCT('Emission Calculations'!BH$10:BH$74,'Emission Calculations'!$M$10:$M$74)/2000),SUMPRODUCT('Emission Calculations'!BH$10:BH$74,'Emission Calculations'!$M$10:$M$74)/2000)","v":0},{"$f":"IF('Emission Calculations'!$M$7=TRUE,(AF13*SUMPRODUCT('Emission Calculations'!BI$10:BI$74,'Emission Calculations'!$M$10:$M$74)/2000),SUMPRODUCT('Emission Calculations'!BI$10:BI$74,'Emission Calculations'!$M$10:$M$74)/2000)","v":0},{"$f":"IF('Emission Calculations'!$M$7=TRUE,(AG13*SUMPRODUCT('Emission Calculations'!BJ$10:BJ$74,'Emission Calculations'!$M$10:$M$74)/2000),SUMPRODUCT('Emission Calculations'!BJ$10:BJ$74,'Emission Calculations'!$M$10:$M$74)/2000)","v":0},{"$f":"IF('Emission Calculations'!$M$7=TRUE,(AH13*SUMPRODUCT('Emission Calculations'!BK$10:BK$74,'Emission Calculations'!$M$10:$M$74)/2000),SUMPRODUCT('Emission Calculations'!BK$10:BK$74,'Emission Calculations'!$M$10:$M$74)/2000)","v":0},{"$f":"IF('Emission Calculations'!$M$7=TRUE,(AI13*SUMPRODUCT('Emission Calculations'!BL$10:BL$74,'Emission Calculations'!$M$10:$M$74)/2000),SUMPRODUCT('Emission Calculations'!BL$10:BL$74,'Emission Calculations'!$M$10:$M$74)/2000)","v":0},{"$f":"IF('Emission Calculations'!$M$7=TRUE,(AJ13*SUMPRODUCT('Emission Calculations'!BM$10:BM$74,'Emission Calculations'!$M$10:$M$74)/2000),SUMPRODUCT('Emission Calculations'!BM$10:BM$74,'Emission Calculations'!$M$10:$M$74)/2000)","v":0},{"$f":"IF('Emission Calculations'!$M$7=TRUE,(AK13*SUMPRODUCT('Emission Calculations'!BN$10:BN$74,'Emission Calculations'!$M$10:$M$74)/2000),SUMPRODUCT('Emission Calculations'!BN$10:BN$74,'Emission Calculations'!$M$10:$M$74)/2000)","v":0},{"$f":"IF('Emission Calculations'!$M$7=TRUE,(AL13*SUMPRODUCT('Emission Calculations'!BO$10:BO$74,'Emission Calculations'!$M$10:$M$74)/2000),SUMPRODUCT('Emission Calculations'!BO$10:BO$74,'Emission Calculations'!$M$10:$M$74)/2000)","v":0},{"$f":"IF('Emission Calculations'!$M$7=TRUE,(AM13*SUMPRODUCT('Emission Calculations'!BP$10:BP$74,'Emission Calculations'!$M$10:$M$74)/2000),SUMPRODUCT('Emission Calculations'!BP$10:BP$74,'Emission Calculations'!$M$10:$M$74)/2000)","v":0},{"$f":"IF('Emission Calculations'!$M$7=TRUE,(AN13*SUMPRODUCT('Emission Calculations'!BQ$10:BQ$74,'Emission Calculations'!$M$10:$M$74)/2000),SUMPRODUCT('Emission Calculations'!BQ$10:BQ$74,'Emission Calculations'!$M$10:$M$74)/2000)","v":0},{"$f":"IF('Emission Calculations'!$M$7=TRUE,(AO13*SUMPRODUCT('Emission Calculations'!BR$10:BR$74,'Emission Calculations'!$M$10:$M$74)/2000),SUMPRODUCT('Emission Calculations'!BR$10:BR$74,'Emission Calculations'!$M$10:$M$74)/2000)","v":0},{"$f":"IF('Emission Calculations'!$M$7=TRUE,(AP13*SUMPRODUCT('Emission Calculations'!BS$10:BS$74,'Emission Calculations'!$M$10:$M$74)/2000),SUMPRODUCT('Emission Calculations'!BS$10:BS$74,'Emission Calculations'!$M$10:$M$74)/2000)","v":0},{"$f":"IF('Emission Calculations'!$M$7=TRUE,(AQ13*SUMPRODUCT('Emission Calculations'!BT$10:BT$74,'Emission Calculations'!$M$10:$M$74)/2000),SUMPRODUCT('Emission Calculations'!BT$10:BT$74,'Emission Calculations'!$M$10:$M$74)/2000)","v":0},{"$f":"IF('Emission Calculations'!$M$7=TRUE,(AR13*SUMPRODUCT('Emission Calculations'!BU$10:BU$74,'Emission Calculations'!$M$10:$M$74)/2000),SUMPRODUCT('Emission Calculations'!BU$10:BU$74,'Emission Calculations'!$M$10:$M$74)/2000)","v":0},{"$f":"IF('Emission Calculations'!$M$7=TRUE,(AS13*SUMPRODUCT('Emission Calculations'!BV$10:BV$74,'Emission Calculations'!$M$10:$M$74)/2000),SUMPRODUCT('Emission Calculations'!BV$10:BV$74,'Emission Calculations'!$M$10:$M$74)/2000)","v":0},{"$f":"IF('Emission Calculations'!$M$7=TRUE,(AT13*SUMPRODUCT('Emission Calculations'!BW$10:BW$74,'Emission Calculations'!$M$10:$M$74)/2000),SUMPRODUCT('Emission Calculations'!BW$10:BW$74,'Emission Calculations'!$M$10:$M$74)/2000)","v":0},{"$f":"IF('Emission Calculations'!$M$7=TRUE,(AU13*SUMPRODUCT('Emission Calculations'!BX$10:BX$74,'Emission Calculations'!$M$10:$M$74)/2000),SUMPRODUCT('Emission Calculations'!BX$10:BX$74,'Emission Calculations'!$M$10:$M$74)/2000)","v":0},{"$f":"IF('Emission Calculations'!$M$7=TRUE,(AV13*SUMPRODUCT('Emission Calculations'!BY$10:BY$74,'Emission Calculations'!$M$10:$M$74)/2000),SUMPRODUCT('Emission Calculations'!BY$10:BY$74,'Emission Calculations'!$M$10:$M$74)/2000)","v":0},{"$f":"IF('Emission Calculations'!$M$7=TRUE,(AW13*SUMPRODUCT('Emission Calculations'!BZ$10:BZ$74,'Emission Calculations'!$M$10:$M$74)/2000),SUMPRODUCT('Emission Calculations'!BZ$10:BZ$74,'Emission Calculations'!$M$10:$M$74)/2000)","v":0},{"$f":"IF('Emission Calculations'!$M$7=TRUE,(AX13*SUMPRODUCT('Emission Calculations'!CA$10:CA$74,'Emission Calculations'!$M$10:$M$74)/2000),SUMPRODUCT('Emission Calculations'!CA$10:CA$74,'Emission Calculations'!$M$10:$M$74)/2000)","v":0},{"$f":"IF('Emission Calculations'!$M$7=TRUE,(AY13*SUMPRODUCT('Emission Calculations'!CB$10:CB$74,'Emission Calculations'!$M$10:$M$74)/2000),SUMPRODUCT('Emission Calculations'!CB$10:CB$74,'Emission Calculations'!$M$10:$M$74)/2000)","v":0},{"$f":"IF('Emission Calculations'!$M$7=TRUE,(AZ13*SUMPRODUCT('Emission Calculations'!CC$10:CC$74,'Emission Calculations'!$M$10:$M$74)/2000),SUMPRODUCT('Emission Calculations'!CC$10:CC$74,'Emission Calculations'!$M$10:$M$74)/2000)","v":0},{"$f":"IF('Emission Calculations'!$M$7=TRUE,(BA13*SUMPRODUCT('Emission Calculations'!CD$10:CD$74,'Emission Calculations'!$M$10:$M$74)/2000),SUMPRODUCT('Emission Calculations'!CD$10:CD$74,'Emission Calculations'!$M$10:$M$74)/2000)","v":0},{"$f":"IF('Emission Calculations'!$M$7=TRUE,(BB13*SUMPRODUCT('Emission Calculations'!CE$10:CE$74,'Emission Calculations'!$M$10:$M$74)/2000),SUMPRODUCT('Emission Calculations'!CE$10:CE$74,'Emission Calculations'!$M$10:$M$74)/2000)","v":0},{"$f":"IF('Emission Calculations'!$M$7=TRUE,(BC13*SUMPRODUCT('Emission Calculations'!CF$10:CF$74,'Emission Calculations'!$M$10:$M$74)/2000),SUMPRODUCT('Emission Calculations'!CF$10:CF$74,'Emission Calculations'!$M$10:$M$74)/2000)","v":0},{"$f":"IF('Emission Calculations'!$M$7=TRUE,(BD13*SUMPRODUCT('Emission Calculations'!CG$10:CG$74,'Emission Calculations'!$M$10:$M$74)/2000),SUMPRODUCT('Emission Calculations'!CG$10:CG$74,'Emission Calculations'!$M$10:$M$74)/2000)","v":0},{"$f":"IF('Emission Calculations'!$M$7=TRUE,(BE13*SUMPRODUCT('Emission Calculations'!CH$10:CH$74,'Emission Calculations'!$M$10:$M$74)/2000),SUMPRODUCT('Emission Calculations'!CH$10:CH$74,'Emission Calculations'!$M$10:$M$74)/2000)","v":0},{"$f":"IF('Emission Calculations'!$M$7=TRUE,(BF13*SUMPRODUCT('Emission Calculations'!CI$10:CI$74,'Emission Calculations'!$M$10:$M$74)/2000),SUMPRODUCT('Emission Calculations'!CI$10:CI$74,'Emission Calculations'!$M$10:$M$74)/2000)","v":0},{"$f":"IF('Emission Calculations'!$M$7=TRUE,(BG13*SUMPRODUCT('Emission Calculations'!CJ$10:CJ$74,'Emission Calculations'!$M$10:$M$74)/2000),SUMPRODUCT('Emission Calculations'!CJ$10:CJ$74,'Emission Calculations'!$M$10:$M$74)/2000)","v":0},{"$f":"IF('Emission Calculations'!$M$7=TRUE,(BH13*SUMPRODUCT('Emission Calculations'!CK$10:CK$74,'Emission Calculations'!$M$10:$M$74)/2000),SUMPRODUCT('Emission Calculations'!CK$10:CK$74,'Emission Calculations'!$M$10:$M$74)/2000)","v":0},{"$f":"IF('Emission Calculations'!$M$7=TRUE,(BI13*SUMPRODUCT('Emission Calculations'!CL$10:CL$74,'Emission Calculations'!$M$10:$M$74)/2000),SUMPRODUCT('Emission Calculations'!CL$10:CL$74,'Emission Calculations'!$M$10:$M$74)/2000)","v":0}]
[{"$f":"'Emission Calculations'!A271","v":"HAP Name"},{"$f":"IF('Emission Calculations'!$N$7=TRUE,(B13*SUMPRODUCT('Emission Calculations'!AE$10:AE$74,'Emission Calculations'!$N$10:$N$74)/2000),SUMPRODUCT('Emission Calculations'!AE$10:AE$74,'Emission Calculations'!$N$10:$N$74)/2000)","v":0},{"$f":"IF('Emission Calculations'!$N$7=TRUE,(C13*SUMPRODUCT('Emission Calculations'!AF$10:AF$74,'Emission Calculations'!$N$10:$N$74)/2000),SUMPRODUCT('Emission Calculations'!AF$10:AF$74,'Emission Calculations'!$N$10:$N$74)/2000)","v":0},{"$f":"IF('Emission Calculations'!$N$7=TRUE,(D13*SUMPRODUCT('Emission Calculations'!AG$10:AG$74,'Emission Calculations'!$N$10:$N$74)/2000),SUMPRODUCT('Emission Calculations'!AG$10:AG$74,'Emission Calculations'!$N$10:$N$74)/2000)","v":0},{"$f":"IF('Emission Calculations'!$N$7=TRUE,(E13*SUMPRODUCT('Emission Calculations'!AH$10:AH$74,'Emission Calculations'!$N$10:$N$74)/2000),SUMPRODUCT('Emission Calculations'!AH$10:AH$74,'Emission Calculations'!$N$10:$N$74)/2000)","v":0},{"$f":"IF('Emission Calculations'!$N$7=TRUE,(F13*SUMPRODUCT('Emission Calculations'!AI$10:AI$74,'Emission Calculations'!$N$10:$N$74)/2000),SUMPRODUCT('Emission Calculations'!AI$10:AI$74,'Emission Calculations'!$N$10:$N$74)/2000)","v":0},{"$f":"IF('Emission Calculations'!$N$7=TRUE,(G13*SUMPRODUCT('Emission Calculations'!AJ$10:AJ$74,'Emission Calculations'!$N$10:$N$74)/2000),SUMPRODUCT('Emission Calculations'!AJ$10:AJ$74,'Emission Calculations'!$N$10:$N$74)/2000)","v":0},{"$f":"IF('Emission Calculations'!$N$7=TRUE,(H13*SUMPRODUCT('Emission Calculations'!AK$10:AK$74,'Emission Calculations'!$N$10:$N$74)/2000),SUMPRODUCT('Emission Calculations'!AK$10:AK$74,'Emission Calculations'!$N$10:$N$74)/2000)","v":0},{"$f":"IF('Emission Calculations'!$N$7=TRUE,(I13*SUMPRODUCT('Emission Calculations'!AL$10:AL$74,'Emission Calculations'!$N$10:$N$74)/2000),SUMPRODUCT('Emission Calculations'!AL$10:AL$74,'Emission Calculations'!$N$10:$N$74)/2000)","v":0},{"$f":"IF('Emission Calculations'!$N$7=TRUE,(J13*SUMPRODUCT('Emission Calculations'!AM$10:AM$74,'Emission Calculations'!$N$10:$N$74)/2000),SUMPRODUCT('Emission Calculations'!AM$10:AM$74,'Emission Calculations'!$N$10:$N$74)/2000)","v":0},{"$f":"IF('Emission Calculations'!$N$7=TRUE,(K13*SUMPRODUCT('Emission Calculations'!AN$10:AN$74,'Emission Calculations'!$N$10:$N$74)/2000),SUMPRODUCT('Emission Calculations'!AN$10:AN$74,'Emission Calculations'!$N$10:$N$74)/2000)","v":0},{"$f":"IF('Emission Calculations'!$N$7=TRUE,(L13*SUMPRODUCT('Emission Calculations'!AO$10:AO$74,'Emission Calculations'!$N$10:$N$74)/2000),SUMPRODUCT('Emission Calculations'!AO$10:AO$74,'Emission Calculations'!$N$10:$N$74)/2000)","v":0},{"$f":"IF('Emission Calculations'!$N$7=TRUE,(M13*SUMPRODUCT('Emission Calculations'!AP$10:AP$74,'Emission Calculations'!$N$10:$N$74)/2000),SUMPRODUCT('Emission Calculations'!AP$10:AP$74,'Emission Calculations'!$N$10:$N$74)/2000)","v":0},{"$f":"IF('Emission Calculations'!$N$7=TRUE,(N13*SUMPRODUCT('Emission Calculations'!AQ$10:AQ$74,'Emission Calculations'!$N$10:$N$74)/2000),SUMPRODUCT('Emission Calculations'!AQ$10:AQ$74,'Emission Calculations'!$N$10:$N$74)/2000)","v":0},{"$f":"IF('Emission Calculations'!$N$7=TRUE,(O13*SUMPRODUCT('Emission Calculations'!AR$10:AR$74,'Emission Calculations'!$N$10:$N$74)/2000),SUMPRODUCT('Emission Calculations'!AR$10:AR$74,'Emission Calculations'!$N$10:$N$74)/2000)","v":0},{"$f":"IF('Emission Calculations'!$N$7=TRUE,(P13*SUMPRODUCT('Emission Calculations'!AS$10:AS$74,'Emission Calculations'!$N$10:$N$74)/2000),SUMPRODUCT('Emission Calculations'!AS$10:AS$74,'Emission Calculations'!$N$10:$N$74)/2000)","v":0},{"$f":"IF('Emission Calculations'!$N$7=TRUE,(Q13*SUMPRODUCT('Emission Calculations'!AT$10:AT$74,'Emission Calculations'!$N$10:$N$74)/2000),SUMPRODUCT('Emission Calculations'!AT$10:AT$74,'Emission Calculations'!$N$10:$N$74)/2000)","v":0},{"$f":"IF('Emission Calculations'!$N$7=TRUE,(R13*SUMPRODUCT('Emission Calculations'!AU$10:AU$74,'Emission Calculations'!$N$10:$N$74)/2000),SUMPRODUCT('Emission Calculations'!AU$10:AU$74,'Emission Calculations'!$N$10:$N$74)/2000)","v":0},{"$f":"IF('Emission Calculations'!$N$7=TRUE,(S13*SUMPRODUCT('Emission Calculations'!AV$10:AV$74,'Emission Calculations'!$N$10:$N$74)/2000),SUMPRODUCT('Emission Calculations'!AV$10:AV$74,'Emission Calculations'!$N$10:$N$74)/2000)","v":0},{"$f":"IF('Emission Calculations'!$N$7=TRUE,(T13*SUMPRODUCT('Emission Calculations'!AW$10:AW$74,'Emission Calculations'!$N$10:$N$74)/2000),SUMPRODUCT('Emission Calculations'!AW$10:AW$74,'Emission Calculations'!$N$10:$N$74)/2000)","v":0},{"$f":"IF('Emission Calculations'!$N$7=TRUE,(U13*SUMPRODUCT('Emission Calculations'!AX$10:AX$74,'Emission Calculations'!$N$10:$N$74)/2000),SUMPRODUCT('Emission Calculations'!AX$10:AX$74,'Emission Calculations'!$N$10:$N$74)/2000)","v":0},{"$f":"IF('Emission Calculations'!$N$7=TRUE,(V13*SUMPRODUCT('Emission Calculations'!AY$10:AY$74,'Emission Calculations'!$N$10:$N$74)/2000),SUMPRODUCT('Emission Calculations'!AY$10:AY$74,'Emission Calculations'!$N$10:$N$74)/2000)","v":0},{"$f":"IF('Emission Calculations'!$N$7=TRUE,(W13*SUMPRODUCT('Emission Calculations'!AZ$10:AZ$74,'Emission Calculations'!$N$10:$N$74)/2000),SUMPRODUCT('Emission Calculations'!AZ$10:AZ$74,'Emission Calculations'!$N$10:$N$74)/2000)","v":0},{"$f":"IF('Emission Calculations'!$N$7=TRUE,(X13*SUMPRODUCT('Emission Calculations'!BA$10:BA$74,'Emission Calculations'!$N$10:$N$74)/2000),SUMPRODUCT('Emission Calculations'!BA$10:BA$74,'Emission Calculations'!$N$10:$N$74)/2000)","v":0},{"$f":"IF('Emission Calculations'!$N$7=TRUE,(Y13*SUMPRODUCT('Emission Calculations'!BB$10:BB$74,'Emission Calculations'!$N$10:$N$74)/2000),SUMPRODUCT('Emission Calculations'!BB$10:BB$74,'Emission Calculations'!$N$10:$N$74)/2000)","v":0},{"$f":"IF('Emission Calculations'!$N$7=TRUE,(Z13*SUMPRODUCT('Emission Calculations'!BC$10:BC$74,'Emission Calculations'!$N$10:$N$74)/2000),SUMPRODUCT('Emission Calculations'!BC$10:BC$74,'Emission Calculations'!$N$10:$N$74)/2000)","v":0},{"$f":"IF('Emission Calculations'!$N$7=TRUE,(AA13*SUMPRODUCT('Emission Calculations'!BD$10:BD$74,'Emission Calculations'!$N$10:$N$74)/2000),SUMPRODUCT('Emission Calculations'!BD$10:BD$74,'Emission Calculations'!$N$10:$N$74)/2000)","v":0},{"$f":"IF('Emission Calculations'!$N$7=TRUE,(AB13*SUMPRODUCT('Emission Calculations'!BE$10:BE$74,'Emission Calculations'!$N$10:$N$74)/2000),SUMPRODUCT('Emission Calculations'!BE$10:BE$74,'Emission Calculations'!$N$10:$N$74)/2000)","v":0},{"$f":"IF('Emission Calculations'!$N$7=TRUE,(AC13*SUMPRODUCT('Emission Calculations'!BF$10:BF$74,'Emission Calculations'!$N$10:$N$74)/2000),SUMPRODUCT('Emission Calculations'!BF$10:BF$74,'Emission Calculations'!$N$10:$N$74)/2000)","v":0},{"$f":"IF('Emission Calculations'!$N$7=TRUE,(AD13*SUMPRODUCT('Emission Calculations'!BG$10:BG$74,'Emission Calculations'!$N$10:$N$74)/2000),SUMPRODUCT('Emission Calculations'!BG$10:BG$74,'Emission Calculations'!$N$10:$N$74)/2000)","v":0},{"$f":"IF('Emission Calculations'!$N$7=TRUE,(AE13*SUMPRODUCT('Emission Calculations'!BH$10:BH$74,'Emission Calculations'!$N$10:$N$74)/2000),SUMPRODUCT('Emission Calculations'!BH$10:BH$74,'Emission Calculations'!$N$10:$N$74)/2000)","v":0},{"$f":"IF('Emission Calculations'!$N$7=TRUE,(AF13*SUMPRODUCT('Emission Calculations'!BI$10:BI$74,'Emission Calculations'!$N$10:$N$74)/2000),SUMPRODUCT('Emission Calculations'!BI$10:BI$74,'Emission Calculations'!$N$10:$N$74)/2000)","v":0},{"$f":"IF('Emission Calculations'!$N$7=TRUE,(AG13*SUMPRODUCT('Emission Calculations'!BJ$10:BJ$74,'Emission Calculations'!$N$10:$N$74)/2000),SUMPRODUCT('Emission Calculations'!BJ$10:BJ$74,'Emission Calculations'!$N$10:$N$74)/2000)","v":0},{"$f":"IF('Emission Calculations'!$N$7=TRUE,(AH13*SUMPRODUCT('Emission Calculations'!BK$10:BK$74,'Emission Calculations'!$N$10:$N$74)/2000),SUMPRODUCT('Emission Calculations'!BK$10:BK$74,'Emission Calculations'!$N$10:$N$74)/2000)","v":0},{"$f":"IF('Emission Calculations'!$N$7=TRUE,(AI13*SUMPRODUCT('Emission Calculations'!BL$10:BL$74,'Emission Calculations'!$N$10:$N$74)/2000),SUMPRODUCT('Emission Calculations'!BL$10:BL$74,'Emission Calculations'!$N$10:$N$74)/2000)","v":0},{"$f":"IF('Emission Calculations'!$N$7=TRUE,(AJ13*SUMPRODUCT('Emission Calculations'!BM$10:BM$74,'Emission Calculations'!$N$10:$N$74)/2000),SUMPRODUCT('Emission Calculations'!BM$10:BM$74,'Emission Calculations'!$N$10:$N$74)/2000)","v":0},{"$f":"IF('Emission Calculations'!$N$7=TRUE,(AK13*SUMPRODUCT('Emission Calculations'!BN$10:BN$74,'Emission Calculations'!$N$10:$N$74)/2000),SUMPRODUCT('Emission Calculations'!BN$10:BN$74,'Emission Calculations'!$N$10:$N$74)/2000)","v":0},{"$f":"IF('Emission Calculations'!$N$7=TRUE,(AL13*SUMPRODUCT('Emission Calculations'!BO$10:BO$74,'Emission Calculations'!$N$10:$N$74)/2000),SUMPRODUCT('Emission Calculations'!BO$10:BO$74,'Emission Calculations'!$N$10:$N$74)/2000)","v":0},{"$f":"IF('Emission Calculations'!$N$7=TRUE,(AM13*SUMPRODUCT('Emission Calculations'!BP$10:BP$74,'Emission Calculations'!$N$10:$N$74)/2000),SUMPRODUCT('Emission Calculations'!BP$10:BP$74,'Emission Calculations'!$N$10:$N$74)/2000)","v":0},{"$f":"IF('Emission Calculations'!$N$7=TRUE,(AN13*SUMPRODUCT('Emission Calculations'!BQ$10:BQ$74,'Emission Calculations'!$N$10:$N$74)/2000),SUMPRODUCT('Emission Calculations'!BQ$10:BQ$74,'Emission Calculations'!$N$10:$N$74)/2000)","v":0},{"$f":"IF('Emission Calculations'!$N$7=TRUE,(AO13*SUMPRODUCT('Emission Calculations'!BR$10:BR$74,'Emission Calculations'!$N$10:$N$74)/2000),SUMPRODUCT('Emission Calculations'!BR$10:BR$74,'Emission Calculations'!$N$10:$N$74)/2000)","v":0},{"$f":"IF('Emission Calculations'!$N$7=TRUE,(AP13*SUMPRODUCT('Emission Calculations'!BS$10:BS$74,'Emission Calculations'!$N$10:$N$74)/2000),SUMPRODUCT('Emission Calculations'!BS$10:BS$74,'Emission Calculations'!$N$10:$N$74)/2000)","v":0},{"$f":"IF('Emission Calculations'!$N$7=TRUE,(AQ13*SUMPRODUCT('Emission Calculations'!BT$10:BT$74,'Emission Calculations'!$N$10:$N$74)/2000),SUMPRODUCT('Emission Calculations'!BT$10:BT$74,'Emission Calculations'!$N$10:$N$74)/2000)","v":0},{"$f":"IF('Emission Calculations'!$N$7=TRUE,(AR13*SUMPRODUCT('Emission Calculations'!BU$10:BU$74,'Emission Calculations'!$N$10:$N$74)/2000),SUMPRODUCT('Emission Calculations'!BU$10:BU$74,'Emission Calculations'!$N$10:$N$74)/2000)","v":0},{"$f":"IF('Emission Calculations'!$N$7=TRUE,(AS13*SUMPRODUCT('Emission Calculations'!BV$10:BV$74,'Emission Calculations'!$N$10:$N$74)/2000),SUMPRODUCT('Emission Calculations'!BV$10:BV$74,'Emission Calculations'!$N$10:$N$74)/2000)","v":0},{"$f":"IF('Emission Calculations'!$N$7=TRUE,(AT13*SUMPRODUCT('Emission Calculations'!BW$10:BW$74,'Emission Calculations'!$N$10:$N$74)/2000),SUMPRODUCT('Emission Calculations'!BW$10:BW$74,'Emission Calculations'!$N$10:$N$74)/2000)","v":0},{"$f":"IF('Emission Calculations'!$N$7=TRUE,(AU13*SUMPRODUCT('Emission Calculations'!BX$10:BX$74,'Emission Calculations'!$N$10:$N$74)/2000),SUMPRODUCT('Emission Calculations'!BX$10:BX$74,'Emission Calculations'!$N$10:$N$74)/2000)","v":0},{"$f":"IF('Emission Calculations'!$N$7=TRUE,(AV13*SUMPRODUCT('Emission Calculations'!BY$10:BY$74,'Emission Calculations'!$N$10:$N$74)/2000),SUMPRODUCT('Emission Calculations'!BY$10:BY$74,'Emission Calculations'!$N$10:$N$74)/2000)","v":0},{"$f":"IF('Emission Calculations'!$N$7=TRUE,(AW13*SUMPRODUCT('Emission Calculations'!BZ$10:BZ$74,'Emission Calculations'!$N$10:$N$74)/2000),SUMPRODUCT('Emission Calculations'!BZ$10:BZ$74,'Emission Calculations'!$N$10:$N$74)/2000)","v":0},{"$f":"IF('Emission Calculations'!$N$7=TRUE,(AX13*SUMPRODUCT('Emission Calculations'!CA$10:CA$74,'Emission Calculations'!$N$10:$N$74)/2000),SUMPRODUCT('Emission Calculations'!CA$10:CA$74,'Emission Calculations'!$N$10:$N$74)/2000)","v":0},{"$f":"IF('Emission Calculations'!$N$7=TRUE,(AY13*SUMPRODUCT('Emission Calculations'!CB$10:CB$74,'Emission Calculations'!$N$10:$N$74)/2000),SUMPRODUCT('Emission Calculations'!CB$10:CB$74,'Emission Calculations'!$N$10:$N$74)/2000)","v":0},{"$f":"IF('Emission Calculations'!$N$7=TRUE,(AZ13*SUMPRODUCT('Emission Calculations'!CC$10:CC$74,'Emission Calculations'!$N$10:$N$74)/2000),SUMPRODUCT('Emission Calculations'!CC$10:CC$74,'Emission Calculations'!$N$10:$N$74)/2000)","v":0},{"$f":"IF('Emission Calculations'!$N$7=TRUE,(BA13*SUMPRODUCT('Emission Calculations'!CD$10:CD$74,'Emission Calculations'!$N$10:$N$74)/2000),SUMPRODUCT('Emission Calculations'!CD$10:CD$74,'Emission Calculations'!$N$10:$N$74)/2000)","v":0},{"$f":"IF('Emission Calculations'!$N$7=TRUE,(BB13*SUMPRODUCT('Emission Calculations'!CE$10:CE$74,'Emission Calculations'!$N$10:$N$74)/2000),SUMPRODUCT('Emission Calculations'!CE$10:CE$74,'Emission Calculations'!$N$10:$N$74)/2000)","v":0},{"$f":"IF('Emission Calculations'!$N$7=TRUE,(BC13*SUMPRODUCT('Emission Calculations'!CF$10:CF$74,'Emission Calculations'!$N$10:$N$74)/2000),SUMPRODUCT('Emission Calculations'!CF$10:CF$74,'Emission Calculations'!$N$10:$N$74)/2000)","v":0},{"$f":"IF('Emission Calculations'!$N$7=TRUE,(BD13*SUMPRODUCT('Emission Calculations'!CG$10:CG$74,'Emission Calculations'!$N$10:$N$74)/2000),SUMPRODUCT('Emission Calculations'!CG$10:CG$74,'Emission Calculations'!$N$10:$N$74)/2000)","v":0},{"$f":"IF('Emission Calculations'!$N$7=TRUE,(BE13*SUMPRODUCT('Emission Calculations'!CH$10:CH$74,'Emission Calculations'!$N$10:$N$74)/2000),SUMPRODUCT('Emission Calculations'!CH$10:CH$74,'Emission Calculations'!$N$10:$N$74)/2000)","v":0},{"$f":"IF('Emission Calculations'!$N$7=TRUE,(BF13*SUMPRODUCT('Emission Calculations'!CI$10:CI$74,'Emission Calculations'!$N$10:$N$74)/2000),SUMPRODUCT('Emission Calculations'!CI$10:CI$74,'Emission Calculations'!$N$10:$N$74)/2000)","v":0},{"$f":"IF('Emission Calculations'!$N$7=TRUE,(BG13*SUMPRODUCT('Emission Calculations'!CJ$10:CJ$74,'Emission Calculations'!$N$10:$N$74)/2000),SUMPRODUCT('Emission Calculations'!CJ$10:CJ$74,'Emission Calculations'!$N$10:$N$74)/2000)","v":0},{"$f":"IF('Emission Calculations'!$N$7=TRUE,(BH13*SUMPRODUCT('Emission Calculations'!CK$10:CK$74,'Emission Calculations'!$N$10:$N$74)/2000),SUMPRODUCT('Emission Calculations'!CK$10:CK$74,'Emission Calculations'!$N$10:$N$74)/2000)","v":0},{"$f":"IF('Emission Calculations'!$N$7=TRUE,(BI13*SUMPRODUCT('Emission Calculations'!CL$10:CL$74,'Emission Calculations'!$N$10:$N$74)/2000),SUMPRODUCT('Emission Calculations'!CL$10:CL$74,'Emission Calculations'!$N$10:$N$74)/2000)","v":0}]
[{"$f":"'Emission Calculations'!A272","v":"HAP Name"},{"$f":"IF('Emission Calculations'!$O$7=TRUE,(B13*SUMPRODUCT('Emission Calculations'!AE$10:AE$74,'Emission Calculations'!$O$10:$O$74)/2000),SUMPRODUCT('Emission Calculations'!AE$10:AE$74,'Emission Calculations'!$O$10:$O$74)/2000)","v":0},{"$f":"IF('Emission Calculations'!$O$7=TRUE,(C13*SUMPRODUCT('Emission Calculations'!AF$10:AF$74,'Emission Calculations'!$O$10:$O$74)/2000),SUMPRODUCT('Emission Calculations'!AF$10:AF$74,'Emission Calculations'!$O$10:$O$74)/2000)","v":0},{"$f":"IF('Emission Calculations'!$O$7=TRUE,(D13*SUMPRODUCT('Emission Calculations'!AG$10:AG$74,'Emission Calculations'!$O$10:$O$74)/2000),SUMPRODUCT('Emission Calculations'!AG$10:AG$74,'Emission Calculations'!$O$10:$O$74)/2000)","v":0},{"$f":"IF('Emission Calculations'!$O$7=TRUE,(E13*SUMPRODUCT('Emission Calculations'!AH$10:AH$74,'Emission Calculations'!$O$10:$O$74)/2000),SUMPRODUCT('Emission Calculations'!AH$10:AH$74,'Emission Calculations'!$O$10:$O$74)/2000)","v":0},{"$f":"IF('Emission Calculations'!$O$7=TRUE,(F13*SUMPRODUCT('Emission Calculations'!AI$10:AI$74,'Emission Calculations'!$O$10:$O$74)/2000),SUMPRODUCT('Emission Calculations'!AI$10:AI$74,'Emission Calculations'!$O$10:$O$74)/2000)","v":0},{"$f":"IF('Emission Calculations'!$O$7=TRUE,(G13*SUMPRODUCT('Emission Calculations'!AJ$10:AJ$74,'Emission Calculations'!$O$10:$O$74)/2000),SUMPRODUCT('Emission Calculations'!AJ$10:AJ$74,'Emission Calculations'!$O$10:$O$74)/2000)","v":0},{"$f":"IF('Emission Calculations'!$O$7=TRUE,(H13*SUMPRODUCT('Emission Calculations'!AK$10:AK$74,'Emission Calculations'!$O$10:$O$74)/2000),SUMPRODUCT('Emission Calculations'!AK$10:AK$74,'Emission Calculations'!$O$10:$O$74)/2000)","v":0},{"$f":"IF('Emission Calculations'!$O$7=TRUE,(I13*SUMPRODUCT('Emission Calculations'!AL$10:AL$74,'Emission Calculations'!$O$10:$O$74)/2000),SUMPRODUCT('Emission Calculations'!AL$10:AL$74,'Emission Calculations'!$O$10:$O$74)/2000)","v":0},{"$f":"IF('Emission Calculations'!$O$7=TRUE,(J13*SUMPRODUCT('Emission Calculations'!AM$10:AM$74,'Emission Calculations'!$O$10:$O$74)/2000),SUMPRODUCT('Emission Calculations'!AM$10:AM$74,'Emission Calculations'!$O$10:$O$74)/2000)","v":0},{"$f":"IF('Emission Calculations'!$O$7=TRUE,(K13*SUMPRODUCT('Emission Calculations'!AN$10:AN$74,'Emission Calculations'!$O$10:$O$74)/2000),SUMPRODUCT('Emission Calculations'!AN$10:AN$74,'Emission Calculations'!$O$10:$O$74)/2000)","v":0},{"$f":"IF('Emission Calculations'!$O$7=TRUE,(L13*SUMPRODUCT('Emission Calculations'!AO$10:AO$74,'Emission Calculations'!$O$10:$O$74)/2000),SUMPRODUCT('Emission Calculations'!AO$10:AO$74,'Emission Calculations'!$O$10:$O$74)/2000)","v":0},{"$f":"IF('Emission Calculations'!$O$7=TRUE,(M13*SUMPRODUCT('Emission Calculations'!AP$10:AP$74,'Emission Calculations'!$O$10:$O$74)/2000),SUMPRODUCT('Emission Calculations'!AP$10:AP$74,'Emission Calculations'!$O$10:$O$74)/2000)","v":0},{"$f":"IF('Emission Calculations'!$O$7=TRUE,(N13*SUMPRODUCT('Emission Calculations'!AQ$10:AQ$74,'Emission Calculations'!$O$10:$O$74)/2000),SUMPRODUCT('Emission Calculations'!AQ$10:AQ$74,'Emission Calculations'!$O$10:$O$74)/2000)","v":0},{"$f":"IF('Emission Calculations'!$O$7=TRUE,(O13*SUMPRODUCT('Emission Calculations'!AR$10:AR$74,'Emission Calculations'!$O$10:$O$74)/2000),SUMPRODUCT('Emission Calculations'!AR$10:AR$74,'Emission Calculations'!$O$10:$O$74)/2000)","v":0},{"$f":"IF('Emission Calculations'!$O$7=TRUE,(P13*SUMPRODUCT('Emission Calculations'!AS$10:AS$74,'Emission Calculations'!$O$10:$O$74)/2000),SUMPRODUCT('Emission Calculations'!AS$10:AS$74,'Emission Calculations'!$O$10:$O$74)/2000)","v":0},{"$f":"IF('Emission Calculations'!$O$7=TRUE,(Q13*SUMPRODUCT('Emission Calculations'!AT$10:AT$74,'Emission Calculations'!$O$10:$O$74)/2000),SUMPRODUCT('Emission Calculations'!AT$10:AT$74,'Emission Calculations'!$O$10:$O$74)/2000)","v":0},{"$f":"IF('Emission Calculations'!$O$7=TRUE,(R13*SUMPRODUCT('Emission Calculations'!AU$10:AU$74,'Emission Calculations'!$O$10:$O$74)/2000),SUMPRODUCT('Emission Calculations'!AU$10:AU$74,'Emission Calculations'!$O$10:$O$74)/2000)","v":0},{"$f":"IF('Emission Calculations'!$O$7=TRUE,(S13*SUMPRODUCT('Emission Calculations'!AV$10:AV$74,'Emission Calculations'!$O$10:$O$74)/2000),SUMPRODUCT('Emission Calculations'!AV$10:AV$74,'Emission Calculations'!$O$10:$O$74)/2000)","v":0},{"$f":"IF('Emission Calculations'!$O$7=TRUE,(T13*SUMPRODUCT('Emission Calculations'!AW$10:AW$74,'Emission Calculations'!$O$10:$O$74)/2000),SUMPRODUCT('Emission Calculations'!AW$10:AW$74,'Emission Calculations'!$O$10:$O$74)/2000)","v":0},{"$f":"IF('Emission Calculations'!$O$7=TRUE,(U13*SUMPRODUCT('Emission Calculations'!AX$10:AX$74,'Emission Calculations'!$O$10:$O$74)/2000),SUMPRODUCT('Emission Calculations'!AX$10:AX$74,'Emission Calculations'!$O$10:$O$74)/2000)","v":0},{"$f":"IF('Emission Calculations'!$O$7=TRUE,(V13*SUMPRODUCT('Emission Calculations'!AY$10:AY$74,'Emission Calculations'!$O$10:$O$74)/2000),SUMPRODUCT('Emission Calculations'!AY$10:AY$74,'Emission Calculations'!$O$10:$O$74)/2000)","v":0},{"$f":"IF('Emission Calculations'!$O$7=TRUE,(W13*SUMPRODUCT('Emission Calculations'!AZ$10:AZ$74,'Emission Calculations'!$O$10:$O$74)/2000),SUMPRODUCT('Emission Calculations'!AZ$10:AZ$74,'Emission Calculations'!$O$10:$O$74)/2000)","v":0},{"$f":"IF('Emission Calculations'!$O$7=TRUE,(X13*SUMPRODUCT('Emission Calculations'!BA$10:BA$74,'Emission Calculations'!$O$10:$O$74)/2000),SUMPRODUCT('Emission Calculations'!BA$10:BA$74,'Emission Calculations'!$O$10:$O$74)/2000)","v":0},{"$f":"IF('Emission Calculations'!$O$7=TRUE,(Y13*SUMPRODUCT('Emission Calculations'!BB$10:BB$74,'Emission Calculations'!$O$10:$O$74)/2000),SUMPRODUCT('Emission Calculations'!BB$10:BB$74,'Emission Calculations'!$O$10:$O$74)/2000)","v":0},{"$f":"IF('Emission Calculations'!$O$7=TRUE,(Z13*SUMPRODUCT('Emission Calculations'!BC$10:BC$74,'Emission Calculations'!$O$10:$O$74)/2000),SUMPRODUCT('Emission Calculations'!BC$10:BC$74,'Emission Calculations'!$O$10:$O$74)/2000)","v":0},{"$f":"IF('Emission Calculations'!$O$7=TRUE,(AA13*SUMPRODUCT('Emission Calculations'!BD$10:BD$74,'Emission Calculations'!$O$10:$O$74)/2000),SUMPRODUCT('Emission Calculations'!BD$10:BD$74,'Emission Calculations'!$O$10:$O$74)/2000)","v":0},{"$f":"IF('Emission Calculations'!$O$7=TRUE,(AB13*SUMPRODUCT('Emission Calculations'!BE$10:BE$74,'Emission Calculations'!$O$10:$O$74)/2000),SUMPRODUCT('Emission Calculations'!BE$10:BE$74,'Emission Calculations'!$O$10:$O$74)/2000)","v":0},{"$f":"IF('Emission Calculations'!$O$7=TRUE,(AC13*SUMPRODUCT('Emission Calculations'!BF$10:BF$74,'Emission Calculations'!$O$10:$O$74)/2000),SUMPRODUCT('Emission Calculations'!BF$10:BF$74,'Emission Calculations'!$O$10:$O$74)/2000)","v":0},{"$f":"IF('Emission Calculations'!$O$7=TRUE,(AD13*SUMPRODUCT('Emission Calculations'!BG$10:BG$74,'Emission Calculations'!$O$10:$O$74)/2000),SUMPRODUCT('Emission Calculations'!BG$10:BG$74,'Emission Calculations'!$O$10:$O$74)/2000)","v":0},{"$f":"IF('Emission Calculations'!$O$7=TRUE,(AE13*SUMPRODUCT('Emission Calculations'!BH$10:BH$74,'Emission Calculations'!$O$10:$O$74)/2000),SUMPRODUCT('Emission Calculations'!BH$10:BH$74,'Emission Calculations'!$O$10:$O$74)/2000)","v":0},{"$f":"IF('Emission Calculations'!$O$7=TRUE,(AF13*SUMPRODUCT('Emission Calculations'!BI$10:BI$74,'Emission Calculations'!$O$10:$O$74)/2000),SUMPRODUCT('Emission Calculations'!BI$10:BI$74,'Emission Calculations'!$O$10:$O$74)/2000)","v":0},{"$f":"IF('Emission Calculations'!$O$7=TRUE,(AG13*SUMPRODUCT('Emission Calculations'!BJ$10:BJ$74,'Emission Calculations'!$O$10:$O$74)/2000),SUMPRODUCT('Emission Calculations'!BJ$10:BJ$74,'Emission Calculations'!$O$10:$O$74)/2000)","v":0},{"$f":"IF('Emission Calculations'!$O$7=TRUE,(AH13*SUMPRODUCT('Emission Calculations'!BK$10:BK$74,'Emission Calculations'!$O$10:$O$74)/2000),SUMPRODUCT('Emission Calculations'!BK$10:BK$74,'Emission Calculations'!$O$10:$O$74)/2000)","v":0},{"$f":"IF('Emission Calculations'!$O$7=TRUE,(AI13*SUMPRODUCT('Emission Calculations'!BL$10:BL$74,'Emission Calculations'!$O$10:$O$74)/2000),SUMPRODUCT('Emission Calculations'!BL$10:BL$74,'Emission Calculations'!$O$10:$O$74)/2000)","v":0},{"$f":"IF('Emission Calculations'!$O$7=TRUE,(AJ13*SUMPRODUCT('Emission Calculations'!BM$10:BM$74,'Emission Calculations'!$O$10:$O$74)/2000),SUMPRODUCT('Emission Calculations'!BM$10:BM$74,'Emission Calculations'!$O$10:$O$74)/2000)","v":0},{"$f":"IF('Emission Calculations'!$O$7=TRUE,(AK13*SUMPRODUCT('Emission Calculations'!BN$10:BN$74,'Emission Calculations'!$O$10:$O$74)/2000),SUMPRODUCT('Emission Calculations'!BN$10:BN$74,'Emission Calculations'!$O$10:$O$74)/2000)","v":0},{"$f":"IF('Emission Calculations'!$O$7=TRUE,(AL13*SUMPRODUCT('Emission Calculations'!BO$10:BO$74,'Emission Calculations'!$O$10:$O$74)/2000),SUMPRODUCT('Emission Calculations'!BO$10:BO$74,'Emission Calculations'!$O$10:$O$74)/2000)","v":0},{"$f":"IF('Emission Calculations'!$O$7=TRUE,(AM13*SUMPRODUCT('Emission Calculations'!BP$10:BP$74,'Emission Calculations'!$O$10:$O$74)/2000),SUMPRODUCT('Emission Calculations'!BP$10:BP$74,'Emission Calculations'!$O$10:$O$74)/2000)","v":0},{"$f":"IF('Emission Calculations'!$O$7=TRUE,(AN13*SUMPRODUCT('Emission Calculations'!BQ$10:BQ$74,'Emission Calculations'!$O$10:$O$74)/2000),SUMPRODUCT('Emission Calculations'!BQ$10:BQ$74,'Emission Calculations'!$O$10:$O$74)/2000)","v":0},{"$f":"IF('Emission Calculations'!$O$7=TRUE,(AO13*SUMPRODUCT('Emission Calculations'!BR$10:BR$74,'Emission Calculations'!$O$10:$O$74)/2000),SUMPRODUCT('Emission Calculations'!BR$10:BR$74,'Emission Calculations'!$O$10:$O$74)/2000)","v":0},{"$f":"IF('Emission Calculations'!$O$7=TRUE,(AP13*SUMPRODUCT('Emission Calculations'!BS$10:BS$74,'Emission Calculations'!$O$10:$O$74)/2000),SUMPRODUCT('Emission Calculations'!BS$10:BS$74,'Emission Calculations'!$O$10:$O$74)/2000)","v":0},{"$f":"IF('Emission Calculations'!$O$7=TRUE,(AQ13*SUMPRODUCT('Emission Calculations'!BT$10:BT$74,'Emission Calculations'!$O$10:$O$74)/2000),SUMPRODUCT('Emission Calculations'!BT$10:BT$74,'Emission Calculations'!$O$10:$O$74)/2000)","v":0},{"$f":"IF('Emission Calculations'!$O$7=TRUE,(AR13*SUMPRODUCT('Emission Calculations'!BU$10:BU$74,'Emission Calculations'!$O$10:$O$74)/2000),SUMPRODUCT('Emission Calculations'!BU$10:BU$74,'Emission Calculations'!$O$10:$O$74)/2000)","v":0},{"$f":"IF('Emission Calculations'!$O$7=TRUE,(AS13*SUMPRODUCT('Emission Calculations'!BV$10:BV$74,'Emission Calculations'!$O$10:$O$74)/2000),SUMPRODUCT('Emission Calculations'!BV$10:BV$74,'Emission Calculations'!$O$10:$O$74)/2000)","v":0},{"$f":"IF('Emission Calculations'!$O$7=TRUE,(AT13*SUMPRODUCT('Emission Calculations'!BW$10:BW$74,'Emission Calculations'!$O$10:$O$74)/2000),SUMPRODUCT('Emission Calculations'!BW$10:BW$74,'Emission Calculations'!$O$10:$O$74)/2000)","v":0},{"$f":"IF('Emission Calculations'!$O$7=TRUE,(AU13*SUMPRODUCT('Emission Calculations'!BX$10:BX$74,'Emission Calculations'!$O$10:$O$74)/2000),SUMPRODUCT('Emission Calculations'!BX$10:BX$74,'Emission Calculations'!$O$10:$O$74)/2000)","v":0},{"$f":"IF('Emission Calculations'!$O$7=TRUE,(AV13*SUMPRODUCT('Emission Calculations'!BY$10:BY$74,'Emission Calculations'!$O$10:$O$74)/2000),SUMPRODUCT('Emission Calculations'!BY$10:BY$74,'Emission Calculations'!$O$10:$O$74)/2000)","v":0},{"$f":"IF('Emission Calculations'!$O$7=TRUE,(AW13*SUMPRODUCT('Emission Calculations'!BZ$10:BZ$74,'Emission Calculations'!$O$10:$O$74)/2000),SUMPRODUCT('Emission Calculations'!BZ$10:BZ$74,'Emission Calculations'!$O$10:$O$74)/2000)","v":0},{"$f":"IF('Emission Calculations'!$O$7=TRUE,(AX13*SUMPRODUCT('Emission Calculations'!CA$10:CA$74,'Emission Calculations'!$O$10:$O$74)/2000),SUMPRODUCT('Emission Calculations'!CA$10:CA$74,'Emission Calculations'!$O$10:$O$74)/2000)","v":0},{"$f":"IF('Emission Calculations'!$O$7=TRUE,(AY13*SUMPRODUCT('Emission Calculations'!CB$10:CB$74,'Emission Calculations'!$O$10:$O$74)/2000),SUMPRODUCT('Emission Calculations'!CB$10:CB$74,'Emission Calculations'!$O$10:$O$74)/2000)","v":0},{"$f":"IF('Emission Calculations'!$O$7=TRUE,(AZ13*SUMPRODUCT('Emission Calculations'!CC$10:CC$74,'Emission Calculations'!$O$10:$O$74)/2000),SUMPRODUCT('Emission Calculations'!CC$10:CC$74,'Emission Calculations'!$O$10:$O$74)/2000)","v":0},{"$f":"IF('Emission Calculations'!$O$7=TRUE,(BA13*SUMPRODUCT('Emission Calculations'!CD$10:CD$74,'Emission Calculations'!$O$10:$O$74)/2000),SUMPRODUCT('Emission Calculations'!CD$10:CD$74,'Emission Calculations'!$O$10:$O$74)/2000)","v":0},{"$f":"IF('Emission Calculations'!$O$7=TRUE,(BB13*SUMPRODUCT('Emission Calculations'!CE$10:CE$74,'Emission Calculations'!$O$10:$O$74)/2000),SUMPRODUCT('Emission Calculations'!CE$10:CE$74,'Emission Calculations'!$O$10:$O$74)/2000)","v":0},{"$f":"IF('Emission Calculations'!$O$7=TRUE,(BC13*SUMPRODUCT('Emission Calculations'!CF$10:CF$74,'Emission Calculations'!$O$10:$O$74)/2000),SUMPRODUCT('Emission Calculations'!CF$10:CF$74,'Emission Calculations'!$O$10:$O$74)/2000)","v":0},{"$f":"IF('Emission Calculations'!$O$7=TRUE,(BD13*SUMPRODUCT('Emission Calculations'!CG$10:CG$74,'Emission Calculations'!$O$10:$O$74)/2000),SUMPRODUCT('Emission Calculations'!CG$10:CG$74,'Emission Calculations'!$O$10:$O$74)/2000)","v":0},{"$f":"IF('Emission Calculations'!$O$7=TRUE,(BE13*SUMPRODUCT('Emission Calculations'!CH$10:CH$74,'Emission Calculations'!$O$10:$O$74)/2000),SUMPRODUCT('Emission Calculations'!CH$10:CH$74,'Emission Calculations'!$O$10:$O$74)/2000)","v":0},{"$f":"IF('Emission Calculations'!$O$7=TRUE,(BF13*SUMPRODUCT('Emission Calculations'!CI$10:CI$74,'Emission Calculations'!$O$10:$O$74)/2000),SUMPRODUCT('Emission Calculations'!CI$10:CI$74,'Emission Calculations'!$O$10:$O$74)/2000)","v":0},{"$f":"IF('Emission Calculations'!$O$7=TRUE,(BG13*SUMPRODUCT('Emission Calculations'!CJ$10:CJ$74,'Emission Calculations'!$O$10:$O$74)/2000),SUMPRODUCT('Emission Calculations'!CJ$10:CJ$74,'Emission Calculations'!$O$10:$O$74)/2000)","v":0},{"$f":"IF('Emission Calculations'!$O$7=TRUE,(BH13*SUMPRODUCT('Emission Calculations'!CK$10:CK$74,'Emission Calculations'!$O$10:$O$74)/2000),SUMPRODUCT('Emission Calculations'!CK$10:CK$74,'Emission Calculations'!$O$10:$O$74)/2000)","v":0},{"$f":"IF('Emission Calculations'!$O$7=TRUE,(BI13*SUMPRODUCT('Emission Calculations'!CL$10:CL$74,'Emission Calculations'!$O$10:$O$74)/2000),SUMPRODUCT('Emission Calculations'!CL$10:CL$74,'Emission Calculations'!$O$10:$O$74)/2000)","v":0}]
[{"$f":"'Emission Calculations'!A273","v":"HAP Name"},{"$f":"IF('Emission Calculations'!$P$7=TRUE,(B13*SUMPRODUCT('Emission Calculations'!AE$10:AE$74,'Emission Calculations'!$P$10:$P$74)/2000),SUMPRODUCT('Emission Calculations'!AE$10:AE$74,'Emission Calculations'!$P$10:$P$74)/2000)","v":0},{"$f":"IF('Emission Calculations'!$P$7=TRUE,(C13*SUMPRODUCT('Emission Calculations'!AF$10:AF$74,'Emission Calculations'!$P$10:$P$74)/2000),SUMPRODUCT('Emission Calculations'!AF$10:AF$74,'Emission Calculations'!$P$10:$P$74)/2000)","v":0},{"$f":"IF('Emission Calculations'!$P$7=TRUE,(D13*SUMPRODUCT('Emission Calculations'!AG$10:AG$74,'Emission Calculations'!$P$10:$P$74)/2000),SUMPRODUCT('Emission Calculations'!AG$10:AG$74,'Emission Calculations'!$P$10:$P$74)/2000)","v":0},{"$f":"IF('Emission Calculations'!$P$7=TRUE,(E13*SUMPRODUCT('Emission Calculations'!AH$10:AH$74,'Emission Calculations'!$P$10:$P$74)/2000),SUMPRODUCT('Emission Calculations'!AH$10:AH$74,'Emission Calculations'!$P$10:$P$74)/2000)","v":0},{"$f":"IF('Emission Calculations'!$P$7=TRUE,(F13*SUMPRODUCT('Emission Calculations'!AI$10:AI$74,'Emission Calculations'!$P$10:$P$74)/2000),SUMPRODUCT('Emission Calculations'!AI$10:AI$74,'Emission Calculations'!$P$10:$P$74)/2000)","v":0},{"$f":"IF('Emission Calculations'!$P$7=TRUE,(G13*SUMPRODUCT('Emission Calculations'!AJ$10:AJ$74,'Emission Calculations'!$P$10:$P$74)/2000),SUMPRODUCT('Emission Calculations'!AJ$10:AJ$74,'Emission Calculations'!$P$10:$P$74)/2000)","v":0},{"$f":"IF('Emission Calculations'!$P$7=TRUE,(H13*SUMPRODUCT('Emission Calculations'!AK$10:AK$74,'Emission Calculations'!$P$10:$P$74)/2000),SUMPRODUCT('Emission Calculations'!AK$10:AK$74,'Emission Calculations'!$P$10:$P$74)/2000)","v":0},{"$f":"IF('Emission Calculations'!$P$7=TRUE,(I13*SUMPRODUCT('Emission Calculations'!AL$10:AL$74,'Emission Calculations'!$P$10:$P$74)/2000),SUMPRODUCT('Emission Calculations'!AL$10:AL$74,'Emission Calculations'!$P$10:$P$74)/2000)","v":0},{"$f":"IF('Emission Calculations'!$P$7=TRUE,(J13*SUMPRODUCT('Emission Calculations'!AM$10:AM$74,'Emission Calculations'!$P$10:$P$74)/2000),SUMPRODUCT('Emission Calculations'!AM$10:AM$74,'Emission Calculations'!$P$10:$P$74)/2000)","v":0},{"$f":"IF('Emission Calculations'!$P$7=TRUE,(K13*SUMPRODUCT('Emission Calculations'!AN$10:AN$74,'Emission Calculations'!$P$10:$P$74)/2000),SUMPRODUCT('Emission Calculations'!AN$10:AN$74,'Emission Calculations'!$P$10:$P$74)/2000)","v":0},{"$f":"IF('Emission Calculations'!$P$7=TRUE,(L13*SUMPRODUCT('Emission Calculations'!AO$10:AO$74,'Emission Calculations'!$P$10:$P$74)/2000),SUMPRODUCT('Emission Calculations'!AO$10:AO$74,'Emission Calculations'!$P$10:$P$74)/2000)","v":0},{"$f":"IF('Emission Calculations'!$P$7=TRUE,(M13*SUMPRODUCT('Emission Calculations'!AP$10:AP$74,'Emission Calculations'!$P$10:$P$74)/2000),SUMPRODUCT('Emission Calculations'!AP$10:AP$74,'Emission Calculations'!$P$10:$P$74)/2000)","v":0},{"$f":"IF('Emission Calculations'!$P$7=TRUE,(N13*SUMPRODUCT('Emission Calculations'!AQ$10:AQ$74,'Emission Calculations'!$P$10:$P$74)/2000),SUMPRODUCT('Emission Calculations'!AQ$10:AQ$74,'Emission Calculations'!$P$10:$P$74)/2000)","v":0},{"$f":"IF('Emission Calculations'!$P$7=TRUE,(O13*SUMPRODUCT('Emission Calculations'!AR$10:AR$74,'Emission Calculations'!$P$10:$P$74)/2000),SUMPRODUCT('Emission Calculations'!AR$10:AR$74,'Emission Calculations'!$P$10:$P$74)/2000)","v":0},{"$f":"IF('Emission Calculations'!$P$7=TRUE,(P13*SUMPRODUCT('Emission Calculations'!AS$10:AS$74,'Emission Calculations'!$P$10:$P$74)/2000),SUMPRODUCT('Emission Calculations'!AS$10:AS$74,'Emission Calculations'!$P$10:$P$74)/2000)","v":0},{"$f":"IF('Emission Calculations'!$P$7=TRUE,(Q13*SUMPRODUCT('Emission Calculations'!AT$10:AT$74,'Emission Calculations'!$P$10:$P$74)/2000),SUMPRODUCT('Emission Calculations'!AT$10:AT$74,'Emission Calculations'!$P$10:$P$74)/2000)","v":0},{"$f":"IF('Emission Calculations'!$P$7=TRUE,(R13*SUMPRODUCT('Emission Calculations'!AU$10:AU$74,'Emission Calculations'!$P$10:$P$74)/2000),SUMPRODUCT('Emission Calculations'!AU$10:AU$74,'Emission Calculations'!$P$10:$P$74)/2000)","v":0},{"$f":"IF('Emission Calculations'!$P$7=TRUE,(S13*SUMPRODUCT('Emission Calculations'!AV$10:AV$74,'Emission Calculations'!$P$10:$P$74)/2000),SUMPRODUCT('Emission Calculations'!AV$10:AV$74,'Emission Calculations'!$P$10:$P$74)/2000)","v":0},{"$f":"IF('Emission Calculations'!$P$7=TRUE,(T13*SUMPRODUCT('Emission Calculations'!AW$10:AW$74,'Emission Calculations'!$P$10:$P$74)/2000),SUMPRODUCT('Emission Calculations'!AW$10:AW$74,'Emission Calculations'!$P$10:$P$74)/2000)","v":0},{"$f":"IF('Emission Calculations'!$P$7=TRUE,(U13*SUMPRODUCT('Emission Calculations'!AX$10:AX$74,'Emission Calculations'!$P$10:$P$74)/2000),SUMPRODUCT('Emission Calculations'!AX$10:AX$74,'Emission Calculations'!$P$10:$P$74)/2000)","v":0},{"$f":"IF('Emission Calculations'!$P$7=TRUE,(V13*SUMPRODUCT('Emission Calculations'!AY$10:AY$74,'Emission Calculations'!$P$10:$P$74)/2000),SUMPRODUCT('Emission Calculations'!AY$10:AY$74,'Emission Calculations'!$P$10:$P$74)/2000)","v":0},{"$f":"IF('Emission Calculations'!$P$7=TRUE,(W13*SUMPRODUCT('Emission Calculations'!AZ$10:AZ$74,'Emission Calculations'!$P$10:$P$74)/2000),SUMPRODUCT('Emission Calculations'!AZ$10:AZ$74,'Emission Calculations'!$P$10:$P$74)/2000)","v":0},{"$f":"IF('Emission Calculations'!$P$7=TRUE,(X13*SUMPRODUCT('Emission Calculations'!BA$10:BA$74,'Emission Calculations'!$P$10:$P$74)/2000),SUMPRODUCT('Emission Calculations'!BA$10:BA$74,'Emission Calculations'!$P$10:$P$74)/2000)","v":0},{"$f":"IF('Emission Calculations'!$P$7=TRUE,(Y13*SUMPRODUCT('Emission Calculations'!BB$10:BB$74,'Emission Calculations'!$P$10:$P$74)/2000),SUMPRODUCT('Emission Calculations'!BB$10:BB$74,'Emission Calculations'!$P$10:$P$74)/2000)","v":0},{"$f":"IF('Emission Calculations'!$P$7=TRUE,(Z13*SUMPRODUCT('Emission Calculations'!BC$10:BC$74,'Emission Calculations'!$P$10:$P$74)/2000),SUMPRODUCT('Emission Calculations'!BC$10:BC$74,'Emission Calculations'!$P$10:$P$74)/2000)","v":0},{"$f":"IF('Emission Calculations'!$P$7=TRUE,(AA13*SUMPRODUCT('Emission Calculations'!BD$10:BD$74,'Emission Calculations'!$P$10:$P$74)/2000),SUMPRODUCT('Emission Calculations'!BD$10:BD$74,'Emission Calculations'!$P$10:$P$74)/2000)","v":0},{"$f":"IF('Emission Calculations'!$P$7=TRUE,(AB13*SUMPRODUCT('Emission Calculations'!BE$10:BE$74,'Emission Calculations'!$P$10:$P$74)/2000),SUMPRODUCT('Emission Calculations'!BE$10:BE$74,'Emission Calculations'!$P$10:$P$74)/2000)","v":0},{"$f":"IF('Emission Calculations'!$P$7=TRUE,(AC13*SUMPRODUCT('Emission Calculations'!BF$10:BF$74,'Emission Calculations'!$P$10:$P$74)/2000),SUMPRODUCT('Emission Calculations'!BF$10:BF$74,'Emission Calculations'!$P$10:$P$74)/2000)","v":0},{"$f":"IF('Emission Calculations'!$P$7=TRUE,(AD13*SUMPRODUCT('Emission Calculations'!BG$10:BG$74,'Emission Calculations'!$P$10:$P$74)/2000),SUMPRODUCT('Emission Calculations'!BG$10:BG$74,'Emission Calculations'!$P$10:$P$74)/2000)","v":0},{"$f":"IF('Emission Calculations'!$P$7=TRUE,(AE13*SUMPRODUCT('Emission Calculations'!BH$10:BH$74,'Emission Calculations'!$P$10:$P$74)/2000),SUMPRODUCT('Emission Calculations'!BH$10:BH$74,'Emission Calculations'!$P$10:$P$74)/2000)","v":0},{"$f":"IF('Emission Calculations'!$P$7=TRUE,(AF13*SUMPRODUCT('Emission Calculations'!BI$10:BI$74,'Emission Calculations'!$P$10:$P$74)/2000),SUMPRODUCT('Emission Calculations'!BI$10:BI$74,'Emission Calculations'!$P$10:$P$74)/2000)","v":0},{"$f":"IF('Emission Calculations'!$P$7=TRUE,(AG13*SUMPRODUCT('Emission Calculations'!BJ$10:BJ$74,'Emission Calculations'!$P$10:$P$74)/2000),SUMPRODUCT('Emission Calculations'!BJ$10:BJ$74,'Emission Calculations'!$P$10:$P$74)/2000)","v":0},{"$f":"IF('Emission Calculations'!$P$7=TRUE,(AH13*SUMPRODUCT('Emission Calculations'!BK$10:BK$74,'Emission Calculations'!$P$10:$P$74)/2000),SUMPRODUCT('Emission Calculations'!BK$10:BK$74,'Emission Calculations'!$P$10:$P$74)/2000)","v":0},{"$f":"IF('Emission Calculations'!$P$7=TRUE,(AI13*SUMPRODUCT('Emission Calculations'!BL$10:BL$74,'Emission Calculations'!$P$10:$P$74)/2000),SUMPRODUCT('Emission Calculations'!BL$10:BL$74,'Emission Calculations'!$P$10:$P$74)/2000)","v":0},{"$f":"IF('Emission Calculations'!$P$7=TRUE,(AJ13*SUMPRODUCT('Emission Calculations'!BM$10:BM$74,'Emission Calculations'!$P$10:$P$74)/2000),SUMPRODUCT('Emission Calculations'!BM$10:BM$74,'Emission Calculations'!$P$10:$P$74)/2000)","v":0},{"$f":"IF('Emission Calculations'!$P$7=TRUE,(AK13*SUMPRODUCT('Emission Calculations'!BN$10:BN$74,'Emission Calculations'!$P$10:$P$74)/2000),SUMPRODUCT('Emission Calculations'!BN$10:BN$74,'Emission Calculations'!$P$10:$P$74)/2000)","v":0},{"$f":"IF('Emission Calculations'!$P$7=TRUE,(AL13*SUMPRODUCT('Emission Calculations'!BO$10:BO$74,'Emission Calculations'!$P$10:$P$74)/2000),SUMPRODUCT('Emission Calculations'!BO$10:BO$74,'Emission Calculations'!$P$10:$P$74)/2000)","v":0},{"$f":"IF('Emission Calculations'!$P$7=TRUE,(AM13*SUMPRODUCT('Emission Calculations'!BP$10:BP$74,'Emission Calculations'!$P$10:$P$74)/2000),SUMPRODUCT('Emission Calculations'!BP$10:BP$74,'Emission Calculations'!$P$10:$P$74)/2000)","v":0},{"$f":"IF('Emission Calculations'!$P$7=TRUE,(AN13*SUMPRODUCT('Emission Calculations'!BQ$10:BQ$74,'Emission Calculations'!$P$10:$P$74)/2000),SUMPRODUCT('Emission Calculations'!BQ$10:BQ$74,'Emission Calculations'!$P$10:$P$74)/2000)","v":0},{"$f":"IF('Emission Calculations'!$P$7=TRUE,(AO13*SUMPRODUCT('Emission Calculations'!BR$10:BR$74,'Emission Calculations'!$P$10:$P$74)/2000),SUMPRODUCT('Emission Calculations'!BR$10:BR$74,'Emission Calculations'!$P$10:$P$74)/2000)","v":0},{"$f":"IF('Emission Calculations'!$P$7=TRUE,(AP13*SUMPRODUCT('Emission Calculations'!BS$10:BS$74,'Emission Calculations'!$P$10:$P$74)/2000),SUMPRODUCT('Emission Calculations'!BS$10:BS$74,'Emission Calculations'!$P$10:$P$74)/2000)","v":0},{"$f":"IF('Emission Calculations'!$P$7=TRUE,(AQ13*SUMPRODUCT('Emission Calculations'!BT$10:BT$74,'Emission Calculations'!$P$10:$P$74)/2000),SUMPRODUCT('Emission Calculations'!BT$10:BT$74,'Emission Calculations'!$P$10:$P$74)/2000)","v":0},{"$f":"IF('Emission Calculations'!$P$7=TRUE,(AR13*SUMPRODUCT('Emission Calculations'!BU$10:BU$74,'Emission Calculations'!$P$10:$P$74)/2000),SUMPRODUCT('Emission Calculations'!BU$10:BU$74,'Emission Calculations'!$P$10:$P$74)/2000)","v":0},{"$f":"IF('Emission Calculations'!$P$7=TRUE,(AS13*SUMPRODUCT('Emission Calculations'!BV$10:BV$74,'Emission Calculations'!$P$10:$P$74)/2000),SUMPRODUCT('Emission Calculations'!BV$10:BV$74,'Emission Calculations'!$P$10:$P$74)/2000)","v":0},{"$f":"IF('Emission Calculations'!$P$7=TRUE,(AT13*SUMPRODUCT('Emission Calculations'!BW$10:BW$74,'Emission Calculations'!$P$10:$P$74)/2000),SUMPRODUCT('Emission Calculations'!BW$10:BW$74,'Emission Calculations'!$P$10:$P$74)/2000)","v":0},{"$f":"IF('Emission Calculations'!$P$7=TRUE,(AU13*SUMPRODUCT('Emission Calculations'!BX$10:BX$74,'Emission Calculations'!$P$10:$P$74)/2000),SUMPRODUCT('Emission Calculations'!BX$10:BX$74,'Emission Calculations'!$P$10:$P$74)/2000)","v":0},{"$f":"IF('Emission Calculations'!$P$7=TRUE,(AV13*SUMPRODUCT('Emission Calculations'!BY$10:BY$74,'Emission Calculations'!$P$10:$P$74)/2000),SUMPRODUCT('Emission Calculations'!BY$10:BY$74,'Emission Calculations'!$P$10:$P$74)/2000)","v":0},{"$f":"IF('Emission Calculations'!$P$7=TRUE,(AW13*SUMPRODUCT('Emission Calculations'!BZ$10:BZ$74,'Emission Calculations'!$P$10:$P$74)/2000),SUMPRODUCT('Emission Calculations'!BZ$10:BZ$74,'Emission Calculations'!$P$10:$P$74)/2000)","v":0},{"$f":"IF('Emission Calculations'!$P$7=TRUE,(AX13*SUMPRODUCT('Emission Calculations'!CA$10:CA$74,'Emission Calculations'!$P$10:$P$74)/2000),SUMPRODUCT('Emission Calculations'!CA$10:CA$74,'Emission Calculations'!$P$10:$P$74)/2000)","v":0},{"$f":"IF('Emission Calculations'!$P$7=TRUE,(AY13*SUMPRODUCT('Emission Calculations'!CB$10:CB$74,'Emission Calculations'!$P$10:$P$74)/2000),SUMPRODUCT('Emission Calculations'!CB$10:CB$74,'Emission Calculations'!$P$10:$P$74)/2000)","v":0},{"$f":"IF('Emission Calculations'!$P$7=TRUE,(AZ13*SUMPRODUCT('Emission Calculations'!CC$10:CC$74,'Emission Calculations'!$P$10:$P$74)/2000),SUMPRODUCT('Emission Calculations'!CC$10:CC$74,'Emission Calculations'!$P$10:$P$74)/2000)","v":0},{"$f":"IF('Emission Calculations'!$P$7=TRUE,(BA13*SUMPRODUCT('Emission Calculations'!CD$10:CD$74,'Emission Calculations'!$P$10:$P$74)/2000),SUMPRODUCT('Emission Calculations'!CD$10:CD$74,'Emission Calculations'!$P$10:$P$74)/2000)","v":0},{"$f":"IF('Emission Calculations'!$P$7=TRUE,(BB13*SUMPRODUCT('Emission Calculations'!CE$10:CE$74,'Emission Calculations'!$P$10:$P$74)/2000),SUMPRODUCT('Emission Calculations'!CE$10:CE$74,'Emission Calculations'!$P$10:$P$74)/2000)","v":0},{"$f":"IF('Emission Calculations'!$P$7=TRUE,(BC13*SUMPRODUCT('Emission Calculations'!CF$10:CF$74,'Emission Calculations'!$P$10:$P$74)/2000),SUMPRODUCT('Emission Calculations'!CF$10:CF$74,'Emission Calculations'!$P$10:$P$74)/2000)","v":0},{"$f":"IF('Emission Calculations'!$P$7=TRUE,(BD13*SUMPRODUCT('Emission Calculations'!CG$10:CG$74,'Emission Calculations'!$P$10:$P$74)/2000),SUMPRODUCT('Emission Calculations'!CG$10:CG$74,'Emission Calculations'!$P$10:$P$74)/2000)","v":0},{"$f":"IF('Emission Calculations'!$P$7=TRUE,(BE13*SUMPRODUCT('Emission Calculations'!CH$10:CH$74,'Emission Calculations'!$P$10:$P$74)/2000),SUMPRODUCT('Emission Calculations'!CH$10:CH$74,'Emission Calculations'!$P$10:$P$74)/2000)","v":0},{"$f":"IF('Emission Calculations'!$P$7=TRUE,(BF13*SUMPRODUCT('Emission Calculations'!CI$10:CI$74,'Emission Calculations'!$P$10:$P$74)/2000),SUMPRODUCT('Emission Calculations'!CI$10:CI$74,'Emission Calculations'!$P$10:$P$74)/2000)","v":0},{"$f":"IF('Emission Calculations'!$P$7=TRUE,(BG13*SUMPRODUCT('Emission Calculations'!CJ$10:CJ$74,'Emission Calculations'!$P$10:$P$74)/2000),SUMPRODUCT('Emission Calculations'!CJ$10:CJ$74,'Emission Calculations'!$P$10:$P$74)/2000)","v":0},{"$f":"IF('Emission Calculations'!$P$7=TRUE,(BH13*SUMPRODUCT('Emission Calculations'!CK$10:CK$74,'Emission Calculations'!$P$10:$P$74)/2000),SUMPRODUCT('Emission Calculations'!CK$10:CK$74,'Emission Calculations'!$P$10:$P$74)/2000)","v":0},{"$f":"IF('Emission Calculations'!$P$7=TRUE,(BI13*SUMPRODUCT('Emission Calculations'!CL$10:CL$74,'Emission Calculations'!$P$10:$P$74)/2000),SUMPRODUCT('Emission Calculations'!CL$10:CL$74,'Emission Calculations'!$P$10:$P$74)/2000)","v":0}]
[{"$f":"'Emission Calculations'!A274","v":"HAP Name"},{"$f":"IF('Emission Calculations'!$Q$7=TRUE,(B13*SUMPRODUCT('Emission Calculations'!AE$10:AE$74,'Emission Calculations'!$Q$10:$Q$74)/2000),SUMPRODUCT('Emission Calculations'!AE$10:AE$74,'Emission Calculations'!$Q$10:$Q$74)/2000)","v":0},{"$f":"IF('Emission Calculations'!$Q$7=TRUE,(C13*SUMPRODUCT('Emission Calculations'!AF$10:AF$74,'Emission Calculations'!$Q$10:$Q$74)/2000),SUMPRODUCT('Emission Calculations'!AF$10:AF$74,'Emission Calculations'!$Q$10:$Q$74)/2000)","v":0},{"$f":"IF('Emission Calculations'!$Q$7=TRUE,(D13*SUMPRODUCT('Emission Calculations'!AG$10:AG$74,'Emission Calculations'!$Q$10:$Q$74)/2000),SUMPRODUCT('Emission Calculations'!AG$10:AG$74,'Emission Calculations'!$Q$10:$Q$74)/2000)","v":0},{"$f":"IF('Emission Calculations'!$Q$7=TRUE,(E13*SUMPRODUCT('Emission Calculations'!AH$10:AH$74,'Emission Calculations'!$Q$10:$Q$74)/2000),SUMPRODUCT('Emission Calculations'!AH$10:AH$74,'Emission Calculations'!$Q$10:$Q$74)/2000)","v":0},{"$f":"IF('Emission Calculations'!$Q$7=TRUE,(F13*SUMPRODUCT('Emission Calculations'!AI$10:AI$74,'Emission Calculations'!$Q$10:$Q$74)/2000),SUMPRODUCT('Emission Calculations'!AI$10:AI$74,'Emission Calculations'!$Q$10:$Q$74)/2000)","v":0},{"$f":"IF('Emission Calculations'!$Q$7=TRUE,(G13*SUMPRODUCT('Emission Calculations'!AJ$10:AJ$74,'Emission Calculations'!$Q$10:$Q$74)/2000),SUMPRODUCT('Emission Calculations'!AJ$10:AJ$74,'Emission Calculations'!$Q$10:$Q$74)/2000)","v":0},{"$f":"IF('Emission Calculations'!$Q$7=TRUE,(H13*SUMPRODUCT('Emission Calculations'!AK$10:AK$74,'Emission Calculations'!$Q$10:$Q$74)/2000),SUMPRODUCT('Emission Calculations'!AK$10:AK$74,'Emission Calculations'!$Q$10:$Q$74)/2000)","v":0},{"$f":"IF('Emission Calculations'!$Q$7=TRUE,(I13*SUMPRODUCT('Emission Calculations'!AL$10:AL$74,'Emission Calculations'!$Q$10:$Q$74)/2000),SUMPRODUCT('Emission Calculations'!AL$10:AL$74,'Emission Calculations'!$Q$10:$Q$74)/2000)","v":0},{"$f":"IF('Emission Calculations'!$Q$7=TRUE,(J13*SUMPRODUCT('Emission Calculations'!AM$10:AM$74,'Emission Calculations'!$Q$10:$Q$74)/2000),SUMPRODUCT('Emission Calculations'!AM$10:AM$74,'Emission Calculations'!$Q$10:$Q$74)/2000)","v":0},{"$f":"IF('Emission Calculations'!$Q$7=TRUE,(K13*SUMPRODUCT('Emission Calculations'!AN$10:AN$74,'Emission Calculations'!$Q$10:$Q$74)/2000),SUMPRODUCT('Emission Calculations'!AN$10:AN$74,'Emission Calculations'!$Q$10:$Q$74)/2000)","v":0},{"$f":"IF('Emission Calculations'!$Q$7=TRUE,(L13*SUMPRODUCT('Emission Calculations'!AO$10:AO$74,'Emission Calculations'!$Q$10:$Q$74)/2000),SUMPRODUCT('Emission Calculations'!AO$10:AO$74,'Emission Calculations'!$Q$10:$Q$74)/2000)","v":0},{"$f":"IF('Emission Calculations'!$Q$7=TRUE,(M13*SUMPRODUCT('Emission Calculations'!AP$10:AP$74,'Emission Calculations'!$Q$10:$Q$74)/2000),SUMPRODUCT('Emission Calculations'!AP$10:AP$74,'Emission Calculations'!$Q$10:$Q$74)/2000)","v":0},{"$f":"IF('Emission Calculations'!$Q$7=TRUE,(N13*SUMPRODUCT('Emission Calculations'!AQ$10:AQ$74,'Emission Calculations'!$Q$10:$Q$74)/2000),SUMPRODUCT('Emission Calculations'!AQ$10:AQ$74,'Emission Calculations'!$Q$10:$Q$74)/2000)","v":0},{"$f":"IF('Emission Calculations'!$Q$7=TRUE,(O13*SUMPRODUCT('Emission Calculations'!AR$10:AR$74,'Emission Calculations'!$Q$10:$Q$74)/2000),SUMPRODUCT('Emission Calculations'!AR$10:AR$74,'Emission Calculations'!$Q$10:$Q$74)/2000)","v":0},{"$f":"IF('Emission Calculations'!$Q$7=TRUE,(P13*SUMPRODUCT('Emission Calculations'!AS$10:AS$74,'Emission Calculations'!$Q$10:$Q$74)/2000),SUMPRODUCT('Emission Calculations'!AS$10:AS$74,'Emission Calculations'!$Q$10:$Q$74)/2000)","v":0},{"$f":"IF('Emission Calculations'!$Q$7=TRUE,(Q13*SUMPRODUCT('Emission Calculations'!AT$10:AT$74,'Emission Calculations'!$Q$10:$Q$74)/2000),SUMPRODUCT('Emission Calculations'!AT$10:AT$74,'Emission Calculations'!$Q$10:$Q$74)/2000)","v":0},{"$f":"IF('Emission Calculations'!$Q$7=TRUE,(R13*SUMPRODUCT('Emission Calculations'!AU$10:AU$74,'Emission Calculations'!$Q$10:$Q$74)/2000),SUMPRODUCT('Emission Calculations'!AU$10:AU$74,'Emission Calculations'!$Q$10:$Q$74)/2000)","v":0},{"$f":"IF('Emission Calculations'!$Q$7=TRUE,(S13*SUMPRODUCT('Emission Calculations'!AV$10:AV$74,'Emission Calculations'!$Q$10:$Q$74)/2000),SUMPRODUCT('Emission Calculations'!AV$10:AV$74,'Emission Calculations'!$Q$10:$Q$74)/2000)","v":0},{"$f":"IF('Emission Calculations'!$Q$7=TRUE,(T13*SUMPRODUCT('Emission Calculations'!AW$10:AW$74,'Emission Calculations'!$Q$10:$Q$74)/2000),SUMPRODUCT('Emission Calculations'!AW$10:AW$74,'Emission Calculations'!$Q$10:$Q$74)/2000)","v":0},{"$f":"IF('Emission Calculations'!$Q$7=TRUE,(U13*SUMPRODUCT('Emission Calculations'!AX$10:AX$74,'Emission Calculations'!$Q$10:$Q$74)/2000),SUMPRODUCT('Emission Calculations'!AX$10:AX$74,'Emission Calculations'!$Q$10:$Q$74)/2000)","v":0},{"$f":"IF('Emission Calculations'!$Q$7=TRUE,(V13*SUMPRODUCT('Emission Calculations'!AY$10:AY$74,'Emission Calculations'!$Q$10:$Q$74)/2000),SUMPRODUCT('Emission Calculations'!AY$10:AY$74,'Emission Calculations'!$Q$10:$Q$74)/2000)","v":0},{"$f":"IF('Emission Calculations'!$Q$7=TRUE,(W13*SUMPRODUCT('Emission Calculations'!AZ$10:AZ$74,'Emission Calculations'!$Q$10:$Q$74)/2000),SUMPRODUCT('Emission Calculations'!AZ$10:AZ$74,'Emission Calculations'!$Q$10:$Q$74)/2000)","v":0},{"$f":"IF('Emission Calculations'!$Q$7=TRUE,(X13*SUMPRODUCT('Emission Calculations'!BA$10:BA$74,'Emission Calculations'!$Q$10:$Q$74)/2000),SUMPRODUCT('Emission Calculations'!BA$10:BA$74,'Emission Calculations'!$Q$10:$Q$74)/2000)","v":0},{"$f":"IF('Emission Calculations'!$Q$7=TRUE,(Y13*SUMPRODUCT('Emission Calculations'!BB$10:BB$74,'Emission Calculations'!$Q$10:$Q$74)/2000),SUMPRODUCT('Emission Calculations'!BB$10:BB$74,'Emission Calculations'!$Q$10:$Q$74)/2000)","v":0},{"$f":"IF('Emission Calculations'!$Q$7=TRUE,(Z13*SUMPRODUCT('Emission Calculations'!BC$10:BC$74,'Emission Calculations'!$Q$10:$Q$74)/2000),SUMPRODUCT('Emission Calculations'!BC$10:BC$74,'Emission Calculations'!$Q$10:$Q$74)/2000)","v":0},{"$f":"IF('Emission Calculations'!$Q$7=TRUE,(AA13*SUMPRODUCT('Emission Calculations'!BD$10:BD$74,'Emission Calculations'!$Q$10:$Q$74)/2000),SUMPRODUCT('Emission Calculations'!BD$10:BD$74,'Emission Calculations'!$Q$10:$Q$74)/2000)","v":0},{"$f":"IF('Emission Calculations'!$Q$7=TRUE,(AB13*SUMPRODUCT('Emission Calculations'!BE$10:BE$74,'Emission Calculations'!$Q$10:$Q$74)/2000),SUMPRODUCT('Emission Calculations'!BE$10:BE$74,'Emission Calculations'!$Q$10:$Q$74)/2000)","v":0},{"$f":"IF('Emission Calculations'!$Q$7=TRUE,(AC13*SUMPRODUCT('Emission Calculations'!BF$10:BF$74,'Emission Calculations'!$Q$10:$Q$74)/2000),SUMPRODUCT('Emission Calculations'!BF$10:BF$74,'Emission Calculations'!$Q$10:$Q$74)/2000)","v":0},{"$f":"IF('Emission Calculations'!$Q$7=TRUE,(AD13*SUMPRODUCT('Emission Calculations'!BG$10:BG$74,'Emission Calculations'!$Q$10:$Q$74)/2000),SUMPRODUCT('Emission Calculations'!BG$10:BG$74,'Emission Calculations'!$Q$10:$Q$74)/2000)","v":0},{"$f":"IF('Emission Calculations'!$Q$7=TRUE,(AE13*SUMPRODUCT('Emission Calculations'!BH$10:BH$74,'Emission Calculations'!$Q$10:$Q$74)/2000),SUMPRODUCT('Emission Calculations'!BH$10:BH$74,'Emission Calculations'!$Q$10:$Q$74)/2000)","v":0},{"$f":"IF('Emission Calculations'!$Q$7=TRUE,(AF13*SUMPRODUCT('Emission Calculations'!BI$10:BI$74,'Emission Calculations'!$Q$10:$Q$74)/2000),SUMPRODUCT('Emission Calculations'!BI$10:BI$74,'Emission Calculations'!$Q$10:$Q$74)/2000)","v":0},{"$f":"IF('Emission Calculations'!$Q$7=TRUE,(AG13*SUMPRODUCT('Emission Calculations'!BJ$10:BJ$74,'Emission Calculations'!$Q$10:$Q$74)/2000),SUMPRODUCT('Emission Calculations'!BJ$10:BJ$74,'Emission Calculations'!$Q$10:$Q$74)/2000)","v":0},{"$f":"IF('Emission Calculations'!$Q$7=TRUE,(AH13*SUMPRODUCT('Emission Calculations'!BK$10:BK$74,'Emission Calculations'!$Q$10:$Q$74)/2000),SUMPRODUCT('Emission Calculations'!BK$10:BK$74,'Emission Calculations'!$Q$10:$Q$74)/2000)","v":0},{"$f":"IF('Emission Calculations'!$Q$7=TRUE,(AI13*SUMPRODUCT('Emission Calculations'!BL$10:BL$74,'Emission Calculations'!$Q$10:$Q$74)/2000),SUMPRODUCT('Emission Calculations'!BL$10:BL$74,'Emission Calculations'!$Q$10:$Q$74)/2000)","v":0},{"$f":"IF('Emission Calculations'!$Q$7=TRUE,(AJ13*SUMPRODUCT('Emission Calculations'!BM$10:BM$74,'Emission Calculations'!$Q$10:$Q$74)/2000),SUMPRODUCT('Emission Calculations'!BM$10:BM$74,'Emission Calculations'!$Q$10:$Q$74)/2000)","v":0},{"$f":"IF('Emission Calculations'!$Q$7=TRUE,(AK13*SUMPRODUCT('Emission Calculations'!BN$10:BN$74,'Emission Calculations'!$Q$10:$Q$74)/2000),SUMPRODUCT('Emission Calculations'!BN$10:BN$74,'Emission Calculations'!$Q$10:$Q$74)/2000)","v":0},{"$f":"IF('Emission Calculations'!$Q$7=TRUE,(AL13*SUMPRODUCT('Emission Calculations'!BO$10:BO$74,'Emission Calculations'!$Q$10:$Q$74)/2000),SUMPRODUCT('Emission Calculations'!BO$10:BO$74,'Emission Calculations'!$Q$10:$Q$74)/2000)","v":0},{"$f":"IF('Emission Calculations'!$Q$7=TRUE,(AM13*SUMPRODUCT('Emission Calculations'!BP$10:BP$74,'Emission Calculations'!$Q$10:$Q$74)/2000),SUMPRODUCT('Emission Calculations'!BP$10:BP$74,'Emission Calculations'!$Q$10:$Q$74)/2000)","v":0},{"$f":"IF('Emission Calculations'!$Q$7=TRUE,(AN13*SUMPRODUCT('Emission Calculations'!BQ$10:BQ$74,'Emission Calculations'!$Q$10:$Q$74)/2000),SUMPRODUCT('Emission Calculations'!BQ$10:BQ$74,'Emission Calculations'!$Q$10:$Q$74)/2000)","v":0},{"$f":"IF('Emission Calculations'!$Q$7=TRUE,(AO13*SUMPRODUCT('Emission Calculations'!BR$10:BR$74,'Emission Calculations'!$Q$10:$Q$74)/2000),SUMPRODUCT('Emission Calculations'!BR$10:BR$74,'Emission Calculations'!$Q$10:$Q$74)/2000)","v":0},{"$f":"IF('Emission Calculations'!$Q$7=TRUE,(AP13*SUMPRODUCT('Emission Calculations'!BS$10:BS$74,'Emission Calculations'!$Q$10:$Q$74)/2000),SUMPRODUCT('Emission Calculations'!BS$10:BS$74,'Emission Calculations'!$Q$10:$Q$74)/2000)","v":0},{"$f":"IF('Emission Calculations'!$Q$7=TRUE,(AQ13*SUMPRODUCT('Emission Calculations'!BT$10:BT$74,'Emission Calculations'!$Q$10:$Q$74)/2000),SUMPRODUCT('Emission Calculations'!BT$10:BT$74,'Emission Calculations'!$Q$10:$Q$74)/2000)","v":0},{"$f":"IF('Emission Calculations'!$Q$7=TRUE,(AR13*SUMPRODUCT('Emission Calculations'!BU$10:BU$74,'Emission Calculations'!$Q$10:$Q$74)/2000),SUMPRODUCT('Emission Calculations'!BU$10:BU$74,'Emission Calculations'!$Q$10:$Q$74)/2000)","v":0},{"$f":"IF('Emission Calculations'!$Q$7=TRUE,(AS13*SUMPRODUCT('Emission Calculations'!BV$10:BV$74,'Emission Calculations'!$Q$10:$Q$74)/2000),SUMPRODUCT('Emission Calculations'!BV$10:BV$74,'Emission Calculations'!$Q$10:$Q$74)/2000)","v":0},{"$f":"IF('Emission Calculations'!$Q$7=TRUE,(AT13*SUMPRODUCT('Emission Calculations'!BW$10:BW$74,'Emission Calculations'!$Q$10:$Q$74)/2000),SUMPRODUCT('Emission Calculations'!BW$10:BW$74,'Emission Calculations'!$Q$10:$Q$74)/2000)","v":0},{"$f":"IF('Emission Calculations'!$Q$7=TRUE,(AU13*SUMPRODUCT('Emission Calculations'!BX$10:BX$74,'Emission Calculations'!$Q$10:$Q$74)/2000),SUMPRODUCT('Emission Calculations'!BX$10:BX$74,'Emission Calculations'!$Q$10:$Q$74)/2000)","v":0},{"$f":"IF('Emission Calculations'!$Q$7=TRUE,(AV13*SUMPRODUCT('Emission Calculations'!BY$10:BY$74,'Emission Calculations'!$Q$10:$Q$74)/2000),SUMPRODUCT('Emission Calculations'!BY$10:BY$74,'Emission Calculations'!$Q$10:$Q$74)/2000)","v":0},{"$f":"IF('Emission Calculations'!$Q$7=TRUE,(AW13*SUMPRODUCT('Emission Calculations'!BZ$10:BZ$74,'Emission Calculations'!$Q$10:$Q$74)/2000),SUMPRODUCT('Emission Calculations'!BZ$10:BZ$74,'Emission Calculations'!$Q$10:$Q$74)/2000)","v":0},{"$f":"IF('Emission Calculations'!$Q$7=TRUE,(AX13*SUMPRODUCT('Emission Calculations'!CA$10:CA$74,'Emission Calculations'!$Q$10:$Q$74)/2000),SUMPRODUCT('Emission Calculations'!CA$10:CA$74,'Emission Calculations'!$Q$10:$Q$74)/2000)","v":0},{"$f":"IF('Emission Calculations'!$Q$7=TRUE,(AY13*SUMPRODUCT('Emission Calculations'!CB$10:CB$74,'Emission Calculations'!$Q$10:$Q$74)/2000),SUMPRODUCT('Emission Calculations'!CB$10:CB$74,'Emission Calculations'!$Q$10:$Q$74)/2000)","v":0},{"$f":"IF('Emission Calculations'!$Q$7=TRUE,(AZ13*SUMPRODUCT('Emission Calculations'!CC$10:CC$74,'Emission Calculations'!$Q$10:$Q$74)/2000),SUMPRODUCT('Emission Calculations'!CC$10:CC$74,'Emission Calculations'!$Q$10:$Q$74)/2000)","v":0},{"$f":"IF('Emission Calculations'!$Q$7=TRUE,(BA13*SUMPRODUCT('Emission Calculations'!CD$10:CD$74,'Emission Calculations'!$Q$10:$Q$74)/2000),SUMPRODUCT('Emission Calculations'!CD$10:CD$74,'Emission Calculations'!$Q$10:$Q$74)/2000)","v":0},{"$f":"IF('Emission Calculations'!$Q$7=TRUE,(BB13*SUMPRODUCT('Emission Calculations'!CE$10:CE$74,'Emission Calculations'!$Q$10:$Q$74)/2000),SUMPRODUCT('Emission Calculations'!CE$10:CE$74,'Emission Calculations'!$Q$10:$Q$74)/2000)","v":0},{"$f":"IF('Emission Calculations'!$Q$7=TRUE,(BC13*SUMPRODUCT('Emission Calculations'!CF$10:CF$74,'Emission Calculations'!$Q$10:$Q$74)/2000),SUMPRODUCT('Emission Calculations'!CF$10:CF$74,'Emission Calculations'!$Q$10:$Q$74)/2000)","v":0},{"$f":"IF('Emission Calculations'!$Q$7=TRUE,(BD13*SUMPRODUCT('Emission Calculations'!CG$10:CG$74,'Emission Calculations'!$Q$10:$Q$74)/2000),SUMPRODUCT('Emission Calculations'!CG$10:CG$74,'Emission Calculations'!$Q$10:$Q$74)/2000)","v":0},{"$f":"IF('Emission Calculations'!$Q$7=TRUE,(BE13*SUMPRODUCT('Emission Calculations'!CH$10:CH$74,'Emission Calculations'!$Q$10:$Q$74)/2000),SUMPRODUCT('Emission Calculations'!CH$10:CH$74,'Emission Calculations'!$Q$10:$Q$74)/2000)","v":0},{"$f":"IF('Emission Calculations'!$Q$7=TRUE,(BF13*SUMPRODUCT('Emission Calculations'!CI$10:CI$74,'Emission Calculations'!$Q$10:$Q$74)/2000),SUMPRODUCT('Emission Calculations'!CI$10:CI$74,'Emission Calculations'!$Q$10:$Q$74)/2000)","v":0},{"$f":"IF('Emission Calculations'!$Q$7=TRUE,(BG13*SUMPRODUCT('Emission Calculations'!CJ$10:CJ$74,'Emission Calculations'!$Q$10:$Q$74)/2000),SUMPRODUCT('Emission Calculations'!CJ$10:CJ$74,'Emission Calculations'!$Q$10:$Q$74)/2000)","v":0},{"$f":"IF('Emission Calculations'!$Q$7=TRUE,(BH13*SUMPRODUCT('Emission Calculations'!CK$10:CK$74,'Emission Calculations'!$Q$10:$Q$74)/2000),SUMPRODUCT('Emission Calculations'!CK$10:CK$74,'Emission Calculations'!$Q$10:$Q$74)/2000)","v":0},{"$f":"IF('Emission Calculations'!$Q$7=TRUE,(BI13*SUMPRODUCT('Emission Calculations'!CL$10:CL$74,'Emission Calculations'!$Q$10:$Q$74)/2000),SUMPRODUCT('Emission Calculations'!CL$10:CL$74,'Emission Calculations'!$Q$10:$Q$74)/2000)","v":0}]
[{"$f":"'Emission Calculations'!A275","v":"HAP Name"},{"$f":"IF('Emission Calculations'!$R$7=TRUE,(B13*SUMPRODUCT('Emission Calculations'!AE$10:AE$74,'Emission Calculations'!$R$10:$R$74)/2000),SUMPRODUCT('Emission Calculations'!AE$10:AE$74,'Emission Calculations'!$R$10:$R$74)/2000)","v":0},{"$f":"IF('Emission Calculations'!$R$7=TRUE,(C13*SUMPRODUCT('Emission Calculations'!AF$10:AF$74,'Emission Calculations'!$R$10:$R$74)/2000),SUMPRODUCT('Emission Calculations'!AF$10:AF$74,'Emission Calculations'!$R$10:$R$74)/2000)","v":0},{"$f":"IF('Emission Calculations'!$R$7=TRUE,(D13*SUMPRODUCT('Emission Calculations'!AG$10:AG$74,'Emission Calculations'!$R$10:$R$74)/2000),SUMPRODUCT('Emission Calculations'!AG$10:AG$74,'Emission Calculations'!$R$10:$R$74)/2000)","v":0},{"$f":"IF('Emission Calculations'!$R$7=TRUE,(E13*SUMPRODUCT('Emission Calculations'!AH$10:AH$74,'Emission Calculations'!$R$10:$R$74)/2000),SUMPRODUCT('Emission Calculations'!AH$10:AH$74,'Emission Calculations'!$R$10:$R$74)/2000)","v":0},{"$f":"IF('Emission Calculations'!$R$7=TRUE,(F13*SUMPRODUCT('Emission Calculations'!AI$10:AI$74,'Emission Calculations'!$R$10:$R$74)/2000),SUMPRODUCT('Emission Calculations'!AI$10:AI$74,'Emission Calculations'!$R$10:$R$74)/2000)","v":0},{"$f":"IF('Emission Calculations'!$R$7=TRUE,(G13*SUMPRODUCT('Emission Calculations'!AJ$10:AJ$74,'Emission Calculations'!$R$10:$R$74)/2000),SUMPRODUCT('Emission Calculations'!AJ$10:AJ$74,'Emission Calculations'!$R$10:$R$74)/2000)","v":0},{"$f":"IF('Emission Calculations'!$R$7=TRUE,(H13*SUMPRODUCT('Emission Calculations'!AK$10:AK$74,'Emission Calculations'!$R$10:$R$74)/2000),SUMPRODUCT('Emission Calculations'!AK$10:AK$74,'Emission Calculations'!$R$10:$R$74)/2000)","v":0},{"$f":"IF('Emission Calculations'!$R$7=TRUE,(I13*SUMPRODUCT('Emission Calculations'!AL$10:AL$74,'Emission Calculations'!$R$10:$R$74)/2000),SUMPRODUCT('Emission Calculations'!AL$10:AL$74,'Emission Calculations'!$R$10:$R$74)/2000)","v":0},{"$f":"IF('Emission Calculations'!$R$7=TRUE,(J13*SUMPRODUCT('Emission Calculations'!AM$10:AM$74,'Emission Calculations'!$R$10:$R$74)/2000),SUMPRODUCT('Emission Calculations'!AM$10:AM$74,'Emission Calculations'!$R$10:$R$74)/2000)","v":0},{"$f":"IF('Emission Calculations'!$R$7=TRUE,(K13*SUMPRODUCT('Emission Calculations'!AN$10:AN$74,'Emission Calculations'!$R$10:$R$74)/2000),SUMPRODUCT('Emission Calculations'!AN$10:AN$74,'Emission Calculations'!$R$10:$R$74)/2000)","v":0},{"$f":"IF('Emission Calculations'!$R$7=TRUE,(L13*SUMPRODUCT('Emission Calculations'!AO$10:AO$74,'Emission Calculations'!$R$10:$R$74)/2000),SUMPRODUCT('Emission Calculations'!AO$10:AO$74,'Emission Calculations'!$R$10:$R$74)/2000)","v":0},{"$f":"IF('Emission Calculations'!$R$7=TRUE,(M13*SUMPRODUCT('Emission Calculations'!AP$10:AP$74,'Emission Calculations'!$R$10:$R$74)/2000),SUMPRODUCT('Emission Calculations'!AP$10:AP$74,'Emission Calculations'!$R$10:$R$74)/2000)","v":0},{"$f":"IF('Emission Calculations'!$R$7=TRUE,(N13*SUMPRODUCT('Emission Calculations'!AQ$10:AQ$74,'Emission Calculations'!$R$10:$R$74)/2000),SUMPRODUCT('Emission Calculations'!AQ$10:AQ$74,'Emission Calculations'!$R$10:$R$74)/2000)","v":0},{"$f":"IF('Emission Calculations'!$R$7=TRUE,(O13*SUMPRODUCT('Emission Calculations'!AR$10:AR$74,'Emission Calculations'!$R$10:$R$74)/2000),SUMPRODUCT('Emission Calculations'!AR$10:AR$74,'Emission Calculations'!$R$10:$R$74)/2000)","v":0},{"$f":"IF('Emission Calculations'!$R$7=TRUE,(P13*SUMPRODUCT('Emission Calculations'!AS$10:AS$74,'Emission Calculations'!$R$10:$R$74)/2000),SUMPRODUCT('Emission Calculations'!AS$10:AS$74,'Emission Calculations'!$R$10:$R$74)/2000)","v":0},{"$f":"IF('Emission Calculations'!$R$7=TRUE,(Q13*SUMPRODUCT('Emission Calculations'!AT$10:AT$74,'Emission Calculations'!$R$10:$R$74)/2000),SUMPRODUCT('Emission Calculations'!AT$10:AT$74,'Emission Calculations'!$R$10:$R$74)/2000)","v":0},{"$f":"IF('Emission Calculations'!$R$7=TRUE,(R13*SUMPRODUCT('Emission Calculations'!AU$10:AU$74,'Emission Calculations'!$R$10:$R$74)/2000),SUMPRODUCT('Emission Calculations'!AU$10:AU$74,'Emission Calculations'!$R$10:$R$74)/2000)","v":0},{"$f":"IF('Emission Calculations'!$R$7=TRUE,(S13*SUMPRODUCT('Emission Calculations'!AV$10:AV$74,'Emission Calculations'!$R$10:$R$74)/2000),SUMPRODUCT('Emission Calculations'!AV$10:AV$74,'Emission Calculations'!$R$10:$R$74)/2000)","v":0},{"$f":"IF('Emission Calculations'!$R$7=TRUE,(T13*SUMPRODUCT('Emission Calculations'!AW$10:AW$74,'Emission Calculations'!$R$10:$R$74)/2000),SUMPRODUCT('Emission Calculations'!AW$10:AW$74,'Emission Calculations'!$R$10:$R$74)/2000)","v":0},{"$f":"IF('Emission Calculations'!$R$7=TRUE,(U13*SUMPRODUCT('Emission Calculations'!AX$10:AX$74,'Emission Calculations'!$R$10:$R$74)/2000),SUMPRODUCT('Emission Calculations'!AX$10:AX$74,'Emission Calculations'!$R$10:$R$74)/2000)","v":0},{"$f":"IF('Emission Calculations'!$R$7=TRUE,(V13*SUMPRODUCT('Emission Calculations'!AY$10:AY$74,'Emission Calculations'!$R$10:$R$74)/2000),SUMPRODUCT('Emission Calculations'!AY$10:AY$74,'Emission Calculations'!$R$10:$R$74)/2000)","v":0},{"$f":"IF('Emission Calculations'!$R$7=TRUE,(W13*SUMPRODUCT('Emission Calculations'!AZ$10:AZ$74,'Emission Calculations'!$R$10:$R$74)/2000),SUMPRODUCT('Emission Calculations'!AZ$10:AZ$74,'Emission Calculations'!$R$10:$R$74)/2000)","v":0},{"$f":"IF('Emission Calculations'!$R$7=TRUE,(X13*SUMPRODUCT('Emission Calculations'!BA$10:BA$74,'Emission Calculations'!$R$10:$R$74)/2000),SUMPRODUCT('Emission Calculations'!BA$10:BA$74,'Emission Calculations'!$R$10:$R$74)/2000)","v":0},{"$f":"IF('Emission Calculations'!$R$7=TRUE,(Y13*SUMPRODUCT('Emission Calculations'!BB$10:BB$74,'Emission Calculations'!$R$10:$R$74)/2000),SUMPRODUCT('Emission Calculations'!BB$10:BB$74,'Emission Calculations'!$R$10:$R$74)/2000)","v":0},{"$f":"IF('Emission Calculations'!$R$7=TRUE,(Z13*SUMPRODUCT('Emission Calculations'!BC$10:BC$74,'Emission Calculations'!$R$10:$R$74)/2000),SUMPRODUCT('Emission Calculations'!BC$10:BC$74,'Emission Calculations'!$R$10:$R$74)/2000)","v":0},{"$f":"IF('Emission Calculations'!$R$7=TRUE,(AA13*SUMPRODUCT('Emission Calculations'!BD$10:BD$74,'Emission Calculations'!$R$10:$R$74)/2000),SUMPRODUCT('Emission Calculations'!BD$10:BD$74,'Emission Calculations'!$R$10:$R$74)/2000)","v":0},{"$f":"IF('Emission Calculations'!$R$7=TRUE,(AB13*SUMPRODUCT('Emission Calculations'!BE$10:BE$74,'Emission Calculations'!$R$10:$R$74)/2000),SUMPRODUCT('Emission Calculations'!BE$10:BE$74,'Emission Calculations'!$R$10:$R$74)/2000)","v":0},{"$f":"IF('Emission Calculations'!$R$7=TRUE,(AC13*SUMPRODUCT('Emission Calculations'!BF$10:BF$74,'Emission Calculations'!$R$10:$R$74)/2000),SUMPRODUCT('Emission Calculations'!BF$10:BF$74,'Emission Calculations'!$R$10:$R$74)/2000)","v":0},{"$f":"IF('Emission Calculations'!$R$7=TRUE,(AD13*SUMPRODUCT('Emission Calculations'!BG$10:BG$74,'Emission Calculations'!$R$10:$R$74)/2000),SUMPRODUCT('Emission Calculations'!BG$10:BG$74,'Emission Calculations'!$R$10:$R$74)/2000)","v":0},{"$f":"IF('Emission Calculations'!$R$7=TRUE,(AE13*SUMPRODUCT('Emission Calculations'!BH$10:BH$74,'Emission Calculations'!$R$10:$R$74)/2000),SUMPRODUCT('Emission Calculations'!BH$10:BH$74,'Emission Calculations'!$R$10:$R$74)/2000)","v":0},{"$f":"IF('Emission Calculations'!$R$7=TRUE,(AF13*SUMPRODUCT('Emission Calculations'!BI$10:BI$74,'Emission Calculations'!$R$10:$R$74)/2000),SUMPRODUCT('Emission Calculations'!BI$10:BI$74,'Emission Calculations'!$R$10:$R$74)/2000)","v":0},{"$f":"IF('Emission Calculations'!$R$7=TRUE,(AG13*SUMPRODUCT('Emission Calculations'!BJ$10:BJ$74,'Emission Calculations'!$R$10:$R$74)/2000),SUMPRODUCT('Emission Calculations'!BJ$10:BJ$74,'Emission Calculations'!$R$10:$R$74)/2000)","v":0},{"$f":"IF('Emission Calculations'!$R$7=TRUE,(AH13*SUMPRODUCT('Emission Calculations'!BK$10:BK$74,'Emission Calculations'!$R$10:$R$74)/2000),SUMPRODUCT('Emission Calculations'!BK$10:BK$74,'Emission Calculations'!$R$10:$R$74)/2000)","v":0},{"$f":"IF('Emission Calculations'!$R$7=TRUE,(AI13*SUMPRODUCT('Emission Calculations'!BL$10:BL$74,'Emission Calculations'!$R$10:$R$74)/2000),SUMPRODUCT('Emission Calculations'!BL$10:BL$74,'Emission Calculations'!$R$10:$R$74)/2000)","v":0},{"$f":"IF('Emission Calculations'!$R$7=TRUE,(AJ13*SUMPRODUCT('Emission Calculations'!BM$10:BM$74,'Emission Calculations'!$R$10:$R$74)/2000),SUMPRODUCT('Emission Calculations'!BM$10:BM$74,'Emission Calculations'!$R$10:$R$74)/2000)","v":0},{"$f":"IF('Emission Calculations'!$R$7=TRUE,(AK13*SUMPRODUCT('Emission Calculations'!BN$10:BN$74,'Emission Calculations'!$R$10:$R$74)/2000),SUMPRODUCT('Emission Calculations'!BN$10:BN$74,'Emission Calculations'!$R$10:$R$74)/2000)","v":0},{"$f":"IF('Emission Calculations'!$R$7=TRUE,(AL13*SUMPRODUCT('Emission Calculations'!BO$10:BO$74,'Emission Calculations'!$R$10:$R$74)/2000),SUMPRODUCT('Emission Calculations'!BO$10:BO$74,'Emission Calculations'!$R$10:$R$74)/2000)","v":0},{"$f":"IF('Emission Calculations'!$R$7=TRUE,(AM13*SUMPRODUCT('Emission Calculations'!BP$10:BP$74,'Emission Calculations'!$R$10:$R$74)/2000),SUMPRODUCT('Emission Calculations'!BP$10:BP$74,'Emission Calculations'!$R$10:$R$74)/2000)","v":0},{"$f":"IF('Emission Calculations'!$R$7=TRUE,(AN13*SUMPRODUCT('Emission Calculations'!BQ$10:BQ$74,'Emission Calculations'!$R$10:$R$74)/2000),SUMPRODUCT('Emission Calculations'!BQ$10:BQ$74,'Emission Calculations'!$R$10:$R$74)/2000)","v":0},{"$f":"IF('Emission Calculations'!$R$7=TRUE,(AO13*SUMPRODUCT('Emission Calculations'!BR$10:BR$74,'Emission Calculations'!$R$10:$R$74)/2000),SUMPRODUCT('Emission Calculations'!BR$10:BR$74,'Emission Calculations'!$R$10:$R$74)/2000)","v":0},{"$f":"IF('Emission Calculations'!$R$7=TRUE,(AP13*SUMPRODUCT('Emission Calculations'!BS$10:BS$74,'Emission Calculations'!$R$10:$R$74)/2000),SUMPRODUCT('Emission Calculations'!BS$10:BS$74,'Emission Calculations'!$R$10:$R$74)/2000)","v":0},{"$f":"IF('Emission Calculations'!$R$7=TRUE,(AQ13*SUMPRODUCT('Emission Calculations'!BT$10:BT$74,'Emission Calculations'!$R$10:$R$74)/2000),SUMPRODUCT('Emission Calculations'!BT$10:BT$74,'Emission Calculations'!$R$10:$R$74)/2000)","v":0},{"$f":"IF('Emission Calculations'!$R$7=TRUE,(AR13*SUMPRODUCT('Emission Calculations'!BU$10:BU$74,'Emission Calculations'!$R$10:$R$74)/2000),SUMPRODUCT('Emission Calculations'!BU$10:BU$74,'Emission Calculations'!$R$10:$R$74)/2000)","v":0},{"$f":"IF('Emission Calculations'!$R$7=TRUE,(AS13*SUMPRODUCT('Emission Calculations'!BV$10:BV$74,'Emission Calculations'!$R$10:$R$74)/2000),SUMPRODUCT('Emission Calculations'!BV$10:BV$74,'Emission Calculations'!$R$10:$R$74)/2000)","v":0},{"$f":"IF('Emission Calculations'!$R$7=TRUE,(AT13*SUMPRODUCT('Emission Calculations'!BW$10:BW$74,'Emission Calculations'!$R$10:$R$74)/2000),SUMPRODUCT('Emission Calculations'!BW$10:BW$74,'Emission Calculations'!$R$10:$R$74)/2000)","v":0},{"$f":"IF('Emission Calculations'!$R$7=TRUE,(AU13*SUMPRODUCT('Emission Calculations'!BX$10:BX$74,'Emission Calculations'!$R$10:$R$74)/2000),SUMPRODUCT('Emission Calculations'!BX$10:BX$74,'Emission Calculations'!$R$10:$R$74)/2000)","v":0},{"$f":"IF('Emission Calculations'!$R$7=TRUE,(AV13*SUMPRODUCT('Emission Calculations'!BY$10:BY$74,'Emission Calculations'!$R$10:$R$74)/2000),SUMPRODUCT('Emission Calculations'!BY$10:BY$74,'Emission Calculations'!$R$10:$R$74)/2000)","v":0},{"$f":"IF('Emission Calculations'!$R$7=TRUE,(AW13*SUMPRODUCT('Emission Calculations'!BZ$10:BZ$74,'Emission Calculations'!$R$10:$R$74)/2000),SUMPRODUCT('Emission Calculations'!BZ$10:BZ$74,'Emission Calculations'!$R$10:$R$74)/2000)","v":0},{"$f":"IF('Emission Calculations'!$R$7=TRUE,(AX13*SUMPRODUCT('Emission Calculations'!CA$10:CA$74,'Emission Calculations'!$R$10:$R$74)/2000),SUMPRODUCT('Emission Calculations'!CA$10:CA$74,'Emission Calculations'!$R$10:$R$74)/2000)","v":0},{"$f":"IF('Emission Calculations'!$R$7=TRUE,(AY13*SUMPRODUCT('Emission Calculations'!CB$10:CB$74,'Emission Calculations'!$R$10:$R$74)/2000),SUMPRODUCT('Emission Calculations'!CB$10:CB$74,'Emission Calculations'!$R$10:$R$74)/2000)","v":0},{"$f":"IF('Emission Calculations'!$R$7=TRUE,(AZ13*SUMPRODUCT('Emission Calculations'!CC$10:CC$74,'Emission Calculations'!$R$10:$R$74)/2000),SUMPRODUCT('Emission Calculations'!CC$10:CC$74,'Emission Calculations'!$R$10:$R$74)/2000)","v":0},{"$f":"IF('Emission Calculations'!$R$7=TRUE,(BA13*SUMPRODUCT('Emission Calculations'!CD$10:CD$74,'Emission Calculations'!$R$10:$R$74)/2000),SUMPRODUCT('Emission Calculations'!CD$10:CD$74,'Emission Calculations'!$R$10:$R$74)/2000)","v":0},{"$f":"IF('Emission Calculations'!$R$7=TRUE,(BB13*SUMPRODUCT('Emission Calculations'!CE$10:CE$74,'Emission Calculations'!$R$10:$R$74)/2000),SUMPRODUCT('Emission Calculations'!CE$10:CE$74,'Emission Calculations'!$R$10:$R$74)/2000)","v":0},{"$f":"IF('Emission Calculations'!$R$7=TRUE,(BC13*SUMPRODUCT('Emission Calculations'!CF$10:CF$74,'Emission Calculations'!$R$10:$R$74)/2000),SUMPRODUCT('Emission Calculations'!CF$10:CF$74,'Emission Calculations'!$R$10:$R$74)/2000)","v":0},{"$f":"IF('Emission Calculations'!$R$7=TRUE,(BD13*SUMPRODUCT('Emission Calculations'!CG$10:CG$74,'Emission Calculations'!$R$10:$R$74)/2000),SUMPRODUCT('Emission Calculations'!CG$10:CG$74,'Emission Calculations'!$R$10:$R$74)/2000)","v":0},{"$f":"IF('Emission Calculations'!$R$7=TRUE,(BE13*SUMPRODUCT('Emission Calculations'!CH$10:CH$74,'Emission Calculations'!$R$10:$R$74)/2000),SUMPRODUCT('Emission Calculations'!CH$10:CH$74,'Emission Calculations'!$R$10:$R$74)/2000)","v":0},{"$f":"IF('Emission Calculations'!$R$7=TRUE,(BF13*SUMPRODUCT('Emission Calculations'!CI$10:CI$74,'Emission Calculations'!$R$10:$R$74)/2000),SUMPRODUCT('Emission Calculations'!CI$10:CI$74,'Emission Calculations'!$R$10:$R$74)/2000)","v":0},{"$f":"IF('Emission Calculations'!$R$7=TRUE,(BG13*SUMPRODUCT('Emission Calculations'!CJ$10:CJ$74,'Emission Calculations'!$R$10:$R$74)/2000),SUMPRODUCT('Emission Calculations'!CJ$10:CJ$74,'Emission Calculations'!$R$10:$R$74)/2000)","v":0},{"$f":"IF('Emission Calculations'!$R$7=TRUE,(BH13*SUMPRODUCT('Emission Calculations'!CK$10:CK$74,'Emission Calculations'!$R$10:$R$74)/2000),SUMPRODUCT('Emission Calculations'!CK$10:CK$74,'Emission Calculations'!$R$10:$R$74)/2000)","v":0},{"$f":"IF('Emission Calculations'!$R$7=TRUE,(BI13*SUMPRODUCT('Emission Calculations'!CL$10:CL$74,'Emission Calculations'!$R$10:$R$74)/2000),SUMPRODUCT('Emission Calculations'!CL$10:CL$74,'Emission Calculations'!$R$10:$R$74)/2000)","v":0}]
[{"$f":"'Emission Calculations'!A276","v":"HAP Name"},{"$f":"IF('Emission Calculations'!$S$7=TRUE,(B13*SUMPRODUCT('Emission Calculations'!AE$10:AE$74,'Emission Calculations'!$S$10:$S$74)/2000),SUMPRODUCT('Emission Calculations'!AE$10:AE$74,'Emission Calculations'!$S$10:$S$74)/2000)","v":0},{"$f":"IF('Emission Calculations'!$S$7=TRUE,(C13*SUMPRODUCT('Emission Calculations'!AF$10:AF$74,'Emission Calculations'!$S$10:$S$74)/2000),SUMPRODUCT('Emission Calculations'!AF$10:AF$74,'Emission Calculations'!$S$10:$S$74)/2000)","v":0},{"$f":"IF('Emission Calculations'!$S$7=TRUE,(D13*SUMPRODUCT('Emission Calculations'!AG$10:AG$74,'Emission Calculations'!$S$10:$S$74)/2000),SUMPRODUCT('Emission Calculations'!AG$10:AG$74,'Emission Calculations'!$S$10:$S$74)/2000)","v":0},{"$f":"IF('Emission Calculations'!$S$7=TRUE,(E13*SUMPRODUCT('Emission Calculations'!AH$10:AH$74,'Emission Calculations'!$S$10:$S$74)/2000),SUMPRODUCT('Emission Calculations'!AH$10:AH$74,'Emission Calculations'!$S$10:$S$74)/2000)","v":0},{"$f":"IF('Emission Calculations'!$S$7=TRUE,(F13*SUMPRODUCT('Emission Calculations'!AI$10:AI$74,'Emission Calculations'!$S$10:$S$74)/2000),SUMPRODUCT('Emission Calculations'!AI$10:AI$74,'Emission Calculations'!$S$10:$S$74)/2000)","v":0},{"$f":"IF('Emission Calculations'!$S$7=TRUE,(G13*SUMPRODUCT('Emission Calculations'!AJ$10:AJ$74,'Emission Calculations'!$S$10:$S$74)/2000),SUMPRODUCT('Emission Calculations'!AJ$10:AJ$74,'Emission Calculations'!$S$10:$S$74)/2000)","v":0},{"$f":"IF('Emission Calculations'!$S$7=TRUE,(H13*SUMPRODUCT('Emission Calculations'!AK$10:AK$74,'Emission Calculations'!$S$10:$S$74)/2000),SUMPRODUCT('Emission Calculations'!AK$10:AK$74,'Emission Calculations'!$S$10:$S$74)/2000)","v":0},{"$f":"IF('Emission Calculations'!$S$7=TRUE,(I13*SUMPRODUCT('Emission Calculations'!AL$10:AL$74,'Emission Calculations'!$S$10:$S$74)/2000),SUMPRODUCT('Emission Calculations'!AL$10:AL$74,'Emission Calculations'!$S$10:$S$74)/2000)","v":0},{"$f":"IF('Emission Calculations'!$S$7=TRUE,(J13*SUMPRODUCT('Emission Calculations'!AM$10:AM$74,'Emission Calculations'!$S$10:$S$74)/2000),SUMPRODUCT('Emission Calculations'!AM$10:AM$74,'Emission Calculations'!$S$10:$S$74)/2000)","v":0},{"$f":"IF('Emission Calculations'!$S$7=TRUE,(K13*SUMPRODUCT('Emission Calculations'!AN$10:AN$74,'Emission Calculations'!$S$10:$S$74)/2000),SUMPRODUCT('Emission Calculations'!AN$10:AN$74,'Emission Calculations'!$S$10:$S$74)/2000)","v":0},{"$f":"IF('Emission Calculations'!$S$7=TRUE,(L13*SUMPRODUCT('Emission Calculations'!AO$10:AO$74,'Emission Calculations'!$S$10:$S$74)/2000),SUMPRODUCT('Emission Calculations'!AO$10:AO$74,'Emission Calculations'!$S$10:$S$74)/2000)","v":0},{"$f":"IF('Emission Calculations'!$S$7=TRUE,(M13*SUMPRODUCT('Emission Calculations'!AP$10:AP$74,'Emission Calculations'!$S$10:$S$74)/2000),SUMPRODUCT('Emission Calculations'!AP$10:AP$74,'Emission Calculations'!$S$10:$S$74)/2000)","v":0},{"$f":"IF('Emission Calculations'!$S$7=TRUE,(N13*SUMPRODUCT('Emission Calculations'!AQ$10:AQ$74,'Emission Calculations'!$S$10:$S$74)/2000),SUMPRODUCT('Emission Calculations'!AQ$10:AQ$74,'Emission Calculations'!$S$10:$S$74)/2000)","v":0},{"$f":"IF('Emission Calculations'!$S$7=TRUE,(O13*SUMPRODUCT('Emission Calculations'!AR$10:AR$74,'Emission Calculations'!$S$10:$S$74)/2000),SUMPRODUCT('Emission Calculations'!AR$10:AR$74,'Emission Calculations'!$S$10:$S$74)/2000)","v":0},{"$f":"IF('Emission Calculations'!$S$7=TRUE,(P13*SUMPRODUCT('Emission Calculations'!AS$10:AS$74,'Emission Calculations'!$S$10:$S$74)/2000),SUMPRODUCT('Emission Calculations'!AS$10:AS$74,'Emission Calculations'!$S$10:$S$74)/2000)","v":0},{"$f":"IF('Emission Calculations'!$S$7=TRUE,(Q13*SUMPRODUCT('Emission Calculations'!AT$10:AT$74,'Emission Calculations'!$S$10:$S$74)/2000),SUMPRODUCT('Emission Calculations'!AT$10:AT$74,'Emission Calculations'!$S$10:$S$74)/2000)","v":0},{"$f":"IF('Emission Calculations'!$S$7=TRUE,(R13*SUMPRODUCT('Emission Calculations'!AU$10:AU$74,'Emission Calculations'!$S$10:$S$74)/2000),SUMPRODUCT('Emission Calculations'!AU$10:AU$74,'Emission Calculations'!$S$10:$S$74)/2000)","v":0},{"$f":"IF('Emission Calculations'!$S$7=TRUE,(S13*SUMPRODUCT('Emission Calculations'!AV$10:AV$74,'Emission Calculations'!$S$10:$S$74)/2000),SUMPRODUCT('Emission Calculations'!AV$10:AV$74,'Emission Calculations'!$S$10:$S$74)/2000)","v":0},{"$f":"IF('Emission Calculations'!$S$7=TRUE,(T13*SUMPRODUCT('Emission Calculations'!AW$10:AW$74,'Emission Calculations'!$S$10:$S$74)/2000),SUMPRODUCT('Emission Calculations'!AW$10:AW$74,'Emission Calculations'!$S$10:$S$74)/2000)","v":0},{"$f":"IF('Emission Calculations'!$S$7=TRUE,(U13*SUMPRODUCT('Emission Calculations'!AX$10:AX$74,'Emission Calculations'!$S$10:$S$74)/2000),SUMPRODUCT('Emission Calculations'!AX$10:AX$74,'Emission Calculations'!$S$10:$S$74)/2000)","v":0},{"$f":"IF('Emission Calculations'!$S$7=TRUE,(V13*SUMPRODUCT('Emission Calculations'!AY$10:AY$74,'Emission Calculations'!$S$10:$S$74)/2000),SUMPRODUCT('Emission Calculations'!AY$10:AY$74,'Emission Calculations'!$S$10:$S$74)/2000)","v":0},{"$f":"IF('Emission Calculations'!$S$7=TRUE,(W13*SUMPRODUCT('Emission Calculations'!AZ$10:AZ$74,'Emission Calculations'!$S$10:$S$74)/2000),SUMPRODUCT('Emission Calculations'!AZ$10:AZ$74,'Emission Calculations'!$S$10:$S$74)/2000)","v":0},{"$f":"IF('Emission Calculations'!$S$7=TRUE,(X13*SUMPRODUCT('Emission Calculations'!BA$10:BA$74,'Emission Calculations'!$S$10:$S$74)/2000),SUMPRODUCT('Emission Calculations'!BA$10:BA$74,'Emission Calculations'!$S$10:$S$74)/2000)","v":0},{"$f":"IF('Emission Calculations'!$S$7=TRUE,(Y13*SUMPRODUCT('Emission Calculations'!BB$10:BB$74,'Emission Calculations'!$S$10:$S$74)/2000),SUMPRODUCT('Emission Calculations'!BB$10:BB$74,'Emission Calculations'!$S$10:$S$74)/2000)","v":0},{"$f":"IF('Emission Calculations'!$S$7=TRUE,(Z13*SUMPRODUCT('Emission Calculations'!BC$10:BC$74,'Emission Calculations'!$S$10:$S$74)/2000),SUMPRODUCT('Emission Calculations'!BC$10:BC$74,'Emission Calculations'!$S$10:$S$74)/2000)","v":0},{"$f":"IF('Emission Calculations'!$S$7=TRUE,(AA13*SUMPRODUCT('Emission Calculations'!BD$10:BD$74,'Emission Calculations'!$S$10:$S$74)/2000),SUMPRODUCT('Emission Calculations'!BD$10:BD$74,'Emission Calculations'!$S$10:$S$74)/2000)","v":0},{"$f":"IF('Emission Calculations'!$S$7=TRUE,(AB13*SUMPRODUCT('Emission Calculations'!BE$10:BE$74,'Emission Calculations'!$S$10:$S$74)/2000),SUMPRODUCT('Emission Calculations'!BE$10:BE$74,'Emission Calculations'!$S$10:$S$74)/2000)","v":0},{"$f":"IF('Emission Calculations'!$S$7=TRUE,(AC13*SUMPRODUCT('Emission Calculations'!BF$10:BF$74,'Emission Calculations'!$S$10:$S$74)/2000),SUMPRODUCT('Emission Calculations'!BF$10:BF$74,'Emission Calculations'!$S$10:$S$74)/2000)","v":0},{"$f":"IF('Emission Calculations'!$S$7=TRUE,(AD13*SUMPRODUCT('Emission Calculations'!BG$10:BG$74,'Emission Calculations'!$S$10:$S$74)/2000),SUMPRODUCT('Emission Calculations'!BG$10:BG$74,'Emission Calculations'!$S$10:$S$74)/2000)","v":0},{"$f":"IF('Emission Calculations'!$S$7=TRUE,(AE13*SUMPRODUCT('Emission Calculations'!BH$10:BH$74,'Emission Calculations'!$S$10:$S$74)/2000),SUMPRODUCT('Emission Calculations'!BH$10:BH$74,'Emission Calculations'!$S$10:$S$74)/2000)","v":0},{"$f":"IF('Emission Calculations'!$S$7=TRUE,(AF13*SUMPRODUCT('Emission Calculations'!BI$10:BI$74,'Emission Calculations'!$S$10:$S$74)/2000),SUMPRODUCT('Emission Calculations'!BI$10:BI$74,'Emission Calculations'!$S$10:$S$74)/2000)","v":0},{"$f":"IF('Emission Calculations'!$S$7=TRUE,(AG13*SUMPRODUCT('Emission Calculations'!BJ$10:BJ$74,'Emission Calculations'!$S$10:$S$74)/2000),SUMPRODUCT('Emission Calculations'!BJ$10:BJ$74,'Emission Calculations'!$S$10:$S$74)/2000)","v":0},{"$f":"IF('Emission Calculations'!$S$7=TRUE,(AH13*SUMPRODUCT('Emission Calculations'!BK$10:BK$74,'Emission Calculations'!$S$10:$S$74)/2000),SUMPRODUCT('Emission Calculations'!BK$10:BK$74,'Emission Calculations'!$S$10:$S$74)/2000)","v":0},{"$f":"IF('Emission Calculations'!$S$7=TRUE,(AI13*SUMPRODUCT('Emission Calculations'!BL$10:BL$74,'Emission Calculations'!$S$10:$S$74)/2000),SUMPRODUCT('Emission Calculations'!BL$10:BL$74,'Emission Calculations'!$S$10:$S$74)/2000)","v":0},{"$f":"IF('Emission Calculations'!$S$7=TRUE,(AJ13*SUMPRODUCT('Emission Calculations'!BM$10:BM$74,'Emission Calculations'!$S$10:$S$74)/2000),SUMPRODUCT('Emission Calculations'!BM$10:BM$74,'Emission Calculations'!$S$10:$S$74)/2000)","v":0},{"$f":"IF('Emission Calculations'!$S$7=TRUE,(AK13*SUMPRODUCT('Emission Calculations'!BN$10:BN$74,'Emission Calculations'!$S$10:$S$74)/2000),SUMPRODUCT('Emission Calculations'!BN$10:BN$74,'Emission Calculations'!$S$10:$S$74)/2000)","v":0},{"$f":"IF('Emission Calculations'!$S$7=TRUE,(AL13*SUMPRODUCT('Emission Calculations'!BO$10:BO$74,'Emission Calculations'!$S$10:$S$74)/2000),SUMPRODUCT('Emission Calculations'!BO$10:BO$74,'Emission Calculations'!$S$10:$S$74)/2000)","v":0},{"$f":"IF('Emission Calculations'!$S$7=TRUE,(AM13*SUMPRODUCT('Emission Calculations'!BP$10:BP$74,'Emission Calculations'!$S$10:$S$74)/2000),SUMPRODUCT('Emission Calculations'!BP$10:BP$74,'Emission Calculations'!$S$10:$S$74)/2000)","v":0},{"$f":"IF('Emission Calculations'!$S$7=TRUE,(AN13*SUMPRODUCT('Emission Calculations'!BQ$10:BQ$74,'Emission Calculations'!$S$10:$S$74)/2000),SUMPRODUCT('Emission Calculations'!BQ$10:BQ$74,'Emission Calculations'!$S$10:$S$74)/2000)","v":0},{"$f":"IF('Emission Calculations'!$S$7=TRUE,(AO13*SUMPRODUCT('Emission Calculations'!BR$10:BR$74,'Emission Calculations'!$S$10:$S$74)/2000),SUMPRODUCT('Emission Calculations'!BR$10:BR$74,'Emission Calculations'!$S$10:$S$74)/2000)","v":0},{"$f":"IF('Emission Calculations'!$S$7=TRUE,(AP13*SUMPRODUCT('Emission Calculations'!BS$10:BS$74,'Emission Calculations'!$S$10:$S$74)/2000),SUMPRODUCT('Emission Calculations'!BS$10:BS$74,'Emission Calculations'!$S$10:$S$74)/2000)","v":0},{"$f":"IF('Emission Calculations'!$S$7=TRUE,(AQ13*SUMPRODUCT('Emission Calculations'!BT$10:BT$74,'Emission Calculations'!$S$10:$S$74)/2000),SUMPRODUCT('Emission Calculations'!BT$10:BT$74,'Emission Calculations'!$S$10:$S$74)/2000)","v":0},{"$f":"IF('Emission Calculations'!$S$7=TRUE,(AR13*SUMPRODUCT('Emission Calculations'!BU$10:BU$74,'Emission Calculations'!$S$10:$S$74)/2000),SUMPRODUCT('Emission Calculations'!BU$10:BU$74,'Emission Calculations'!$S$10:$S$74)/2000)","v":0},{"$f":"IF('Emission Calculations'!$S$7=TRUE,(AS13*SUMPRODUCT('Emission Calculations'!BV$10:BV$74,'Emission Calculations'!$S$10:$S$74)/2000),SUMPRODUCT('Emission Calculations'!BV$10:BV$74,'Emission Calculations'!$S$10:$S$74)/2000)","v":0},{"$f":"IF('Emission Calculations'!$S$7=TRUE,(AT13*SUMPRODUCT('Emission Calculations'!BW$10:BW$74,'Emission Calculations'!$S$10:$S$74)/2000),SUMPRODUCT('Emission Calculations'!BW$10:BW$74,'Emission Calculations'!$S$10:$S$74)/2000)","v":0},{"$f":"IF('Emission Calculations'!$S$7=TRUE,(AU13*SUMPRODUCT('Emission Calculations'!BX$10:BX$74,'Emission Calculations'!$S$10:$S$74)/2000),SUMPRODUCT('Emission Calculations'!BX$10:BX$74,'Emission Calculations'!$S$10:$S$74)/2000)","v":0},{"$f":"IF('Emission Calculations'!$S$7=TRUE,(AV13*SUMPRODUCT('Emission Calculations'!BY$10:BY$74,'Emission Calculations'!$S$10:$S$74)/2000),SUMPRODUCT('Emission Calculations'!BY$10:BY$74,'Emission Calculations'!$S$10:$S$74)/2000)","v":0},{"$f":"IF('Emission Calculations'!$S$7=TRUE,(AW13*SUMPRODUCT('Emission Calculations'!BZ$10:BZ$74,'Emission Calculations'!$S$10:$S$74)/2000),SUMPRODUCT('Emission Calculations'!BZ$10:BZ$74,'Emission Calculations'!$S$10:$S$74)/2000)","v":0},{"$f":"IF('Emission Calculations'!$S$7=TRUE,(AX13*SUMPRODUCT('Emission Calculations'!CA$10:CA$74,'Emission Calculations'!$S$10:$S$74)/2000),SUMPRODUCT('Emission Calculations'!CA$10:CA$74,'Emission Calculations'!$S$10:$S$74)/2000)","v":0},{"$f":"IF('Emission Calculations'!$S$7=TRUE,(AY13*SUMPRODUCT('Emission Calculations'!CB$10:CB$74,'Emission Calculations'!$S$10:$S$74)/2000),SUMPRODUCT('Emission Calculations'!CB$10:CB$74,'Emission Calculations'!$S$10:$S$74)/2000)","v":0},{"$f":"IF('Emission Calculations'!$S$7=TRUE,(AZ13*SUMPRODUCT('Emission Calculations'!CC$10:CC$74,'Emission Calculations'!$S$10:$S$74)/2000),SUMPRODUCT('Emission Calculations'!CC$10:CC$74,'Emission Calculations'!$S$10:$S$74)/2000)","v":0},{"$f":"IF('Emission Calculations'!$S$7=TRUE,(BA13*SUMPRODUCT('Emission Calculations'!CD$10:CD$74,'Emission Calculations'!$S$10:$S$74)/2000),SUMPRODUCT('Emission Calculations'!CD$10:CD$74,'Emission Calculations'!$S$10:$S$74)/2000)","v":0},{"$f":"IF('Emission Calculations'!$S$7=TRUE,(BB13*SUMPRODUCT('Emission Calculations'!CE$10:CE$74,'Emission Calculations'!$S$10:$S$74)/2000),SUMPRODUCT('Emission Calculations'!CE$10:CE$74,'Emission Calculations'!$S$10:$S$74)/2000)","v":0},{"$f":"IF('Emission Calculations'!$S$7=TRUE,(BC13*SUMPRODUCT('Emission Calculations'!CF$10:CF$74,'Emission Calculations'!$S$10:$S$74)/2000),SUMPRODUCT('Emission Calculations'!CF$10:CF$74,'Emission Calculations'!$S$10:$S$74)/2000)","v":0},{"$f":"IF('Emission Calculations'!$S$7=TRUE,(BD13*SUMPRODUCT('Emission Calculations'!CG$10:CG$74,'Emission Calculations'!$S$10:$S$74)/2000),SUMPRODUCT('Emission Calculations'!CG$10:CG$74,'Emission Calculations'!$S$10:$S$74)/2000)","v":0},{"$f":"IF('Emission Calculations'!$S$7=TRUE,(BE13*SUMPRODUCT('Emission Calculations'!CH$10:CH$74,'Emission Calculations'!$S$10:$S$74)/2000),SUMPRODUCT('Emission Calculations'!CH$10:CH$74,'Emission Calculations'!$S$10:$S$74)/2000)","v":0},{"$f":"IF('Emission Calculations'!$S$7=TRUE,(BF13*SUMPRODUCT('Emission Calculations'!CI$10:CI$74,'Emission Calculations'!$S$10:$S$74)/2000),SUMPRODUCT('Emission Calculations'!CI$10:CI$74,'Emission Calculations'!$S$10:$S$74)/2000)","v":0},{"$f":"IF('Emission Calculations'!$S$7=TRUE,(BG13*SUMPRODUCT('Emission Calculations'!CJ$10:CJ$74,'Emission Calculations'!$S$10:$S$74)/2000),SUMPRODUCT('Emission Calculations'!CJ$10:CJ$74,'Emission Calculations'!$S$10:$S$74)/2000)","v":0},{"$f":"IF('Emission Calculations'!$S$7=TRUE,(BH13*SUMPRODUCT('Emission Calculations'!CK$10:CK$74,'Emission Calculations'!$S$10:$S$74)/2000),SUMPRODUCT('Emission Calculations'!CK$10:CK$74,'Emission Calculations'!$S$10:$S$74)/2000)","v":0},{"$f":"IF('Emission Calculations'!$S$7=TRUE,(BI13*SUMPRODUCT('Emission Calculations'!CL$10:CL$74,'Emission Calculations'!$S$10:$S$74)/2000),SUMPRODUCT('Emission Calculations'!CL$10:CL$74,'Emission Calculations'!$S$10:$S$74)/2000)","v":0}]
[{"$f":"'Emission Calculations'!A277","v":"HAP Name"},{"$f":"IF('Emission Calculations'!$T$7=TRUE,(B13*SUMPRODUCT('Emission Calculations'!AE$10:AE$74,'Emission Calculations'!$T$10:$T$74)/2000),SUMPRODUCT('Emission Calculations'!AE$10:AE$74,'Emission Calculations'!$T$10:$T$74)/2000)","v":0},{"$f":"IF('Emission Calculations'!$T$7=TRUE,(C13*SUMPRODUCT('Emission Calculations'!AF$10:AF$74,'Emission Calculations'!$T$10:$T$74)/2000),SUMPRODUCT('Emission Calculations'!AF$10:AF$74,'Emission Calculations'!$T$10:$T$74)/2000)","v":0},{"$f":"IF('Emission Calculations'!$T$7=TRUE,(D13*SUMPRODUCT('Emission Calculations'!AG$10:AG$74,'Emission Calculations'!$T$10:$T$74)/2000),SUMPRODUCT('Emission Calculations'!AG$10:AG$74,'Emission Calculations'!$T$10:$T$74)/2000)","v":0},{"$f":"IF('Emission Calculations'!$T$7=TRUE,(E13*SUMPRODUCT('Emission Calculations'!AH$10:AH$74,'Emission Calculations'!$T$10:$T$74)/2000),SUMPRODUCT('Emission Calculations'!AH$10:AH$74,'Emission Calculations'!$T$10:$T$74)/2000)","v":0},{"$f":"IF('Emission Calculations'!$T$7=TRUE,(F13*SUMPRODUCT('Emission Calculations'!AI$10:AI$74,'Emission Calculations'!$T$10:$T$74)/2000),SUMPRODUCT('Emission Calculations'!AI$10:AI$74,'Emission Calculations'!$T$10:$T$74)/2000)","v":0},{"$f":"IF('Emission Calculations'!$T$7=TRUE,(G13*SUMPRODUCT('Emission Calculations'!AJ$10:AJ$74,'Emission Calculations'!$T$10:$T$74)/2000),SUMPRODUCT('Emission Calculations'!AJ$10:AJ$74,'Emission Calculations'!$T$10:$T$74)/2000)","v":0},{"$f":"IF('Emission Calculations'!$T$7=TRUE,(H13*SUMPRODUCT('Emission Calculations'!AK$10:AK$74,'Emission Calculations'!$T$10:$T$74)/2000),SUMPRODUCT('Emission Calculations'!AK$10:AK$74,'Emission Calculations'!$T$10:$T$74)/2000)","v":0},{"$f":"IF('Emission Calculations'!$T$7=TRUE,(I13*SUMPRODUCT('Emission Calculations'!AL$10:AL$74,'Emission Calculations'!$T$10:$T$74)/2000),SUMPRODUCT('Emission Calculations'!AL$10:AL$74,'Emission Calculations'!$T$10:$T$74)/2000)","v":0},{"$f":"IF('Emission Calculations'!$T$7=TRUE,(J13*SUMPRODUCT('Emission Calculations'!AM$10:AM$74,'Emission Calculations'!$T$10:$T$74)/2000),SUMPRODUCT('Emission Calculations'!AM$10:AM$74,'Emission Calculations'!$T$10:$T$74)/2000)","v":0},{"$f":"IF('Emission Calculations'!$T$7=TRUE,(K13*SUMPRODUCT('Emission Calculations'!AN$10:AN$74,'Emission Calculations'!$T$10:$T$74)/2000),SUMPRODUCT('Emission Calculations'!AN$10:AN$74,'Emission Calculations'!$T$10:$T$74)/2000)","v":0},{"$f":"IF('Emission Calculations'!$T$7=TRUE,(L13*SUMPRODUCT('Emission Calculations'!AO$10:AO$74,'Emission Calculations'!$T$10:$T$74)/2000),SUMPRODUCT('Emission Calculations'!AO$10:AO$74,'Emission Calculations'!$T$10:$T$74)/2000)","v":0},{"$f":"IF('Emission Calculations'!$T$7=TRUE,(M13*SUMPRODUCT('Emission Calculations'!AP$10:AP$74,'Emission Calculations'!$T$10:$T$74)/2000),SUMPRODUCT('Emission Calculations'!AP$10:AP$74,'Emission Calculations'!$T$10:$T$74)/2000)","v":0},{"$f":"IF('Emission Calculations'!$T$7=TRUE,(N13*SUMPRODUCT('Emission Calculations'!AQ$10:AQ$74,'Emission Calculations'!$T$10:$T$74)/2000),SUMPRODUCT('Emission Calculations'!AQ$10:AQ$74,'Emission Calculations'!$T$10:$T$74)/2000)","v":0},{"$f":"IF('Emission Calculations'!$T$7=TRUE,(O13*SUMPRODUCT('Emission Calculations'!AR$10:AR$74,'Emission Calculations'!$T$10:$T$74)/2000),SUMPRODUCT('Emission Calculations'!AR$10:AR$74,'Emission Calculations'!$T$10:$T$74)/2000)","v":0},{"$f":"IF('Emission Calculations'!$T$7=TRUE,(P13*SUMPRODUCT('Emission Calculations'!AS$10:AS$74,'Emission Calculations'!$T$10:$T$74)/2000),SUMPRODUCT('Emission Calculations'!AS$10:AS$74,'Emission Calculations'!$T$10:$T$74)/2000)","v":0},{"$f":"IF('Emission Calculations'!$T$7=TRUE,(Q13*SUMPRODUCT('Emission Calculations'!AT$10:AT$74,'Emission Calculations'!$T$10:$T$74)/2000),SUMPRODUCT('Emission Calculations'!AT$10:AT$74,'Emission Calculations'!$T$10:$T$74)/2000)","v":0},{"$f":"IF('Emission Calculations'!$T$7=TRUE,(R13*SUMPRODUCT('Emission Calculations'!AU$10:AU$74,'Emission Calculations'!$T$10:$T$74)/2000),SUMPRODUCT('Emission Calculations'!AU$10:AU$74,'Emission Calculations'!$T$10:$T$74)/2000)","v":0},{"$f":"IF('Emission Calculations'!$T$7=TRUE,(S13*SUMPRODUCT('Emission Calculations'!AV$10:AV$74,'Emission Calculations'!$T$10:$T$74)/2000),SUMPRODUCT('Emission Calculations'!AV$10:AV$74,'Emission Calculations'!$T$10:$T$74)/2000)","v":0},{"$f":"IF('Emission Calculations'!$T$7=TRUE,(T13*SUMPRODUCT('Emission Calculations'!AW$10:AW$74,'Emission Calculations'!$T$10:$T$74)/2000),SUMPRODUCT('Emission Calculations'!AW$10:AW$74,'Emission Calculations'!$T$10:$T$74)/2000)","v":0},{"$f":"IF('Emission Calculations'!$T$7=TRUE,(U13*SUMPRODUCT('Emission Calculations'!AX$10:AX$74,'Emission Calculations'!$T$10:$T$74)/2000),SUMPRODUCT('Emission Calculations'!AX$10:AX$74,'Emission Calculations'!$T$10:$T$74)/2000)","v":0},{"$f":"IF('Emission Calculations'!$T$7=TRUE,(V13*SUMPRODUCT('Emission Calculations'!AY$10:AY$74,'Emission Calculations'!$T$10:$T$74)/2000),SUMPRODUCT('Emission Calculations'!AY$10:AY$74,'Emission Calculations'!$T$10:$T$74)/2000)","v":0},{"$f":"IF('Emission Calculations'!$T$7=TRUE,(W13*SUMPRODUCT('Emission Calculations'!AZ$10:AZ$74,'Emission Calculations'!$T$10:$T$74)/2000),SUMPRODUCT('Emission Calculations'!AZ$10:AZ$74,'Emission Calculations'!$T$10:$T$74)/2000)","v":0},{"$f":"IF('Emission Calculations'!$T$7=TRUE,(X13*SUMPRODUCT('Emission Calculations'!BA$10:BA$74,'Emission Calculations'!$T$10:$T$74)/2000),SUMPRODUCT('Emission Calculations'!BA$10:BA$74,'Emission Calculations'!$T$10:$T$74)/2000)","v":0},{"$f":"IF('Emission Calculations'!$T$7=TRUE,(Y13*SUMPRODUCT('Emission Calculations'!BB$10:BB$74,'Emission Calculations'!$T$10:$T$74)/2000),SUMPRODUCT('Emission Calculations'!BB$10:BB$74,'Emission Calculations'!$T$10:$T$74)/2000)","v":0},{"$f":"IF('Emission Calculations'!$T$7=TRUE,(Z13*SUMPRODUCT('Emission Calculations'!BC$10:BC$74,'Emission Calculations'!$T$10:$T$74)/2000),SUMPRODUCT('Emission Calculations'!BC$10:BC$74,'Emission Calculations'!$T$10:$T$74)/2000)","v":0},{"$f":"IF('Emission Calculations'!$T$7=TRUE,(AA13*SUMPRODUCT('Emission Calculations'!BD$10:BD$74,'Emission Calculations'!$T$10:$T$74)/2000),SUMPRODUCT('Emission Calculations'!BD$10:BD$74,'Emission Calculations'!$T$10:$T$74)/2000)","v":0},{"$f":"IF('Emission Calculations'!$T$7=TRUE,(AB13*SUMPRODUCT('Emission Calculations'!BE$10:BE$74,'Emission Calculations'!$T$10:$T$74)/2000),SUMPRODUCT('Emission Calculations'!BE$10:BE$74,'Emission Calculations'!$T$10:$T$74)/2000)","v":0},{"$f":"IF('Emission Calculations'!$T$7=TRUE,(AC13*SUMPRODUCT('Emission Calculations'!BF$10:BF$74,'Emission Calculations'!$T$10:$T$74)/2000),SUMPRODUCT('Emission Calculations'!BF$10:BF$74,'Emission Calculations'!$T$10:$T$74)/2000)","v":0},{"$f":"IF('Emission Calculations'!$T$7=TRUE,(AD13*SUMPRODUCT('Emission Calculations'!BG$10:BG$74,'Emission Calculations'!$T$10:$T$74)/2000),SUMPRODUCT('Emission Calculations'!BG$10:BG$74,'Emission Calculations'!$T$10:$T$74)/2000)","v":0},{"$f":"IF('Emission Calculations'!$T$7=TRUE,(AE13*SUMPRODUCT('Emission Calculations'!BH$10:BH$74,'Emission Calculations'!$T$10:$T$74)/2000),SUMPRODUCT('Emission Calculations'!BH$10:BH$74,'Emission Calculations'!$T$10:$T$74)/2000)","v":0},{"$f":"IF('Emission Calculations'!$T$7=TRUE,(AF13*SUMPRODUCT('Emission Calculations'!BI$10:BI$74,'Emission Calculations'!$T$10:$T$74)/2000),SUMPRODUCT('Emission Calculations'!BI$10:BI$74,'Emission Calculations'!$T$10:$T$74)/2000)","v":0},{"$f":"IF('Emission Calculations'!$T$7=TRUE,(AG13*SUMPRODUCT('Emission Calculations'!BJ$10:BJ$74,'Emission Calculations'!$T$10:$T$74)/2000),SUMPRODUCT('Emission Calculations'!BJ$10:BJ$74,'Emission Calculations'!$T$10:$T$74)/2000)","v":0},{"$f":"IF('Emission Calculations'!$T$7=TRUE,(AH13*SUMPRODUCT('Emission Calculations'!BK$10:BK$74,'Emission Calculations'!$T$10:$T$74)/2000),SUMPRODUCT('Emission Calculations'!BK$10:BK$74,'Emission Calculations'!$T$10:$T$74)/2000)","v":0},{"$f":"IF('Emission Calculations'!$T$7=TRUE,(AI13*SUMPRODUCT('Emission Calculations'!BL$10:BL$74,'Emission Calculations'!$T$10:$T$74)/2000),SUMPRODUCT('Emission Calculations'!BL$10:BL$74,'Emission Calculations'!$T$10:$T$74)/2000)","v":0},{"$f":"IF('Emission Calculations'!$T$7=TRUE,(AJ13*SUMPRODUCT('Emission Calculations'!BM$10:BM$74,'Emission Calculations'!$T$10:$T$74)/2000),SUMPRODUCT('Emission Calculations'!BM$10:BM$74,'Emission Calculations'!$T$10:$T$74)/2000)","v":0},{"$f":"IF('Emission Calculations'!$T$7=TRUE,(AK13*SUMPRODUCT('Emission Calculations'!BN$10:BN$74,'Emission Calculations'!$T$10:$T$74)/2000),SUMPRODUCT('Emission Calculations'!BN$10:BN$74,'Emission Calculations'!$T$10:$T$74)/2000)","v":0},{"$f":"IF('Emission Calculations'!$T$7=TRUE,(AL13*SUMPRODUCT('Emission Calculations'!BO$10:BO$74,'Emission Calculations'!$T$10:$T$74)/2000),SUMPRODUCT('Emission Calculations'!BO$10:BO$74,'Emission Calculations'!$T$10:$T$74)/2000)","v":0},{"$f":"IF('Emission Calculations'!$T$7=TRUE,(AM13*SUMPRODUCT('Emission Calculations'!BP$10:BP$74,'Emission Calculations'!$T$10:$T$74)/2000),SUMPRODUCT('Emission Calculations'!BP$10:BP$74,'Emission Calculations'!$T$10:$T$74)/2000)","v":0},{"$f":"IF('Emission Calculations'!$T$7=TRUE,(AN13*SUMPRODUCT('Emission Calculations'!BQ$10:BQ$74,'Emission Calculations'!$T$10:$T$74)/2000),SUMPRODUCT('Emission Calculations'!BQ$10:BQ$74,'Emission Calculations'!$T$10:$T$74)/2000)","v":0},{"$f":"IF('Emission Calculations'!$T$7=TRUE,(AO13*SUMPRODUCT('Emission Calculations'!BR$10:BR$74,'Emission Calculations'!$T$10:$T$74)/2000),SUMPRODUCT('Emission Calculations'!BR$10:BR$74,'Emission Calculations'!$T$10:$T$74)/2000)","v":0},{"$f":"IF('Emission Calculations'!$T$7=TRUE,(AP13*SUMPRODUCT('Emission Calculations'!BS$10:BS$74,'Emission Calculations'!$T$10:$T$74)/2000),SUMPRODUCT('Emission Calculations'!BS$10:BS$74,'Emission Calculations'!$T$10:$T$74)/2000)","v":0},{"$f":"IF('Emission Calculations'!$T$7=TRUE,(AQ13*SUMPRODUCT('Emission Calculations'!BT$10:BT$74,'Emission Calculations'!$T$10:$T$74)/2000),SUMPRODUCT('Emission Calculations'!BT$10:BT$74,'Emission Calculations'!$T$10:$T$74)/2000)","v":0},{"$f":"IF('Emission Calculations'!$T$7=TRUE,(AR13*SUMPRODUCT('Emission Calculations'!BU$10:BU$74,'Emission Calculations'!$T$10:$T$74)/2000),SUMPRODUCT('Emission Calculations'!BU$10:BU$74,'Emission Calculations'!$T$10:$T$74)/2000)","v":0},{"$f":"IF('Emission Calculations'!$T$7=TRUE,(AS13*SUMPRODUCT('Emission Calculations'!BV$10:BV$74,'Emission Calculations'!$T$10:$T$74)/2000),SUMPRODUCT('Emission Calculations'!BV$10:BV$74,'Emission Calculations'!$T$10:$T$74)/2000)","v":0},{"$f":"IF('Emission Calculations'!$T$7=TRUE,(AT13*SUMPRODUCT('Emission Calculations'!BW$10:BW$74,'Emission Calculations'!$T$10:$T$74)/2000),SUMPRODUCT('Emission Calculations'!BW$10:BW$74,'Emission Calculations'!$T$10:$T$74)/2000)","v":0},{"$f":"IF('Emission Calculations'!$T$7=TRUE,(AU13*SUMPRODUCT('Emission Calculations'!BX$10:BX$74,'Emission Calculations'!$T$10:$T$74)/2000),SUMPRODUCT('Emission Calculations'!BX$10:BX$74,'Emission Calculations'!$T$10:$T$74)/2000)","v":0},{"$f":"IF('Emission Calculations'!$T$7=TRUE,(AV13*SUMPRODUCT('Emission Calculations'!BY$10:BY$74,'Emission Calculations'!$T$10:$T$74)/2000),SUMPRODUCT('Emission Calculations'!BY$10:BY$74,'Emission Calculations'!$T$10:$T$74)/2000)","v":0},{"$f":"IF('Emission Calculations'!$T$7=TRUE,(AW13*SUMPRODUCT('Emission Calculations'!BZ$10:BZ$74,'Emission Calculations'!$T$10:$T$74)/2000),SUMPRODUCT('Emission Calculations'!BZ$10:BZ$74,'Emission Calculations'!$T$10:$T$74)/2000)","v":0},{"$f":"IF('Emission Calculations'!$T$7=TRUE,(AX13*SUMPRODUCT('Emission Calculations'!CA$10:CA$74,'Emission Calculations'!$T$10:$T$74)/2000),SUMPRODUCT('Emission Calculations'!CA$10:CA$74,'Emission Calculations'!$T$10:$T$74)/2000)","v":0},{"$f":"IF('Emission Calculations'!$T$7=TRUE,(AY13*SUMPRODUCT('Emission Calculations'!CB$10:CB$74,'Emission Calculations'!$T$10:$T$74)/2000),SUMPRODUCT('Emission Calculations'!CB$10:CB$74,'Emission Calculations'!$T$10:$T$74)/2000)","v":0},{"$f":"IF('Emission Calculations'!$T$7=TRUE,(AZ13*SUMPRODUCT('Emission Calculations'!CC$10:CC$74,'Emission Calculations'!$T$10:$T$74)/2000),SUMPRODUCT('Emission Calculations'!CC$10:CC$74,'Emission Calculations'!$T$10:$T$74)/2000)","v":0},{"$f":"IF('Emission Calculations'!$T$7=TRUE,(BA13*SUMPRODUCT('Emission Calculations'!CD$10:CD$74,'Emission Calculations'!$T$10:$T$74)/2000),SUMPRODUCT('Emission Calculations'!CD$10:CD$74,'Emission Calculations'!$T$10:$T$74)/2000)","v":0},{"$f":"IF('Emission Calculations'!$T$7=TRUE,(BB13*SUMPRODUCT('Emission Calculations'!CE$10:CE$74,'Emission Calculations'!$T$10:$T$74)/2000),SUMPRODUCT('Emission Calculations'!CE$10:CE$74,'Emission Calculations'!$T$10:$T$74)/2000)","v":0},{"$f":"IF('Emission Calculations'!$T$7=TRUE,(BC13*SUMPRODUCT('Emission Calculations'!CF$10:CF$74,'Emission Calculations'!$T$10:$T$74)/2000),SUMPRODUCT('Emission Calculations'!CF$10:CF$74,'Emission Calculations'!$T$10:$T$74)/2000)","v":0},{"$f":"IF('Emission Calculations'!$T$7=TRUE,(BD13*SUMPRODUCT('Emission Calculations'!CG$10:CG$74,'Emission Calculations'!$T$10:$T$74)/2000),SUMPRODUCT('Emission Calculations'!CG$10:CG$74,'Emission Calculations'!$T$10:$T$74)/2000)","v":0},{"$f":"IF('Emission Calculations'!$T$7=TRUE,(BE13*SUMPRODUCT('Emission Calculations'!CH$10:CH$74,'Emission Calculations'!$T$10:$T$74)/2000),SUMPRODUCT('Emission Calculations'!CH$10:CH$74,'Emission Calculations'!$T$10:$T$74)/2000)","v":0},{"$f":"IF('Emission Calculations'!$T$7=TRUE,(BF13*SUMPRODUCT('Emission Calculations'!CI$10:CI$74,'Emission Calculations'!$T$10:$T$74)/2000),SUMPRODUCT('Emission Calculations'!CI$10:CI$74,'Emission Calculations'!$T$10:$T$74)/2000)","v":0},{"$f":"IF('Emission Calculations'!$T$7=TRUE,(BG13*SUMPRODUCT('Emission Calculations'!CJ$10:CJ$74,'Emission Calculations'!$T$10:$T$74)/2000),SUMPRODUCT('Emission Calculations'!CJ$10:CJ$74,'Emission Calculations'!$T$10:$T$74)/2000)","v":0},{"$f":"IF('Emission Calculations'!$T$7=TRUE,(BH13*SUMPRODUCT('Emission Calculations'!CK$10:CK$74,'Emission Calculations'!$T$10:$T$74)/2000),SUMPRODUCT('Emission Calculations'!CK$10:CK$74,'Emission Calculations'!$T$10:$T$74)/2000)","v":0},{"$f":"IF('Emission Calculations'!$T$7=TRUE,(BI13*SUMPRODUCT('Emission Calculations'!CL$10:CL$74,'Emission Calculations'!$T$10:$T$74)/2000),SUMPRODUCT('Emission Calculations'!CL$10:CL$74,'Emission Calculations'!$T$10:$T$74)/2000)","v":0}]
[{"$f":"'Emission Calculations'!A278","v":"HAP Name"},{"$f":"IF('Emission Calculations'!$U$7=TRUE,(B13*SUMPRODUCT('Emission Calculations'!AE$10:AE$74,'Emission Calculations'!$U$10:$U$74)/2000),SUMPRODUCT('Emission Calculations'!AE$10:AE$74,'Emission Calculations'!$U$10:$U$74)/2000)","v":0},{"$f":"IF('Emission Calculations'!$U$7=TRUE,(C13*SUMPRODUCT('Emission Calculations'!AF$10:AF$74,'Emission Calculations'!$U$10:$U$74)/2000),SUMPRODUCT('Emission Calculations'!AF$10:AF$74,'Emission Calculations'!$U$10:$U$74)/2000)","v":0},{"$f":"IF('Emission Calculations'!$U$7=TRUE,(D13*SUMPRODUCT('Emission Calculations'!AG$10:AG$74,'Emission Calculations'!$U$10:$U$74)/2000),SUMPRODUCT('Emission Calculations'!AG$10:AG$74,'Emission Calculations'!$U$10:$U$74)/2000)","v":0},{"$f":"IF('Emission Calculations'!$U$7=TRUE,(E13*SUMPRODUCT('Emission Calculations'!AH$10:AH$74,'Emission Calculations'!$U$10:$U$74)/2000),SUMPRODUCT('Emission Calculations'!AH$10:AH$74,'Emission Calculations'!$U$10:$U$74)/2000)","v":0},{"$f":"IF('Emission Calculations'!$U$7=TRUE,(F13*SUMPRODUCT('Emission Calculations'!AI$10:AI$74,'Emission Calculations'!$U$10:$U$74)/2000),SUMPRODUCT('Emission Calculations'!AI$10:AI$74,'Emission Calculations'!$U$10:$U$74)/2000)","v":0},{"$f":"IF('Emission Calculations'!$U$7=TRUE,(G13*SUMPRODUCT('Emission Calculations'!AJ$10:AJ$74,'Emission Calculations'!$U$10:$U$74)/2000),SUMPRODUCT('Emission Calculations'!AJ$10:AJ$74,'Emission Calculations'!$U$10:$U$74)/2000)","v":0},{"$f":"IF('Emission Calculations'!$U$7=TRUE,(H13*SUMPRODUCT('Emission Calculations'!AK$10:AK$74,'Emission Calculations'!$U$10:$U$74)/2000),SUMPRODUCT('Emission Calculations'!AK$10:AK$74,'Emission Calculations'!$U$10:$U$74)/2000)","v":0},{"$f":"IF('Emission Calculations'!$U$7=TRUE,(I13*SUMPRODUCT('Emission Calculations'!AL$10:AL$74,'Emission Calculations'!$U$10:$U$74)/2000),SUMPRODUCT('Emission Calculations'!AL$10:AL$74,'Emission Calculations'!$U$10:$U$74)/2000)","v":0},{"$f":"IF('Emission Calculations'!$U$7=TRUE,(J13*SUMPRODUCT('Emission Calculations'!AM$10:AM$74,'Emission Calculations'!$U$10:$U$74)/2000),SUMPRODUCT('Emission Calculations'!AM$10:AM$74,'Emission Calculations'!$U$10:$U$74)/2000)","v":0},{"$f":"IF('Emission Calculations'!$U$7=TRUE,(K13*SUMPRODUCT('Emission Calculations'!AN$10:AN$74,'Emission Calculations'!$U$10:$U$74)/2000),SUMPRODUCT('Emission Calculations'!AN$10:AN$74,'Emission Calculations'!$U$10:$U$74)/2000)","v":0},{"$f":"IF('Emission Calculations'!$U$7=TRUE,(L13*SUMPRODUCT('Emission Calculations'!AO$10:AO$74,'Emission Calculations'!$U$10:$U$74)/2000),SUMPRODUCT('Emission Calculations'!AO$10:AO$74,'Emission Calculations'!$U$10:$U$74)/2000)","v":0},{"$f":"IF('Emission Calculations'!$U$7=TRUE,(M13*SUMPRODUCT('Emission Calculations'!AP$10:AP$74,'Emission Calculations'!$U$10:$U$74)/2000),SUMPRODUCT('Emission Calculations'!AP$10:AP$74,'Emission Calculations'!$U$10:$U$74)/2000)","v":0},{"$f":"IF('Emission Calculations'!$U$7=TRUE,(N13*SUMPRODUCT('Emission Calculations'!AQ$10:AQ$74,'Emission Calculations'!$U$10:$U$74)/2000),SUMPRODUCT('Emission Calculations'!AQ$10:AQ$74,'Emission Calculations'!$U$10:$U$74)/2000)","v":0},{"$f":"IF('Emission Calculations'!$U$7=TRUE,(O13*SUMPRODUCT('Emission Calculations'!AR$10:AR$74,'Emission Calculations'!$U$10:$U$74)/2000),SUMPRODUCT('Emission Calculations'!AR$10:AR$74,'Emission Calculations'!$U$10:$U$74)/2000)","v":0},{"$f":"IF('Emission Calculations'!$U$7=TRUE,(P13*SUMPRODUCT('Emission Calculations'!AS$10:AS$74,'Emission Calculations'!$U$10:$U$74)/2000),SUMPRODUCT('Emission Calculations'!AS$10:AS$74,'Emission Calculations'!$U$10:$U$74)/2000)","v":0},{"$f":"IF('Emission Calculations'!$U$7=TRUE,(Q13*SUMPRODUCT('Emission Calculations'!AT$10:AT$74,'Emission Calculations'!$U$10:$U$74)/2000),SUMPRODUCT('Emission Calculations'!AT$10:AT$74,'Emission Calculations'!$U$10:$U$74)/2000)","v":0},{"$f":"IF('Emission Calculations'!$U$7=TRUE,(R13*SUMPRODUCT('Emission Calculations'!AU$10:AU$74,'Emission Calculations'!$U$10:$U$74)/2000),SUMPRODUCT('Emission Calculations'!AU$10:AU$74,'Emission Calculations'!$U$10:$U$74)/2000)","v":0},{"$f":"IF('Emission Calculations'!$U$7=TRUE,(S13*SUMPRODUCT('Emission Calculations'!AV$10:AV$74,'Emission Calculations'!$U$10:$U$74)/2000),SUMPRODUCT('Emission Calculations'!AV$10:AV$74,'Emission Calculations'!$U$10:$U$74)/2000)","v":0},{"$f":"IF('Emission Calculations'!$U$7=TRUE,(T13*SUMPRODUCT('Emission Calculations'!AW$10:AW$74,'Emission Calculations'!$U$10:$U$74)/2000),SUMPRODUCT('Emission Calculations'!AW$10:AW$74,'Emission Calculations'!$U$10:$U$74)/2000)","v":0},{"$f":"IF('Emission Calculations'!$U$7=TRUE,(U13*SUMPRODUCT('Emission Calculations'!AX$10:AX$74,'Emission Calculations'!$U$10:$U$74)/2000),SUMPRODUCT('Emission Calculations'!AX$10:AX$74,'Emission Calculations'!$U$10:$U$74)/2000)","v":0},{"$f":"IF('Emission Calculations'!$U$7=TRUE,(V13*SUMPRODUCT('Emission Calculations'!AY$10:AY$74,'Emission Calculations'!$U$10:$U$74)/2000),SUMPRODUCT('Emission Calculations'!AY$10:AY$74,'Emission Calculations'!$U$10:$U$74)/2000)","v":0},{"$f":"IF('Emission Calculations'!$U$7=TRUE,(W13*SUMPRODUCT('Emission Calculations'!AZ$10:AZ$74,'Emission Calculations'!$U$10:$U$74)/2000),SUMPRODUCT('Emission Calculations'!AZ$10:AZ$74,'Emission Calculations'!$U$10:$U$74)/2000)","v":0},{"$f":"IF('Emission Calculations'!$U$7=TRUE,(X13*SUMPRODUCT('Emission Calculations'!BA$10:BA$74,'Emission Calculations'!$U$10:$U$74)/2000),SUMPRODUCT('Emission Calculations'!BA$10:BA$74,'Emission Calculations'!$U$10:$U$74)/2000)","v":0},{"$f":"IF('Emission Calculations'!$U$7=TRUE,(Y13*SUMPRODUCT('Emission Calculations'!BB$10:BB$74,'Emission Calculations'!$U$10:$U$74)/2000),SUMPRODUCT('Emission Calculations'!BB$10:BB$74,'Emission Calculations'!$U$10:$U$74)/2000)","v":0},{"$f":"IF('Emission Calculations'!$U$7=TRUE,(Z13*SUMPRODUCT('Emission Calculations'!BC$10:BC$74,'Emission Calculations'!$U$10:$U$74)/2000),SUMPRODUCT('Emission Calculations'!BC$10:BC$74,'Emission Calculations'!$U$10:$U$74)/2000)","v":0},{"$f":"IF('Emission Calculations'!$U$7=TRUE,(AA13*SUMPRODUCT('Emission Calculations'!BD$10:BD$74,'Emission Calculations'!$U$10:$U$74)/2000),SUMPRODUCT('Emission Calculations'!BD$10:BD$74,'Emission Calculations'!$U$10:$U$74)/2000)","v":0},{"$f":"IF('Emission Calculations'!$U$7=TRUE,(AB13*SUMPRODUCT('Emission Calculations'!BE$10:BE$74,'Emission Calculations'!$U$10:$U$74)/2000),SUMPRODUCT('Emission Calculations'!BE$10:BE$74,'Emission Calculations'!$U$10:$U$74)/2000)","v":0},{"$f":"IF('Emission Calculations'!$U$7=TRUE,(AC13*SUMPRODUCT('Emission Calculations'!BF$10:BF$74,'Emission Calculations'!$U$10:$U$74)/2000),SUMPRODUCT('Emission Calculations'!BF$10:BF$74,'Emission Calculations'!$U$10:$U$74)/2000)","v":0},{"$f":"IF('Emission Calculations'!$U$7=TRUE,(AD13*SUMPRODUCT('Emission Calculations'!BG$10:BG$74,'Emission Calculations'!$U$10:$U$74)/2000),SUMPRODUCT('Emission Calculations'!BG$10:BG$74,'Emission Calculations'!$U$10:$U$74)/2000)","v":0},{"$f":"IF('Emission Calculations'!$U$7=TRUE,(AE13*SUMPRODUCT('Emission Calculations'!BH$10:BH$74,'Emission Calculations'!$U$10:$U$74)/2000),SUMPRODUCT('Emission Calculations'!BH$10:BH$74,'Emission Calculations'!$U$10:$U$74)/2000)","v":0},{"$f":"IF('Emission Calculations'!$U$7=TRUE,(AF13*SUMPRODUCT('Emission Calculations'!BI$10:BI$74,'Emission Calculations'!$U$10:$U$74)/2000),SUMPRODUCT('Emission Calculations'!BI$10:BI$74,'Emission Calculations'!$U$10:$U$74)/2000)","v":0},{"$f":"IF('Emission Calculations'!$U$7=TRUE,(AG13*SUMPRODUCT('Emission Calculations'!BJ$10:BJ$74,'Emission Calculations'!$U$10:$U$74)/2000),SUMPRODUCT('Emission Calculations'!BJ$10:BJ$74,'Emission Calculations'!$U$10:$U$74)/2000)","v":0},{"$f":"IF('Emission Calculations'!$U$7=TRUE,(AH13*SUMPRODUCT('Emission Calculations'!BK$10:BK$74,'Emission Calculations'!$U$10:$U$74)/2000),SUMPRODUCT('Emission Calculations'!BK$10:BK$74,'Emission Calculations'!$U$10:$U$74)/2000)","v":0},{"$f":"IF('Emission Calculations'!$U$7=TRUE,(AI13*SUMPRODUCT('Emission Calculations'!BL$10:BL$74,'Emission Calculations'!$U$10:$U$74)/2000),SUMPRODUCT('Emission Calculations'!BL$10:BL$74,'Emission Calculations'!$U$10:$U$74)/2000)","v":0},{"$f":"IF('Emission Calculations'!$U$7=TRUE,(AJ13*SUMPRODUCT('Emission Calculations'!BM$10:BM$74,'Emission Calculations'!$U$10:$U$74)/2000),SUMPRODUCT('Emission Calculations'!BM$10:BM$74,'Emission Calculations'!$U$10:$U$74)/2000)","v":0},{"$f":"IF('Emission Calculations'!$U$7=TRUE,(AK13*SUMPRODUCT('Emission Calculations'!BN$10:BN$74,'Emission Calculations'!$U$10:$U$74)/2000),SUMPRODUCT('Emission Calculations'!BN$10:BN$74,'Emission Calculations'!$U$10:$U$74)/2000)","v":0},{"$f":"IF('Emission Calculations'!$U$7=TRUE,(AL13*SUMPRODUCT('Emission Calculations'!BO$10:BO$74,'Emission Calculations'!$U$10:$U$74)/2000),SUMPRODUCT('Emission Calculations'!BO$10:BO$74,'Emission Calculations'!$U$10:$U$74)/2000)","v":0},{"$f":"IF('Emission Calculations'!$U$7=TRUE,(AM13*SUMPRODUCT('Emission Calculations'!BP$10:BP$74,'Emission Calculations'!$U$10:$U$74)/2000),SUMPRODUCT('Emission Calculations'!BP$10:BP$74,'Emission Calculations'!$U$10:$U$74)/2000)","v":0},{"$f":"IF('Emission Calculations'!$U$7=TRUE,(AN13*SUMPRODUCT('Emission Calculations'!BQ$10:BQ$74,'Emission Calculations'!$U$10:$U$74)/2000),SUMPRODUCT('Emission Calculations'!BQ$10:BQ$74,'Emission Calculations'!$U$10:$U$74)/2000)","v":0},{"$f":"IF('Emission Calculations'!$U$7=TRUE,(AO13*SUMPRODUCT('Emission Calculations'!BR$10:BR$74,'Emission Calculations'!$U$10:$U$74)/2000),SUMPRODUCT('Emission Calculations'!BR$10:BR$74,'Emission Calculations'!$U$10:$U$74)/2000)","v":0},{"$f":"IF('Emission Calculations'!$U$7=TRUE,(AP13*SUMPRODUCT('Emission Calculations'!BS$10:BS$74,'Emission Calculations'!$U$10:$U$74)/2000),SUMPRODUCT('Emission Calculations'!BS$10:BS$74,'Emission Calculations'!$U$10:$U$74)/2000)","v":0},{"$f":"IF('Emission Calculations'!$U$7=TRUE,(AQ13*SUMPRODUCT('Emission Calculations'!BT$10:BT$74,'Emission Calculations'!$U$10:$U$74)/2000),SUMPRODUCT('Emission Calculations'!BT$10:BT$74,'Emission Calculations'!$U$10:$U$74)/2000)","v":0},{"$f":"IF('Emission Calculations'!$U$7=TRUE,(AR13*SUMPRODUCT('Emission Calculations'!BU$10:BU$74,'Emission Calculations'!$U$10:$U$74)/2000),SUMPRODUCT('Emission Calculations'!BU$10:BU$74,'Emission Calculations'!$U$10:$U$74)/2000)","v":0},{"$f":"IF('Emission Calculations'!$U$7=TRUE,(AS13*SUMPRODUCT('Emission Calculations'!BV$10:BV$74,'Emission Calculations'!$U$10:$U$74)/2000),SUMPRODUCT('Emission Calculations'!BV$10:BV$74,'Emission Calculations'!$U$10:$U$74)/2000)","v":0},{"$f":"IF('Emission Calculations'!$U$7=TRUE,(AT13*SUMPRODUCT('Emission Calculations'!BW$10:BW$74,'Emission Calculations'!$U$10:$U$74)/2000),SUMPRODUCT('Emission Calculations'!BW$10:BW$74,'Emission Calculations'!$U$10:$U$74)/2000)","v":0},{"$f":"IF('Emission Calculations'!$U$7=TRUE,(AU13*SUMPRODUCT('Emission Calculations'!BX$10:BX$74,'Emission Calculations'!$U$10:$U$74)/2000),SUMPRODUCT('Emission Calculations'!BX$10:BX$74,'Emission Calculations'!$U$10:$U$74)/2000)","v":0},{"$f":"IF('Emission Calculations'!$U$7=TRUE,(AV13*SUMPRODUCT('Emission Calculations'!BY$10:BY$74,'Emission Calculations'!$U$10:$U$74)/2000),SUMPRODUCT('Emission Calculations'!BY$10:BY$74,'Emission Calculations'!$U$10:$U$74)/2000)","v":0},{"$f":"IF('Emission Calculations'!$U$7=TRUE,(AW13*SUMPRODUCT('Emission Calculations'!BZ$10:BZ$74,'Emission Calculations'!$U$10:$U$74)/2000),SUMPRODUCT('Emission Calculations'!BZ$10:BZ$74,'Emission Calculations'!$U$10:$U$74)/2000)","v":0},{"$f":"IF('Emission Calculations'!$U$7=TRUE,(AX13*SUMPRODUCT('Emission Calculations'!CA$10:CA$74,'Emission Calculations'!$U$10:$U$74)/2000),SUMPRODUCT('Emission Calculations'!CA$10:CA$74,'Emission Calculations'!$U$10:$U$74)/2000)","v":0},{"$f":"IF('Emission Calculations'!$U$7=TRUE,(AY13*SUMPRODUCT('Emission Calculations'!CB$10:CB$74,'Emission Calculations'!$U$10:$U$74)/2000),SUMPRODUCT('Emission Calculations'!CB$10:CB$74,'Emission Calculations'!$U$10:$U$74)/2000)","v":0},{"$f":"IF('Emission Calculations'!$U$7=TRUE,(AZ13*SUMPRODUCT('Emission Calculations'!CC$10:CC$74,'Emission Calculations'!$U$10:$U$74)/2000),SUMPRODUCT('Emission Calculations'!CC$10:CC$74,'Emission Calculations'!$U$10:$U$74)/2000)","v":0},{"$f":"IF('Emission Calculations'!$U$7=TRUE,(BA13*SUMPRODUCT('Emission Calculations'!CD$10:CD$74,'Emission Calculations'!$U$10:$U$74)/2000),SUMPRODUCT('Emission Calculations'!CD$10:CD$74,'Emission Calculations'!$U$10:$U$74)/2000)","v":0},{"$f":"IF('Emission Calculations'!$U$7=TRUE,(BB13*SUMPRODUCT('Emission Calculations'!CE$10:CE$74,'Emission Calculations'!$U$10:$U$74)/2000),SUMPRODUCT('Emission Calculations'!CE$10:CE$74,'Emission Calculations'!$U$10:$U$74)/2000)","v":0},{"$f":"IF('Emission Calculations'!$U$7=TRUE,(BC13*SUMPRODUCT('Emission Calculations'!CF$10:CF$74,'Emission Calculations'!$U$10:$U$74)/2000),SUMPRODUCT('Emission Calculations'!CF$10:CF$74,'Emission Calculations'!$U$10:$U$74)/2000)","v":0},{"$f":"IF('Emission Calculations'!$U$7=TRUE,(BD13*SUMPRODUCT('Emission Calculations'!CG$10:CG$74,'Emission Calculations'!$U$10:$U$74)/2000),SUMPRODUCT('Emission Calculations'!CG$10:CG$74,'Emission Calculations'!$U$10:$U$74)/2000)","v":0},{"$f":"IF('Emission Calculations'!$U$7=TRUE,(BE13*SUMPRODUCT('Emission Calculations'!CH$10:CH$74,'Emission Calculations'!$U$10:$U$74)/2000),SUMPRODUCT('Emission Calculations'!CH$10:CH$74,'Emission Calculations'!$U$10:$U$74)/2000)","v":0},{"$f":"IF('Emission Calculations'!$U$7=TRUE,(BF13*SUMPRODUCT('Emission Calculations'!CI$10:CI$74,'Emission Calculations'!$U$10:$U$74)/2000),SUMPRODUCT('Emission Calculations'!CI$10:CI$74,'Emission Calculations'!$U$10:$U$74)/2000)","v":0},{"$f":"IF('Emission Calculations'!$U$7=TRUE,(BG13*SUMPRODUCT('Emission Calculations'!CJ$10:CJ$74,'Emission Calculations'!$U$10:$U$74)/2000),SUMPRODUCT('Emission Calculations'!CJ$10:CJ$74,'Emission Calculations'!$U$10:$U$74)/2000)","v":0},{"$f":"IF('Emission Calculations'!$U$7=TRUE,(BH13*SUMPRODUCT('Emission Calculations'!CK$10:CK$74,'Emission Calculations'!$U$10:$U$74)/2000),SUMPRODUCT('Emission Calculations'!CK$10:CK$74,'Emission Calculations'!$U$10:$U$74)/2000)","v":0},{"$f":"IF('Emission Calculations'!$U$7=TRUE,(BI13*SUMPRODUCT('Emission Calculations'!CL$10:CL$74,'Emission Calculations'!$U$10:$U$74)/2000),SUMPRODUCT('Emission Calculations'!CL$10:CL$74,'Emission Calculations'!$U$10:$U$74)/2000)","v":0}]
[{"$f":"'Emission Calculations'!A279","v":"HAP Name"},{"$f":"IF('Emission Calculations'!$V$7=TRUE,(B13*SUMPRODUCT('Emission Calculations'!AE$10:AE$74,'Emission Calculations'!$V$10:$V$74)/2000),SUMPRODUCT('Emission Calculations'!AE$10:AE$74,'Emission Calculations'!$V$10:$V$74)/2000)","v":0},{"$f":"IF('Emission Calculations'!$V$7=TRUE,(C13*SUMPRODUCT('Emission Calculations'!AF$10:AF$74,'Emission Calculations'!$V$10:$V$74)/2000),SUMPRODUCT('Emission Calculations'!AF$10:AF$74,'Emission Calculations'!$V$10:$V$74)/2000)","v":0},{"$f":"IF('Emission Calculations'!$V$7=TRUE,(D13*SUMPRODUCT('Emission Calculations'!AG$10:AG$74,'Emission Calculations'!$V$10:$V$74)/2000),SUMPRODUCT('Emission Calculations'!AG$10:AG$74,'Emission Calculations'!$V$10:$V$74)/2000)","v":0},{"$f":"IF('Emission Calculations'!$V$7=TRUE,(E13*SUMPRODUCT('Emission Calculations'!AH$10:AH$74,'Emission Calculations'!$V$10:$V$74)/2000),SUMPRODUCT('Emission Calculations'!AH$10:AH$74,'Emission Calculations'!$V$10:$V$74)/2000)","v":0},{"$f":"IF('Emission Calculations'!$V$7=TRUE,(F13*SUMPRODUCT('Emission Calculations'!AI$10:AI$74,'Emission Calculations'!$V$10:$V$74)/2000),SUMPRODUCT('Emission Calculations'!AI$10:AI$74,'Emission Calculations'!$V$10:$V$74)/2000)","v":0},{"$f":"IF('Emission Calculations'!$V$7=TRUE,(G13*SUMPRODUCT('Emission Calculations'!AJ$10:AJ$74,'Emission Calculations'!$V$10:$V$74)/2000),SUMPRODUCT('Emission Calculations'!AJ$10:AJ$74,'Emission Calculations'!$V$10:$V$74)/2000)","v":0},{"$f":"IF('Emission Calculations'!$V$7=TRUE,(H13*SUMPRODUCT('Emission Calculations'!AK$10:AK$74,'Emission Calculations'!$V$10:$V$74)/2000),SUMPRODUCT('Emission Calculations'!AK$10:AK$74,'Emission Calculations'!$V$10:$V$74)/2000)","v":0},{"$f":"IF('Emission Calculations'!$V$7=TRUE,(I13*SUMPRODUCT('Emission Calculations'!AL$10:AL$74,'Emission Calculations'!$V$10:$V$74)/2000),SUMPRODUCT('Emission Calculations'!AL$10:AL$74,'Emission Calculations'!$V$10:$V$74)/2000)","v":0},{"$f":"IF('Emission Calculations'!$V$7=TRUE,(J13*SUMPRODUCT('Emission Calculations'!AM$10:AM$74,'Emission Calculations'!$V$10:$V$74)/2000),SUMPRODUCT('Emission Calculations'!AM$10:AM$74,'Emission Calculations'!$V$10:$V$74)/2000)","v":0},{"$f":"IF('Emission Calculations'!$V$7=TRUE,(K13*SUMPRODUCT('Emission Calculations'!AN$10:AN$74,'Emission Calculations'!$V$10:$V$74)/2000),SUMPRODUCT('Emission Calculations'!AN$10:AN$74,'Emission Calculations'!$V$10:$V$74)/2000)","v":0},{"$f":"IF('Emission Calculations'!$V$7=TRUE,(L13*SUMPRODUCT('Emission Calculations'!AO$10:AO$74,'Emission Calculations'!$V$10:$V$74)/2000),SUMPRODUCT('Emission Calculations'!AO$10:AO$74,'Emission Calculations'!$V$10:$V$74)/2000)","v":0},{"$f":"IF('Emission Calculations'!$V$7=TRUE,(M13*SUMPRODUCT('Emission Calculations'!AP$10:AP$74,'Emission Calculations'!$V$10:$V$74)/2000),SUMPRODUCT('Emission Calculations'!AP$10:AP$74,'Emission Calculations'!$V$10:$V$74)/2000)","v":0},{"$f":"IF('Emission Calculations'!$V$7=TRUE,(N13*SUMPRODUCT('Emission Calculations'!AQ$10:AQ$74,'Emission Calculations'!$V$10:$V$74)/2000),SUMPRODUCT('Emission Calculations'!AQ$10:AQ$74,'Emission Calculations'!$V$10:$V$74)/2000)","v":0},{"$f":"IF('Emission Calculations'!$V$7=TRUE,(O13*SUMPRODUCT('Emission Calculations'!AR$10:AR$74,'Emission Calculations'!$V$10:$V$74)/2000),SUMPRODUCT('Emission Calculations'!AR$10:AR$74,'Emission Calculations'!$V$10:$V$74)/2000)","v":0},{"$f":"IF('Emission Calculations'!$V$7=TRUE,(P13*SUMPRODUCT('Emission Calculations'!AS$10:AS$74,'Emission Calculations'!$V$10:$V$74)/2000),SUMPRODUCT('Emission Calculations'!AS$10:AS$74,'Emission Calculations'!$V$10:$V$74)/2000)","v":0},{"$f":"IF('Emission Calculations'!$V$7=TRUE,(Q13*SUMPRODUCT('Emission Calculations'!AT$10:AT$74,'Emission Calculations'!$V$10:$V$74)/2000),SUMPRODUCT('Emission Calculations'!AT$10:AT$74,'Emission Calculations'!$V$10:$V$74)/2000)","v":0},{"$f":"IF('Emission Calculations'!$V$7=TRUE,(R13*SUMPRODUCT('Emission Calculations'!AU$10:AU$74,'Emission Calculations'!$V$10:$V$74)/2000),SUMPRODUCT('Emission Calculations'!AU$10:AU$74,'Emission Calculations'!$V$10:$V$74)/2000)","v":0},{"$f":"IF('Emission Calculations'!$V$7=TRUE,(S13*SUMPRODUCT('Emission Calculations'!AV$10:AV$74,'Emission Calculations'!$V$10:$V$74)/2000),SUMPRODUCT('Emission Calculations'!AV$10:AV$74,'Emission Calculations'!$V$10:$V$74)/2000)","v":0},{"$f":"IF('Emission Calculations'!$V$7=TRUE,(T13*SUMPRODUCT('Emission Calculations'!AW$10:AW$74,'Emission Calculations'!$V$10:$V$74)/2000),SUMPRODUCT('Emission Calculations'!AW$10:AW$74,'Emission Calculations'!$V$10:$V$74)/2000)","v":0},{"$f":"IF('Emission Calculations'!$V$7=TRUE,(U13*SUMPRODUCT('Emission Calculations'!AX$10:AX$74,'Emission Calculations'!$V$10:$V$74)/2000),SUMPRODUCT('Emission Calculations'!AX$10:AX$74,'Emission Calculations'!$V$10:$V$74)/2000)","v":0},{"$f":"IF('Emission Calculations'!$V$7=TRUE,(V13*SUMPRODUCT('Emission Calculations'!AY$10:AY$74,'Emission Calculations'!$V$10:$V$74)/2000),SUMPRODUCT('Emission Calculations'!AY$10:AY$74,'Emission Calculations'!$V$10:$V$74)/2000)","v":0},{"$f":"IF('Emission Calculations'!$V$7=TRUE,(W13*SUMPRODUCT('Emission Calculations'!AZ$10:AZ$74,'Emission Calculations'!$V$10:$V$74)/2000),SUMPRODUCT('Emission Calculations'!AZ$10:AZ$74,'Emission Calculations'!$V$10:$V$74)/2000)","v":0},{"$f":"IF('Emission Calculations'!$V$7=TRUE,(X13*SUMPRODUCT('Emission Calculations'!BA$10:BA$74,'Emission Calculations'!$V$10:$V$74)/2000),SUMPRODUCT('Emission Calculations'!BA$10:BA$74,'Emission Calculations'!$V$10:$V$74)/2000)","v":0},{"$f":"IF('Emission Calculations'!$V$7=TRUE,(Y13*SUMPRODUCT('Emission Calculations'!BB$10:BB$74,'Emission Calculations'!$V$10:$V$74)/2000),SUMPRODUCT('Emission Calculations'!BB$10:BB$74,'Emission Calculations'!$V$10:$V$74)/2000)","v":0},{"$f":"IF('Emission Calculations'!$V$7=TRUE,(Z13*SUMPRODUCT('Emission Calculations'!BC$10:BC$74,'Emission Calculations'!$V$10:$V$74)/2000),SUMPRODUCT('Emission Calculations'!BC$10:BC$74,'Emission Calculations'!$V$10:$V$74)/2000)","v":0},{"$f":"IF('Emission Calculations'!$V$7=TRUE,(AA13*SUMPRODUCT('Emission Calculations'!BD$10:BD$74,'Emission Calculations'!$V$10:$V$74)/2000),SUMPRODUCT('Emission Calculations'!BD$10:BD$74,'Emission Calculations'!$V$10:$V$74)/2000)","v":0},{"$f":"IF('Emission Calculations'!$V$7=TRUE,(AB13*SUMPRODUCT('Emission Calculations'!BE$10:BE$74,'Emission Calculations'!$V$10:$V$74)/2000),SUMPRODUCT('Emission Calculations'!BE$10:BE$74,'Emission Calculations'!$V$10:$V$74)/2000)","v":0},{"$f":"IF('Emission Calculations'!$V$7=TRUE,(AC13*SUMPRODUCT('Emission Calculations'!BF$10:BF$74,'Emission Calculations'!$V$10:$V$74)/2000),SUMPRODUCT('Emission Calculations'!BF$10:BF$74,'Emission Calculations'!$V$10:$V$74)/2000)","v":0},{"$f":"IF('Emission Calculations'!$V$7=TRUE,(AD13*SUMPRODUCT('Emission Calculations'!BG$10:BG$74,'Emission Calculations'!$V$10:$V$74)/2000),SUMPRODUCT('Emission Calculations'!BG$10:BG$74,'Emission Calculations'!$V$10:$V$74)/2000)","v":0},{"$f":"IF('Emission Calculations'!$V$7=TRUE,(AE13*SUMPRODUCT('Emission Calculations'!BH$10:BH$74,'Emission Calculations'!$V$10:$V$74)/2000),SUMPRODUCT('Emission Calculations'!BH$10:BH$74,'Emission Calculations'!$V$10:$V$74)/2000)","v":0},{"$f":"IF('Emission Calculations'!$V$7=TRUE,(AF13*SUMPRODUCT('Emission Calculations'!BI$10:BI$74,'Emission Calculations'!$V$10:$V$74)/2000),SUMPRODUCT('Emission Calculations'!BI$10:BI$74,'Emission Calculations'!$V$10:$V$74)/2000)","v":0},{"$f":"IF('Emission Calculations'!$V$7=TRUE,(AG13*SUMPRODUCT('Emission Calculations'!BJ$10:BJ$74,'Emission Calculations'!$V$10:$V$74)/2000),SUMPRODUCT('Emission Calculations'!BJ$10:BJ$74,'Emission Calculations'!$V$10:$V$74)/2000)","v":0},{"$f":"IF('Emission Calculations'!$V$7=TRUE,(AH13*SUMPRODUCT('Emission Calculations'!BK$10:BK$74,'Emission Calculations'!$V$10:$V$74)/2000),SUMPRODUCT('Emission Calculations'!BK$10:BK$74,'Emission Calculations'!$V$10:$V$74)/2000)","v":0},{"$f":"IF('Emission Calculations'!$V$7=TRUE,(AI13*SUMPRODUCT('Emission Calculations'!BL$10:BL$74,'Emission Calculations'!$V$10:$V$74)/2000),SUMPRODUCT('Emission Calculations'!BL$10:BL$74,'Emission Calculations'!$V$10:$V$74)/2000)","v":0},{"$f":"IF('Emission Calculations'!$V$7=TRUE,(AJ13*SUMPRODUCT('Emission Calculations'!BM$10:BM$74,'Emission Calculations'!$V$10:$V$74)/2000),SUMPRODUCT('Emission Calculations'!BM$10:BM$74,'Emission Calculations'!$V$10:$V$74)/2000)","v":0},{"$f":"IF('Emission Calculations'!$V$7=TRUE,(AK13*SUMPRODUCT('Emission Calculations'!BN$10:BN$74,'Emission Calculations'!$V$10:$V$74)/2000),SUMPRODUCT('Emission Calculations'!BN$10:BN$74,'Emission Calculations'!$V$10:$V$74)/2000)","v":0},{"$f":"IF('Emission Calculations'!$V$7=TRUE,(AL13*SUMPRODUCT('Emission Calculations'!BO$10:BO$74,'Emission Calculations'!$V$10:$V$74)/2000),SUMPRODUCT('Emission Calculations'!BO$10:BO$74,'Emission Calculations'!$V$10:$V$74)/2000)","v":0},{"$f":"IF('Emission Calculations'!$V$7=TRUE,(AM13*SUMPRODUCT('Emission Calculations'!BP$10:BP$74,'Emission Calculations'!$V$10:$V$74)/2000),SUMPRODUCT('Emission Calculations'!BP$10:BP$74,'Emission Calculations'!$V$10:$V$74)/2000)","v":0},{"$f":"IF('Emission Calculations'!$V$7=TRUE,(AN13*SUMPRODUCT('Emission Calculations'!BQ$10:BQ$74,'Emission Calculations'!$V$10:$V$74)/2000),SUMPRODUCT('Emission Calculations'!BQ$10:BQ$74,'Emission Calculations'!$V$10:$V$74)/2000)","v":0},{"$f":"IF('Emission Calculations'!$V$7=TRUE,(AO13*SUMPRODUCT('Emission Calculations'!BR$10:BR$74,'Emission Calculations'!$V$10:$V$74)/2000),SUMPRODUCT('Emission Calculations'!BR$10:BR$74,'Emission Calculations'!$V$10:$V$74)/2000)","v":0},{"$f":"IF('Emission Calculations'!$V$7=TRUE,(AP13*SUMPRODUCT('Emission Calculations'!BS$10:BS$74,'Emission Calculations'!$V$10:$V$74)/2000),SUMPRODUCT('Emission Calculations'!BS$10:BS$74,'Emission Calculations'!$V$10:$V$74)/2000)","v":0},{"$f":"IF('Emission Calculations'!$V$7=TRUE,(AQ13*SUMPRODUCT('Emission Calculations'!BT$10:BT$74,'Emission Calculations'!$V$10:$V$74)/2000),SUMPRODUCT('Emission Calculations'!BT$10:BT$74,'Emission Calculations'!$V$10:$V$74)/2000)","v":0},{"$f":"IF('Emission Calculations'!$V$7=TRUE,(AR13*SUMPRODUCT('Emission Calculations'!BU$10:BU$74,'Emission Calculations'!$V$10:$V$74)/2000),SUMPRODUCT('Emission Calculations'!BU$10:BU$74,'Emission Calculations'!$V$10:$V$74)/2000)","v":0},{"$f":"IF('Emission Calculations'!$V$7=TRUE,(AS13*SUMPRODUCT('Emission Calculations'!BV$10:BV$74,'Emission Calculations'!$V$10:$V$74)/2000),SUMPRODUCT('Emission Calculations'!BV$10:BV$74,'Emission Calculations'!$V$10:$V$74)/2000)","v":0},{"$f":"IF('Emission Calculations'!$V$7=TRUE,(AT13*SUMPRODUCT('Emission Calculations'!BW$10:BW$74,'Emission Calculations'!$V$10:$V$74)/2000),SUMPRODUCT('Emission Calculations'!BW$10:BW$74,'Emission Calculations'!$V$10:$V$74)/2000)","v":0},{"$f":"IF('Emission Calculations'!$V$7=TRUE,(AU13*SUMPRODUCT('Emission Calculations'!BX$10:BX$74,'Emission Calculations'!$V$10:$V$74)/2000),SUMPRODUCT('Emission Calculations'!BX$10:BX$74,'Emission Calculations'!$V$10:$V$74)/2000)","v":0},{"$f":"IF('Emission Calculations'!$V$7=TRUE,(AV13*SUMPRODUCT('Emission Calculations'!BY$10:BY$74,'Emission Calculations'!$V$10:$V$74)/2000),SUMPRODUCT('Emission Calculations'!BY$10:BY$74,'Emission Calculations'!$V$10:$V$74)/2000)","v":0},{"$f":"IF('Emission Calculations'!$V$7=TRUE,(AW13*SUMPRODUCT('Emission Calculations'!BZ$10:BZ$74,'Emission Calculations'!$V$10:$V$74)/2000),SUMPRODUCT('Emission Calculations'!BZ$10:BZ$74,'Emission Calculations'!$V$10:$V$74)/2000)","v":0},{"$f":"IF('Emission Calculations'!$V$7=TRUE,(AX13*SUMPRODUCT('Emission Calculations'!CA$10:CA$74,'Emission Calculations'!$V$10:$V$74)/2000),SUMPRODUCT('Emission Calculations'!CA$10:CA$74,'Emission Calculations'!$V$10:$V$74)/2000)","v":0},{"$f":"IF('Emission Calculations'!$V$7=TRUE,(AY13*SUMPRODUCT('Emission Calculations'!CB$10:CB$74,'Emission Calculations'!$V$10:$V$74)/2000),SUMPRODUCT('Emission Calculations'!CB$10:CB$74,'Emission Calculations'!$V$10:$V$74)/2000)","v":0},{"$f":"IF('Emission Calculations'!$V$7=TRUE,(AZ13*SUMPRODUCT('Emission Calculations'!CC$10:CC$74,'Emission Calculations'!$V$10:$V$74)/2000),SUMPRODUCT('Emission Calculations'!CC$10:CC$74,'Emission Calculations'!$V$10:$V$74)/2000)","v":0},{"$f":"IF('Emission Calculations'!$V$7=TRUE,(BA13*SUMPRODUCT('Emission Calculations'!CD$10:CD$74,'Emission Calculations'!$V$10:$V$74)/2000),SUMPRODUCT('Emission Calculations'!CD$10:CD$74,'Emission Calculations'!$V$10:$V$74)/2000)","v":0},{"$f":"IF('Emission Calculations'!$V$7=TRUE,(BB13*SUMPRODUCT('Emission Calculations'!CE$10:CE$74,'Emission Calculations'!$V$10:$V$74)/2000),SUMPRODUCT('Emission Calculations'!CE$10:CE$74,'Emission Calculations'!$V$10:$V$74)/2000)","v":0},{"$f":"IF('Emission Calculations'!$V$7=TRUE,(BC13*SUMPRODUCT('Emission Calculations'!CF$10:CF$74,'Emission Calculations'!$V$10:$V$74)/2000),SUMPRODUCT('Emission Calculations'!CF$10:CF$74,'Emission Calculations'!$V$10:$V$74)/2000)","v":0},{"$f":"IF('Emission Calculations'!$V$7=TRUE,(BD13*SUMPRODUCT('Emission Calculations'!CG$10:CG$74,'Emission Calculations'!$V$10:$V$74)/2000),SUMPRODUCT('Emission Calculations'!CG$10:CG$74,'Emission Calculations'!$V$10:$V$74)/2000)","v":0},{"$f":"IF('Emission Calculations'!$V$7=TRUE,(BE13*SUMPRODUCT('Emission Calculations'!CH$10:CH$74,'Emission Calculations'!$V$10:$V$74)/2000),SUMPRODUCT('Emission Calculations'!CH$10:CH$74,'Emission Calculations'!$V$10:$V$74)/2000)","v":0},{"$f":"IF('Emission Calculations'!$V$7=TRUE,(BF13*SUMPRODUCT('Emission Calculations'!CI$10:CI$74,'Emission Calculations'!$V$10:$V$74)/2000),SUMPRODUCT('Emission Calculations'!CI$10:CI$74,'Emission Calculations'!$V$10:$V$74)/2000)","v":0},{"$f":"IF('Emission Calculations'!$V$7=TRUE,(BG13*SUMPRODUCT('Emission Calculations'!CJ$10:CJ$74,'Emission Calculations'!$V$10:$V$74)/2000),SUMPRODUCT('Emission Calculations'!CJ$10:CJ$74,'Emission Calculations'!$V$10:$V$74)/2000)","v":0},{"$f":"IF('Emission Calculations'!$V$7=TRUE,(BH13*SUMPRODUCT('Emission Calculations'!CK$10:CK$74,'Emission Calculations'!$V$10:$V$74)/2000),SUMPRODUCT('Emission Calculations'!CK$10:CK$74,'Emission Calculations'!$V$10:$V$74)/2000)","v":0},{"$f":"IF('Emission Calculations'!$V$7=TRUE,(BI13*SUMPRODUCT('Emission Calculations'!CL$10:CL$74,'Emission Calculations'!$V$10:$V$74)/2000),SUMPRODUCT('Emission Calculations'!CL$10:CL$74,'Emission Calculations'!$V$10:$V$74)/2000)","v":0}]
[{"$f":"'Emission Calculations'!A280","v":"HAP Name"},{"$f":"IF('Emission Calculations'!$W$7=TRUE,(B13*SUMPRODUCT('Emission Calculations'!AE$10:AE$74,'Emission Calculations'!$W$10:$W$74)/2000),SUMPRODUCT('Emission Calculations'!AE$10:AE$74,'Emission Calculations'!$W$10:$W$74)/2000)","v":0},{"$f":"IF('Emission Calculations'!$W$7=TRUE,(C13*SUMPRODUCT('Emission Calculations'!AF$10:AF$74,'Emission Calculations'!$W$10:$W$74)/2000),SUMPRODUCT('Emission Calculations'!AF$10:AF$74,'Emission Calculations'!$W$10:$W$74)/2000)","v":0},{"$f":"IF('Emission Calculations'!$W$7=TRUE,(D13*SUMPRODUCT('Emission Calculations'!AG$10:AG$74,'Emission Calculations'!$W$10:$W$74)/2000),SUMPRODUCT('Emission Calculations'!AG$10:AG$74,'Emission Calculations'!$W$10:$W$74)/2000)","v":0},{"$f":"IF('Emission Calculations'!$W$7=TRUE,(E13*SUMPRODUCT('Emission Calculations'!AH$10:AH$74,'Emission Calculations'!$W$10:$W$74)/2000),SUMPRODUCT('Emission Calculations'!AH$10:AH$74,'Emission Calculations'!$W$10:$W$74)/2000)","v":0},{"$f":"IF('Emission Calculations'!$W$7=TRUE,(F13*SUMPRODUCT('Emission Calculations'!AI$10:AI$74,'Emission Calculations'!$W$10:$W$74)/2000),SUMPRODUCT('Emission Calculations'!AI$10:AI$74,'Emission Calculations'!$W$10:$W$74)/2000)","v":0},{"$f":"IF('Emission Calculations'!$W$7=TRUE,(G13*SUMPRODUCT('Emission Calculations'!AJ$10:AJ$74,'Emission Calculations'!$W$10:$W$74)/2000),SUMPRODUCT('Emission Calculations'!AJ$10:AJ$74,'Emission Calculations'!$W$10:$W$74)/2000)","v":0},{"$f":"IF('Emission Calculations'!$W$7=TRUE,(H13*SUMPRODUCT('Emission Calculations'!AK$10:AK$74,'Emission Calculations'!$W$10:$W$74)/2000),SUMPRODUCT('Emission Calculations'!AK$10:AK$74,'Emission Calculations'!$W$10:$W$74)/2000)","v":0},{"$f":"IF('Emission Calculations'!$W$7=TRUE,(I13*SUMPRODUCT('Emission Calculations'!AL$10:AL$74,'Emission Calculations'!$W$10:$W$74)/2000),SUMPRODUCT('Emission Calculations'!AL$10:AL$74,'Emission Calculations'!$W$10:$W$74)/2000)","v":0},{"$f":"IF('Emission Calculations'!$W$7=TRUE,(J13*SUMPRODUCT('Emission Calculations'!AM$10:AM$74,'Emission Calculations'!$W$10:$W$74)/2000),SUMPRODUCT('Emission Calculations'!AM$10:AM$74,'Emission Calculations'!$W$10:$W$74)/2000)","v":0},{"$f":"IF('Emission Calculations'!$W$7=TRUE,(K13*SUMPRODUCT('Emission Calculations'!AN$10:AN$74,'Emission Calculations'!$W$10:$W$74)/2000),SUMPRODUCT('Emission Calculations'!AN$10:AN$74,'Emission Calculations'!$W$10:$W$74)/2000)","v":0},{"$f":"IF('Emission Calculations'!$W$7=TRUE,(L13*SUMPRODUCT('Emission Calculations'!AO$10:AO$74,'Emission Calculations'!$W$10:$W$74)/2000),SUMPRODUCT('Emission Calculations'!AO$10:AO$74,'Emission Calculations'!$W$10:$W$74)/2000)","v":0},{"$f":"IF('Emission Calculations'!$W$7=TRUE,(M13*SUMPRODUCT('Emission Calculations'!AP$10:AP$74,'Emission Calculations'!$W$10:$W$74)/2000),SUMPRODUCT('Emission Calculations'!AP$10:AP$74,'Emission Calculations'!$W$10:$W$74)/2000)","v":0},{"$f":"IF('Emission Calculations'!$W$7=TRUE,(N13*SUMPRODUCT('Emission Calculations'!AQ$10:AQ$74,'Emission Calculations'!$W$10:$W$74)/2000),SUMPRODUCT('Emission Calculations'!AQ$10:AQ$74,'Emission Calculations'!$W$10:$W$74)/2000)","v":0},{"$f":"IF('Emission Calculations'!$W$7=TRUE,(O13*SUMPRODUCT('Emission Calculations'!AR$10:AR$74,'Emission Calculations'!$W$10:$W$74)/2000),SUMPRODUCT('Emission Calculations'!AR$10:AR$74,'Emission Calculations'!$W$10:$W$74)/2000)","v":0},{"$f":"IF('Emission Calculations'!$W$7=TRUE,(P13*SUMPRODUCT('Emission Calculations'!AS$10:AS$74,'Emission Calculations'!$W$10:$W$74)/2000),SUMPRODUCT('Emission Calculations'!AS$10:AS$74,'Emission Calculations'!$W$10:$W$74)/2000)","v":0},{"$f":"IF('Emission Calculations'!$W$7=TRUE,(Q13*SUMPRODUCT('Emission Calculations'!AT$10:AT$74,'Emission Calculations'!$W$10:$W$74)/2000),SUMPRODUCT('Emission Calculations'!AT$10:AT$74,'Emission Calculations'!$W$10:$W$74)/2000)","v":0},{"$f":"IF('Emission Calculations'!$W$7=TRUE,(R13*SUMPRODUCT('Emission Calculations'!AU$10:AU$74,'Emission Calculations'!$W$10:$W$74)/2000),SUMPRODUCT('Emission Calculations'!AU$10:AU$74,'Emission Calculations'!$W$10:$W$74)/2000)","v":0},{"$f":"IF('Emission Calculations'!$W$7=TRUE,(S13*SUMPRODUCT('Emission Calculations'!AV$10:AV$74,'Emission Calculations'!$W$10:$W$74)/2000),SUMPRODUCT('Emission Calculations'!AV$10:AV$74,'Emission Calculations'!$W$10:$W$74)/2000)","v":0},{"$f":"IF('Emission Calculations'!$W$7=TRUE,(T13*SUMPRODUCT('Emission Calculations'!AW$10:AW$74,'Emission Calculations'!$W$10:$W$74)/2000),SUMPRODUCT('Emission Calculations'!AW$10:AW$74,'Emission Calculations'!$W$10:$W$74)/2000)","v":0},{"$f":"IF('Emission Calculations'!$W$7=TRUE,(U13*SUMPRODUCT('Emission Calculations'!AX$10:AX$74,'Emission Calculations'!$W$10:$W$74)/2000),SUMPRODUCT('Emission Calculations'!AX$10:AX$74,'Emission Calculations'!$W$10:$W$74)/2000)","v":0},{"$f":"IF('Emission Calculations'!$W$7=TRUE,(V13*SUMPRODUCT('Emission Calculations'!AY$10:AY$74,'Emission Calculations'!$W$10:$W$74)/2000),SUMPRODUCT('Emission Calculations'!AY$10:AY$74,'Emission Calculations'!$W$10:$W$74)/2000)","v":0},{"$f":"IF('Emission Calculations'!$W$7=TRUE,(W13*SUMPRODUCT('Emission Calculations'!AZ$10:AZ$74,'Emission Calculations'!$W$10:$W$74)/2000),SUMPRODUCT('Emission Calculations'!AZ$10:AZ$74,'Emission Calculations'!$W$10:$W$74)/2000)","v":0},{"$f":"IF('Emission Calculations'!$W$7=TRUE,(X13*SUMPRODUCT('Emission Calculations'!BA$10:BA$74,'Emission Calculations'!$W$10:$W$74)/2000),SUMPRODUCT('Emission Calculations'!BA$10:BA$74,'Emission Calculations'!$W$10:$W$74)/2000)","v":0},{"$f":"IF('Emission Calculations'!$W$7=TRUE,(Y13*SUMPRODUCT('Emission Calculations'!BB$10:BB$74,'Emission Calculations'!$W$10:$W$74)/2000),SUMPRODUCT('Emission Calculations'!BB$10:BB$74,'Emission Calculations'!$W$10:$W$74)/2000)","v":0},{"$f":"IF('Emission Calculations'!$W$7=TRUE,(Z13*SUMPRODUCT('Emission Calculations'!BC$10:BC$74,'Emission Calculations'!$W$10:$W$74)/2000),SUMPRODUCT('Emission Calculations'!BC$10:BC$74,'Emission Calculations'!$W$10:$W$74)/2000)","v":0},{"$f":"IF('Emission Calculations'!$W$7=TRUE,(AA13*SUMPRODUCT('Emission Calculations'!BD$10:BD$74,'Emission Calculations'!$W$10:$W$74)/2000),SUMPRODUCT('Emission Calculations'!BD$10:BD$74,'Emission Calculations'!$W$10:$W$74)/2000)","v":0},{"$f":"IF('Emission Calculations'!$W$7=TRUE,(AB13*SUMPRODUCT('Emission Calculations'!BE$10:BE$74,'Emission Calculations'!$W$10:$W$74)/2000),SUMPRODUCT('Emission Calculations'!BE$10:BE$74,'Emission Calculations'!$W$10:$W$74)/2000)","v":0},{"$f":"IF('Emission Calculations'!$W$7=TRUE,(AC13*SUMPRODUCT('Emission Calculations'!BF$10:BF$74,'Emission Calculations'!$W$10:$W$74)/2000),SUMPRODUCT('Emission Calculations'!BF$10:BF$74,'Emission Calculations'!$W$10:$W$74)/2000)","v":0},{"$f":"IF('Emission Calculations'!$W$7=TRUE,(AD13*SUMPRODUCT('Emission Calculations'!BG$10:BG$74,'Emission Calculations'!$W$10:$W$74)/2000),SUMPRODUCT('Emission Calculations'!BG$10:BG$74,'Emission Calculations'!$W$10:$W$74)/2000)","v":0},{"$f":"IF('Emission Calculations'!$W$7=TRUE,(AE13*SUMPRODUCT('Emission Calculations'!BH$10:BH$74,'Emission Calculations'!$W$10:$W$74)/2000),SUMPRODUCT('Emission Calculations'!BH$10:BH$74,'Emission Calculations'!$W$10:$W$74)/2000)","v":0},{"$f":"IF('Emission Calculations'!$W$7=TRUE,(AF13*SUMPRODUCT('Emission Calculations'!BI$10:BI$74,'Emission Calculations'!$W$10:$W$74)/2000),SUMPRODUCT('Emission Calculations'!BI$10:BI$74,'Emission Calculations'!$W$10:$W$74)/2000)","v":0},{"$f":"IF('Emission Calculations'!$W$7=TRUE,(AG13*SUMPRODUCT('Emission Calculations'!BJ$10:BJ$74,'Emission Calculations'!$W$10:$W$74)/2000),SUMPRODUCT('Emission Calculations'!BJ$10:BJ$74,'Emission Calculations'!$W$10:$W$74)/2000)","v":0},{"$f":"IF('Emission Calculations'!$W$7=TRUE,(AH13*SUMPRODUCT('Emission Calculations'!BK$10:BK$74,'Emission Calculations'!$W$10:$W$74)/2000),SUMPRODUCT('Emission Calculations'!BK$10:BK$74,'Emission Calculations'!$W$10:$W$74)/2000)","v":0},{"$f":"IF('Emission Calculations'!$W$7=TRUE,(AI13*SUMPRODUCT('Emission Calculations'!BL$10:BL$74,'Emission Calculations'!$W$10:$W$74)/2000),SUMPRODUCT('Emission Calculations'!BL$10:BL$74,'Emission Calculations'!$W$10:$W$74)/2000)","v":0},{"$f":"IF('Emission Calculations'!$W$7=TRUE,(AJ13*SUMPRODUCT('Emission Calculations'!BM$10:BM$74,'Emission Calculations'!$W$10:$W$74)/2000),SUMPRODUCT('Emission Calculations'!BM$10:BM$74,'Emission Calculations'!$W$10:$W$74)/2000)","v":0},{"$f":"IF('Emission Calculations'!$W$7=TRUE,(AK13*SUMPRODUCT('Emission Calculations'!BN$10:BN$74,'Emission Calculations'!$W$10:$W$74)/2000),SUMPRODUCT('Emission Calculations'!BN$10:BN$74,'Emission Calculations'!$W$10:$W$74)/2000)","v":0},{"$f":"IF('Emission Calculations'!$W$7=TRUE,(AL13*SUMPRODUCT('Emission Calculations'!BO$10:BO$74,'Emission Calculations'!$W$10:$W$74)/2000),SUMPRODUCT('Emission Calculations'!BO$10:BO$74,'Emission Calculations'!$W$10:$W$74)/2000)","v":0},{"$f":"IF('Emission Calculations'!$W$7=TRUE,(AM13*SUMPRODUCT('Emission Calculations'!BP$10:BP$74,'Emission Calculations'!$W$10:$W$74)/2000),SUMPRODUCT('Emission Calculations'!BP$10:BP$74,'Emission Calculations'!$W$10:$W$74)/2000)","v":0},{"$f":"IF('Emission Calculations'!$W$7=TRUE,(AN13*SUMPRODUCT('Emission Calculations'!BQ$10:BQ$74,'Emission Calculations'!$W$10:$W$74)/2000),SUMPRODUCT('Emission Calculations'!BQ$10:BQ$74,'Emission Calculations'!$W$10:$W$74)/2000)","v":0},{"$f":"IF('Emission Calculations'!$W$7=TRUE,(AO13*SUMPRODUCT('Emission Calculations'!BR$10:BR$74,'Emission Calculations'!$W$10:$W$74)/2000),SUMPRODUCT('Emission Calculations'!BR$10:BR$74,'Emission Calculations'!$W$10:$W$74)/2000)","v":0},{"$f":"IF('Emission Calculations'!$W$7=TRUE,(AP13*SUMPRODUCT('Emission Calculations'!BS$10:BS$74,'Emission Calculations'!$W$10:$W$74)/2000),SUMPRODUCT('Emission Calculations'!BS$10:BS$74,'Emission Calculations'!$W$10:$W$74)/2000)","v":0},{"$f":"IF('Emission Calculations'!$W$7=TRUE,(AQ13*SUMPRODUCT('Emission Calculations'!BT$10:BT$74,'Emission Calculations'!$W$10:$W$74)/2000),SUMPRODUCT('Emission Calculations'!BT$10:BT$74,'Emission Calculations'!$W$10:$W$74)/2000)","v":0},{"$f":"IF('Emission Calculations'!$W$7=TRUE,(AR13*SUMPRODUCT('Emission Calculations'!BU$10:BU$74,'Emission Calculations'!$W$10:$W$74)/2000),SUMPRODUCT('Emission Calculations'!BU$10:BU$74,'Emission Calculations'!$W$10:$W$74)/2000)","v":0},{"$f":"IF('Emission Calculations'!$W$7=TRUE,(AS13*SUMPRODUCT('Emission Calculations'!BV$10:BV$74,'Emission Calculations'!$W$10:$W$74)/2000),SUMPRODUCT('Emission Calculations'!BV$10:BV$74,'Emission Calculations'!$W$10:$W$74)/2000)","v":0},{"$f":"IF('Emission Calculations'!$W$7=TRUE,(AT13*SUMPRODUCT('Emission Calculations'!BW$10:BW$74,'Emission Calculations'!$W$10:$W$74)/2000),SUMPRODUCT('Emission Calculations'!BW$10:BW$74,'Emission Calculations'!$W$10:$W$74)/2000)","v":0},{"$f":"IF('Emission Calculations'!$W$7=TRUE,(AU13*SUMPRODUCT('Emission Calculations'!BX$10:BX$74,'Emission Calculations'!$W$10:$W$74)/2000),SUMPRODUCT('Emission Calculations'!BX$10:BX$74,'Emission Calculations'!$W$10:$W$74)/2000)","v":0},{"$f":"IF('Emission Calculations'!$W$7=TRUE,(AV13*SUMPRODUCT('Emission Calculations'!BY$10:BY$74,'Emission Calculations'!$W$10:$W$74)/2000),SUMPRODUCT('Emission Calculations'!BY$10:BY$74,'Emission Calculations'!$W$10:$W$74)/2000)","v":0},{"$f":"IF('Emission Calculations'!$W$7=TRUE,(AW13*SUMPRODUCT('Emission Calculations'!BZ$10:BZ$74,'Emission Calculations'!$W$10:$W$74)/2000),SUMPRODUCT('Emission Calculations'!BZ$10:BZ$74,'Emission Calculations'!$W$10:$W$74)/2000)","v":0},{"$f":"IF('Emission Calculations'!$W$7=TRUE,(AX13*SUMPRODUCT('Emission Calculations'!CA$10:CA$74,'Emission Calculations'!$W$10:$W$74)/2000),SUMPRODUCT('Emission Calculations'!CA$10:CA$74,'Emission Calculations'!$W$10:$W$74)/2000)","v":0},{"$f":"IF('Emission Calculations'!$W$7=TRUE,(AY13*SUMPRODUCT('Emission Calculations'!CB$10:CB$74,'Emission Calculations'!$W$10:$W$74)/2000),SUMPRODUCT('Emission Calculations'!CB$10:CB$74,'Emission Calculations'!$W$10:$W$74)/2000)","v":0},{"$f":"IF('Emission Calculations'!$W$7=TRUE,(AZ13*SUMPRODUCT('Emission Calculations'!CC$10:CC$74,'Emission Calculations'!$W$10:$W$74)/2000),SUMPRODUCT('Emission Calculations'!CC$10:CC$74,'Emission Calculations'!$W$10:$W$74)/2000)","v":0},{"$f":"IF('Emission Calculations'!$W$7=TRUE,(BA13*SUMPRODUCT('Emission Calculations'!CD$10:CD$74,'Emission Calculations'!$W$10:$W$74)/2000),SUMPRODUCT('Emission Calculations'!CD$10:CD$74,'Emission Calculations'!$W$10:$W$74)/2000)","v":0},{"$f":"IF('Emission Calculations'!$W$7=TRUE,(BB13*SUMPRODUCT('Emission Calculations'!CE$10:CE$74,'Emission Calculations'!$W$10:$W$74)/2000),SUMPRODUCT('Emission Calculations'!CE$10:CE$74,'Emission Calculations'!$W$10:$W$74)/2000)","v":0},{"$f":"IF('Emission Calculations'!$W$7=TRUE,(BC13*SUMPRODUCT('Emission Calculations'!CF$10:CF$74,'Emission Calculations'!$W$10:$W$74)/2000),SUMPRODUCT('Emission Calculations'!CF$10:CF$74,'Emission Calculations'!$W$10:$W$74)/2000)","v":0},{"$f":"IF('Emission Calculations'!$W$7=TRUE,(BD13*SUMPRODUCT('Emission Calculations'!CG$10:CG$74,'Emission Calculations'!$W$10:$W$74)/2000),SUMPRODUCT('Emission Calculations'!CG$10:CG$74,'Emission Calculations'!$W$10:$W$74)/2000)","v":0},{"$f":"IF('Emission Calculations'!$W$7=TRUE,(BE13*SUMPRODUCT('Emission Calculations'!CH$10:CH$74,'Emission Calculations'!$W$10:$W$74)/2000),SUMPRODUCT('Emission Calculations'!CH$10:CH$74,'Emission Calculations'!$W$10:$W$74)/2000)","v":0},{"$f":"IF('Emission Calculations'!$W$7=TRUE,(BF13*SUMPRODUCT('Emission Calculations'!CI$10:CI$74,'Emission Calculations'!$W$10:$W$74)/2000),SUMPRODUCT('Emission Calculations'!CI$10:CI$74,'Emission Calculations'!$W$10:$W$74)/2000)","v":0},{"$f":"IF('Emission Calculations'!$W$7=TRUE,(BG13*SUMPRODUCT('Emission Calculations'!CJ$10:CJ$74,'Emission Calculations'!$W$10:$W$74)/2000),SUMPRODUCT('Emission Calculations'!CJ$10:CJ$74,'Emission Calculations'!$W$10:$W$74)/2000)","v":0},{"$f":"IF('Emission Calculations'!$W$7=TRUE,(BH13*SUMPRODUCT('Emission Calculations'!CK$10:CK$74,'Emission Calculations'!$W$10:$W$74)/2000),SUMPRODUCT('Emission Calculations'!CK$10:CK$74,'Emission Calculations'!$W$10:$W$74)/2000)","v":0},{"$f":"IF('Emission Calculations'!$W$7=TRUE,(BI13*SUMPRODUCT('Emission Calculations'!CL$10:CL$74,'Emission Calculations'!$W$10:$W$74)/2000),SUMPRODUCT('Emission Calculations'!CL$10:CL$74,'Emission Calculations'!$W$10:$W$74)/2000)","v":0}]
[{"$f":"'Emission Calculations'!A281","v":"HAP Name"},{"$f":"IF('Emission Calculations'!$X$7=TRUE,(B13*SUMPRODUCT('Emission Calculations'!AE$10:AE$74,'Emission Calculations'!$X$10:$X$74)/2000),SUMPRODUCT('Emission Calculations'!AE$10:AE$74,'Emission Calculations'!$X$10:$X$74)/2000)","v":0},{"$f":"IF('Emission Calculations'!$X$7=TRUE,(C13*SUMPRODUCT('Emission Calculations'!AF$10:AF$74,'Emission Calculations'!$X$10:$X$74)/2000),SUMPRODUCT('Emission Calculations'!AF$10:AF$74,'Emission Calculations'!$X$10:$X$74)/2000)","v":0},{"$f":"IF('Emission Calculations'!$X$7=TRUE,(D13*SUMPRODUCT('Emission Calculations'!AG$10:AG$74,'Emission Calculations'!$X$10:$X$74)/2000),SUMPRODUCT('Emission Calculations'!AG$10:AG$74,'Emission Calculations'!$X$10:$X$74)/2000)","v":0},{"$f":"IF('Emission Calculations'!$X$7=TRUE,(E13*SUMPRODUCT('Emission Calculations'!AH$10:AH$74,'Emission Calculations'!$X$10:$X$74)/2000),SUMPRODUCT('Emission Calculations'!AH$10:AH$74,'Emission Calculations'!$X$10:$X$74)/2000)","v":0},{"$f":"IF('Emission Calculations'!$X$7=TRUE,(F13*SUMPRODUCT('Emission Calculations'!AI$10:AI$74,'Emission Calculations'!$X$10:$X$74)/2000),SUMPRODUCT('Emission Calculations'!AI$10:AI$74,'Emission Calculations'!$X$10:$X$74)/2000)","v":0},{"$f":"IF('Emission Calculations'!$X$7=TRUE,(G13*SUMPRODUCT('Emission Calculations'!AJ$10:AJ$74,'Emission Calculations'!$X$10:$X$74)/2000),SUMPRODUCT('Emission Calculations'!AJ$10:AJ$74,'Emission Calculations'!$X$10:$X$74)/2000)","v":0},{"$f":"IF('Emission Calculations'!$X$7=TRUE,(H13*SUMPRODUCT('Emission Calculations'!AK$10:AK$74,'Emission Calculations'!$X$10:$X$74)/2000),SUMPRODUCT('Emission Calculations'!AK$10:AK$74,'Emission Calculations'!$X$10:$X$74)/2000)","v":0},{"$f":"IF('Emission Calculations'!$X$7=TRUE,(I13*SUMPRODUCT('Emission Calculations'!AL$10:AL$74,'Emission Calculations'!$X$10:$X$74)/2000),SUMPRODUCT('Emission Calculations'!AL$10:AL$74,'Emission Calculations'!$X$10:$X$74)/2000)","v":0},{"$f":"IF('Emission Calculations'!$X$7=TRUE,(J13*SUMPRODUCT('Emission Calculations'!AM$10:AM$74,'Emission Calculations'!$X$10:$X$74)/2000),SUMPRODUCT('Emission Calculations'!AM$10:AM$74,'Emission Calculations'!$X$10:$X$74)/2000)","v":0},{"$f":"IF('Emission Calculations'!$X$7=TRUE,(K13*SUMPRODUCT('Emission Calculations'!AN$10:AN$74,'Emission Calculations'!$X$10:$X$74)/2000),SUMPRODUCT('Emission Calculations'!AN$10:AN$74,'Emission Calculations'!$X$10:$X$74)/2000)","v":0},{"$f":"IF('Emission Calculations'!$X$7=TRUE,(L13*SUMPRODUCT('Emission Calculations'!AO$10:AO$74,'Emission Calculations'!$X$10:$X$74)/2000),SUMPRODUCT('Emission Calculations'!AO$10:AO$74,'Emission Calculations'!$X$10:$X$74)/2000)","v":0},{"$f":"IF('Emission Calculations'!$X$7=TRUE,(M13*SUMPRODUCT('Emission Calculations'!AP$10:AP$74,'Emission Calculations'!$X$10:$X$74)/2000),SUMPRODUCT('Emission Calculations'!AP$10:AP$74,'Emission Calculations'!$X$10:$X$74)/2000)","v":0},{"$f":"IF('Emission Calculations'!$X$7=TRUE,(N13*SUMPRODUCT('Emission Calculations'!AQ$10:AQ$74,'Emission Calculations'!$X$10:$X$74)/2000),SUMPRODUCT('Emission Calculations'!AQ$10:AQ$74,'Emission Calculations'!$X$10:$X$74)/2000)","v":0},{"$f":"IF('Emission Calculations'!$X$7=TRUE,(O13*SUMPRODUCT('Emission Calculations'!AR$10:AR$74,'Emission Calculations'!$X$10:$X$74)/2000),SUMPRODUCT('Emission Calculations'!AR$10:AR$74,'Emission Calculations'!$X$10:$X$74)/2000)","v":0},{"$f":"IF('Emission Calculations'!$X$7=TRUE,(P13*SUMPRODUCT('Emission Calculations'!AS$10:AS$74,'Emission Calculations'!$X$10:$X$74)/2000),SUMPRODUCT('Emission Calculations'!AS$10:AS$74,'Emission Calculations'!$X$10:$X$74)/2000)","v":0},{"$f":"IF('Emission Calculations'!$X$7=TRUE,(Q13*SUMPRODUCT('Emission Calculations'!AT$10:AT$74,'Emission Calculations'!$X$10:$X$74)/2000),SUMPRODUCT('Emission Calculations'!AT$10:AT$74,'Emission Calculations'!$X$10:$X$74)/2000)","v":0},{"$f":"IF('Emission Calculations'!$X$7=TRUE,(R13*SUMPRODUCT('Emission Calculations'!AU$10:AU$74,'Emission Calculations'!$X$10:$X$74)/2000),SUMPRODUCT('Emission Calculations'!AU$10:AU$74,'Emission Calculations'!$X$10:$X$74)/2000)","v":0},{"$f":"IF('Emission Calculations'!$X$7=TRUE,(S13*SUMPRODUCT('Emission Calculations'!AV$10:AV$74,'Emission Calculations'!$X$10:$X$74)/2000),SUMPRODUCT('Emission Calculations'!AV$10:AV$74,'Emission Calculations'!$X$10:$X$74)/2000)","v":0},{"$f":"IF('Emission Calculations'!$X$7=TRUE,(T13*SUMPRODUCT('Emission Calculations'!AW$10:AW$74,'Emission Calculations'!$X$10:$X$74)/2000),SUMPRODUCT('Emission Calculations'!AW$10:AW$74,'Emission Calculations'!$X$10:$X$74)/2000)","v":0},{"$f":"IF('Emission Calculations'!$X$7=TRUE,(U13*SUMPRODUCT('Emission Calculations'!AX$10:AX$74,'Emission Calculations'!$X$10:$X$74)/2000),SUMPRODUCT('Emission Calculations'!AX$10:AX$74,'Emission Calculations'!$X$10:$X$74)/2000)","v":0},{"$f":"IF('Emission Calculations'!$X$7=TRUE,(V13*SUMPRODUCT('Emission Calculations'!AY$10:AY$74,'Emission Calculations'!$X$10:$X$74)/2000),SUMPRODUCT('Emission Calculations'!AY$10:AY$74,'Emission Calculations'!$X$10:$X$74)/2000)","v":0},{"$f":"IF('Emission Calculations'!$X$7=TRUE,(W13*SUMPRODUCT('Emission Calculations'!AZ$10:AZ$74,'Emission Calculations'!$X$10:$X$74)/2000),SUMPRODUCT('Emission Calculations'!AZ$10:AZ$74,'Emission Calculations'!$X$10:$X$74)/2000)","v":0},{"$f":"IF('Emission Calculations'!$X$7=TRUE,(X13*SUMPRODUCT('Emission Calculations'!BA$10:BA$74,'Emission Calculations'!$X$10:$X$74)/2000),SUMPRODUCT('Emission Calculations'!BA$10:BA$74,'Emission Calculations'!$X$10:$X$74)/2000)","v":0},{"$f":"IF('Emission Calculations'!$X$7=TRUE,(Y13*SUMPRODUCT('Emission Calculations'!BB$10:BB$74,'Emission Calculations'!$X$10:$X$74)/2000),SUMPRODUCT('Emission Calculations'!BB$10:BB$74,'Emission Calculations'!$X$10:$X$74)/2000)","v":0},{"$f":"IF('Emission Calculations'!$X$7=TRUE,(Z13*SUMPRODUCT('Emission Calculations'!BC$10:BC$74,'Emission Calculations'!$X$10:$X$74)/2000),SUMPRODUCT('Emission Calculations'!BC$10:BC$74,'Emission Calculations'!$X$10:$X$74)/2000)","v":0},{"$f":"IF('Emission Calculations'!$X$7=TRUE,(AA13*SUMPRODUCT('Emission Calculations'!BD$10:BD$74,'Emission Calculations'!$X$10:$X$74)/2000),SUMPRODUCT('Emission Calculations'!BD$10:BD$74,'Emission Calculations'!$X$10:$X$74)/2000)","v":0},{"$f":"IF('Emission Calculations'!$X$7=TRUE,(AB13*SUMPRODUCT('Emission Calculations'!BE$10:BE$74,'Emission Calculations'!$X$10:$X$74)/2000),SUMPRODUCT('Emission Calculations'!BE$10:BE$74,'Emission Calculations'!$X$10:$X$74)/2000)","v":0},{"$f":"IF('Emission Calculations'!$X$7=TRUE,(AC13*SUMPRODUCT('Emission Calculations'!BF$10:BF$74,'Emission Calculations'!$X$10:$X$74)/2000),SUMPRODUCT('Emission Calculations'!BF$10:BF$74,'Emission Calculations'!$X$10:$X$74)/2000)","v":0},{"$f":"IF('Emission Calculations'!$X$7=TRUE,(AD13*SUMPRODUCT('Emission Calculations'!BG$10:BG$74,'Emission Calculations'!$X$10:$X$74)/2000),SUMPRODUCT('Emission Calculations'!BG$10:BG$74,'Emission Calculations'!$X$10:$X$74)/2000)","v":0},{"$f":"IF('Emission Calculations'!$X$7=TRUE,(AE13*SUMPRODUCT('Emission Calculations'!BH$10:BH$74,'Emission Calculations'!$X$10:$X$74)/2000),SUMPRODUCT('Emission Calculations'!BH$10:BH$74,'Emission Calculations'!$X$10:$X$74)/2000)","v":0},{"$f":"IF('Emission Calculations'!$X$7=TRUE,(AF13*SUMPRODUCT('Emission Calculations'!BI$10:BI$74,'Emission Calculations'!$X$10:$X$74)/2000),SUMPRODUCT('Emission Calculations'!BI$10:BI$74,'Emission Calculations'!$X$10:$X$74)/2000)","v":0},{"$f":"IF('Emission Calculations'!$X$7=TRUE,(AG13*SUMPRODUCT('Emission Calculations'!BJ$10:BJ$74,'Emission Calculations'!$X$10:$X$74)/2000),SUMPRODUCT('Emission Calculations'!BJ$10:BJ$74,'Emission Calculations'!$X$10:$X$74)/2000)","v":0},{"$f":"IF('Emission Calculations'!$X$7=TRUE,(AH13*SUMPRODUCT('Emission Calculations'!BK$10:BK$74,'Emission Calculations'!$X$10:$X$74)/2000),SUMPRODUCT('Emission Calculations'!BK$10:BK$74,'Emission Calculations'!$X$10:$X$74)/2000)","v":0},{"$f":"IF('Emission Calculations'!$X$7=TRUE,(AI13*SUMPRODUCT('Emission Calculations'!BL$10:BL$74,'Emission Calculations'!$X$10:$X$74)/2000),SUMPRODUCT('Emission Calculations'!BL$10:BL$74,'Emission Calculations'!$X$10:$X$74)/2000)","v":0},{"$f":"IF('Emission Calculations'!$X$7=TRUE,(AJ13*SUMPRODUCT('Emission Calculations'!BM$10:BM$74,'Emission Calculations'!$X$10:$X$74)/2000),SUMPRODUCT('Emission Calculations'!BM$10:BM$74,'Emission Calculations'!$X$10:$X$74)/2000)","v":0},{"$f":"IF('Emission Calculations'!$X$7=TRUE,(AK13*SUMPRODUCT('Emission Calculations'!BN$10:BN$74,'Emission Calculations'!$X$10:$X$74)/2000),SUMPRODUCT('Emission Calculations'!BN$10:BN$74,'Emission Calculations'!$X$10:$X$74)/2000)","v":0},{"$f":"IF('Emission Calculations'!$X$7=TRUE,(AL13*SUMPRODUCT('Emission Calculations'!BO$10:BO$74,'Emission Calculations'!$X$10:$X$74)/2000),SUMPRODUCT('Emission Calculations'!BO$10:BO$74,'Emission Calculations'!$X$10:$X$74)/2000)","v":0},{"$f":"IF('Emission Calculations'!$X$7=TRUE,(AM13*SUMPRODUCT('Emission Calculations'!BP$10:BP$74,'Emission Calculations'!$X$10:$X$74)/2000),SUMPRODUCT('Emission Calculations'!BP$10:BP$74,'Emission Calculations'!$X$10:$X$74)/2000)","v":0},{"$f":"IF('Emission Calculations'!$X$7=TRUE,(AN13*SUMPRODUCT('Emission Calculations'!BQ$10:BQ$74,'Emission Calculations'!$X$10:$X$74)/2000),SUMPRODUCT('Emission Calculations'!BQ$10:BQ$74,'Emission Calculations'!$X$10:$X$74)/2000)","v":0},{"$f":"IF('Emission Calculations'!$X$7=TRUE,(AO13*SUMPRODUCT('Emission Calculations'!BR$10:BR$74,'Emission Calculations'!$X$10:$X$74)/2000),SUMPRODUCT('Emission Calculations'!BR$10:BR$74,'Emission Calculations'!$X$10:$X$74)/2000)","v":0},{"$f":"IF('Emission Calculations'!$X$7=TRUE,(AP13*SUMPRODUCT('Emission Calculations'!BS$10:BS$74,'Emission Calculations'!$X$10:$X$74)/2000),SUMPRODUCT('Emission Calculations'!BS$10:BS$74,'Emission Calculations'!$X$10:$X$74)/2000)","v":0},{"$f":"IF('Emission Calculations'!$X$7=TRUE,(AQ13*SUMPRODUCT('Emission Calculations'!BT$10:BT$74,'Emission Calculations'!$X$10:$X$74)/2000),SUMPRODUCT('Emission Calculations'!BT$10:BT$74,'Emission Calculations'!$X$10:$X$74)/2000)","v":0},{"$f":"IF('Emission Calculations'!$X$7=TRUE,(AR13*SUMPRODUCT('Emission Calculations'!BU$10:BU$74,'Emission Calculations'!$X$10:$X$74)/2000),SUMPRODUCT('Emission Calculations'!BU$10:BU$74,'Emission Calculations'!$X$10:$X$74)/2000)","v":0},{"$f":"IF('Emission Calculations'!$X$7=TRUE,(AS13*SUMPRODUCT('Emission Calculations'!BV$10:BV$74,'Emission Calculations'!$X$10:$X$74)/2000),SUMPRODUCT('Emission Calculations'!BV$10:BV$74,'Emission Calculations'!$X$10:$X$74)/2000)","v":0},{"$f":"IF('Emission Calculations'!$X$7=TRUE,(AT13*SUMPRODUCT('Emission Calculations'!BW$10:BW$74,'Emission Calculations'!$X$10:$X$74)/2000),SUMPRODUCT('Emission Calculations'!BW$10:BW$74,'Emission Calculations'!$X$10:$X$74)/2000)","v":0},{"$f":"IF('Emission Calculations'!$X$7=TRUE,(AU13*SUMPRODUCT('Emission Calculations'!BX$10:BX$74,'Emission Calculations'!$X$10:$X$74)/2000),SUMPRODUCT('Emission Calculations'!BX$10:BX$74,'Emission Calculations'!$X$10:$X$74)/2000)","v":0},{"$f":"IF('Emission Calculations'!$X$7=TRUE,(AV13*SUMPRODUCT('Emission Calculations'!BY$10:BY$74,'Emission Calculations'!$X$10:$X$74)/2000),SUMPRODUCT('Emission Calculations'!BY$10:BY$74,'Emission Calculations'!$X$10:$X$74)/2000)","v":0},{"$f":"IF('Emission Calculations'!$X$7=TRUE,(AW13*SUMPRODUCT('Emission Calculations'!BZ$10:BZ$74,'Emission Calculations'!$X$10:$X$74)/2000),SUMPRODUCT('Emission Calculations'!BZ$10:BZ$74,'Emission Calculations'!$X$10:$X$74)/2000)","v":0},{"$f":"IF('Emission Calculations'!$X$7=TRUE,(AX13*SUMPRODUCT('Emission Calculations'!CA$10:CA$74,'Emission Calculations'!$X$10:$X$74)/2000),SUMPRODUCT('Emission Calculations'!CA$10:CA$74,'Emission Calculations'!$X$10:$X$74)/2000)","v":0},{"$f":"IF('Emission Calculations'!$X$7=TRUE,(AY13*SUMPRODUCT('Emission Calculations'!CB$10:CB$74,'Emission Calculations'!$X$10:$X$74)/2000),SUMPRODUCT('Emission Calculations'!CB$10:CB$74,'Emission Calculations'!$X$10:$X$74)/2000)","v":0},{"$f":"IF('Emission Calculations'!$X$7=TRUE,(AZ13*SUMPRODUCT('Emission Calculations'!CC$10:CC$74,'Emission Calculations'!$X$10:$X$74)/2000),SUMPRODUCT('Emission Calculations'!CC$10:CC$74,'Emission Calculations'!$X$10:$X$74)/2000)","v":0},{"$f":"IF('Emission Calculations'!$X$7=TRUE,(BA13*SUMPRODUCT('Emission Calculations'!CD$10:CD$74,'Emission Calculations'!$X$10:$X$74)/2000),SUMPRODUCT('Emission Calculations'!CD$10:CD$74,'Emission Calculations'!$X$10:$X$74)/2000)","v":0},{"$f":"IF('Emission Calculations'!$X$7=TRUE,(BB13*SUMPRODUCT('Emission Calculations'!CE$10:CE$74,'Emission Calculations'!$X$10:$X$74)/2000),SUMPRODUCT('Emission Calculations'!CE$10:CE$74,'Emission Calculations'!$X$10:$X$74)/2000)","v":0},{"$f":"IF('Emission Calculations'!$X$7=TRUE,(BC13*SUMPRODUCT('Emission Calculations'!CF$10:CF$74,'Emission Calculations'!$X$10:$X$74)/2000),SUMPRODUCT('Emission Calculations'!CF$10:CF$74,'Emission Calculations'!$X$10:$X$74)/2000)","v":0},{"$f":"IF('Emission Calculations'!$X$7=TRUE,(BD13*SUMPRODUCT('Emission Calculations'!CG$10:CG$74,'Emission Calculations'!$X$10:$X$74)/2000),SUMPRODUCT('Emission Calculations'!CG$10:CG$74,'Emission Calculations'!$X$10:$X$74)/2000)","v":0},{"$f":"IF('Emission Calculations'!$X$7=TRUE,(BE13*SUMPRODUCT('Emission Calculations'!CH$10:CH$74,'Emission Calculations'!$X$10:$X$74)/2000),SUMPRODUCT('Emission Calculations'!CH$10:CH$74,'Emission Calculations'!$X$10:$X$74)/2000)","v":0},{"$f":"IF('Emission Calculations'!$X$7=TRUE,(BF13*SUMPRODUCT('Emission Calculations'!CI$10:CI$74,'Emission Calculations'!$X$10:$X$74)/2000),SUMPRODUCT('Emission Calculations'!CI$10:CI$74,'Emission Calculations'!$X$10:$X$74)/2000)","v":0},{"$f":"IF('Emission Calculations'!$X$7=TRUE,(BG13*SUMPRODUCT('Emission Calculations'!CJ$10:CJ$74,'Emission Calculations'!$X$10:$X$74)/2000),SUMPRODUCT('Emission Calculations'!CJ$10:CJ$74,'Emission Calculations'!$X$10:$X$74)/2000)","v":0},{"$f":"IF('Emission Calculations'!$X$7=TRUE,(BH13*SUMPRODUCT('Emission Calculations'!CK$10:CK$74,'Emission Calculations'!$X$10:$X$74)/2000),SUMPRODUCT('Emission Calculations'!CK$10:CK$74,'Emission Calculations'!$X$10:$X$74)/2000)","v":0},{"$f":"IF('Emission Calculations'!$X$7=TRUE,(BI13*SUMPRODUCT('Emission Calculations'!CL$10:CL$74,'Emission Calculations'!$X$10:$X$74)/2000),SUMPRODUCT('Emission Calculations'!CL$10:CL$74,'Emission Calculations'!$X$10:$X$74)/2000)","v":0}]
[{"$f":"'Emission Calculations'!A282","v":"HAP Name"},{"$f":"IF('Emission Calculations'!$Y$7=TRUE,(B13*SUMPRODUCT('Emission Calculations'!AE$10:AE$74,'Emission Calculations'!$Y$10:$Y$74)/2000),SUMPRODUCT('Emission Calculations'!AE$10:AE$74,'Emission Calculations'!$Y$10:$Y$74)/2000)","v":0},{"$f":"IF('Emission Calculations'!$Y$7=TRUE,(C13*SUMPRODUCT('Emission Calculations'!AF$10:AF$74,'Emission Calculations'!$Y$10:$Y$74)/2000),SUMPRODUCT('Emission Calculations'!AF$10:AF$74,'Emission Calculations'!$Y$10:$Y$74)/2000)","v":0},{"$f":"IF('Emission Calculations'!$Y$7=TRUE,(D13*SUMPRODUCT('Emission Calculations'!AG$10:AG$74,'Emission Calculations'!$Y$10:$Y$74)/2000),SUMPRODUCT('Emission Calculations'!AG$10:AG$74,'Emission Calculations'!$Y$10:$Y$74)/2000)","v":0},{"$f":"IF('Emission Calculations'!$Y$7=TRUE,(E13*SUMPRODUCT('Emission Calculations'!AH$10:AH$74,'Emission Calculations'!$Y$10:$Y$74)/2000),SUMPRODUCT('Emission Calculations'!AH$10:AH$74,'Emission Calculations'!$Y$10:$Y$74)/2000)","v":0},{"$f":"IF('Emission Calculations'!$Y$7=TRUE,(F13*SUMPRODUCT('Emission Calculations'!AI$10:AI$74,'Emission Calculations'!$Y$10:$Y$74)/2000),SUMPRODUCT('Emission Calculations'!AI$10:AI$74,'Emission Calculations'!$Y$10:$Y$74)/2000)","v":0},{"$f":"IF('Emission Calculations'!$Y$7=TRUE,(G13*SUMPRODUCT('Emission Calculations'!AJ$10:AJ$74,'Emission Calculations'!$Y$10:$Y$74)/2000),SUMPRODUCT('Emission Calculations'!AJ$10:AJ$74,'Emission Calculations'!$Y$10:$Y$74)/2000)","v":0},{"$f":"IF('Emission Calculations'!$Y$7=TRUE,(H13*SUMPRODUCT('Emission Calculations'!AK$10:AK$74,'Emission Calculations'!$Y$10:$Y$74)/2000),SUMPRODUCT('Emission Calculations'!AK$10:AK$74,'Emission Calculations'!$Y$10:$Y$74)/2000)","v":0},{"$f":"IF('Emission Calculations'!$Y$7=TRUE,(I13*SUMPRODUCT('Emission Calculations'!AL$10:AL$74,'Emission Calculations'!$Y$10:$Y$74)/2000),SUMPRODUCT('Emission Calculations'!AL$10:AL$74,'Emission Calculations'!$Y$10:$Y$74)/2000)","v":0},{"$f":"IF('Emission Calculations'!$Y$7=TRUE,(J13*SUMPRODUCT('Emission Calculations'!AM$10:AM$74,'Emission Calculations'!$Y$10:$Y$74)/2000),SUMPRODUCT('Emission Calculations'!AM$10:AM$74,'Emission Calculations'!$Y$10:$Y$74)/2000)","v":0},{"$f":"IF('Emission Calculations'!$Y$7=TRUE,(K13*SUMPRODUCT('Emission Calculations'!AN$10:AN$74,'Emission Calculations'!$Y$10:$Y$74)/2000),SUMPRODUCT('Emission Calculations'!AN$10:AN$74,'Emission Calculations'!$Y$10:$Y$74)/2000)","v":0},{"$f":"IF('Emission Calculations'!$Y$7=TRUE,(L13*SUMPRODUCT('Emission Calculations'!AO$10:AO$74,'Emission Calculations'!$Y$10:$Y$74)/2000),SUMPRODUCT('Emission Calculations'!AO$10:AO$74,'Emission Calculations'!$Y$10:$Y$74)/2000)","v":0},{"$f":"IF('Emission Calculations'!$Y$7=TRUE,(M13*SUMPRODUCT('Emission Calculations'!AP$10:AP$74,'Emission Calculations'!$Y$10:$Y$74)/2000),SUMPRODUCT('Emission Calculations'!AP$10:AP$74,'Emission Calculations'!$Y$10:$Y$74)/2000)","v":0},{"$f":"IF('Emission Calculations'!$Y$7=TRUE,(N13*SUMPRODUCT('Emission Calculations'!AQ$10:AQ$74,'Emission Calculations'!$Y$10:$Y$74)/2000),SUMPRODUCT('Emission Calculations'!AQ$10:AQ$74,'Emission Calculations'!$Y$10:$Y$74)/2000)","v":0},{"$f":"IF('Emission Calculations'!$Y$7=TRUE,(O13*SUMPRODUCT('Emission Calculations'!AR$10:AR$74,'Emission Calculations'!$Y$10:$Y$74)/2000),SUMPRODUCT('Emission Calculations'!AR$10:AR$74,'Emission Calculations'!$Y$10:$Y$74)/2000)","v":0},{"$f":"IF('Emission Calculations'!$Y$7=TRUE,(P13*SUMPRODUCT('Emission Calculations'!AS$10:AS$74,'Emission Calculations'!$Y$10:$Y$74)/2000),SUMPRODUCT('Emission Calculations'!AS$10:AS$74,'Emission Calculations'!$Y$10:$Y$74)/2000)","v":0},{"$f":"IF('Emission Calculations'!$Y$7=TRUE,(Q13*SUMPRODUCT('Emission Calculations'!AT$10:AT$74,'Emission Calculations'!$Y$10:$Y$74)/2000),SUMPRODUCT('Emission Calculations'!AT$10:AT$74,'Emission Calculations'!$Y$10:$Y$74)/2000)","v":0},{"$f":"IF('Emission Calculations'!$Y$7=TRUE,(R13*SUMPRODUCT('Emission Calculations'!AU$10:AU$74,'Emission Calculations'!$Y$10:$Y$74)/2000),SUMPRODUCT('Emission Calculations'!AU$10:AU$74,'Emission Calculations'!$Y$10:$Y$74)/2000)","v":0},{"$f":"IF('Emission Calculations'!$Y$7=TRUE,(S13*SUMPRODUCT('Emission Calculations'!AV$10:AV$74,'Emission Calculations'!$Y$10:$Y$74)/2000),SUMPRODUCT('Emission Calculations'!AV$10:AV$74,'Emission Calculations'!$Y$10:$Y$74)/2000)","v":0},{"$f":"IF('Emission Calculations'!$Y$7=TRUE,(T13*SUMPRODUCT('Emission Calculations'!AW$10:AW$74,'Emission Calculations'!$Y$10:$Y$74)/2000),SUMPRODUCT('Emission Calculations'!AW$10:AW$74,'Emission Calculations'!$Y$10:$Y$74)/2000)","v":0},{"$f":"IF('Emission Calculations'!$Y$7=TRUE,(U13*SUMPRODUCT('Emission Calculations'!AX$10:AX$74,'Emission Calculations'!$Y$10:$Y$74)/2000),SUMPRODUCT('Emission Calculations'!AX$10:AX$74,'Emission Calculations'!$Y$10:$Y$74)/2000)","v":0},{"$f":"IF('Emission Calculations'!$Y$7=TRUE,(V13*SUMPRODUCT('Emission Calculations'!AY$10:AY$74,'Emission Calculations'!$Y$10:$Y$74)/2000),SUMPRODUCT('Emission Calculations'!AY$10:AY$74,'Emission Calculations'!$Y$10:$Y$74)/2000)","v":0},{"$f":"IF('Emission Calculations'!$Y$7=TRUE,(W13*SUMPRODUCT('Emission Calculations'!AZ$10:AZ$74,'Emission Calculations'!$Y$10:$Y$74)/2000),SUMPRODUCT('Emission Calculations'!AZ$10:AZ$74,'Emission Calculations'!$Y$10:$Y$74)/2000)","v":0},{"$f":"IF('Emission Calculations'!$Y$7=TRUE,(X13*SUMPRODUCT('Emission Calculations'!BA$10:BA$74,'Emission Calculations'!$Y$10:$Y$74)/2000),SUMPRODUCT('Emission Calculations'!BA$10:BA$74,'Emission Calculations'!$Y$10:$Y$74)/2000)","v":0},{"$f":"IF('Emission Calculations'!$Y$7=TRUE,(Y13*SUMPRODUCT('Emission Calculations'!BB$10:BB$74,'Emission Calculations'!$Y$10:$Y$74)/2000),SUMPRODUCT('Emission Calculations'!BB$10:BB$74,'Emission Calculations'!$Y$10:$Y$74)/2000)","v":0},{"$f":"IF('Emission Calculations'!$Y$7=TRUE,(Z13*SUMPRODUCT('Emission Calculations'!BC$10:BC$74,'Emission Calculations'!$Y$10:$Y$74)/2000),SUMPRODUCT('Emission Calculations'!BC$10:BC$74,'Emission Calculations'!$Y$10:$Y$74)/2000)","v":0},{"$f":"IF('Emission Calculations'!$Y$7=TRUE,(AA13*SUMPRODUCT('Emission Calculations'!BD$10:BD$74,'Emission Calculations'!$Y$10:$Y$74)/2000),SUMPRODUCT('Emission Calculations'!BD$10:BD$74,'Emission Calculations'!$Y$10:$Y$74)/2000)","v":0},{"$f":"IF('Emission Calculations'!$Y$7=TRUE,(AB13*SUMPRODUCT('Emission Calculations'!BE$10:BE$74,'Emission Calculations'!$Y$10:$Y$74)/2000),SUMPRODUCT('Emission Calculations'!BE$10:BE$74,'Emission Calculations'!$Y$10:$Y$74)/2000)","v":0},{"$f":"IF('Emission Calculations'!$Y$7=TRUE,(AC13*SUMPRODUCT('Emission Calculations'!BF$10:BF$74,'Emission Calculations'!$Y$10:$Y$74)/2000),SUMPRODUCT('Emission Calculations'!BF$10:BF$74,'Emission Calculations'!$Y$10:$Y$74)/2000)","v":0},{"$f":"IF('Emission Calculations'!$Y$7=TRUE,(AD13*SUMPRODUCT('Emission Calculations'!BG$10:BG$74,'Emission Calculations'!$Y$10:$Y$74)/2000),SUMPRODUCT('Emission Calculations'!BG$10:BG$74,'Emission Calculations'!$Y$10:$Y$74)/2000)","v":0},{"$f":"IF('Emission Calculations'!$Y$7=TRUE,(AE13*SUMPRODUCT('Emission Calculations'!BH$10:BH$74,'Emission Calculations'!$Y$10:$Y$74)/2000),SUMPRODUCT('Emission Calculations'!BH$10:BH$74,'Emission Calculations'!$Y$10:$Y$74)/2000)","v":0},{"$f":"IF('Emission Calculations'!$Y$7=TRUE,(AF13*SUMPRODUCT('Emission Calculations'!BI$10:BI$74,'Emission Calculations'!$Y$10:$Y$74)/2000),SUMPRODUCT('Emission Calculations'!BI$10:BI$74,'Emission Calculations'!$Y$10:$Y$74)/2000)","v":0},{"$f":"IF('Emission Calculations'!$Y$7=TRUE,(AG13*SUMPRODUCT('Emission Calculations'!BJ$10:BJ$74,'Emission Calculations'!$Y$10:$Y$74)/2000),SUMPRODUCT('Emission Calculations'!BJ$10:BJ$74,'Emission Calculations'!$Y$10:$Y$74)/2000)","v":0},{"$f":"IF('Emission Calculations'!$Y$7=TRUE,(AH13*SUMPRODUCT('Emission Calculations'!BK$10:BK$74,'Emission Calculations'!$Y$10:$Y$74)/2000),SUMPRODUCT('Emission Calculations'!BK$10:BK$74,'Emission Calculations'!$Y$10:$Y$74)/2000)","v":0},{"$f":"IF('Emission Calculations'!$Y$7=TRUE,(AI13*SUMPRODUCT('Emission Calculations'!BL$10:BL$74,'Emission Calculations'!$Y$10:$Y$74)/2000),SUMPRODUCT('Emission Calculations'!BL$10:BL$74,'Emission Calculations'!$Y$10:$Y$74)/2000)","v":0},{"$f":"IF('Emission Calculations'!$Y$7=TRUE,(AJ13*SUMPRODUCT('Emission Calculations'!BM$10:BM$74,'Emission Calculations'!$Y$10:$Y$74)/2000),SUMPRODUCT('Emission Calculations'!BM$10:BM$74,'Emission Calculations'!$Y$10:$Y$74)/2000)","v":0},{"$f":"IF('Emission Calculations'!$Y$7=TRUE,(AK13*SUMPRODUCT('Emission Calculations'!BN$10:BN$74,'Emission Calculations'!$Y$10:$Y$74)/2000),SUMPRODUCT('Emission Calculations'!BN$10:BN$74,'Emission Calculations'!$Y$10:$Y$74)/2000)","v":0},{"$f":"IF('Emission Calculations'!$Y$7=TRUE,(AL13*SUMPRODUCT('Emission Calculations'!BO$10:BO$74,'Emission Calculations'!$Y$10:$Y$74)/2000),SUMPRODUCT('Emission Calculations'!BO$10:BO$74,'Emission Calculations'!$Y$10:$Y$74)/2000)","v":0},{"$f":"IF('Emission Calculations'!$Y$7=TRUE,(AM13*SUMPRODUCT('Emission Calculations'!BP$10:BP$74,'Emission Calculations'!$Y$10:$Y$74)/2000),SUMPRODUCT('Emission Calculations'!BP$10:BP$74,'Emission Calculations'!$Y$10:$Y$74)/2000)","v":0},{"$f":"IF('Emission Calculations'!$Y$7=TRUE,(AN13*SUMPRODUCT('Emission Calculations'!BQ$10:BQ$74,'Emission Calculations'!$Y$10:$Y$74)/2000),SUMPRODUCT('Emission Calculations'!BQ$10:BQ$74,'Emission Calculations'!$Y$10:$Y$74)/2000)","v":0},{"$f":"IF('Emission Calculations'!$Y$7=TRUE,(AO13*SUMPRODUCT('Emission Calculations'!BR$10:BR$74,'Emission Calculations'!$Y$10:$Y$74)/2000),SUMPRODUCT('Emission Calculations'!BR$10:BR$74,'Emission Calculations'!$Y$10:$Y$74)/2000)","v":0},{"$f":"IF('Emission Calculations'!$Y$7=TRUE,(AP13*SUMPRODUCT('Emission Calculations'!BS$10:BS$74,'Emission Calculations'!$Y$10:$Y$74)/2000),SUMPRODUCT('Emission Calculations'!BS$10:BS$74,'Emission Calculations'!$Y$10:$Y$74)/2000)","v":0},{"$f":"IF('Emission Calculations'!$Y$7=TRUE,(AQ13*SUMPRODUCT('Emission Calculations'!BT$10:BT$74,'Emission Calculations'!$Y$10:$Y$74)/2000),SUMPRODUCT('Emission Calculations'!BT$10:BT$74,'Emission Calculations'!$Y$10:$Y$74)/2000)","v":0},{"$f":"IF('Emission Calculations'!$Y$7=TRUE,(AR13*SUMPRODUCT('Emission Calculations'!BU$10:BU$74,'Emission Calculations'!$Y$10:$Y$74)/2000),SUMPRODUCT('Emission Calculations'!BU$10:BU$74,'Emission Calculations'!$Y$10:$Y$74)/2000)","v":0},{"$f":"IF('Emission Calculations'!$Y$7=TRUE,(AS13*SUMPRODUCT('Emission Calculations'!BV$10:BV$74,'Emission Calculations'!$Y$10:$Y$74)/2000),SUMPRODUCT('Emission Calculations'!BV$10:BV$74,'Emission Calculations'!$Y$10:$Y$74)/2000)","v":0},{"$f":"IF('Emission Calculations'!$Y$7=TRUE,(AT13*SUMPRODUCT('Emission Calculations'!BW$10:BW$74,'Emission Calculations'!$Y$10:$Y$74)/2000),SUMPRODUCT('Emission Calculations'!BW$10:BW$74,'Emission Calculations'!$Y$10:$Y$74)/2000)","v":0},{"$f":"IF('Emission Calculations'!$Y$7=TRUE,(AU13*SUMPRODUCT('Emission Calculations'!BX$10:BX$74,'Emission Calculations'!$Y$10:$Y$74)/2000),SUMPRODUCT('Emission Calculations'!BX$10:BX$74,'Emission Calculations'!$Y$10:$Y$74)/2000)","v":0},{"$f":"IF('Emission Calculations'!$Y$7=TRUE,(AV13*SUMPRODUCT('Emission Calculations'!BY$10:BY$74,'Emission Calculations'!$Y$10:$Y$74)/2000),SUMPRODUCT('Emission Calculations'!BY$10:BY$74,'Emission Calculations'!$Y$10:$Y$74)/2000)","v":0},{"$f":"IF('Emission Calculations'!$Y$7=TRUE,(AW13*SUMPRODUCT('Emission Calculations'!BZ$10:BZ$74,'Emission Calculations'!$Y$10:$Y$74)/2000),SUMPRODUCT('Emission Calculations'!BZ$10:BZ$74,'Emission Calculations'!$Y$10:$Y$74)/2000)","v":0},{"$f":"IF('Emission Calculations'!$Y$7=TRUE,(AX13*SUMPRODUCT('Emission Calculations'!CA$10:CA$74,'Emission Calculations'!$Y$10:$Y$74)/2000),SUMPRODUCT('Emission Calculations'!CA$10:CA$74,'Emission Calculations'!$Y$10:$Y$74)/2000)","v":0},{"$f":"IF('Emission Calculations'!$Y$7=TRUE,(AY13*SUMPRODUCT('Emission Calculations'!CB$10:CB$74,'Emission Calculations'!$Y$10:$Y$74)/2000),SUMPRODUCT('Emission Calculations'!CB$10:CB$74,'Emission Calculations'!$Y$10:$Y$74)/2000)","v":0},{"$f":"IF('Emission Calculations'!$Y$7=TRUE,(AZ13*SUMPRODUCT('Emission Calculations'!CC$10:CC$74,'Emission Calculations'!$Y$10:$Y$74)/2000),SUMPRODUCT('Emission Calculations'!CC$10:CC$74,'Emission Calculations'!$Y$10:$Y$74)/2000)","v":0},{"$f":"IF('Emission Calculations'!$Y$7=TRUE,(BA13*SUMPRODUCT('Emission Calculations'!CD$10:CD$74,'Emission Calculations'!$Y$10:$Y$74)/2000),SUMPRODUCT('Emission Calculations'!CD$10:CD$74,'Emission Calculations'!$Y$10:$Y$74)/2000)","v":0},{"$f":"IF('Emission Calculations'!$Y$7=TRUE,(BB13*SUMPRODUCT('Emission Calculations'!CE$10:CE$74,'Emission Calculations'!$Y$10:$Y$74)/2000),SUMPRODUCT('Emission Calculations'!CE$10:CE$74,'Emission Calculations'!$Y$10:$Y$74)/2000)","v":0},{"$f":"IF('Emission Calculations'!$Y$7=TRUE,(BC13*SUMPRODUCT('Emission Calculations'!CF$10:CF$74,'Emission Calculations'!$Y$10:$Y$74)/2000),SUMPRODUCT('Emission Calculations'!CF$10:CF$74,'Emission Calculations'!$Y$10:$Y$74)/2000)","v":0},{"$f":"IF('Emission Calculations'!$Y$7=TRUE,(BD13*SUMPRODUCT('Emission Calculations'!CG$10:CG$74,'Emission Calculations'!$Y$10:$Y$74)/2000),SUMPRODUCT('Emission Calculations'!CG$10:CG$74,'Emission Calculations'!$Y$10:$Y$74)/2000)","v":0},{"$f":"IF('Emission Calculations'!$Y$7=TRUE,(BE13*SUMPRODUCT('Emission Calculations'!CH$10:CH$74,'Emission Calculations'!$Y$10:$Y$74)/2000),SUMPRODUCT('Emission Calculations'!CH$10:CH$74,'Emission Calculations'!$Y$10:$Y$74)/2000)","v":0},{"$f":"IF('Emission Calculations'!$Y$7=TRUE,(BF13*SUMPRODUCT('Emission Calculations'!CI$10:CI$74,'Emission Calculations'!$Y$10:$Y$74)/2000),SUMPRODUCT('Emission Calculations'!CI$10:CI$74,'Emission Calculations'!$Y$10:$Y$74)/2000)","v":0},{"$f":"IF('Emission Calculations'!$Y$7=TRUE,(BG13*SUMPRODUCT('Emission Calculations'!CJ$10:CJ$74,'Emission Calculations'!$Y$10:$Y$74)/2000),SUMPRODUCT('Emission Calculations'!CJ$10:CJ$74,'Emission Calculations'!$Y$10:$Y$74)/2000)","v":0},{"$f":"IF('Emission Calculations'!$Y$7=TRUE,(BH13*SUMPRODUCT('Emission Calculations'!CK$10:CK$74,'Emission Calculations'!$Y$10:$Y$74)/2000),SUMPRODUCT('Emission Calculations'!CK$10:CK$74,'Emission Calculations'!$Y$10:$Y$74)/2000)","v":0},{"$f":"IF('Emission Calculations'!$Y$7=TRUE,(BI13*SUMPRODUCT('Emission Calculations'!CL$10:CL$74,'Emission Calculations'!$Y$10:$Y$74)/2000),SUMPRODUCT('Emission Calculations'!CL$10:CL$74,'Emission Calculations'!$Y$10:$Y$74)/2000)","v":0}]
["HAP Total ",{"$f":"SUM(B16:B31)","v":0},0,0,0,0,0,0,0,0,0,0,0,0,0,0,0,0,0,0,0,0,0,0,0,0,0,0,0,0,0,0,0,{"$f":"SUM(AH16:AH31)","v":0},0,0,0,0,0,0,0,0,0,0,0,0,0,0,0,0,0,0,0,0,0,0,0,0,0,0,0]
["Total Gallons Used",{"$f":"'Emission Calculations'!AE7","v":0},{"$f":"'Emission Calculations'!AF7","v":0},{"$f":"'Emission Calculations'!AG7","v":0},{"$f":"'Emission Calculations'!AH7","v":0},{"$f":"'Emission Calculations'!AI7","v":0},{"$f":"'Emission Calculations'!AJ7","v":0},{"$f":"'Emission Calculations'!AK7","v":0},{"$f":"'Emission Calculations'!AL7","v":0},{"$f":"'Emission Calculations'!AM7","v":0},{"$f":"'Emission Calculations'!AN7","v":0},{"$f":"'Emission Calculations'!AO7","v":0},{"$f":"'Emission Calculations'!AP7","v":0},{"$f":"'Emission Calculations'!AQ7","v":0},{"$f":"'Emission Calculations'!AR7","v":0},{"$f":"'Emission Calculations'!AS7","v":0},{"$f":"'Emission Calculations'!AT7","v":0},{"$f":"'Emission Calculations'!AU7","v":0},{"$f":"'Emission Calculations'!AV7","v":0},{"$f":"'Emission Calculations'!AW7","v":0},{"$f":"'Emission Calculations'!AX7","v":0},{"$f":"'Emission Calculations'!AY7","v":0},{"$f":"'Emission Calculations'!AZ7","v":0},{"$f":"'Emission Calculations'!BA7","v":0},{"$f":"'Emission Calculations'!BB7","v":0},{"$f":"'Emission Calculations'!BC7","v":0},{"$f":"'Emission Calculations'!BD7","v":0},{"$f":"'Emission Calculations'!BE7","v":0},{"$f":"'Emission Calculations'!BF7","v":0},{"$f":"'Emission Calculations'!BG7","v":0},{"$f":"'Emission Calculations'!BH7","v":0},{"$f":"'Emission Calculations'!BI7","v":0},{"$f":"'Emission Calculations'!BJ7","v":0},{"$f":"'Emission Calculations'!BK7","v":0},{"$f":"'Emission Calculations'!BL7","v":0},{"$f":"'Emission Calculations'!BM7","v":0},{"$f":"'Emission Calculations'!BN7","v":0},{"$f":"'Emission Calculations'!BO7","v":0},{"$f":"'Emission Calculations'!BP7","v":0},{"$f":"'Emission Calculations'!BQ7","v":0},{"$f":"'Emission Calculations'!BR7","v":0},{"$f":"'Emission Calculations'!BS7","v":0},{"$f":"'Emission Calculations'!BT7","v":0},{"$f":"'Emission Calculations'!BU7","v":0},{"$f":"'Emission Calculations'!BV7","v":0},{"$f":"'Emission Calculations'!BW7","v":0},{"$f":"'Emission Calculations'!BX7","v":0},{"$f":"'Emission Calculations'!BY7","v":0},{"$f":"'Emission Calculations'!BZ7","v":0},{"$f":"'Emission Calculations'!CA7","v":0},{"$f":"'Emission Calculations'!CB7","v":0},{"$f":"'Emission Calculations'!CC7","v":0},{"$f":"'Emission Calculations'!CD7","v":0},{"$f":"'Emission Calculations'!CE7","v":0},{"$f":"'Emission Calculations'!CF7","v":0},{"$f":"'Emission Calculations'!CG7","v":0},{"$f":"'Emission Calculations'!CH7","v":0},{"$f":"'Emission Calculations'!CI7","v":0},{"$f":"'Emission Calculations'!CJ7","v":0},{"$f":"'Emission Calculations'!CK7","v":0},{"$f":"'Emission Calculations'!CL7","v":0}]
["Total gallons paint/solvent recycled",0,0,0,0,0,0,0,0,0,0,0,0,0,0,0,0,0,0,0,0,0,0,0,0,0,0,0,0,0,0,0,0,0,0,0,0,0,0,0,0,0,0,0,0,0,0,0,0,0,0,0,0,0,0,0,0,0,0,0,0]
[]
[]
[]
["Monthly actual rolling totals","(current 12-month rolling total is highlighted in green; numbers after the green column will be used in future monthly calculations)"]
[null,{"$f":"B10","v":"Jan"},"Feb","Mar","Apr","May","Jun","Jul","Aug","Sep","Oct","Nov","Dec","Jan","Feb","Mar","Apr","May","Jun","Jul","Aug","Sep","Oct","Nov","Dec","Jan","Feb","Mar","Apr","May","Jun","Jul","Aug",{"$f":"AH10","v":"Sep"},"Oct","Nov","Dec","Jan","Feb","Mar","Apr","May","Jun","Jul","Aug","Sep","Oct","Nov","Dec","Jan","Feb","Mar","Apr","May","Jun","Jul","Aug","Sep","Oct","Nov","Dec"]
[null,{"$f":"B11","v":2019},2019,2019,2019,2019,2019,2019,2019,2019,2019,2019,2019,2020,2020,2020,2020,2020,2020,2020,2020,2020,2020,2020,2020,2021,2021,2021,2021,2021,2021,2021,2021,{"$f":"AH11","v":2021},2021,2021,2021,2022,2022,2022,2022,2022,2022,2022,2022,2022,2022,2022,2022,2023,2023,2023,2023,2023,2023,2023,2023,2023,2023,2023,2023]
[null,"(tons)","(tons)","(tons)","(tons)","(tons)","(tons)","(tons)","(tons)","(tons)","(tons)","(tons)","(tons)","(tons)","(tons)","(tons)","(tons)","(tons)","(tons)","(tons)","(tons)","(tons)","(tons)","(tons)","(tons)","(tons)","(tons)","(tons)","(tons)","(tons)","(tons)","(tons)","(tons)","(tons)","(tons)","(tons)","(tons)","(tons)","(tons)","(tons)","(tons)","(tons)","(tons)","(tons)","(tons)","(tons)","(tons)","(tons)","(tons)","(tons)","(tons)","(tons)","(tons)","(tons)","(tons)","(tons)","(tons)","(tons)","(tons)","(tons)","(tons)"]
[null,"1 month","2 months","3 months","4 months","5 months","6 months","7 months","8 months","9 months","10 months","11 months","12 months","Feb-Jan","Mar-Feb","Apr-Mar","May-Apr","Jun-May","July-Jun","Aug-July","Sept-Aug","Oct-Sept","Nov-Oct","Dec-Nov","Jan-Dec","Feb-Jan","Mar-Feb","Apr-Mar","May-Apr","Jun-May","July-Jun","Aug-July","Sept-Aug","Oct-Sept","Nov-Oct","Dec-Nov","Jan-Dec","Feb-Jan","Mar-Feb","Apr-Mar","May-Apr","Jun-May","July-Jun","Aug-July","Sept-Aug","Oct-Sept","Nov-Oct","Dec-Nov","Jan-Dec","Jan-Dec","Jan-Dec","Jan-Dec","Jan-Dec","Jan-Dec","Jan-Dec","Jan-Dec","Jan-Dec","Jan-Dec","Jan-Dec","Jan-Dec","Jan-Dec"]
["PM/PM10",{"$f":"B14","v":0},{"$f":"SUM(B14:C14)","v":0},{"$f":"SUM(B14:D14)","v":0},{"$f":"SUM(B14:E14)","v":0},{"$f":"SUM(B14:F14)","v":0},{"$f":"SUM(B14:G14)","v":0},{"$f":"SUM(B14:H14)","v":0},{"$f":"SUM(B14:I14)","v":0},{"$f":"SUM(B14:J14)","v":0},{"$f":"SUM(B14:K14)","v":0},{"$f":"SUM(B14:L14)","v":0},{"$f":"SUM(B14:M14)","v":0},0,0,0,0,0,0,0,0,0,{"$f":"SUM(L14:W14)","v":0},0,0,0,0,0,0,0,0,0,{"$f":"SUM(V14:AG14)","v":0},0,0,0,0,0,0,0,0,0,{"$f":"SUM(AF14:AQ14)","v":0},0,0,0,0,0,0,0,0,0,{"$f":"SUM(AP14:BA14)","v":0},0,0,0,0,0,0,0,0]
["VOC",0,0,0,0,0,0,0,0,0,0,0,0,0,0,0,0,0,0,0,0,0,0,0,0,0,0,0,0,0,0,0,0,0,0,0,0,0,0,0,0,0,0,0,0,0,0,0,0,0,0,0,0,0,0,0,0,0,0,0,0]
["HAP Name",0,0,0,0,0,0,0,0,0,0,0,0,0,0,0,0,0,0,0,0,0,0,0,0,0,0,0,0,0,0,0,0,0,0,0,0,0,0,0,0,0,0,0,0,0,0,0,0,0,0,0,0,0,0,0,0,0,0,0,0]
["HAP Name",0,0,0,0,0,0,0,0,0,0,0,0,0,0,0,0,0,0,0,0,0,0,0,0,0,0,0,0,0,0,0,0,0,0,0,0,0,0,0,0,0,0,0,0,0,0,0,0,0,0,0,0,0,0,0,0,0,0,0,0]
["HAP Name",0,0,0,0,0,0,0,0,0,0,0,0,0,0,0,0,0,0,0,0,0,0,0,0,0,0,0,0,0,0,0,0,0,0,0,0,0,0,0,0,0,0,0,0,0,0,0,0,0,0,0,0,0,0,0,0,0,0,0,0]
["HAP Name",0,0,0,0,0,0,0,0,0,0,0,{"$f":"SUM(B19:M19)","v":0},{"$f":"SUM(C19:N19)","v":0},{"$f":"SUM(D19:O19)","v":0},{"$f":"SUM(E19:P19)","v":0},{"$f":"SUM(F19:Q19)","v":0},{"$f":"SUM(G19:R19)","v":0},{"$f":"SUM(H19:S19)","v":0},{"$f":"SUM(I19:T19)","v":0},{"$f":"SUM(J19:U19)","v":0},{"$f":"SUM(K19:V19)","v":0},{"$f":"SUM(L19:W19)","v":0},0,0,0,0,0,0,0,0,0,0,0,0,0,0,0,0,0,0,0,0,0,0,0,0,0,0,0,0,0,0,0,0,0,0,0,0,0,0]
["HAP Name",0,0,0,0,0,0,0,0,0,0,0,0,0,0,0,0,0,0,0,0,0,0,0,0,0,0,0,0,0,0,0,0,0,0,0,0,0,0,0,0,0,0,0,0,0,0,0,0,0,0,0,0,0,0,0,0,0,0,0,0]
["HAP Name",0,0,0,0,0,0,0,0,0,0,0,0,0,0,0,0,0,0,0,0,0,0,0,0,0,0,0,0,0,0,0,0,0,0,0,0,0,0,0,0,0,0,0,0,0,0,0,0,0,0,0,0,0,0,0,0,0,0,0,0]
["HAP Name",0,0,0,0,0,0,0,0,0,0,0,0,0,0,0,0,0,0,0,0,0,0,0,0,0,0,0,0,0,0,0,0,0,0,0,0,0,0,0,0,0,0,0,0,0,0,0,0,0,0,0,0,0,0,0,0,0,0,0,0]
["HAP Name",0,0,0,0,0,0,0,0,0,0,0,0,0,0,0,0,0,0,0,0,0,0,0,0,0,0,0,0,0,0,0,0,0,0,0,0,0,0,0,0,0,0,0,0,0,0,0,0,0,0,0,0,0,0,0,0,0,0,0,0]
["HAP Name",0,0,0,0,0,0,0,0,0,0,0,0,0,0,0,0,0,0,0,0,0,0,0,0,0,0,0,0,0,0,0,0,0,0,0,0,0,0,0,0,0,0,0,0,0,0,0,0,0,0,0,0,0,0,0,0,0,0,0,0]
["HAP Name",0,0,0,0,0,0,0,0,0,0,0,0,0,0,0,0,0,0,0,0,0,0,0,0,0,0,0,0,0,0,0,0,0,0,0,0,0,0,0,0,0,0,{"$f":"SUM(AG25:AR25)","v":0},0,0,0,0,0,0,0,0,0,0,0,0,0,0,0,0,0]
["HAP Name",0,0,0,0,0,0,0,0,0,0,0,0,0,0,0,0,0,0,0,0,0,{"$f":"SUM(L26:W26)","v":0},0,0,0,0,0,{"$f":"SUM(R26:AC26)","v":0},0,0,0,0,0,0,0,0,0,0,0,0,0,0,0,0,0,0,0,0,0,0,0,0,0,0,0,0,0,0,0,0]
["HAP Name",0,0,0,0,0,0,0,0,0,0,0,0,0,0,0,0,0,0,0,0,0,0,0,0,0,0,0,0,0,0,0,0,0,0,0,0,0,0,0,0,0,0,0,0,0,0,0,0,0,0,0,0,0,0,0,0,0,0,0,0]
["HAP Name",0,0,0,0,0,0,0,0,0,0,0,0,0,0,0,0,0,0,0,0,0,0,0,0,0,0,0,0,0,0,0,0,0,0,0,0,0,0,0,0,0,0,0,0,0,0,0,0,0,0,0,0,0,0,0,0,0,0,0,0]
["HAP Name",0,0,0,0,0,0,0,0,0,0,0,0,0,0,0,0,0,0,0,0,0,0,0,0,0,0,0,0,0,0,0,0,0,0,0,0,0,0,0,0,0,0,0,0,0,0,0,0,0,0,0,0,0,0,0,0,0,0,0,0]
["HAP Name",0,0,0,0,0,0,0,0,0,0,0,0,0,0,0,0,0,0,0,0,0,0,0,0,0,0,0,0,0,0,0,0,0,0,0,0,0,0,0,0,0,0,0,0,0,0,0,0,0,0,0,0,0,0,0,0,0,0,0,0]
["HAP Name",0,0,0,0,0,0,0,0,0,0,0,0,0,0,0,0,0,0,0,0,0,0,0,0,0,0,0,0,0,0,0,0,0,0,0,0,0,0,0,0,0,0,0,0,0,0,0,0,0,0,0,0,0,0,0,0,0,0,0,0]
["HAP Total",{"$f":"B32","v":0},0,0,0,0,0,0,0,0,0,0,0,0,0,0,0,0,0,0,0,0,0,0,0,0,0,0,0,0,0,0,0,0,0,0,0,0,0,0,0,0,0,0,0,0,0,0,0,0,0,0,0,0,0,0,0,0,0,0,0]
["Total Gallons Used",{"$f":"B33","v":0},0,0,0,0,0,0,0,0,0,0,0,0,0,0,0,0,0,0,0,0,0,0,0,0,0,0,0,0,0,0,0,0,0,0,0,0,0,0,0,0,0,0,0,0,0,0,0,0,0,0,0,0,0,0,0,0,0,0,0]

{"sheet":"Permits & requirements","index":8,"n_rows":45,"n_cols":9,"rows_kept":45,"cut":false,"hidden":false,"merged":[[10,1,11,8],[12,1,12,4],[12,5,20,8],[13,1,13,4],[30,7,31,7],[30,8,31,8],[31,5,31,6],[14,3,18,4],[14,2,15,2],[17,1,18,1],[17,2,18,2],[27,7,29,7],[27,8,29,8],[21,4,25,4],[21,7,25,7],[19,3,20,4],[44,1,44,8],[41,1,42,8],[33,1,33,2],[36,2,37,8],[35,2,35,8],[34,2,34,8],[38,1,40,8],[21,8,25,8],[21,5,25,6],[32,1,32,8],[30,5,30,6],[33,3,33,4],[6,1,7,8],[8,1,8,8],[0,1,0,8],[1,1,1,8],[26,4,31,4],[26,5,26,6],[27,5,27,6],[28,5,28,6],[29,5,29,6],[19,1,20,1],[19,2,20,2],[2,1,4,8],[21,1,25,1],[21,2,25,2],[21,3,25,3],[14,1,16,1]]}
[null,{"$f":"Instructions!G2","v":"p-sbap5-22  • 5/7/2019"}]
[null,"Permits and requirements"]
[null,"The need for a permit is based on your entire business's potential air emissions. All activities that put pollutants into the air (such as fuel use, wood working, and metalworking) need to be assessed. Once you identify if you need a permit, based on the total potential emissions from your business and whether an NSPS applies, you can then use your actual emissions to see which permit is the best fit for your business."]
[]
[]
[]
[null,"If you qualify as an conditionally exempt source, then the table below does not apply to you. Your business can qualify as a conditionally exempt source even if potential emissions do exceed permit thresholds. Please visit the following link for more details.\""]
[]
[null,"https://www.pca.state.mn.us/regulations/conditionally-exempt-facilities-and-technical-standards "]
[]
[null,"Content below is based on the information entered into this calculator and is not an MPCA permit determination."]
[]
[null,"Is a permit required?",null,null,null,"What type of permit?\nAssumes all air pollutant activities are entered into this calculator.\nIf you have additional air emission sources, the recommendation below cannot be used. You must assess your facility's total potential emissions from all sources to identify your permitting needs."]
[null,"The summary below is based on information you entered in the blue tabs. "]
[null,"Your business's potential emissions","Your business's actual emissions","View the coating webpage or your sector webpage to learn more about federal rules that may apply to your business."]
[]
[null,null,"Choose a year"]
[null,{"$f":"IF('Data Validation'!C21=\"yes\",\"do\",\"do not\")","v":"do not"},{"$f":"IF(C17='Data Validation'!D24,\" \",IF(OR(AND(C17='Data Validation'!D25,'Data Validation'!C25=\"yes\"),OR(AND(C17='Data Validation'!D26,'Data Validation'!C26=\"yes\"),OR(AND(C17='Data Validation'!D27,'Data Validation'!C27=\"yes\"),OR(AND(C17='Data Validation'!D28,'Data Validation'!C28=\"yes\"),OR(AND(C17='Data Validation'!D29,'Data Validation'!C29=\"yes\"),AND(C17='Data Validation'!D30,'Data Validation'!C30=\"yes\")))))),\"do\",\"do not\"))","v":" "}]
[]
[null,"exceed permit thresholds","exceed Option D limits","https://www.pca.state.mn.us/ smallbizhelp"]
[]
[null,"Potential emissions exceeds permit thresholds","Actual emissions exceeds Option D limits","Federal NSPS applies?","Federal NESHAP applies?","Which permit do you need?\n",null,"More Information ","Forms"]
[]
[]
[]
[]
[null,"no","n/a","no","Applicability of a NESHAP does not determine if a permit is required.","Below permit thresholds",null,"n/a","n/a"]
[null,"no","n/a","yes",null,"Registration Option A",null,"Info about Air Registration Permits","Application Forms, scroll to Section 3"]
[null,"yes","no","no",null,"Registration Option D"]
[null,"yes","no","yes",null,"Registration Option D"]
[null,"yes","yes","no",null,"Other state or federal permit",null,"Info about Air Permits","Application Forms"]
[null,"yes","yes","yes",null,"Other state or federal permit"]
[]
[null,"Types of insignificant activities",null,"Minn. R. 7007.1300"]
[null,"subp. 2","Not required to be listed."]
[null,"supb. 3","Required to be listed but emissions do not need to be included in total facility emission calculations, unless requested by MPCA."]
[null,"subp. 4","Required to be listed if applying for a Part 70 (Federal permit or federally enforceable permit limits) but emissions do not need to be included in total facility emission calculations, unless requested by MPCA."]
[]
[null,"If emissions units listed in 7007.1300 are subject to additional requirements under section 114(a)(3) of the act (Monitoring Requirements) or section 112 of the act (Hazardous Air Pollutants), or if part of a title I modification, or, if accounted for, make a stationary source subject to a part 70 permit, emissions from the emissions units must be calculated in the permit application."]
[]
[]
[null,"If all emission points are insignificant and total emissions do not exceed permitting thresholds, a permit is not required. Comply with any applicable regulations. "]
[]
[]
[null,"Also see conditionally insignificant activities and conditionally exempt sources."]

{"sheet":"HAP List","index":9,"n_rows":198,"n_cols":5,"rows_kept":198,"cut":false,"hidden":false,"merged":[[1,1,1,4],[2,1,5,4],[7,1,8,4]]}
[null,null,null,null,{"$f":"Instructions!G2","v":"p-sbap5-22  • 5/7/2019"}]
[null,"Select \"Ctrl + F\" to search for HAPs"]
[null,"Press the \"Ctrl\" and \"F\" keys on your keyboard at the same time or click on 'Find' on the home tab. \nA search box will appear for you to type in part of a compound name or the CAS# without hyphens (-) to see if the compound listed on the data sheet is a HAP."]
[]
[]
[]
[null," "]
[null,"Note: Metal compounds and few other HAPs do not have a CAS#. \nThese are listed in the main HAP Name list and in the list on the right. "]
[]
[]
[null,"HAP Name ","CAS#",null,"Metals and HAPs without a CAS#"]
[null,"1,1 Dimethyl hydrazine",57147,null,"Antimony compounds"]
[null,"1,1,2,2,-Tetrachloroethane",79345,null,"Arsenic compounds (inorganic including arsine)"]
[null,"1,1,2-Trichloroethane",79005,null,"Beryllium compounds"]
[null,"1,2,4-Trichlorobenzene",120821,null,"Cadmium compounds"]
[null,"1,2-Dibromo-3-chloropropane",96128,null,"Chromium compounds"]
[null,"1,2-Diphenylhydrazine",122667,null,"Cobalt compounds"]
[null,"1,2-Epoxybutane",106887,null,"Coke oven emissions"]
[null,"1,2-Propylenimine (2-Methyl aziridine)",75558,null,"Cyanide compounds"]
[null,"1,3-Butadiene",106990,null,"Glycol ethers"]
[null,"1,3-Dichloropropene",542756,null,"Lead compounds"]
[null,"1,3-Propane sultone",1120714,null,"Manganese compounds"]
[null,"1,4-Dichlorobenzene (p)",106467,null,"Mercury compounds"]
[null,"1,4-Dioxane (1,4-Diethyleneoxide)",123911,null,"Mineral fibers"]
[null,"2,2,4-Trimethylpentane",540841,null,"Nickel compounds"]
[null,"2,3,7,8-Tetrachlorodibenzo-p-dioxin",1746016,null,"Polycyclic organic matter"]
[null,"2,4,5-Trichlorophenol",95954,null,"Radionuclides"]
[null,"2,4,6-Trichlorophenol",88062,null,"Selenium compounds"]
[null,"2,4-D, salts and esters",94757]
[null,"2,4-Dinitrophenol",51285]
[null,"2,4-Dinitrotoluene",121142]
[null,"2,4-Toluene diamine",95807]
[null,"2,4-Toluene diisocyanate",584849]
[null,"2-Acetylaminofluorene",53963]
[null,"2-Chloroacetophenone",532274]
[null,"2-Nitropropane",79469]
[null,"3,3-Dichlorobenzidene",91941]
[null,"3,3-Dimethoxybenzidine",119904]
[null,"3,3-Dimethyl benzidine",119937]
[null,"4,4-Methylene bis (2-chloroaniline)",101144]
[null,"4,4-Methylenedianiline",101779]
[null,"4,6-Dinitro-o-cresol, and salts",534521]
[null,"4-Aminobiphenyl",92671]
[null,"4-Nitrobiphenyl",92933]
[null,"4-Nitrophenol",100027]
[null,"Acetaldehyde",75070]
[null,"Acetamide",60355]
[null,"Acetonitrile",75058]
[null,"Acetophenone",98862]
[null,"Acrolein",107028]
[null,"Acrylamide",79061]
[null,"Acrylic Acid",79107]
[null,"Acrylonitrile",107131]
[null,"Allyl chloride",107051]
[null,"Aniline",62533]
[null,"Asbestos",1332214]
[null,"Benzene",71432]
[null,"Benzidine",92875]
[null,"Benzotrichloride",98077]
[null,"Benzyl chloride",100447]
[null,"beta-Propiolactone",57578]
[null,"Biphenyl",92524]
[null,"Bis (2-ethylhexyl) phthalate (DEHP)",117817]
[null,"Bis (chloromethyl) ether",542881]
[null,"Bromoform",75252]
[null,"Calcium cyanamide",156627]
[null,"Captan",133062]
[null,"Carbaryl",63252]
[null,"Carbon disulfide",75150]
[null,"Carbon tetrachloride",56235]
[null,"Carbonyl sulfide",463581]
[null,"Catechol",120809]
[null,"Chloramben",133904]
[null,"Chlordane",57749]
[null,"Chlorine",7782505]
[null,"Chloroacetic acid",79118]
[null,"Chlorobenzene",108907]
[null,"Chlorobenzilate",510156]
[null,"Chloroform",67663]
[null,"Chloromethyl methyl ether",107302]
[null,"Chloroprene",126998]
[null,"Cresols/Cresylic acid (isomers and mixtures)",1319773]
[null,"Cumene",98828]
[null,"DDE",3547044]
[null,"Diazomethane",334883]
[null,"Dibenzofurans",132649]
[null,"Dibutyl phthalate",84742]
[null,"Dichloroethyl ether (Bis (2-chloroethyl) ether)",111444]
[null,"Dichlorovos",62737]
[null,"Diethanolamine",111422]
[null,"Diethyl sulfate",64675]
[null,"Dimethyl aminoazobenzene",60117]
[null,"Dimethyl carbamoyl chloride",79447]
[null,"Dimethyl formamide",68122]
[null,"Dimethyl phthalate",131113]
[null,"Dimethyl sulfate",77781]
[null,"Epichlorohydrin (1-Chloro-2,3-epoxypropane)",106898]
[null,"Ethyl acrylate",140885]
[null,"Ethyl benzene",100414]
[null,"Ethyl carbamate (Urethane)",51796]
[null,"Ethyl chloride (Chloroethane)",75003]
[null,"Ethylene dibromide (Dibromoethane)",106934]
[null,"Ethylene dichloride (1,2-Dichloroethane)",107062]
[null,"Ethylene glycol",107211]
[null,"Ethylene imine (Aziridine)",151564]
[null,"Ethylene oxide",75218]
[null,"Ethylene thiourea",96457]
[null,"Ethylidene dichloride (1,1-Dichloroethane)",75343]
[null,"Formaldehyde",50000]
[null,"Heptachlor",76448]
[null,"Hexachlorobenzene",118741]
[null,"Hexachlorobutadiene",87683]
[null,"Hexachlorocyclopentadiene",77474]
[null,"Hexachloroethane",67721]
[null,"Hexamethylene-1,6-diisocyanate",822060]
[null,"Hexamethylphosphoramide",680319]
[null,"Hexane",110543]
[null,"Hydrazine",302012]
[null,"Hydrochloric acid",7647010]
[null,"Hydrogen fluoride (hydrofluoric acid)",7664393]
[null,"Hydroquinone",123319]
[null,"Isophorone",78591]
[null,"Lindane (all isomers)",58899]
[null,"Maleic anhydride",108316]
[null,"m-Cresol",108394]
[null,"Methanol",67561]
[null,"Methoxychlor",72435]
[null,"Methyl bromide (Bromomethane)",74839]
[null,"Methyl chloride (Chloromethane)",74873]
[null,"Methyl chloroform (1,1,1,-Trichloroethane)",71556]
[null,"Methyl hydrazine",60344]
[null,"Methyl iodide (Iodomethane)",74884]
[null,"Methyl isobutyl ketone (Hexone)",108101]
[null,"Methyl isocyanate",624839]
[null,"Methyl methacrylate",80626]
[null,"Methyl tert butyl ether",1634044]
[null,"Methylene chloride (Dichloromethane)",75092]
[null,"Methylene diphenyl diisocyanate (MDI)",101688]
[null,"m-Xylenes",108383]
[null,"N,N-Dimethylaniline",121697]
[null,"Naphthalene",91203]
[null,"Nitrobenzene",98953]
[null,"N-Nitrosodimethylamine",62759]
[null,"N-Nitrosomorpholine",59892]
[null,"N-Nitroso-N-methylurea",684935]
[null,"o-Anisidine",90040]
[null,"o-Cresol",95487]
[null,"o-Toluidine",95534]
[null,"o-Xylenes",95476]
[null,"Parathion",56382]
[null,"p-Cresol",106445]
[null,"Pentachloronitrobenzene (Quintobenzene)",82688]
[null,"Pentachlorophenol",87865]
[null,"Phenol",108952]
[null,"Phosgene",75445]
[null,"Phosphine",7803512]
[null,"Phosphorus",7723140]
[null,"Phthalic anhydride",85449]
[null,"Polychlorinated biphenyls (aroclors)",1336363]
[null,"p-Phenylenediamine",106503]
[null,"Propionaldehyde",123386]
[null,"Propoxur (Baygon)",114261]
[null,"Propylene dichloride (1,2-Dichloropropane)",78875]
[null,"Propylene oxide",75569]
[null,"p-Xylenes",106423]
[null,"Quinoline",91225]
[null,"Quinone",106514]
[null,"Styrene",100425]
[null,"Styrene oxide",96093]
[null,"Tetrachloroethylene (Perchloroethylene)",127184]
[null,"Titanium tetrachloride",7550450]
[null,"Toluene","108883"]
[null,"Toxaphene (chlorinated camphene)",8001352]
[null,"Trichloroethylene",79016]
[null,"Triethylamine",121448]
[null,"Trifluralin",1582098]
[null,"Vinyl acetate",108054]
[null,"Vinyl bromide",593602]
[null,"Vinyl chloride",75014]
[null,"Vinylidene chloride (1,1-Dichloroethylene)",75354]
[null,"Xylenes (isomers and mixtures)",1330207]
[null,"Antimony compounds","0"]
[null,"Arsenic compounds (inorganic including arsine)","0"]
[null,"Beryllium compounds","0"]
[null,"Cadmium compounds","0"]
[null,"Chromium compounds","0"]
[null,"Cobalt compounds","0"]
[null,"Coke oven emissions","0"]
[null,"Cyanide compounds","0"]
[null,"Glycol ethers","0"]
[null,"Lead compounds","0"]
[null,"Manganese compounds","0"]
[null,"Mercury compounds","0"]
[null,"Mineral fibers","0"]
[null,"Nickel compounds","0"]
[null,"Polycyclic organic matter","0"]
[null,"Radionuclides","0"]
[null,"Selenium compounds","0"]

{"sheet":"Efficiencies","index":10,"n_rows":357,"n_cols":4,"rows_kept":357,"cut":false,"hidden":false,"merged":[[28,1,28,3],[29,1,29,3],[1,1,1,3],[15,1,15,3],[3,1,3,3],[26,1,26,3],[27,1,27,3]]}
[null,null,null,{"$f":"Instructions!G2","v":"p-sbap5-22  • 5/7/2019"}]
[null,"Application type and control equipment efficiencies"]
[null,0]
[null,"Transfer efficiency1"]
[null,"Type of Application","PM Transfer Efficiency %","PM10 Transfer Efficiency %"]
[null,"Air Atomization Spray",0.3,0.3]
[null,"Airless Spray",0.45,0.45]
[null,"Electrostatic/Air Atomization",0.7,0.7]
[null,"Electrostatic/Airless",0.75,0.75]
[null,"HVLP (High Volume Low Pressure)",0.75,0.75]
[null,"Electrode Deposition",0.95,0.95]
[null,"Powder",0.95,0.95]
[null,"Paint Brush/Hand Apply/Wipe Down",1,1]
[]
[null,0]
[null,"Control efficiency2"]
[null,"Type of Control Equipment","PM Capture Efficiency %","PM10 Capture Efficiency %"]
[null,"No Control Equip OR No Credit Taken",0,0]
[null,"Wall or Panel Filter-  Total Enclosure",0.85,0.85]
[null,"Wall or Panel Filter-  Certified Hood",0.68,0.68]
[null,"Wall or Panel Filter-  Non-Certified Hood",0.51,0.51]
[null,"HEPA or ULPA Filter- Total Enclosure",0.99980000000000002,0.99980000000000002]
[null,"HEPA or ULPA Filter- Certified Hood",0.8,0.8]
[null,"HEPA or ULPA Filter- Non-Certified Hood",0.6,0.6]
[]
[]
[null,"1MPCA Painting/coating operations emission calculations, Table 2. Minimum transfer efficiency."]
[null,"https://www.pca.state.mn.us/air/paintingcoating-operations-emission-calculations"]
[null,"2MPCA Listed control equipment and control equipment efficiencies. Minn. R. 7011.0070"]
[null,"https://www.revisor.mn.gov/rules/7011.0070/"]
[]
[]
[]
[]
[]
[]
[]
[]
[]
[]
[]
[]
[]
[]
[]
[]
[]
[]
[]
[]
[]
[]
[]
[]
[]
[]
[]
[]
[]
[]
[]
[]
[]
[]
[]
[]
[]
[]
[]
[]
[]
[]
[]
[]
[]
[]
[]
[]
[]
[]
[]
[]
[]
[]
[]
[]
[]
[]
[]
[]
[]
[]
[]
[]
[]
[]
[]
[]
[]
[]
[]
[]
[]
[]
[]
[]
[]
[]
[]
[]
[]
[]
[]
[]
[]
[]
[]
[]
[]
[]
[]
[]
[]
[]
[]
[]
[]
[]
[]
[]
[]
[]
[]
[]
[]
[]
[]
[]
[]
[]
[]
[]
[]
[]
[]
[]
[]
[]
[]
[]
[]
[]
[]
[]
[]
[]
[]
[]
[]
[]
[]
[]
[]
[]
[]
[]
[]
[]
[]
[null,null,null,50000]
[null,null,null,51285]
[null,null,null,51796]
[null,null,null,53963]
[null,null,null,56235]
[null,null,null,56382]
[null,null,null,57147]
[null,null,null,57578]
[null,null,null,57749]
[null,null,null,58899]
[null,null,null,59892]
[null,null,null,60117]
[null,null,null,60344]
[null,null,null,60355]
[null,null,null,62533]
[null,null,null,62737]
[null,null,null,62759]
[null,null,null,63252]
[null,null,null,64675]
[null,null,null,67561]
[null,null,null,67663]
[null,null,null,67721]
[null,null,null,68122]
[null,null,null,71432]
[null,null,null,71556]
[null,null,null,72435]
[null,null,null,74839]
[null,null,null,74873]
[null,null,null,74884]
[null,null,null,75003]
[null,null,null,75014]
[null,null,null,75058]
[null,null,null,75070]
[null,null,null,75092]
[null,null,null,75150]
[null,null,null,75218]
[null,null,null,75252]
[null,null,null,75343]
[null,null,null,75354]
[null,null,null,75445]
[null,null,null,75558]
[null,null,null,75569]
[null,null,null,76448]
[null,null,null,77474]
[null,null,null,77781]
[null,null,null,78591]
[null,null,null,78875]
[null,null,null,78933]
[null,null,null,79005]
[null,null,null,79016]
[null,null,null,79061]
[null,null,null,79107]
[null,null,null,79118]
[null,null,null,79345]
[null,null,null,79447]
[null,null,null,79469]
[null,null,null,80626]
[null,null,null,82688]
[null,null,null,84742]
[null,null,null,85449]
[null,null,null,87683]
[null,null,null,87865]
[null,null,null,88062]
[null,null,null,90040]
[null,null,null,91203]
[null,null,null,91225]
[null,null,null,91941]
[null,null,null,92524]
[null,null,null,92671]
[null,null,null,92875]
[null,null,null,92933]
[null,null,null,94757]
[null,null,null,95476]
[null,null,null,95487]
[null,null,null,95534]
[null,null,null,95807]
[null,null,null,95954]
[null,null,null,96093]
[null,null,null,96128]
[null,null,null,96457]
[null,null,null,98077]
[null,null,null,98828]
[null,null,null,98862]
[null,null,null,98953]
[null,null,null,100027]
[null,null,null,100414]
[null,null,null,100425]
[null,null,null,100447]
[null,null,null,101144]
[null,null,null,101688]
[null,null,null,101779]
[null,null,null,106423]
[null,null,null,106445]
[null,null,null,106467]
[null,null,null,106503]
[null,null,null,106514]
[null,null,null,106887]
[null,null,null,106898]
[null,null,null,106934]
[null,null,null,106990]
[null,null,null,107028]
[null,null,null,107051]
[null,null,null,107062]
[null,null,null,107131]
[null,null,null,107211]
[null,null,null,107302]
[null,null,null,108054]
[null,null,null,108101]
[null,null,null,108316]
[null,null,null,108383]
[null,null,null,108394]
[null,null,null,108883]
[null,null,null,108907]
[null,null,null,108952]
[null,null,null,110543]
[null,null,null,111422]
[null,null,null,111444]
[null,null,null,114261]
[null,null,null,117817]
[null,null,null,118741]
[null,null,null,119904]
[null,null,null,119937]
[null,null,null,120809]
[null,null,null,120821]
[null,null,null,121142]
[null,null,null,121448]
[null,null,null,121697]
[null,null,null,122667]
[null,null,null,123319]
[null,null,null,123386]
[null,null,null,123911]
[null,null,null,126998]
[null,null,null,127184]
[null,null,null,131113]
[null,null,null,132649]
[null,null,null,133062]
[null,null,null,133904]
[null,null,null,140885]
[null,null,null,151564]
[null,null,null,156627]
[null,null,null,302012]
[null,null,null,334883]
[null,null,null,463581]
[null,null,null,510156]
[null,null,null,532274]
[null,null,null,534521]
[null,null,null,540841]
[null,null,null,542756]
[null,null,null,542881]
[null,null,null,584849]
[null,null,null,593602]
[null,null,null,624839]
[null,null,null,680319]
[null,null,null,684935]
[null,null,null,822060]
[null,null,null,1120714]
[null,null,null,1319773]
[null,null,null,1330207]
[null,null,null,1332214]
[null,null,null,1336363]
[null,null,null,1582098]
[null,null,null,1634044]
[null,null,null,1746016]
[null,null,null,3547044]
[null,null,null,7550450]
[null,null,null,7647010]
[null,null,null,7664393]
[null,null,null,7723140]
[null,null,null,7782505]
[null,null,null,7803512]
[null,null,null,8001352]
[null,null,null,"0 Antimony"]
[null,null,null,"0 Arsenic"]
[null,null,null,"0 Beryllium"]
[null,null,null,"0 Cadmium"]
[null,null,null,"0 Chromium"]
[null,null,null,"0 Cobalt"]
[null,null,null,"0 Coke Oven"]
[null,null,null,"0 Cyanide"]
[null,null,null,"0 Glycol ethers"]
[null,null,null,"0 Lead"]
[null,null,null,"0 Manganese"]
[null,null,null,"0 Mercury"]
[null,null,null,"0 Mineral fibers"]
[null,null,null,"0 Nickel"]
[null,null,null,"0 POC"]
[null,null,null,"0 Radionuclides"]
[null,null,null,"0 Selenium"]

{"sheet":"Data Validation","index":11,"n_rows":38,"n_cols":4,"rows_kept":38,"cut":false,"hidden":true,"merged":[[1,0,1,3],[0,0,0,3],[5,2,6,3]]}
["p-sbap5-22"]
["Data Validation"]
[]
["Step 1","Step 3","Step 4"]
["Pollutants","Number of HAPs","Application rate"]
["Choose one","Choose #",{"$f":"IF('Step 4 Potential emissions'!E18='Data Validation'!B26,\"Add the 'maximum application rate' for the guns that can operate at one time. Begin with the highest application rates.\",\" \")","v":" "}]
["VOC",1]
["PM",2]
["HAPs",3]
["VOC/HAPs",4,"Step 5"]
["VOC/PM/HAPs",5,"Control Efficiency"]
[null,6,{"$f":"IFERROR(IF($B$33=Efficiencies!TypeA,Efficiencies!B3,IF($B$33=Efficiencies!B6,Efficiencies!C6,IF($B$33=Efficiencies!B7,Efficiencies!C7,IF($B$33=Efficiencies!B8,Efficiencies!C8,IF($B$33=Efficiencies!B9,Efficiencies!C9,IF($B$33=Efficiencies!B10,Efficiencies!C10,IF($B$33=Efficiencies!B11,Efficiencies!C11,IF($B$33=Efficiencies!B12,Efficiencies!C12,IF($B$33=\"\",\"\"))))))))*100),0)","v":0}]
[null,7,{"$f":"IFERROR(IF($B$34=Efficiencies!TypeA,Efficiencies!B3,IF($B$34=Efficiencies!B6,Efficiencies!C6,IF($B$34=Efficiencies!B7,Efficiencies!C7,IF($B$34=Efficiencies!B8,Efficiencies!C8,IF($B$34=Efficiencies!B9,Efficiencies!C9,IF($B$34=Efficiencies!B10,Efficiencies!C10,IF($B$34=Efficiencies!B11,Efficiencies!C11,IF($B$34=Efficiencies!B12,Efficiencies!C12,IF($B$34=\"\",\"\"))))))))*100),0)","v":0}]
[null,8,{"$f":"IFERROR(IF($B$35=Efficiencies!TypeA,Efficiencies!B3,IF($B$35=Efficiencies!B6,Efficiencies!C6,IF($B$35=Efficiencies!B7,Efficiencies!C7,IF($B$35=Efficiencies!B8,Efficiencies!C8,IF($B$35=Efficiencies!B9,Efficiencies!C9,IF($B$35=Efficiencies!B10,Efficiencies!C10,IF($B$35=Efficiencies!B11,Efficiencies!C11,IF($B$35=Efficiencies!B12,Efficiencies!C12,IF($B$35=\"\",\"\"))))))))*100),0)","v":0}]
["Reporting",9]
["Choose one",10]
["Monthly",11]
["Annually",12]
[null,13,"Permits & Requirments"]
[null,14,"Potential Emissions Exceed"]
["Recordkeeping",15,{"$f":"IF(OR('Step 4 Potential emissions'!G30>=100,OR('Step 4 Potential emissions'!G31>=25,OR('Step 4 Potential emissions'!G32>=100,OR('Step 4 Potential emissions'!G49>=10,'Step 4 Potential emissions'!G50>=25)))),\"yes\",\"no\")","v":"no"}]
["Choose one",16]
["Purchased",null,"Actual Emissions Exceed Opt D","Year for actual emissions Opt D P&R tab"]
["Used","Brush/roll/wipe",null,"Choose a year"]
[null,"Choose Y/N",{"$f":"IF(OR('Emission Calculations'!B264>=50,OR('Emission Calculations'!B265>=50,OR('Emission Calculations'!B266>=50,OR('Emission Calculations'!B283>=5,'Emission Calculations'!B284>=12.5)))),\"yes\",\"no\")","v":"no"},{"$f":"'Emission Calculations'!B258","v":2019}]
[null,"Yes",{"$f":"IF(OR('Emission Calculations'!C264>=50,OR('Emission Calculations'!C265>=50,OR('Emission Calculations'!C266>=50,OR('Emission Calculations'!C283>=5,'Emission Calculations'!C284>=12.5)))),\"yes\",\"no\")","v":"no"},{"$f":"'Emission Calculations'!C258","v":2020}]
["Step 3","No",{"$f":"IF(OR('Emission Calculations'!D264>=50,OR('Emission Calculations'!D265>=50,OR('Emission Calculations'!D266>=50,OR('Emission Calculations'!D283>=5,'Emission Calculations'!D284>=12.5)))),\"yes\",\"no\")","v":"no"},{"$f":"'Emission Calculations'!D258","v":2021}]
["Application Method",null,{"$f":"IF(OR('Emission Calculations'!E264>=50,OR('Emission Calculations'!E265>=50,OR('Emission Calculations'!E266>=50,OR('Emission Calculations'!E283>=5,'Emission Calculations'!E284>=12.5)))),\"yes\",\"no\")","v":"no"},{"$f":"'Emission Calculations'!E258","v":2022}]
["Choose one",null,{"$f":"IF(OR('Emission Calculations'!F264>=50,OR('Emission Calculations'!F265>=50,OR('Emission Calculations'!F266>=50,OR('Emission Calculations'!F283>=5,'Step 5 Actual annual emissions'!FB36>=12.5)))),\"yes\",\"no\")","v":"no"},{"$f":"'Emission Calculations'!F258","v":2023}]
["Air atomization spray","Application"]
["Airless spray","Choose one"]
["Electrostatic/air atomization",{"$f":"IF('Step 3 Product data'!$F$4='Data Validation'!$B$26,'Data Validation'!$B$24,\"\")","v":""}]
["Electrostatic/airless",{"$f":"IF('Step 3 Product data'!$E$7=$A$29,\"\",'Step 3 Product data'!$E$7)","v":""}]
["HVLP (high volume low pressure)",{"$f":"IF('Step 3 Product data'!$E$8=$A$29,\"\",'Step 3 Product data'!$E$8)","v":""}]
["Electrode deposition",{"$f":"IF('Step 3 Product data'!$E$9=$A$29,\"\",'Step 3 Product data'!$E$9)","v":""}]
["Powder",{"$f":"IF(B38<3,\"Worst-case\",\"\")","v":""}]
[null,"Test for worst-case"]
[null,{"$f":"COUNTIF(B32:B35,\"\")","v":4}]

{"sheet":"Emission Calculations","index":12,"n_rows":285,"n_cols":96,"rows_kept":285,"cut":false,"hidden":true,"merged":[[257,8,259,8],[257,9,259,9],[257,10,259,10],[6,5,6,7],[257,1,259,1],[257,2,259,2],[257,3,259,3],[257,4,259,4],[257,5,259,5],[257,6,259,6],[257,7,259,7]]}
[]
["Emission calculation spreadsheet"]
[]
["Actual emission factors (lb/gal)",null,null,null,"Per the application method indicated in Column E and pollutant (particulates only), transfer efficiency is applied to the emission factor for the product and pollutant in this calculation sheet. "]
[{"$f":"'Step 3 Product data'!A16","v":"Product description"},null,null,null,null,null,{"$f":"'Step 3 Product data'!F16","v":"Product information"},null,null,{"$f":"'Step 3 Product data'!I16","v":"Hazardous air pollutants"},null,null,null,null,null,null,null,null,null,null,null,null,null,null,null,{"$f":"'Step 3 Product data'!Y16","v":"Annual Use"},{"$f":"'Step 3 Product data'!Z16","v":0},{"$f":"'Step 3 Product data'!AA16","v":0},{"$f":"'Step 3 Product data'!AB16","v":0},{"$f":"'Step 3 Product data'!AC16","v":0},{"$f":"'Step 3 Product data'!AD16","v":"Monthly Use "},null,{"$f":"'Step 3 Product data'!AF16","v":2019},null,null,null,null,null,null,null,null,null,{"$f":"'Step 3 Product data'!AP16","v":"Monthly Use "},null,{"$f":"'Step 3 Product data'!AR16","v":2020},null,null,null,null,null,null,null,null,null,{"$f":"'Step 3 Product data'!BB16","v":"Monthly Use "},null,{"$f":"'Step 3 Product data'!BD16","v":2021},null,null,null,null,null,null,null,null,null,{"$f":"'Step 3 Product data'!BN16","v":"Monthly Use "},null,{"$f":"'Step 3 Product data'!BP16","v":2022},null,null,null,null,null,null,null,null,null,{"$f":"'Step 3 Product data'!BZ16","v":"Monthly Use "},null,{"$f":"'Step 3 Product data'!CB16","v":2023},null,null,null,null,null,null,null,null,null,null,"Monthly Annual totals"]
[{"$f":"'Step 3 Product data'!A17","v":"Entry"},{"$f":"'Step 3 Product data'!B17","v":"Type of Product"},{"$f":"'Step 3 Product data'!C17","v":"Manufacturer & Product Name"},{"$f":"'Step 3 Product data'!D17","v":"In-house Name"},"Application Method","Particulate transfer efficiency",{"$f":"'Step 3 Product data'!F17","v":"Density"},{"$f":"'Step 3 Product data'!G17","v":"VOC"},"PM/PM10",{"$f":"'Step 3 Product data'!I$17","v":"HAP Name"},{"$f":"'Step 3 Product data'!J$17","v":"HAP Name"},{"$f":"'Step 3 Product data'!K$17","v":"HAP Name"},{"$f":"'Step 3 Product data'!L$17","v":"HAP Name"},{"$f":"'Step 3 Product data'!M$17","v":"HAP Name"},{"$f":"'Step 3 Product data'!N$17","v":"HAP Name"},{"$f":"'Step 3 Product data'!O$17","v":"HAP Name"},{"$f":"'Step 3 Product data'!P$17","v":"HAP Name"},{"$f":"'Step 3 Product data'!Q$17","v":"HAP Name"},{"$f":"'Step 3 Product data'!R$17","v":"HAP Name"},{"$f":"'Step 3 Product data'!S$17","v":"HAP Name"},{"$f":"'Step 3 Product data'!T$17","v":"HAP Name"},{"$f":"'Step 3 Product data'!U$17","v":"HAP Name"},{"$f":"'Step 3 Product data'!V$17","v":"HAP Name"},{"$f":"'Step 3 Product data'!W$17","v":"HAP Name"},{"$f":"'Step 3 Product data'!X$17","v":"HAP Name"},"Annual Use","Annual Use","Annual Use","Annual Use","Annual Use",{"$f":"'Step 3 Product data'!AD17","v":"Jan"},{"$f":"'Step 3 Product data'!AE17","v":"Feb"},{"$f":"'Step 3 Product data'!AF17","v":"Mar"},{"$f":"'Step 3 Product data'!AG17","v":"Apr"},{"$f":"'Step 3 Product data'!AH17","v":"May"},{"$f":"'Step 3 Product data'!AI17","v":"Jun"},{"$f":"'Step 3 Product data'!AJ17","v":"Jul"},{"$f":"'Step 3 Product data'!AK17","v":"Aug"},{"$f":"'Step 3 Product data'!AL17","v":"Sep"},{"$f":"'Step 3 Product data'!AM17","v":"Oct"},{"$f":"'Step 3 Product data'!AN17","v":"Nov"},{"$f":"'Step 3 Product data'!AO17","v":"Dec"},{"$f":"'Step 3 Product data'!AP17","v":"Jan"},{"$f":"'Step 3 Product data'!AQ17","v":"Feb"},{"$f":"'Step 3 Product data'!AR17","v":"Mar"},{"$f":"'Step 3 Product data'!AS17","v":"Apr"},{"$f":"'Step 3 Product data'!AT17","v":"May"},{"$f":"'Step 3 Product data'!AU17","v":"Jun"},{"$f":"'Step 3 Product data'!AV17","v":"Jul"},{"$f":"'Step 3 Product data'!AW17","v":"Aug"},{"$f":"'Step 3 Product data'!AX17","v":"Sep"},{"$f":"'Step 3 Product data'!AY17","v":"Oct"},{"$f":"'Step 3 Product data'!AZ17","v":"Nov"},{"$f":"'Step 3 Product data'!BA17","v":"Dec"},{"$f":"'Step 3 Product data'!BB17","v":"Jan"},{"$f":"'Step 3 Product data'!BC17","v":"Feb"},{"$f":"'Step 3 Product data'!BD17","v":"Mar"},{"$f":"'Step 3 Product data'!BE17","v":"Apr"},{"$f":"'Step 3 Product data'!BF17","v":"May"},{"$f":"'Step 3 Product data'!BG17","v":"Jun"},{"$f":"'Step 3 Product data'!BH17","v":"Jul"},{"$f":"'Step 3 Product data'!BI17","v":"Aug"},{"$f":"'Step 3 Product data'!BJ17","v":"Sep"},{"$f":"'Step 3 Product data'!BK17","v":"Oct"},{"$f":"'Step 3 Product data'!BL17","v":"Nov"},{"$f":"'Step 3 Product data'!BM17","v":"Dec"},{"$f":"'Step 3 Product data'!BN17","v":"Jan"},{"$f":"'Step 3 Product data'!BO17","v":"Feb"},{"$f":"'Step 3 Product data'!BP17","v":"Mar"},{"$f":"'Step 3 Product data'!BQ17","v":"Apr"},{"$f":"'Step 3 Product data'!BR17","v":"May"},{"$f":"'Step 3 Product data'!BS17","v":"Jun"},{"$f":"'Step 3 Product data'!BT17","v":"Jul"},{"$f":"'Step 3 Product data'!BU17","v":"Aug"},{"$f":"'Step 3 Product data'!BV17","v":"Sep"},{"$f":"'Step 3 Product data'!BW17","v":"Oct"},{"$f":"'Step 3 Product data'!BX17","v":"Nov"},{"$f":"'Step 3 Product data'!BY17","v":"Dec"},{"$f":"'Step 3 Product data'!BZ17","v":"Jan"},{"$f":"'Step 3 Product data'!CA17","v":"Feb"},{"$f":"'Step 3 Product data'!CB17","v":"Mar"},{"$f":"'Step 3 Product data'!CC17","v":"Apr"},{"$f":"'Step 3 Product data'!CD17","v":"May"},{"$f":"'Step 3 Product data'!CE17","v":"Jun"},{"$f":"'Step 3 Product data'!CF17","v":"Jul"},{"$f":"'Step 3 Product data'!CG17","v":"Aug"},{"$f":"'Step 3 Product data'!CH17","v":"Sep"},{"$f":"'Step 3 Product data'!CI17","v":"Oct"},{"$f":"'Step 3 Product data'!CJ17","v":"Nov"},{"$f":"'Step 3 Product data'!CK17","v":"Dec"},null,"Annual","Annual","Annual","Annual","Annual"]
[null,null,null,null,null,"Particulate Pollutant -------->",null,null,true,{"$f":"SUMPRODUCT(--(J6=Particulate))>0","v":false},false,false,false,false,false,false,false,false,false,false,false,false,false,false,false,null,null,null,null,null,{"$f":"SUM(AE10:AE74)","v":0},{"$f":"SUM(AF10:AF74)","v":0},0,0,0,0,0,0,0,0,0,0,0,0,0,0,0,0,0,0,0,0,0,0,0,0,0,0,0,0,0,0,0,0,0,0,0,0,0,0,0,0,0,0,0,0,0,0,0,0,0,0,0,0,0,0,0,0,0,0,null,{"$f":"SUM(CN10:CN74)","v":0},{"$f":"SUM(CO10:CO74)","v":0},{"$f":"SUM(CP10:CP74)","v":0},{"$f":"SUM(CQ10:CQ74)","v":0},{"$f":"SUM(CR10:CR74)","v":0}]
[null,null,null,null,null,null,{"$f":"'Step 3 Product data'!F18","v":"from SDS"},{"$f":"'Step 3 Product data'!G18","v":"from SDS"},{"$f":"'Step 3 Product data'!H18","v":"%PM = 100% - %VOC"},{"$f":"'Step 3 Product data'!I$18","v":"CAS#"},{"$f":"'Step 3 Product data'!J$18","v":"CAS#"},{"$f":"'Step 3 Product data'!K$18","v":"CAS#"},{"$f":"'Step 3 Product data'!L$18","v":"CAS#"},{"$f":"'Step 3 Product data'!M$18","v":"CAS#"},{"$f":"'Step 3 Product data'!N$18","v":"CAS#"},{"$f":"'Step 3 Product data'!O$18","v":"CAS#"},{"$f":"'Step 3 Product data'!P$18","v":"CAS#"},{"$f":"'Step 3 Product data'!Q$18","v":"CAS#"},{"$f":"'Step 3 Product data'!R$18","v":"CAS#"},{"$f":"'Step 3 Product data'!S$18","v":"CAS#"},{"$f":"'Step 3 Product data'!T$18","v":"CAS#"},{"$f":"'Step 3 Product data'!U$18","v":"CAS#"},{"$f":"'Step 3 Product data'!V$18","v":"CAS#"},{"$f":"'Step 3 Product data'!W$18","v":"CAS#"},{"$f":"'Step 3 Product data'!X$18","v":"CAS#"},{"$f":"'Step 3 Product data'!Y18","v":2019},{"$f":"'Step 3 Product data'!Z18","v":2020},{"$f":"'Step 3 Product data'!AA18","v":2021},{"$f":"'Step 3 Product data'!AB18","v":2022},{"$f":"'Step 3 Product data'!AC18","v":2023},{"$f":"'Step 3 Product data'!AD18","v":2019},{"$f":"'Step 3 Product data'!AE18","v":2019},{"$f":"'Step 3 Product data'!AF18","v":2019},{"$f":"'Step 3 Product data'!AG18","v":2019},{"$f":"'Step 3 Product data'!AH18","v":2019},{"$f":"'Step 3 Product data'!AI18","v":2019},{"$f":"'Step 3 Product data'!AJ18","v":2019},{"$f":"'Step 3 Product data'!AK18","v":2019},{"$f":"'Step 3 Product data'!AL18","v":2019},{"$f":"'Step 3 Product data'!AM18","v":2019},{"$f":"'Step 3 Product data'!AN18","v":2019},{"$f":"'Step 3 Product data'!AO18","v":2019},{"$f":"'Step 3 Product data'!AP18","v":2020},{"$f":"'Step 3 Product data'!AQ18","v":2020},{"$f":"'Step 3 Product data'!AR18","v":2020},{"$f":"'Step 3 Product data'!AS18","v":2020},{"$f":"'Step 3 Product data'!AT18","v":2020},{"$f":"'Step 3 Product data'!AU18","v":2020},{"$f":"'Step 3 Product data'!AV18","v":2020},{"$f":"'Step 3 Product data'!AW18","v":2020},{"$f":"'Step 3 Product data'!AX18","v":2020},{"$f":"'Step 3 Product data'!AY18","v":2020},{"$f":"'Step 3 Product data'!AZ18","v":2020},{"$f":"'Step 3 Product data'!BA18","v":2020},{"$f":"'Step 3 Product data'!BB18","v":2021},{"$f":"'Step 3 Product data'!BC18","v":2021},{"$f":"'Step 3 Product data'!BD18","v":2021},{"$f":"'Step 3 Product data'!BE18","v":2021},{"$f":"'Step 3 Product data'!BF18","v":2021},{"$f":"'Step 3 Product data'!BG18","v":2021},{"$f":"'Step 3 Product data'!BH18","v":2021},{"$f":"'Step 3 Product data'!BI18","v":2021},{"$f":"'Step 3 Product data'!BJ18","v":2021},{"$f":"'Step 3 Product data'!BK18","v":2021},{"$f":"'Step 3 Product data'!BL18","v":2021},{"$f":"'Step 3 Product data'!BM18","v":2021},{"$f":"'Step 3 Product data'!BN18","v":2022},{"$f":"'Step 3 Product data'!BO18","v":2022},{"$f":"'Step 3 Product data'!BP18","v":2022},{"$f":"'Step 3 Product data'!BQ18","v":2022},{"$f":"'Step 3 Product data'!BR18","v":2022},{"$f":"'Step 3 Product data'!BS18","v":2022},{"$f":"'Step 3 Product data'!BT18","v":2022},{"$f":"'Step 3 Product data'!BU18","v":2022},{"$f":"'Step 3 Product data'!BV18","v":2022},{"$f":"'Step 3 Product data'!BW18","v":2022},{"$f":"'Step 3 Product data'!BX18","v":2022},{"$f":"'Step 3 Product data'!BY18","v":2022},{"$f":"'Step 3 Product data'!BZ18","v":2023},{"$f":"'Step 3 Product data'!CA18","v":2023},{"$f":"'Step 3 Product data'!CB18","v":2023},{"$f":"'Step 3 Product data'!CC18","v":2023},{"$f":"'Step 3 Product data'!CD18","v":2023},{"$f":"'Step 3 Product data'!CE18","v":2023},{"$f":"'Step 3 Product data'!CF18","v":2023},{"$f":"'Step 3 Product data'!CG18","v":2023},{"$f":"'Step 3 Product data'!CH18","v":2023},{"$f":"'Step 3 Product data'!CI18","v":2023},{"$f":"'Step 3 Product data'!CJ18","v":2023},{"$f":"'Step 3 Product data'!CK18","v":2023},null,{"$f":"AG5","v":2019},{"$f":"AS5","v":2020},{"$f":"BE5","v":2021},{"$f":"BQ5","v":2022},{"$f":"CC5","v":2023}]
[{"$f":"'Step 3 Product data'!A19","v":"#"},null,{"$f":"'Step 3 Product data'!C18","v":"(on SDS)"},{"$f":"'Step 3 Product data'!D18","v":"(for your business)"},null,null,{"$f":"'Step 3 Product data'!F19","v":"(lb/gallon)"},"(lb/gal)","(lb/gal)","(lb/gal)","(lb/gal)","(lb/gal)","(lb/gal)","(lb/gal)","(lb/gal)","(lb/gal)","(lb/gal)","(lb/gal)","(lb/gal)","(lb/gal)","(lb/gal)","(lb/gal)","(lb/gal)","(lb/gal)","(lb/gal)",{"$f":"'Step 3 Product data'!Y19","v":"(gallons)"},{"$f":"'Step 3 Product data'!Z19","v":"(gallons)"},{"$f":"'Step 3 Product data'!AA19","v":"(gallons)"},{"$f":"'Step 3 Product data'!AB19","v":"(gallons)"},{"$f":"'Step 3 Product data'!AC19","v":"(gallons)"},{"$f":"'Step 3 Product data'!AD19","v":"(gallons)"},{"$f":"'Step 3 Product data'!AE19","v":"(gallons)"},{"$f":"'Step 3 Product data'!AF19","v":"(gallons)"},{"$f":"'Step 3 Product data'!AG19","v":"(gallons)"},{"$f":"'Step 3 Product data'!AH19","v":"(gallons)"},{"$f":"'Step 3 Product data'!AI19","v":"(gallons)"},{"$f":"'Step 3 Product data'!AJ19","v":"(gallons)"},{"$f":"'Step 3 Product data'!AK19","v":"(gallons)"},{"$f":"'Step 3 Product data'!AL19","v":"(gallons)"},{"$f":"'Step 3 Product data'!AM19","v":"(gallons)"},{"$f":"'Step 3 Product data'!AN19","v":"(gallons)"},{"$f":"'Step 3 Product data'!AO19","v":"(gallons)"},{"$f":"'Step 3 Product data'!AP19","v":"(gallons)"},{"$f":"'Step 3 Product data'!AQ19","v":"(gallons)"},{"$f":"'Step 3 Product data'!AR19","v":"(gallons)"},{"$f":"'Step 3 Product data'!AS19","v":"(gallons)"},{"$f":"'Step 3 Product data'!AT19","v":"(gallons)"},{"$f":"'Step 3 Product data'!AU19","v":"(gallons)"},{"$f":"'Step 3 Product data'!AV19","v":"(gallons)"},{"$f":"'Step 3 Product data'!AW19","v":"(gallons)"},{"$f":"'Step 3 Product data'!AX19","v":"(gallons)"},{"$f":"'Step 3 Product data'!AY19","v":"(gallons)"},{"$f":"'Step 3 Product data'!AZ19","v":"(gallons)"},{"$f":"'Step 3 Product data'!BA19","v":"(gallons)"},{"$f":"'Step 3 Product data'!BB19","v":"(gallons)"},{"$f":"'Step 3 Product data'!BC19","v":"(gallons)"},{"$f":"'Step 3 Product data'!BD19","v":"(gallons)"},{"$f":"'Step 3 Product data'!BE19","v":"(gallons)"},{"$f":"'Step 3 Product data'!BF19","v":"(gallons)"},{"$f":"'Step 3 Product data'!BG19","v":"(gallons)"},{"$f":"'Step 3 Product data'!BH19","v":"(gallons)"},{"$f":"'Step 3 Product data'!BI19","v":"(gallons)"},{"$f":"'Step 3 Product data'!BJ19","v":"(gallons)"},{"$f":"'Step 3 Product data'!BK19","v":"(gallons)"},{"$f":"'Step 3 Product data'!BL19","v":"(gallons)"},{"$f":"'Step 3 Product data'!BM19","v":"(gallons)"},{"$f":"'Step 3 Product data'!BN19","v":"(gallons)"},{"$f":"'Step 3 Product data'!BO19","v":"(gallons)"},{"$f":"'Step 3 Product data'!BP19","v":"(gallons)"},{"$f":"'Step 3 Product data'!BQ19","v":"(gallons)"},{"$f":"'Step 3 Product data'!BR19","v":"(gallons)"},{"$f":"'Step 3 Product data'!BS19","v":"(gallons)"},{"$f":"'Step 3 Product data'!BT19","v":"(gallons)"},{"$f":"'Step 3 Product data'!BU19","v":"(gallons)"},{"$f":"'Step 3 Product data'!BV19","v":"(gallons)"},{"$f":"'Step 3 Product data'!BW19","v":"(gallons)"},{"$f":"'Step 3 Product data'!BX19","v":"(gallons)"},{"$f":"'Step 3 Product data'!BY19","v":"(gallons)"},{"$f":"'Step 3 Product data'!BZ19","v":"(gallons)"},{"$f":"'Step 3 Product data'!CA19","v":"(gallons)"},{"$f":"'Step 3 Product data'!CB19","v":"(gallons)"},{"$f":"'Step 3 Product data'!CC19","v":"(gallons)"},{"$f":"'Step 3 Product data'!CD19","v":"(gallons)"},{"$f":"'Step 3 Product data'!CE19","v":"(gallons)"},{"$f":"'Step 3 Product data'!CF19","v":"(gallons)"},{"$f":"'Step 3 Product data'!CG19","v":"(gallons)"},{"$f":"'Step 3 Product data'!CH19","v":"(gallons)"},{"$f":"'Step 3 Product data'!CI19","v":"(gallons)"},{"$f":"'Step 3 Product data'!CJ19","v":"(gallons)"},{"$f":"'Step 3 Product data'!CK19","v":"(gallons)"},null,"(gallons)","(gallons)","(gallons)","(gallons)","(gallons)"]
[{"$f":"'Step 3 Product data'!A21","v":1},{"$f":"'Step 3 Product data'!B21","v":0},{"$f":"'Step 3 Product data'!C21","v":0},{"$f":"'Step 3 Product data'!D21","v":0},{"$f":"'Step 3 Product data'!E21","v":"Choose one"},{"$f":"IF(E10=$A$88,1,IF(E10='Data Validation'!$B$31,0,IF(E10=$D$81,$E$81,IF(E10=$D$82,$E$82,IF(E10=$D$83,$E$83,IF(E10=$A$89,$E$84,0))))))","v":0},{"$f":"'Step 3 Product data'!F21","v":0},{"$f":"$G10*'Step 3 Product data'!G21","v":0},{"$f":"IF(I$7=TRUE,($G10*'Step 3 Product data'!H21*(1-'Emission Calculations'!$F10)),($G10*'Step 3 Product data'!H21))","v":0},{"$f":"IF(J$7=TRUE,($G10*'Step 3 Product data'!I21*(1-'Emission Calculations'!$F10)),($G10*'Step 3 Product data'!I21))","v":0},{"$f":"IF(K$7=TRUE,($G10*'Step 3 Product data'!J21*(1-'Emission Calculations'!$F10)),($G10*'Step 3 Product data'!J21))","v":0},{"$f":"IF(L$7=TRUE,($G10*'Step 3 Product data'!K21*(1-'Emission Calculations'!$F10)),($G10*'Step 3 Product data'!K21))","v":0},{"$f":"IF(M$7=TRUE,($G10*'Step 3 Product data'!L21*(1-'Emission Calculations'!$F10)),($G10*'Step 3 Product data'!L21))","v":0},{"$f":"IF(N$7=TRUE,($G10*'Step 3 Product data'!M21*(1-'Emission Calculations'!$F10)),($G10*'Step 3 Product data'!M21))","v":0},{"$f":"IF(O$7=TRUE,($G10*'Step 3 Product data'!N21*(1-'Emission Calculations'!$F10)),($G10*'Step 3 Product data'!N21))","v":0},{"$f":"IF(P$7=TRUE,($G10*'Step 3 Product data'!O21*(1-'Emission Calculations'!$F10)),($G10*'Step 3 Product data'!O21))","v":0},{"$f":"IF(Q$7=TRUE,($G10*'Step 3 Product data'!P21*(1-'Emission Calculations'!$F10)),($G10*'Step 3 Product data'!P21))","v":0},{"$f":"IF(R$7=TRUE,($G10*'Step 3 Product data'!Q21*(1-'Emission Calculations'!$F10)),($G10*'Step 3 Product data'!Q21))","v":0},{"$f":"IF(S$7=TRUE,($G10*'Step 3 Product data'!R21*(1-'Emission Calculations'!$F10)),($G10*'Step 3 Product data'!R21))","v":0},{"$f":"IF(T$7=TRUE,($G10*'Step 3 Product data'!S21*(1-'Emission Calculations'!$F10)),($G10*'Step 3 Product data'!S21))","v":0},{"$f":"IF(U$7=TRUE,($G10*'Step 3 Product data'!T21*(1-'Emission Calculations'!$F10)),($G10*'Step 3 Product data'!T21))","v":0},{"$f":"IF(V$7=TRUE,($G10*'Step 3 Product data'!U21*(1-'Emission Calculations'!$F10)),($G10*'Step 3 Product data'!U21))","v":0},{"$f":"IF(W$7=TRUE,($G10*'Step 3 Product data'!V21*(1-'Emission Calculations'!$F10)),($G10*'Step 3 Product data'!V21))","v":0},{"$f":"IF(X$7=TRUE,($G10*'Step 3 Product data'!W21*(1-'Emission Calculations'!$F10)),($G10*'Step 3 Product data'!W21))","v":0},{"$f":"IF(Y$7=TRUE,($G10*'Step 3 Product data'!X21*(1-'Emission Calculations'!$F10)),($G10*'Step 3 Product data'!X21))","v":0},{"$f":"IF('Step 3 Product data'!Y21=0,SUM(AE10:AP10),'Step 3 Product data'!Y21)","v":0},{"$f":"IF('Step 3 Product data'!Z21=0,SUM(AQ10:BB10),'Step 3 Product data'!Z21)","v":0},{"$f":"IF('Step 3 Product data'!AA21=0,SUM(BC10:BN10),'Step 3 Product data'!AA21)","v":0},{"$f":"IF('Step 3 Product data'!AB21=0,SUM(BO10:BZ10),'Step 3 Product data'!AB21)","v":0},{"$f":"IF('Step 3 Product data'!AC21=0,SUM(CA10:CL10),'Step 3 Product data'!AC21)","v":0},{"$f":"'Step 3 Product data'!AD21","v":0},{"$f":"'Step 3 Product data'!AE21","v":0},{"$f":"'Step 3 Product data'!AF21","v":0},{"$f":"'Step 3 Product data'!AG21","v":0},{"$f":"'Step 3 Product data'!AH21","v":0},{"$f":"'Step 3 Product data'!AI21","v":0},{"$f":"'Step 3 Product data'!AJ21","v":0},{"$f":"'Step 3 Product data'!AK21","v":0},{"$f":"'Step 3 Product data'!AL21","v":0},{"$f":"'Step 3 Product data'!AM21","v":0},{"$f":"'Step 3 Product data'!AN21","v":0},{"$f":"'Step 3 Product data'!AO21","v":0},{"$f":"'Step 3 Product data'!AP21","v":0},{"$f":"'Step 3 Product data'!AQ21","v":0},{"$f":"'Step 3 Product data'!AR21","v":0},{"$f":"'Step 3 Product data'!AS21","v":0},{"$f":"'Step 3 Product data'!AT21","v":0},{"$f":"'Step 3 Product data'!AU21","v":0},{"$f":"'Step 3 Product data'!AV21","v":0},{"$f":"'Step 3 Product data'!AW21","v":0},{"$f":"'Step 3 Product data'!AX21","v":0},{"$f":"'Step 3 Product data'!AY21","v":0},{"$f":"'Step 3 Product data'!AZ21","v":0},{"$f":"'Step 3 Product data'!BA21","v":0},{"$f":"'Step 3 Product data'!BB21","v":0},{"$f":"'Step 3 Product data'!BC21","v":0},{"$f":"'Step 3 Product data'!BD21","v":0},{"$f":"'Step 3 Product data'!BE21","v":0},{"$f":"'Step 3 Product data'!BF21","v":0},{"$f":"'Step 3 Product data'!BG21","v":0},{"$f":"'Step 3 Product data'!BH21","v":0},{"$f":"'Step 3 Product data'!BI21","v":0},{"$f":"'Step 3 Product data'!BJ21","v":0},{"$f":"'Step 3 Product data'!BK21","v":0},{"$f":"'Step 3 Product data'!BL21","v":0},{"$f":"'Step 3 Product data'!BM21","v":0},{"$f":"'Step 3 Product data'!BN21","v":0},{"$f":"'Step 3 Product data'!BO21","v":0},{"$f":"'Step 3 Product data'!BP21","v":0},{"$f":"'Step 3 Product data'!BQ21","v":0},{"$f":"'Step 3 Product data'!BR21","v":0},{"$f":"'Step 3 Product data'!BS21","v":0},{"$f":"'Step 3 Product data'!BT21","v":0},{"$f":"'Step 3 Product data'!BU21","v":0},{"$f":"'Step 3 Product data'!BV21","v":0},{"$f":"'Step 3 Product data'!BW21","v":0},{"$f":"'Step 3 Product data'!BX21","v":0},{"$f":"'Step 3 Product data'!BY21","v":0},{"$f":"'Step 3 Product data'!BZ21","v":0},{"$f":"'Step 3 Product data'!CA21","v":0},{"$f":"'Step 3 Product data'!CB21","v":0},{"$f":"'Step 3 Product data'!CC21","v":0},{"$f":"'Step 3 Product data'!CD21","v":0},{"$f":"'Step 3 Product data'!CE21","v":0},{"$f":"'Step 3 Product data'!CF21","v":0},{"$f":"'Step 3 Product data'!CG21","v":0},{"$f":"'Step 3 Product data'!CH21","v":0},{"$f":"'Step 3 Product data'!CI21","v":0},{"$f":"'Step 3 Product data'!CJ21","v":0},{"$f":"'Step 3 Product data'!CK21","v":0},null,{"$f":"SUM(AE10:AP10)","v":0},{"$f":"SUM(AQ10:BB10)","v":0},{"$f":"SUM(BC10:BN10)","v":0},{"$f":"SUM(BO10:BZ10)","v":0},{"$f":"SUM(CA10:CL10)","v":0}]
[{"$f":"'Step 3 Product data'!A22","v":2},{"$f":"'Step 3 Product data'!B22","v":0},{"$f":"'Step 3 Product data'!C22","v":0},{"$f":"'Step 3 Product data'!D22","v":0},{"$f":"'Step 3 Product data'!E22","v":"Choose one"},{"$f":"IF(E11=$A$88,1,IF(E11='Data Validation'!$B$31,0,IF(E11=$D$81,$E$81,IF(E11=$D$82,$E$82,IF(E11=$D$83,$E$83,IF(E11=$A$89,$E$84,0))))))","v":0},{"$f":"'Step 3 Product data'!F22","v":0},{"$f":"$G11*'Step 3 Product data'!G22","v":0},{"$f":"IF(I$7=TRUE,($G11*'Step 3 Product data'!H22*(1-'Emission Calculations'!$F11)),($G11*'Step 3 Product data'!H22))","v":0},{"$f":"IF(J$7=TRUE,($G11*'Step 3 Product data'!I22*(1-'Emission Calculations'!$F11)),($G11*'Step 3 Product data'!I22))","v":0},{"$f":"IF(K$7=TRUE,($G11*'Step 3 Product data'!J22*(1-'Emission Calculations'!$F11)),($G11*'Step 3 Product data'!J22))","v":0},{"$f":"IF(L$7=TRUE,($G11*'Step 3 Product data'!K22*(1-'Emission Calculations'!$F11)),($G11*'Step 3 Product data'!K22))","v":0},{"$f":"IF(M$7=TRUE,($G11*'Step 3 Product data'!L22*(1-'Emission Calculations'!$F11)),($G11*'Step 3 Product data'!L22))","v":0},{"$f":"IF(N$7=TRUE,($G11*'Step 3 Product data'!M22*(1-'Emission Calculations'!$F11)),($G11*'Step 3 Product data'!M22))","v":0},{"$f":"IF(O$7=TRUE,($G11*'Step 3 Product data'!N22*(1-'Emission Calculations'!$F11)),($G11*'Step 3 Product data'!N22))","v":0},{"$f":"IF(P$7=TRUE,($G11*'Step 3 Product data'!O22*(1-'Emission Calculations'!$F11)),($G11*'Step 3 Product data'!O22))","v":0},{"$f":"IF(Q$7=TRUE,($G11*'Step 3 Product data'!P22*(1-'Emission Calculations'!$F11)),($G11*'Step 3 Product data'!P22))","v":0},{"$f":"IF(R$7=TRUE,($G11*'Step 3 Product data'!Q22*(1-'Emission Calculations'!$F11)),($G11*'Step 3 Product data'!Q22))","v":0},{"$f":"IF(S$7=TRUE,($G11*'Step 3 Product data'!R22*(1-'Emission Calculations'!$F11)),($G11*'Step 3 Product data'!R22))","v":0},{"$f":"IF(T$7=TRUE,($G11*'Step 3 Product data'!S22*(1-'Emission Calculations'!$F11)),($G11*'Step 3 Product data'!S22))","v":0},{"$f":"IF(U$7=TRUE,($G11*'Step 3 Product data'!T22*(1-'Emission Calculations'!$F11)),($G11*'Step 3 Product data'!T22))","v":0},{"$f":"IF(V$7=TRUE,($G11*'Step 3 Product data'!U22*(1-'Emission Calculations'!$F11)),($G11*'Step 3 Product data'!U22))","v":0},{"$f":"IF(W$7=TRUE,($G11*'Step 3 Product data'!V22*(1-'Emission Calculations'!$F11)),($G11*'Step 3 Product data'!V22))","v":0},{"$f":"IF(X$7=TRUE,($G11*'Step 3 Product data'!W22*(1-'Emission Calculations'!$F11)),($G11*'Step 3 Product data'!W22))","v":0},{"$f":"IF(Y$7=TRUE,($G11*'Step 3 Product data'!X22*(1-'Emission Calculations'!$F11)),($G11*'Step 3 Product data'!X22))","v":0},{"$f":"IF('Step 3 Product data'!Y22=0,SUM(AE11:AP11),'Step 3 Product data'!Y22)","v":0},{"$f":"IF('Step 3 Product data'!Z22=0,SUM(AQ11:BB11),'Step 3 Product data'!Z22)","v":0},{"$f":"IF('Step 3 Product data'!AA22=0,SUM(BC11:BN11),'Step 3 Product data'!AA22)","v":0},{"$f":"IF('Step 3 Product data'!AB22=0,SUM(BO11:BZ11),'Step 3 Product data'!AB22)","v":0},{"$f":"IF('Step 3 Product data'!AC22=0,SUM(CA11:CL11),'Step 3 Product data'!AC22)","v":0},{"$f":"'Step 3 Product data'!AD22","v":0},{"$f":"'Step 3 Product data'!AE22","v":0},{"$f":"'Step 3 Product data'!AF22","v":0},{"$f":"'Step 3 Product data'!AG22","v":0},{"$f":"'Step 3 Product data'!AH22","v":0},{"$f":"'Step 3 Product data'!AI22","v":0},{"$f":"'Step 3 Product data'!AJ22","v":0},{"$f":"'Step 3 Product data'!AK22","v":0},{"$f":"'Step 3 Product data'!AL22","v":0},{"$f":"'Step 3 Product data'!AM22","v":0},{"$f":"'Step 3 Product data'!AN22","v":0},{"$f":"'Step 3 Product data'!AO22","v":0},{"$f":"'Step 3 Product data'!AP22","v":0},{"$f":"'Step 3 Product data'!AQ22","v":0},{"$f":"'Step 3 Product data'!AR22","v":0},{"$f":"'Step 3 Product data'!AS22","v":0},{"$f":"'Step 3 Product data'!AT22","v":0},{"$f":"'Step 3 Product data'!AU22","v":0},{"$f":"'Step 3 Product data'!AV22","v":0},{"$f":"'Step 3 Product data'!AW22","v":0},{"$f":"'Step 3 Product data'!AX22","v":0},{"$f":"'Step 3 Product data'!AY22","v":0},{"$f":"'Step 3 Product data'!AZ22","v":0},{"$f":"'Step 3 Product data'!BA22","v":0},{"$f":"'Step 3 Product data'!BB22","v":0},{"$f":"'Step 3 Product data'!BC22","v":0},{"$f":"'Step 3 Product data'!BD22","v":0},{"$f":"'Step 3 Product data'!BE22","v":0},{"$f":"'Step 3 Product data'!BF22","v":0},{"$f":"'Step 3 Product data'!BG22","v":0},{"$f":"'Step 3 Product data'!BH22","v":0},{"$f":"'Step 3 Product data'!BI22","v":0},{"$f":"'Step 3 Product data'!BJ22","v":0},{"$f":"'Step 3 Product data'!BK22","v":0},{"$f":"'Step 3 Product data'!BL22","v":0},{"$f":"'Step 3 Product data'!BM22","v":0},{"$f":"'Step 3 Product data'!BN22","v":0},{"$f":"'Step 3 Product data'!BO22","v":0},{"$f":"'Step 3 Product data'!BP22","v":0},{"$f":"'Step 3 Product data'!BQ22","v":0},{"$f":"'Step 3 Product data'!BR22","v":0},{"$f":"'Step 3 Product data'!BS22","v":0},{"$f":"'Step 3 Product data'!BT22","v":0},{"$f":"'Step 3 Product data'!BU22","v":0},{"$f":"'Step 3 Product data'!BV22","v":0},{"$f":"'Step 3 Product data'!BW22","v":0},{"$f":"'Step 3 Product data'!BX22","v":0},{"$f":"'Step 3 Product data'!BY22","v":0},{"$f":"'Step 3 Product data'!BZ22","v":0},{"$f":"'Step 3 Product data'!CA22","v":0},{"$f":"'Step 3 Product data'!CB22","v":0},{"$f":"'Step 3 Product data'!CC22","v":0},{"$f":"'Step 3 Product data'!CD22","v":0},{"$f":"'Step 3 Product data'!CE22","v":0},{"$f":"'Step 3 Product data'!CF22","v":0},{"$f":"'Step 3 Product data'!CG22","v":0},{"$f":"'Step 3 Product data'!CH22","v":0},{"$f":"'Step 3 Product data'!CI22","v":0},{"$f":"'Step 3 Product data'!CJ22","v":0},{"$f":"'Step 3 Product data'!CK22","v":0},null,0,0,0,0,0]
[{"$f":"'Step 3 Product data'!A23","v":3},{"$f":"'Step 3 Product data'!B23","v":0},{"$f":"'Step 3 Product data'!C23","v":0},{"$f":"'Step 3 Product data'!D23","v":0},{"$f":"'Step 3 Product data'!E23","v":"Choose one"},{"$f":"IF(E12=$A$88,1,IF(E12='Data Validation'!$B$31,0,IF(E12=$D$81,$E$81,IF(E12=$D$82,$E$82,IF(E12=$D$83,$E$83,IF(E12=$A$89,$E$84,0))))))","v":0},{"$f":"'Step 3 Product data'!F23","v":0},{"$f":"$G12*'Step 3 Product data'!G23","v":0},{"$f":"IF(I$7=TRUE,($G12*'Step 3 Product data'!H23*(1-'Emission Calculations'!$F12)),($G12*'Step 3 Product data'!H23))","v":0},{"$f":"IF(J$7=TRUE,($G12*'Step 3 Product data'!I23*(1-'Emission Calculations'!$F12)),($G12*'Step 3 Product data'!I23))","v":0},{"$f":"IF(K$7=TRUE,($G12*'Step 3 Product data'!J23*(1-'Emission Calculations'!$F12)),($G12*'Step 3 Product data'!J23))","v":0},{"$f":"IF(L$7=TRUE,($G12*'Step 3 Product data'!K23*(1-'Emission Calculations'!$F12)),($G12*'Step 3 Product data'!K23))","v":0},{"$f":"IF(M$7=TRUE,($G12*'Step 3 Product data'!L23*(1-'Emission Calculations'!$F12)),($G12*'Step 3 Product data'!L23))","v":0},{"$f":"IF(N$7=TRUE,($G12*'Step 3 Product data'!M23*(1-'Emission Calculations'!$F12)),($G12*'Step 3 Product data'!M23))","v":0},{"$f":"IF(O$7=TRUE,($G12*'Step 3 Product data'!N23*(1-'Emission Calculations'!$F12)),($G12*'Step 3 Product data'!N23))","v":0},{"$f":"IF(P$7=TRUE,($G12*'Step 3 Product data'!O23*(1-'Emission Calculations'!$F12)),($G12*'Step 3 Product data'!O23))","v":0},{"$f":"IF(Q$7=TRUE,($G12*'Step 3 Product data'!P23*(1-'Emission Calculations'!$F12)),($G12*'Step 3 Product data'!P23))","v":0},{"$f":"IF(R$7=TRUE,($G12*'Step 3 Product data'!Q23*(1-'Emission Calculations'!$F12)),($G12*'Step 3 Product data'!Q23))","v":0},{"$f":"IF(S$7=TRUE,($G12*'Step 3 Product data'!R23*(1-'Emission Calculations'!$F12)),($G12*'Step 3 Product data'!R23))","v":0},{"$f":"IF(T$7=TRUE,($G12*'Step 3 Product data'!S23*(1-'Emission Calculations'!$F12)),($G12*'Step 3 Product data'!S23))","v":0},{"$f":"IF(U$7=TRUE,($G12*'Step 3 Product data'!T23*(1-'Emission Calculations'!$F12)),($G12*'Step 3 Product data'!T23))","v":0},{"$f":"IF(V$7=TRUE,($G12*'Step 3 Product data'!U23*(1-'Emission Calculations'!$F12)),($G12*'Step 3 Product data'!U23))","v":0},{"$f":"IF(W$7=TRUE,($G12*'Step 3 Product data'!V23*(1-'Emission Calculations'!$F12)),($G12*'Step 3 Product data'!V23))","v":0},{"$f":"IF(X$7=TRUE,($G12*'Step 3 Product data'!W23*(1-'Emission Calculations'!$F12)),($G12*'Step 3 Product data'!W23))","v":0},{"$f":"IF(Y$7=TRUE,($G12*'Step 3 Product data'!X23*(1-'Emission Calculations'!$F12)),($G12*'Step 3 Product data'!X23))","v":0},{"$f":"IF('Step 3 Product data'!Y23=0,SUM(AE12:AP12),'Step 3 Product data'!Y23)","v":0},{"$f":"IF('Step 3 Product data'!Z23=0,SUM(AQ12:BB12),'Step 3 Product data'!Z23)","v":0},{"$f":"IF('Step 3 Product data'!AA23=0,SUM(BC12:BN12),'Step 3 Product data'!AA23)","v":0},{"$f":"IF('Step 3 Product data'!AB23=0,SUM(BO12:BZ12),'Step 3 Product data'!AB23)","v":0},{"$f":"IF('Step 3 Product data'!AC23=0,SUM(CA12:CL12),'Step 3 Product data'!AC23)","v":0},{"$f":"'Step 3 Product data'!AD23","v":0},{"$f":"'Step 3 Product data'!AE23","v":0},{"$f":"'Step 3 Product data'!AF23","v":0},{"$f":"'Step 3 Product data'!AG23","v":0},{"$f":"'Step 3 Product data'!AH23","v":0},{"$f":"'Step 3 Product data'!AI23","v":0},{"$f":"'Step 3 Product data'!AJ23","v":0},{"$f":"'Step 3 Product data'!AK23","v":0},{"$f":"'Step 3 Product data'!AL23","v":0},{"$f":"'Step 3 Product data'!AM23","v":0},{"$f":"'Step 3 Product data'!AN23","v":0},{"$f":"'Step 3 Product data'!AO23","v":0},{"$f":"'Step 3 Product data'!AP23","v":0},{"$f":"'Step 3 Product data'!AQ23","v":0},{"$f":"'Step 3 Product data'!AR23","v":0},{"$f":"'Step 3 Product data'!AS23","v":0},{"$f":"'Step 3 Product data'!AT23","v":0},{"$f":"'Step 3 Product data'!AU23","v":0},{"$f":"'Step 3 Product data'!AV23","v":0},{"$f":"'Step 3 Product data'!AW23","v":0},{"$f":"'Step 3 Product data'!AX23","v":0},{"$f":"'Step 3 Product data'!AY23","v":0},{"$f":"'Step 3 Product data'!AZ23","v":0},{"$f":"'Step 3 Product data'!BA23","v":0},{"$f":"'Step 3 Product data'!BB23","v":0},{"$f":"'Step 3 Product data'!BC23","v":0},{"$f":"'Step 3 Product data'!BD23","v":0},{"$f":"'Step 3 Product data'!BE23","v":0},{"$f":"'Step 3 Product data'!BF23","v":0},{"$f":"'Step 3 Product data'!BG23","v":0},{"$f":"'Step 3 Product data'!BH23","v":0},{"$f":"'Step 3 Product data'!BI23","v":0},{"$f":"'Step 3 Product data'!BJ23","v":0},{"$f":"'Step 3 Product data'!BK23","v":0},{"$f":"'Step 3 Product data'!BL23","v":0},{"$f":"'Step 3 Product data'!BM23","v":0},{"$f":"'Step 3 Product data'!BN23","v":0},{"$f":"'Step 3 Product data'!BO23","v":0},{"$f":"'Step 3 Product data'!BP23","v":0},{"$f":"'Step 3 Product data'!BQ23","v":0},{"$f":"'Step 3 Product data'!BR23","v":0},{"$f":"'Step 3 Product data'!BS23","v":0},{"$f":"'Step 3 Product data'!BT23","v":0},{"$f":"'Step 3 Product data'!BU23","v":0},{"$f":"'Step 3 Product data'!BV23","v":0},{"$f":"'Step 3 Product data'!BW23","v":0},{"$f":"'Step 3 Product data'!BX23","v":0},{"$f":"'Step 3 Product data'!BY23","v":0},{"$f":"'Step 3 Product data'!BZ23","v":0},{"$f":"'Step 3 Product data'!CA23","v":0},{"$f":"'Step 3 Product data'!CB23","v":0},{"$f":"'Step 3 Product data'!CC23","v":0},{"$f":"'Step 3 Product data'!CD23","v":0},{"$f":"'Step 3 Product data'!CE23","v":0},{"$f":"'Step 3 Product data'!CF23","v":0},{"$f":"'Step 3 Product data'!CG23","v":0},{"$f":"'Step 3 Product data'!CH23","v":0},{"$f":"'Step 3 Product data'!CI23","v":0},{"$f":"'Step 3 Product data'!CJ23","v":0},{"$f":"'Step 3 Product data'!CK23","v":0},null,0,0,0,0,0]
[{"$f":"'Step 3 Product data'!A24","v":4},{"$f":"'Step 3 Product data'!B24","v":0},{"$f":"'Step 3 Product data'!C24","v":0},{"$f":"'Step 3 Product data'!D24","v":0},{"$f":"'Step 3 Product data'!E24","v":"Choose one"},{"$f":"IF(E13=$A$88,1,IF(E13='Data Validation'!$B$31,0,IF(E13=$D$81,$E$81,IF(E13=$D$82,$E$82,IF(E13=$D$83,$E$83,IF(E13=$A$89,$E$84,0))))))","v":0},{"$f":"'Step 3 Product data'!F24","v":0},{"$f":"$G13*'Step 3 Product data'!G24","v":0},{"$f":"IF(I$7=TRUE,($G13*'Step 3 Product data'!H24*(1-'Emission Calculations'!$F13)),($G13*'Step 3 Product data'!H24))","v":0},{"$f":"IF(J$7=TRUE,($G13*'Step 3 Product data'!I24*(1-'Emission Calculations'!$F13)),($G13*'Step 3 Product data'!I24))","v":0},{"$f":"IF(K$7=TRUE,($G13*'Step 3 Product data'!J24*(1-'Emission Calculations'!$F13)),($G13*'Step 3 Product data'!J24))","v":0},{"$f":"IF(L$7=TRUE,($G13*'Step 3 Product data'!K24*(1-'Emission Calculations'!$F13)),($G13*'Step 3 Product data'!K24))","v":0},{"$f":"IF(M$7=TRUE,($G13*'Step 3 Product data'!L24*(1-'Emission Calculations'!$F13)),($G13*'Step 3 Product data'!L24))","v":0},{"$f":"IF(N$7=TRUE,($G13*'Step 3 Product data'!M24*(1-'Emission Calculations'!$F13)),($G13*'Step 3 Product data'!M24))","v":0},{"$f":"IF(O$7=TRUE,($G13*'Step 3 Product data'!N24*(1-'Emission Calculations'!$F13)),($G13*'Step 3 Product data'!N24))","v":0},{"$f":"IF(P$7=TRUE,($G13*'Step 3 Product data'!O24*(1-'Emission Calculations'!$F13)),($G13*'Step 3 Product data'!O24))","v":0},{"$f":"IF(Q$7=TRUE,($G13*'Step 3 Product data'!P24*(1-'Emission Calculations'!$F13)),($G13*'Step 3 Product data'!P24))","v":0},{"$f":"IF(R$7=TRUE,($G13*'Step 3 Product data'!Q24*(1-'Emission Calculations'!$F13)),($G13*'Step 3 Product data'!Q24))","v":0},{"$f":"IF(S$7=TRUE,($G13*'Step 3 Product data'!R24*(1-'Emission Calculations'!$F13)),($G13*'Step 3 Product data'!R24))","v":0},{"$f":"IF(T$7=TRUE,($G13*'Step 3 Product data'!S24*(1-'Emission Calculations'!$F13)),($G13*'Step 3 Product data'!S24))","v":0},{"$f":"IF(U$7=TRUE,($G13*'Step 3 Product data'!T24*(1-'Emission Calculations'!$F13)),($G13*'Step 3 Product data'!T24))","v":0},{"$f":"IF(V$7=TRUE,($G13*'Step 3 Product data'!U24*(1-'Emission Calculations'!$F13)),($G13*'Step 3 Product data'!U24))","v":0},{"$f":"IF(W$7=TRUE,($G13*'Step 3 Product data'!V24*(1-'Emission Calculations'!$F13)),($G13*'Step 3 Product data'!V24))","v":0},{"$f":"IF(X$7=TRUE,($G13*'Step 3 Product data'!W24*(1-'Emission Calculations'!$F13)),($G13*'Step 3 Product data'!W24))","v":0},{"$f":"IF(Y$7=TRUE,($G13*'Step 3 Product data'!X24*(1-'Emission Calculations'!$F13)),($G13*'Step 3 Product data'!X24))","v":0},{"$f":"IF('Step 3 Product data'!Y24=0,SUM(AE13:AP13),'Step 3 Product data'!Y24)","v":0},{"$f":"IF('Step 3 Product data'!Z24=0,SUM(AQ13:BB13),'Step 3 Product data'!Z24)","v":0},{"$f":"IF('Step 3 Product data'!AA24=0,SUM(BC13:BN13),'Step 3 Product data'!AA24)","v":0},{"$f":"IF('Step 3 Product data'!AB24=0,SUM(BO13:BZ13),'Step 3 Product data'!AB24)","v":0},{"$f":"IF('Step 3 Product data'!AC24=0,SUM(CA13:CL13),'Step 3 Product data'!AC24)","v":0},{"$f":"'Step 3 Product data'!AD24","v":0},{"$f":"'Step 3 Product data'!AE24","v":0},{"$f":"'Step 3 Product data'!AF24","v":0},{"$f":"'Step 3 Product data'!AG24","v":0},{"$f":"'Step 3 Product data'!AH24","v":0},{"$f":"'Step 3 Product data'!AI24","v":0},{"$f":"'Step 3 Product data'!AJ24","v":0},{"$f":"'Step 3 Product data'!AK24","v":0},{"$f":"'Step 3 Product data'!AL24","v":0},{"$f":"'Step 3 Product data'!AM24","v":0},{"$f":"'Step 3 Product data'!AN24","v":0},{"$f":"'Step 3 Product data'!AO24","v":0},{"$f":"'Step 3 Product data'!AP24","v":0},{"$f":"'Step 3 Product data'!AQ24","v":0},{"$f":"'Step 3 Product data'!AR24","v":0},{"$f":"'Step 3 Product data'!AS24","v":0},{"$f":"'Step 3 Product data'!AT24","v":0},{"$f":"'Step 3 Product data'!AU24","v":0},{"$f":"'Step 3 Product data'!AV24","v":0},{"$f":"'Step 3 Product data'!AW24","v":0},{"$f":"'Step 3 Product data'!AX24","v":0},{"$f":"'Step 3 Product data'!AY24","v":0},{"$f":"'Step 3 Product data'!AZ24","v":0},{"$f":"'Step 3 Product data'!BA24","v":0},{"$f":"'Step 3 Product data'!BB24","v":0},{"$f":"'Step 3 Product data'!BC24","v":0},{"$f":"'Step 3 Product data'!BD24","v":0},{"$f":"'Step 3 Product data'!BE24","v":0},{"$f":"'Step 3 Product data'!BF24","v":0},{"$f":"'Step 3 Product data'!BG24","v":0},{"$f":"'Step 3 Product data'!BH24","v":0},{"$f":"'Step 3 Product data'!BI24","v":0},{"$f":"'Step 3 Product data'!BJ24","v":0},{"$f":"'Step 3 Product data'!BK24","v":0},{"$f":"'Step 3 Product data'!BL24","v":0},{"$f":"'Step 3 Product data'!BM24","v":0},{"$f":"'Step 3 Product data'!BN24","v":0},{"$f":"'Step 3 Product data'!BO24","v":0},{"$f":"'Step 3 Product data'!BP24","v":0},{"$f":"'Step 3 Product data'!BQ24","v":0},{"$f":"'Step 3 Product data'!BR24","v":0},{"$f":"'Step 3 Product data'!BS24","v":0},{"$f":"'Step 3 Product data'!BT24","v":0},{"$f":"'Step 3 Product data'!BU24","v":0},{"$f":"'Step 3 Product data'!BV24","v":0},{"$f":"'Step 3 Product data'!BW24","v":0},{"$f":"'Step 3 Product data'!BX24","v":0},{"$f":"'Step 3 Product data'!BY24","v":0},{"$f":"'Step 3 Product data'!BZ24","v":0},{"$f":"'Step 3 Product data'!CA24","v":0},{"$f":"'Step 3 Product data'!CB24","v":0},{"$f":"'Step 3 Product data'!CC24","v":0},{"$f":"'Step 3 Product data'!CD24","v":0},{"$f":"'Step 3 Product data'!CE24","v":0},{"$f":"'Step 3 Product data'!CF24","v":0},{"$f":"'Step 3 Product data'!CG24","v":0},{"$f":"'Step 3 Product data'!CH24","v":0},{"$f":"'Step 3 Product data'!CI24","v":0},{"$f":"'Step 3 Product data'!CJ24","v":0},{"$f":"'Step 3 Product data'!CK24","v":0},null,0,0,0,0,0]
[{"$f":"'Step 3 Product data'!A25","v":5},{"$f":"'Step 3 Product data'!B25","v":0},{"$f":"'Step 3 Product data'!C25","v":0},{"$f":"'Step 3 Product data'!D25","v":0},{"$f":"'Step 3 Product data'!E25","v":"Choose one"},{"$f":"IF(E14=$A$88,1,IF(E14='Data Validation'!$B$31,0,IF(E14=$D$81,$E$81,IF(E14=$D$82,$E$82,IF(E14=$D$83,$E$83,IF(E14=$A$89,$E$84,0))))))","v":0},{"$f":"'Step 3 Product data'!F25","v":0},{"$f":"$G14*'Step 3 Product data'!G25","v":0},{"$f":"IF(I$7=TRUE,($G14*'Step 3 Product data'!H25*(1-'Emission Calculations'!$F14)),($G14*'Step 3 Product data'!H25))","v":0},{"$f":"IF(J$7=TRUE,($G14*'Step 3 Product data'!I25*(1-'Emission Calculations'!$F14)),($G14*'Step 3 Product data'!I25))","v":0},{"$f":"IF(K$7=TRUE,($G14*'Step 3 Product data'!J25*(1-'Emission Calculations'!$F14)),($G14*'Step 3 Product data'!J25))","v":0},{"$f":"IF(L$7=TRUE,($G14*'Step 3 Product data'!K25*(1-'Emission Calculations'!$F14)),($G14*'Step 3 Product data'!K25))","v":0},{"$f":"IF(M$7=TRUE,($G14*'Step 3 Product data'!L25*(1-'Emission Calculations'!$F14)),($G14*'Step 3 Product data'!L25))","v":0},{"$f":"IF(N$7=TRUE,($G14*'Step 3 Product data'!M25*(1-'Emission Calculations'!$F14)),($G14*'Step 3 Product data'!M25))","v":0},{"$f":"IF(O$7=TRUE,($G14*'Step 3 Product data'!N25*(1-'Emission Calculations'!$F14)),($G14*'Step 3 Product data'!N25))","v":0},{"$f":"IF(P$7=TRUE,($G14*'Step 3 Product data'!O25*(1-'Emission Calculations'!$F14)),($G14*'Step 3 Product data'!O25))","v":0},{"$f":"IF(Q$7=TRUE,($G14*'Step 3 Product data'!P25*(1-'Emission Calculations'!$F14)),($G14*'Step 3 Product data'!P25))","v":0},{"$f":"IF(R$7=TRUE,($G14*'Step 3 Product data'!Q25*(1-'Emission Calculations'!$F14)),($G14*'Step 3 Product data'!Q25))","v":0},{"$f":"IF(S$7=TRUE,($G14*'Step 3 Product data'!R25*(1-'Emission Calculations'!$F14)),($G14*'Step 3 Product data'!R25))","v":0},{"$f":"IF(T$7=TRUE,($G14*'Step 3 Product data'!S25*(1-'Emission Calculations'!$F14)),($G14*'Step 3 Product data'!S25))","v":0},{"$f":"IF(U$7=TRUE,($G14*'Step 3 Product data'!T25*(1-'Emission Calculations'!$F14)),($G14*'Step 3 Product data'!T25))","v":0},{"$f":"IF(V$7=TRUE,($G14*'Step 3 Product data'!U25*(1-'Emission Calculations'!$F14)),($G14*'Step 3 Product data'!U25))","v":0},{"$f":"IF(W$7=TRUE,($G14*'Step 3 Product data'!V25*(1-'Emission Calculations'!$F14)),($G14*'Step 3 Product data'!V25))","v":0},{"$f":"IF(X$7=TRUE,($G14*'Step 3 Product data'!W25*(1-'Emission Calculations'!$F14)),($G14*'Step 3 Product data'!W25))","v":0},{"$f":"IF(Y$7=TRUE,($G14*'Step 3 Product data'!X25*(1-'Emission Calculations'!$F14)),($G14*'Step 3 Product data'!X25))","v":0},{"$f":"IF('Step 3 Product data'!Y25=0,SUM(AE14:AP14),'Step 3 Product data'!Y25)","v":" "},{"$f":"IF('Step 3 Product data'!Z25=0,SUM(AQ14:BB14),'Step 3 Product data'!Z25)","v":0},{"$f":"IF('Step 3 Product data'!AA25=0,SUM(BC14:BN14),'Step 3 Product data'!AA25)","v":0},{"$f":"IF('Step 3 Product data'!AB25=0,SUM(BO14:BZ14),'Step 3 Product data'!AB25)","v":0},{"$f":"IF('Step 3 Product data'!AC25=0,SUM(CA14:CL14),'Step 3 Product data'!AC25)","v":0},{"$f":"'Step 3 Product data'!AD25","v":0},{"$f":"'Step 3 Product data'!AE25","v":0},{"$f":"'Step 3 Product data'!AF25","v":0},{"$f":"'Step 3 Product data'!AG25","v":0},{"$f":"'Step 3 Product data'!AH25","v":0},{"$f":"'Step 3 Product data'!AI25","v":0},{"$f":"'Step 3 Product data'!AJ25","v":0},{"$f":"'Step 3 Product data'!AK25","v":0},{"$f":"'Step 3 Product data'!AL25","v":0},{"$f":"'Step 3 Product data'!AM25","v":0},{"$f":"'Step 3 Product data'!AN25","v":0},{"$f":"'Step 3 Product data'!AO25","v":0},{"$f":"'Step 3 Product data'!AP25","v":0},{"$f":"'Step 3 Product data'!AQ25","v":0},{"$f":"'Step 3 Product data'!AR25","v":0},{"$f":"'Step 3 Product data'!AS25","v":0},{"$f":"'Step 3 Product data'!AT25","v":0},{"$f":"'Step 3 Product data'!AU25","v":0},{"$f":"'Step 3 Product data'!AV25","v":0},{"$f":"'Step 3 Product data'!AW25","v":0},{"$f":"'Step 3 Product data'!AX25","v":0},{"$f":"'Step 3 Product data'!AY25","v":0},{"$f":"'Step 3 Product data'!AZ25","v":0},{"$f":"'Step 3 Product data'!BA25","v":0},{"$f":"'Step 3 Product data'!BB25","v":0},{"$f":"'Step 3 Product data'!BC25","v":0},{"$f":"'Step 3 Product data'!BD25","v":0},{"$f":"'Step 3 Product data'!BE25","v":0},{"$f":"'Step 3 Product data'!BF25","v":0},{"$f":"'Step 3 Product data'!BG25","v":0},{"$f":"'Step 3 Product data'!BH25","v":0},{"$f":"'Step 3 Product data'!BI25","v":0},{"$f":"'Step 3 Product data'!BJ25","v":0},{"$f":"'Step 3 Product data'!BK25","v":0},{"$f":"'Step 3 Product data'!BL25","v":0},{"$f":"'Step 3 Product data'!BM25","v":0},{"$f":"'Step 3 Product data'!BN25","v":0},{"$f":"'Step 3 Product data'!BO25","v":0},{"$f":"'Step 3 Product data'!BP25","v":0},{"$f":"'Step 3 Product data'!BQ25","v":0},{"$f":"'Step 3 Product data'!BR25","v":0},{"$f":"'Step 3 Product data'!BS25","v":0},{"$f":"'Step 3 Product data'!BT25","v":0},{"$f":"'Step 3 Product data'!BU25","v":0},{"$f":"'Step 3 Product data'!BV25","v":0},{"$f":"'Step 3 Product data'!BW25","v":0},{"$f":"'Step 3 Product data'!BX25","v":0},{"$f":"'Step 3 Product data'!BY25","v":0},{"$f":"'Step 3 Product data'!BZ25","v":0},{"$f":"'Step 3 Product data'!CA25","v":0},{"$f":"'Step 3 Product data'!CB25","v":0},{"$f":"'Step 3 Product data'!CC25","v":0},{"$f":"'Step 3 Product data'!CD25","v":0},{"$f":"'Step 3 Product data'!CE25","v":0},{"$f":"'Step 3 Product data'!CF25","v":0},{"$f":"'Step 3 Product data'!CG25","v":0},{"$f":"'Step 3 Product data'!CH25","v":0},{"$f":"'Step 3 Product data'!CI25","v":0},{"$f":"'Step 3 Product data'!CJ25","v":0},{"$f":"'Step 3 Product data'!CK25","v":0},null,0,0,0,0,0]
[{"$f":"'Step 3 Product data'!A26","v":6},{"$f":"'Step 3 Product data'!B26","v":0},{"$f":"'Step 3 Product data'!C26","v":0},{"$f":"'Step 3 Product data'!D26","v":0},{"$f":"'Step 3 Product data'!E26","v":"Choose one"},{"$f":"IF(E15=$A$88,1,IF(E15='Data Validation'!$B$31,0,IF(E15=$D$81,$E$81,IF(E15=$D$82,$E$82,IF(E15=$D$83,$E$83,IF(E15=$A$89,$E$84,0))))))","v":0},{"$f":"'Step 3 Product data'!F26","v":0},{"$f":"$G15*'Step 3 Product data'!G26","v":0},{"$f":"IF(I$7=TRUE,($G15*'Step 3 Product data'!H26*(1-'Emission Calculations'!$F15)),($G15*'Step 3 Product data'!H26))","v":0},{"$f":"IF(J$7=TRUE,($G15*'Step 3 Product data'!I26*(1-'Emission Calculations'!$F15)),($G15*'Step 3 Product data'!I26))","v":0},{"$f":"IF(K$7=TRUE,($G15*'Step 3 Product data'!J26*(1-'Emission Calculations'!$F15)),($G15*'Step 3 Product data'!J26))","v":0},{"$f":"IF(L$7=TRUE,($G15*'Step 3 Product data'!K26*(1-'Emission Calculations'!$F15)),($G15*'Step 3 Product data'!K26))","v":0},{"$f":"IF(M$7=TRUE,($G15*'Step 3 Product data'!L26*(1-'Emission Calculations'!$F15)),($G15*'Step 3 Product data'!L26))","v":0},{"$f":"IF(N$7=TRUE,($G15*'Step 3 Product data'!M26*(1-'Emission Calculations'!$F15)),($G15*'Step 3 Product data'!M26))","v":0},{"$f":"IF(O$7=TRUE,($G15*'Step 3 Product data'!N26*(1-'Emission Calculations'!$F15)),($G15*'Step 3 Product data'!N26))","v":0},{"$f":"IF(P$7=TRUE,($G15*'Step 3 Product data'!O26*(1-'Emission Calculations'!$F15)),($G15*'Step 3 Product data'!O26))","v":0},{"$f":"IF(Q$7=TRUE,($G15*'Step 3 Product data'!P26*(1-'Emission Calculations'!$F15)),($G15*'Step 3 Product data'!P26))","v":0},{"$f":"IF(R$7=TRUE,($G15*'Step 3 Product data'!Q26*(1-'Emission Calculations'!$F15)),($G15*'Step 3 Product data'!Q26))","v":0},{"$f":"IF(S$7=TRUE,($G15*'Step 3 Product data'!R26*(1-'Emission Calculations'!$F15)),($G15*'Step 3 Product data'!R26))","v":0},{"$f":"IF(T$7=TRUE,($G15*'Step 3 Product data'!S26*(1-'Emission Calculations'!$F15)),($G15*'Step 3 Product data'!S26))","v":0},{"$f":"IF(U$7=TRUE,($G15*'Step 3 Product data'!T26*(1-'Emission Calculations'!$F15)),($G15*'Step 3 Product data'!T26))","v":0},{"$f":"IF(V$7=TRUE,($G15*'Step 3 Product data'!U26*(1-'Emission Calculations'!$F15)),($G15*'Step 3 Product data'!U26))","v":0},{"$f":"IF(W$7=TRUE,($G15*'Step 3 Product data'!V26*(1-'Emission Calculations'!$F15)),($G15*'Step 3 Product data'!V26))","v":0},{"$f":"IF(X$7=TRUE,($G15*'Step 3 Product data'!W26*(1-'Emission Calculations'!$F15)),($G15*'Step 3 Product data'!W26))","v":0},{"$f":"IF(Y$7=TRUE,($G15*'Step 3 Product data'!X26*(1-'Emission Calculations'!$F15)),($G15*'Step 3 Product data'!X26))","v":0},{"$f":"IF('Step 3 Product data'!Y26=0,SUM(AE15:AP15),'Step 3 Product data'!Y26)","v":" "},{"$f":"IF('Step 3 Product data'!Z26=0,SUM(AQ15:BB15),'Step 3 Product data'!Z26)","v":0},{"$f":"IF('Step 3 Product data'!AA26=0,SUM(BC15:BN15),'Step 3 Product data'!AA26)","v":0},{"$f":"IF('Step 3 Product data'!AB26=0,SUM(BO15:BZ15),'Step 3 Product data'!AB26)","v":0},{"$f":"IF('Step 3 Product data'!AC26=0,SUM(CA15:CL15),'Step 3 Product data'!AC26)","v":0},{"$f":"'Step 3 Product data'!AD26","v":0},{"$f":"'Step 3 Product data'!AE26","v":0},{"$f":"'Step 3 Product data'!AF26","v":0},{"$f":"'Step 3 Product data'!AG26","v":0},{"$f":"'Step 3 Product data'!AH26","v":0},{"$f":"'Step 3 Product data'!AI26","v":0},{"$f":"'Step 3 Product data'!AJ26","v":0},{"$f":"'Step 3 Product data'!AK26","v":0},{"$f":"'Step 3 Product data'!AL26","v":0},{"$f":"'Step 3 Product data'!AM26","v":0},{"$f":"'Step 3 Product data'!AN26","v":0},{"$f":"'Step 3 Product data'!AO26","v":0},{"$f":"'Step 3 Product data'!AP26","v":0},{"$f":"'Step 3 Product data'!AQ26","v":0},{"$f":"'Step 3 Product data'!AR26","v":0},{"$f":"'Step 3 Product data'!AS26","v":0},{"$f":"'Step 3 Product data'!AT26","v":0},{"$f":"'Step 3 Product data'!AU26","v":0},{"$f":"'Step 3 Product data'!AV26","v":0},{"$f":"'Step 3 Product data'!AW26","v":0},{"$f":"'Step 3 Product data'!AX26","v":0},{"$f":"'Step 3 Product data'!AY26","v":0},{"$f":"'Step 3 Product data'!AZ26","v":0},{"$f":"'Step 3 Product data'!BA26","v":0},{"$f":"'Step 3 Product data'!BB26","v":0},{"$f":"'Step 3 Product data'!BC26","v":0},{"$f":"'Step 3 Product data'!BD26","v":0},{"$f":"'Step 3 Product data'!BE26","v":0},{"$f":"'Step 3 Product data'!BF26","v":0},{"$f":"'Step 3 Product data'!BG26","v":0},{"$f":"'Step 3 Product data'!BH26","v":0},{"$f":"'Step 3 Product data'!BI26","v":0},{"$f":"'Step 3 Product data'!BJ26","v":0},{"$f":"'Step 3 Product data'!BK26","v":0},{"$f":"'Step 3 Product data'!BL26","v":0},{"$f":"'Step 3 Product data'!BM26","v":0},{"$f":"'Step 3 Product data'!BN26","v":0},{"$f":"'Step 3 Product data'!BO26","v":0},{"$f":"'Step 3 Product data'!BP26","v":0},{"$f":"'Step 3 Product data'!BQ26","v":0},{"$f":"'Step 3 Product data'!BR26","v":0},{"$f":"'Step 3 Product data'!BS26","v":0},{"$f":"'Step 3 Product data'!BT26","v":0},{"$f":"'Step 3 Product data'!BU26","v":0},{"$f":"'Step 3 Product data'!BV26","v":0},{"$f":"'Step 3 Product data'!BW26","v":0},{"$f":"'Step 3 Product data'!BX26","v":0},{"$f":"'Step 3 Product data'!BY26","v":0},{"$f":"'Step 3 Product data'!BZ26","v":0},{"$f":"'Step 3 Product data'!CA26","v":0},{"$f":"'Step 3 Product data'!CB26","v":0},{"$f":"'Step 3 Product data'!CC26","v":0},{"$f":"'Step 3 Product data'!CD26","v":0},{"$f":"'Step 3 Product data'!CE26","v":0},{"$f":"'Step 3 Product data'!CF26","v":0},{"$f":"'Step 3 Product data'!CG26","v":0},{"$f":"'Step 3 Product data'!CH26","v":0},{"$f":"'Step 3 Product data'!CI26","v":0},{"$f":"'Step 3 Product data'!CJ26","v":0},{"$f":"'Step 3 Product data'!CK26","v":0},null,0,0,0,0,0]
[{"$f":"'Step 3 Product data'!A27","v":7},{"$f":"'Step 3 Product data'!B27","v":0},{"$f":"'Step 3 Product data'!C27","v":0},{"$f":"'Step 3 Product data'!D27","v":0},{"$f":"'Step 3 Product data'!E27","v":"Choose one"},{"$f":"IF(E16=$A$88,1,IF(E16='Data Validation'!$B$31,0,IF(E16=$D$81,$E$81,IF(E16=$D$82,$E$82,IF(E16=$D$83,$E$83,IF(E16=$A$89,$E$84,0))))))","v":0},{"$f":"'Step 3 Product data'!F27","v":0},{"$f":"$G16*'Step 3 Product data'!G27","v":0},{"$f":"IF(I$7=TRUE,($G16*'Step 3 Product data'!H27*(1-'Emission Calculations'!$F16)),($G16*'Step 3 Product data'!H27))","v":0},{"$f":"IF(J$7=TRUE,($G16*'Step 3 Product data'!I27*(1-'Emission Calculations'!$F16)),($G16*'Step 3 Product data'!I27))","v":0},{"$f":"IF(K$7=TRUE,($G16*'Step 3 Product data'!J27*(1-'Emission Calculations'!$F16)),($G16*'Step 3 Product data'!J27))","v":0},{"$f":"IF(L$7=TRUE,($G16*'Step 3 Product data'!K27*(1-'Emission Calculations'!$F16)),($G16*'Step 3 Product data'!K27))","v":0},{"$f":"IF(M$7=TRUE,($G16*'Step 3 Product data'!L27*(1-'Emission Calculations'!$F16)),($G16*'Step 3 Product data'!L27))","v":0},{"$f":"IF(N$7=TRUE,($G16*'Step 3 Product data'!M27*(1-'Emission Calculations'!$F16)),($G16*'Step 3 Product data'!M27))","v":0},{"$f":"IF(O$7=TRUE,($G16*'Step 3 Product data'!N27*(1-'Emission Calculations'!$F16)),($G16*'Step 3 Product data'!N27))","v":0},{"$f":"IF(P$7=TRUE,($G16*'Step 3 Product data'!O27*(1-'Emission Calculations'!$F16)),($G16*'Step 3 Product data'!O27))","v":0},{"$f":"IF(Q$7=TRUE,($G16*'Step 3 Product data'!P27*(1-'Emission Calculations'!$F16)),($G16*'Step 3 Product data'!P27))","v":0},{"$f":"IF(R$7=TRUE,($G16*'Step 3 Product data'!Q27*(1-'Emission Calculations'!$F16)),($G16*'Step 3 Product data'!Q27))","v":0},{"$f":"IF(S$7=TRUE,($G16*'Step 3 Product data'!R27*(1-'Emission Calculations'!$F16)),($G16*'Step 3 Product data'!R27))","v":0},{"$f":"IF(T$7=TRUE,($G16*'Step 3 Product data'!S27*(1-'Emission Calculations'!$F16)),($G16*'Step 3 Product data'!S27))","v":0},{"$f":"IF(U$7=TRUE,($G16*'Step 3 Product data'!T27*(1-'Emission Calculations'!$F16)),($G16*'Step 3 Product data'!T27))","v":0},{"$f":"IF(V$7=TRUE,($G16*'Step 3 Product data'!U27*(1-'Emission Calculations'!$F16)),($G16*'Step 3 Product data'!U27))","v":0},{"$f":"IF(W$7=TRUE,($G16*'Step 3 Product data'!V27*(1-'Emission Calculations'!$F16)),($G16*'Step 3 Product data'!V27))","v":0},{"$f":"IF(X$7=TRUE,($G16*'Step 3 Product data'!W27*(1-'Emission Calculations'!$F16)),($G16*'Step 3 Product data'!W27))","v":0},{"$f":"IF(Y$7=TRUE,($G16*'Step 3 Product data'!X27*(1-'Emission Calculations'!$F16)),($G16*'Step 3 Product data'!X27))","v":0},{"$f":"IF('Step 3 Product data'!Y27=0,SUM(AE16:AP16),'Step 3 Product data'!Y27)","v":" "},{"$f":"IF('Step 3 Product data'!Z27=0,SUM(AQ16:BB16),'Step 3 Product data'!Z27)","v":0},{"$f":"IF('Step 3 Product data'!AA27=0,SUM(BC16:BN16),'Step 3 Product data'!AA27)","v":0},{"$f":"IF('Step 3 Product data'!AB27=0,SUM(BO16:BZ16),'Step 3 Product data'!AB27)","v":0},{"$f":"IF('Step 3 Product data'!AC27=0,SUM(CA16:CL16),'Step 3 Product data'!AC27)","v":0},{"$f":"'Step 3 Product data'!AD27","v":0},{"$f":"'Step 3 Product data'!AE27","v":0},{"$f":"'Step 3 Product data'!AF27","v":0},{"$f":"'Step 3 Product data'!AG27","v":0},{"$f":"'Step 3 Product data'!AH27","v":0},{"$f":"'Step 3 Product data'!AI27","v":0},{"$f":"'Step 3 Product data'!AJ27","v":0},{"$f":"'Step 3 Product data'!AK27","v":0},{"$f":"'Step 3 Product data'!AL27","v":0},{"$f":"'Step 3 Product data'!AM27","v":0},{"$f":"'Step 3 Product data'!AN27","v":0},{"$f":"'Step 3 Product data'!AO27","v":0},{"$f":"'Step 3 Product data'!AP27","v":0},{"$f":"'Step 3 Product data'!AQ27","v":0},{"$f":"'Step 3 Product data'!AR27","v":0},{"$f":"'Step 3 Product data'!AS27","v":0},{"$f":"'Step 3 Product data'!AT27","v":0},{"$f":"'Step 3 Product data'!AU27","v":0},{"$f":"'Step 3 Product data'!AV27","v":0},{"$f":"'Step 3 Product data'!AW27","v":0},{"$f":"'Step 3 Product data'!AX27","v":0},{"$f":"'Step 3 Product data'!AY27","v":0},{"$f":"'Step 3 Product data'!AZ27","v":0},{"$f":"'Step 3 Product data'!BA27","v":0},{"$f":"'Step 3 Product data'!BB27","v":0},{"$f":"'Step 3 Product data'!BC27","v":0},{"$f":"'Step 3 Product data'!BD27","v":0},{"$f":"'Step 3 Product data'!BE27","v":0},{"$f":"'Step 3 Product data'!BF27","v":0},{"$f":"'Step 3 Product data'!BG27","v":0},{"$f":"'Step 3 Product data'!BH27","v":0},{"$f":"'Step 3 Product data'!BI27","v":0},{"$f":"'Step 3 Product data'!BJ27","v":0},{"$f":"'Step 3 Product data'!BK27","v":0},{"$f":"'Step 3 Product data'!BL27","v":0},{"$f":"'Step 3 Product data'!BM27","v":0},{"$f":"'Step 3 Product data'!BN27","v":0},{"$f":"'Step 3 Product data'!BO27","v":0},{"$f":"'Step 3 Product data'!BP27","v":0},{"$f":"'Step 3 Product data'!BQ27","v":0},{"$f":"'Step 3 Product data'!BR27","v":0},{"$f":"'Step 3 Product data'!BS27","v":0},{"$f":"'Step 3 Product data'!BT27","v":0},{"$f":"'Step 3 Product data'!BU27","v":0},{"$f":"'Step 3 Product data'!BV27","v":0},{"$f":"'Step 3 Product data'!BW27","v":0},{"$f":"'Step 3 Product data'!BX27","v":0},{"$f":"'Step 3 Product data'!BY27","v":0},{"$f":"'Step 3 Product data'!BZ27","v":0},{"$f":"'Step 3 Product data'!CA27","v":0},{"$f":"'Step 3 Product data'!CB27","v":0},{"$f":"'Step 3 Product data'!CC27","v":0},{"$f":"'Step 3 Product data'!CD27","v":0},{"$f":"'Step 3 Product data'!CE27","v":0},{"$f":"'Step 3 Product data'!CF27","v":0},{"$f":"'Step 3 Product data'!CG27","v":0},{"$f":"'Step 3 Product data'!CH27","v":0},{"$f":"'Step 3 Product data'!CI27","v":0},{"$f":"'Step 3 Product data'!CJ27","v":0},{"$f":"'Step 3 Product data'!CK27","v":0},null,0,0,0,0,0]
[{"$f":"'Step 3 Product data'!A28","v":8},{"$f":"'Step 3 Product data'!B28","v":0},{"$f":"'Step 3 Product data'!C28","v":0},{"$f":"'Step 3 Product data'!D28","v":0},{"$f":"'Step 3 Product data'!E28","v":"Choose one"},{"$f":"IF(E17=$A$88,1,IF(E17='Data Validation'!$B$31,0,IF(E17=$D$81,$E$81,IF(E17=$D$82,$E$82,IF(E17=$D$83,$E$83,IF(E17=$A$89,$E$84,0))))))","v":0},{"$f":"'Step 3 Product data'!F28","v":0},{"$f":"$G17*'Step 3 Product data'!G28","v":0},{"$f":"IF(I$7=TRUE,($G17*'Step 3 Product data'!H28*(1-'Emission Calculations'!$F17)),($G17*'Step 3 Product data'!H28))","v":0},{"$f":"IF(J$7=TRUE,($G17*'Step 3 Product data'!I28*(1-'Emission Calculations'!$F17)),($G17*'Step 3 Product data'!I28))","v":0},{"$f":"IF(K$7=TRUE,($G17*'Step 3 Product data'!J28*(1-'Emission Calculations'!$F17)),($G17*'Step 3 Product data'!J28))","v":0},{"$f":"IF(L$7=TRUE,($G17*'Step 3 Product data'!K28*(1-'Emission Calculations'!$F17)),($G17*'Step 3 Product data'!K28))","v":0},{"$f":"IF(M$7=TRUE,($G17*'Step 3 Product data'!L28*(1-'Emission Calculations'!$F17)),($G17*'Step 3 Product data'!L28))","v":0},{"$f":"IF(N$7=TRUE,($G17*'Step 3 Product data'!M28*(1-'Emission Calculations'!$F17)),($G17*'Step 3 Product data'!M28))","v":0},{"$f":"IF(O$7=TRUE,($G17*'Step 3 Product data'!N28*(1-'Emission Calculations'!$F17)),($G17*'Step 3 Product data'!N28))","v":0},{"$f":"IF(P$7=TRUE,($G17*'Step 3 Product data'!O28*(1-'Emission Calculations'!$F17)),($G17*'Step 3 Product data'!O28))","v":0},{"$f":"IF(Q$7=TRUE,($G17*'Step 3 Product data'!P28*(1-'Emission Calculations'!$F17)),($G17*'Step 3 Product data'!P28))","v":0},{"$f":"IF(R$7=TRUE,($G17*'Step 3 Product data'!Q28*(1-'Emission Calculations'!$F17)),($G17*'Step 3 Product data'!Q28))","v":0},{"$f":"IF(S$7=TRUE,($G17*'Step 3 Product data'!R28*(1-'Emission Calculations'!$F17)),($G17*'Step 3 Product data'!R28))","v":0},{"$f":"IF(T$7=TRUE,($G17*'Step 3 Product data'!S28*(1-'Emission Calculations'!$F17)),($G17*'Step 3 Product data'!S28))","v":0},{"$f":"IF(U$7=TRUE,($G17*'Step 3 Product data'!T28*(1-'Emission Calculations'!$F17)),($G17*'Step 3 Product data'!T28))","v":0},{"$f":"IF(V$7=TRUE,($G17*'Step 3 Product data'!U28*(1-'Emission Calculations'!$F17)),($G17*'Step 3 Product data'!U28))","v":0},{"$f":"IF(W$7=TRUE,($G17*'Step 3 Product data'!V28*(1-'Emission Calculations'!$F17)),($G17*'Step 3 Product data'!V28))","v":0},{"$f":"IF(X$7=TRUE,($G17*'Step 3 Product data'!W28*(1-'Emission Calculations'!$F17)),($G17*'Step 3 Product data'!W28))","v":0},{"$f":"IF(Y$7=TRUE,($G17*'Step 3 Product data'!X28*(1-'Emission Calculations'!$F17)),($G17*'Step 3 Product data'!X28))","v":0},{"$f":"IF('Step 3 Product data'!Y28=0,SUM(AE17:AP17),'Step 3 Product data'!Y28)","v":" "},{"$f":"IF('Step 3 Product data'!Z28=0,SUM(AQ17:BB17),'Step 3 Product data'!Z28)","v":0},{"$f":"IF('Step 3 Product data'!AA28=0,SUM(BC17:BN17),'Step 3 Product data'!AA28)","v":0},{"$f":"IF('Step 3 Product data'!AB28=0,SUM(BO17:BZ17),'Step 3 Product data'!AB28)","v":0},{"$f":"IF('Step 3 Product data'!AC28=0,SUM(CA17:CL17),'Step 3 Product data'!AC28)","v":0},{"$f":"'Step 3 Product data'!AD28","v":0},{"$f":"'Step 3 Product data'!AE28","v":0},{"$f":"'Step 3 Product data'!AF28","v":0},{"$f":"'Step 3 Product data'!AG28","v":0},{"$f":"'Step 3 Product data'!AH28","v":0},{"$f":"'Step 3 Product data'!AI28","v":0},{"$f":"'Step 3 Product data'!AJ28","v":0},{"$f":"'Step 3 Product data'!AK28","v":0},{"$f":"'Step 3 Product data'!AL28","v":0},{"$f":"'Step 3 Product data'!AM28","v":0},{"$f":"'Step 3 Product data'!AN28","v":0},{"$f":"'Step 3 Product data'!AO28","v":0},{"$f":"'Step 3 Product data'!AP28","v":0},{"$f":"'Step 3 Product data'!AQ28","v":0},{"$f":"'Step 3 Product data'!AR28","v":0},{"$f":"'Step 3 Product data'!AS28","v":0},{"$f":"'Step 3 Product data'!AT28","v":0},{"$f":"'Step 3 Product data'!AU28","v":0},{"$f":"'Step 3 Product data'!AV28","v":0},{"$f":"'Step 3 Product data'!AW28","v":0},{"$f":"'Step 3 Product data'!AX28","v":0},{"$f":"'Step 3 Product data'!AY28","v":0},{"$f":"'Step 3 Product data'!AZ28","v":0},{"$f":"'Step 3 Product data'!BA28","v":0},{"$f":"'Step 3 Product data'!BB28","v":0},{"$f":"'Step 3 Product data'!BC28","v":0},{"$f":"'Step 3 Product data'!BD28","v":0},{"$f":"'Step 3 Product data'!BE28","v":0},{"$f":"'Step 3 Product data'!BF28","v":0},{"$f":"'Step 3 Product data'!BG28","v":0},{"$f":"'Step 3 Product data'!BH28","v":0},{"$f":"'Step 3 Product data'!BI28","v":0},{"$f":"'Step 3 Product data'!BJ28","v":0},{"$f":"'Step 3 Product data'!BK28","v":0},{"$f":"'Step 3 Product data'!BL28","v":0},{"$f":"'Step 3 Product data'!BM28","v":0},{"$f":"'Step 3 Product data'!BN28","v":0},{"$f":"'Step 3 Product data'!BO28","v":0},{"$f":"'Step 3 Product data'!BP28","v":0},{"$f":"'Step 3 Product data'!BQ28","v":0},{"$f":"'Step 3 Product data'!BR28","v":0},{"$f":"'Step 3 Product data'!BS28","v":0},{"$f":"'Step 3 Product data'!BT28","v":0},{"$f":"'Step 3 Product data'!BU28","v":0},{"$f":"'Step 3 Product data'!BV28","v":0},{"$f":"'Step 3 Product data'!BW28","v":0},{"$f":"'Step 3 Product data'!BX28","v":0},{"$f":"'Step 3 Product data'!BY28","v":0},{"$f":"'Step 3 Product data'!BZ28","v":0},{"$f":"'Step 3 Product data'!CA28","v":0},{"$f":"'Step 3 Product data'!CB28","v":0},{"$f":"'Step 3 Product data'!CC28","v":0},{"$f":"'Step 3 Product data'!CD28","v":0},{"$f":"'Step 3 Product data'!CE28","v":0},{"$f":"'Step 3 Product data'!CF28","v":0},{"$f":"'Step 3 Product data'!CG28","v":0},{"$f":"'Step 3 Product data'!CH28","v":0},{"$f":"'Step 3 Product data'!CI28","v":0},{"$f":"'Step 3 Product data'!CJ28","v":0},{"$f":"'Step 3 Product data'!CK28","v":0},null,0,0,0,0,0]
[{"$f":"'Step 3 Product data'!A29","v":9},{"$f":"'Step 3 Product data'!B29","v":0},{"$f":"'Step 3 Product data'!C29","v":0},{"$f":"'Step 3 Product data'!D29","v":0},{"$f":"'Step 3 Product data'!E29","v":"Choose one"},{"$f":"IF(E18=$A$88,1,IF(E18='Data Validation'!$B$31,0,IF(E18=$D$81,$E$81,IF(E18=$D$82,$E$82,IF(E18=$D$83,$E$83,IF(E18=$A$89,$E$84,0))))))","v":0},{"$f":"'Step 3 Product data'!F29","v":0},{"$f":"$G18*'Step 3 Product data'!G29","v":0},{"$f":"IF(I$7=TRUE,($G18*'Step 3 Product data'!H29*(1-'Emission Calculations'!$F18)),($G18*'Step 3 Product data'!H29))","v":0},{"$f":"IF(J$7=TRUE,($G18*'Step 3 Product data'!I29*(1-'Emission Calculations'!$F18)),($G18*'Step 3 Product data'!I29))","v":0},{"$f":"IF(K$7=TRUE,($G18*'Step 3 Product data'!J29*(1-'Emission Calculations'!$F18)),($G18*'Step 3 Product data'!J29))","v":0},{"$f":"IF(L$7=TRUE,($G18*'Step 3 Product data'!K29*(1-'Emission Calculations'!$F18)),($G18*'Step 3 Product data'!K29))","v":0},{"$f":"IF(M$7=TRUE,($G18*'Step 3 Product data'!L29*(1-'Emission Calculations'!$F18)),($G18*'Step 3 Product data'!L29))","v":0},{"$f":"IF(N$7=TRUE,($G18*'Step 3 Product data'!M29*(1-'Emission Calculations'!$F18)),($G18*'Step 3 Product data'!M29))","v":0},{"$f":"IF(O$7=TRUE,($G18*'Step 3 Product data'!N29*(1-'Emission Calculations'!$F18)),($G18*'Step 3 Product data'!N29))","v":0},{"$f":"IF(P$7=TRUE,($G18*'Step 3 Product data'!O29*(1-'Emission Calculations'!$F18)),($G18*'Step 3 Product data'!O29))","v":0},{"$f":"IF(Q$7=TRUE,($G18*'Step 3 Product data'!P29*(1-'Emission Calculations'!$F18)),($G18*'Step 3 Product data'!P29))","v":0},{"$f":"IF(R$7=TRUE,($G18*'Step 3 Product data'!Q29*(1-'Emission Calculations'!$F18)),($G18*'Step 3 Product data'!Q29))","v":0},{"$f":"IF(S$7=TRUE,($G18*'Step 3 Product data'!R29*(1-'Emission Calculations'!$F18)),($G18*'Step 3 Product data'!R29))","v":0},{"$f":"IF(T$7=TRUE,($G18*'Step 3 Product data'!S29*(1-'Emission Calculations'!$F18)),($G18*'Step 3 Product data'!S29))","v":0},{"$f":"IF(U$7=TRUE,($G18*'Step 3 Product data'!T29*(1-'Emission Calculations'!$F18)),($G18*'Step 3 Product data'!T29))","v":0},{"$f":"IF(V$7=TRUE,($G18*'Step 3 Product data'!U29*(1-'Emission Calculations'!$F18)),($G18*'Step 3 Product data'!U29))","v":0},{"$f":"IF(W$7=TRUE,($G18*'Step 3 Product data'!V29*(1-'Emission Calculations'!$F18)),($G18*'Step 3 Product data'!V29))","v":0},{"$f":"IF(X$7=TRUE,($G18*'Step 3 Product data'!W29*(1-'Emission Calculations'!$F18)),($G18*'Step 3 Product data'!W29))","v":0},{"$f":"IF(Y$7=TRUE,($G18*'Step 3 Product data'!X29*(1-'Emission Calculations'!$F18)),($G18*'Step 3 Product data'!X29))","v":0},{"$f":"IF('Step 3 Product data'!Y29=0,SUM(AE18:AP18),'Step 3 Product data'!Y29)","v":" "},{"$f":"IF('Step 3 Product data'!Z29=0,SUM(AQ18:BB18),'Step 3 Product data'!Z29)","v":0},{"$f":"IF('Step 3 Product data'!AA29=0,SUM(BC18:BN18),'Step 3 Product data'!AA29)","v":0},{"$f":"IF('Step 3 Product data'!AB29=0,SUM(BO18:BZ18),'Step 3 Product data'!AB29)","v":0},{"$f":"IF('Step 3 Product data'!AC29=0,SUM(CA18:CL18),'Step 3 Product data'!AC29)","v":0},{"$f":"'Step 3 Product data'!AD29","v":0},{"$f":"'Step 3 Product data'!AE29","v":0},{"$f":"'Step 3 Product data'!AF29","v":0},{"$f":"'Step 3 Product data'!AG29","v":0},{"$f":"'Step 3 Product data'!AH29","v":0},{"$f":"'Step 3 Product data'!AI29","v":0},{"$f":"'Step 3 Product data'!AJ29","v":0},{"$f":"'Step 3 Product data'!AK29","v":0},{"$f":"'Step 3 Product data'!AL29","v":0},{"$f":"'Step 3 Product data'!AM29","v":0},{"$f":"'Step 3 Product data'!AN29","v":0},{"$f":"'Step 3 Product data'!AO29","v":0},{"$f":"'Step 3 Product data'!AP29","v":0},{"$f":"'Step 3 Product data'!AQ29","v":0},{"$f":"'Step 3 Product data'!AR29","v":0},{"$f":"'Step 3 Product data'!AS29","v":0},{"$f":"'Step 3 Product data'!AT29","v":0},{"$f":"'Step 3 Product data'!AU29","v":0},{"$f":"'Step 3 Product data'!AV29","v":0},{"$f":"'Step 3 Product data'!AW29","v":0},{"$f":"'Step 3 Product data'!AX29","v":0},{"$f":"'Step 3 Product data'!AY29","v":0},{"$f":"'Step 3 Product data'!AZ29","v":0},{"$f":"'Step 3 Product data'!BA29","v":0},{"$f":"'Step 3 Product data'!BB29","v":0},{"$f":"'Step 3 Product data'!BC29","v":0},{"$f":"'Step 3 Product data'!BD29","v":0},{"$f":"'Step 3 Product data'!BE29","v":0},{"$f":"'Step 3 Product data'!BF29","v":0},{"$f":"'Step 3 Product data'!BG29","v":0},{"$f":"'Step 3 Product data'!BH29","v":0},{"$f":"'Step 3 Product data'!BI29","v":0},{"$f":"'Step 3 Product data'!BJ29","v":0},{"$f":"'Step 3 Product data'!BK29","v":0},{"$f":"'Step 3 Product data'!BL29","v":0},{"$f":"'Step 3 Product data'!BM29","v":0},{"$f":"'Step 3 Product data'!BN29","v":0},{"$f":"'Step 3 Product data'!BO29","v":0},{"$f":"'Step 3 Product data'!BP29","v":0},{"$f":"'Step 3 Product data'!BQ29","v":0},{"$f":"'Step 3 Product data'!BR29","v":0},{"$f":"'Step 3 Product data'!BS29","v":0},{"$f":"'Step 3 Product data'!BT29","v":0},{"$f":"'Step 3 Product data'!BU29","v":0},{"$f":"'Step 3 Product data'!BV29","v":0},{"$f":"'Step 3 Product data'!BW29","v":0},{"$f":"'Step 3 Product data'!BX29","v":0},{"$f":"'Step 3 Product data'!BY29","v":0},{"$f":"'Step 3 Product data'!BZ29","v":0},{"$f":"'Step 3 Product data'!CA29","v":0},{"$f":"'Step 3 Product data'!CB29","v":0},{"$f":"'Step 3 Product data'!CC29","v":0},{"$f":"'Step 3 Product data'!CD29","v":0},{"$f":"'Step 3 Product data'!CE29","v":0},{"$f":"'Step 3 Product data'!CF29","v":0},{"$f":"'Step 3 Product data'!CG29","v":0},{"$f":"'Step 3 Product data'!CH29","v":0},{"$f":"'Step 3 Product data'!CI29","v":0},{"$f":"'Step 3 Product data'!CJ29","v":0},{"$f":"'Step 3 Product data'!CK29","v":0},null,0,0,0,0,0]
[{"$f":"'Step 3 Product data'!A30","v":10},{"$f":"'Step 3 Product data'!B30","v":0},{"$f":"'Step 3 Product data'!C30","v":0},{"$f":"'Step 3 Product data'!D30","v":0},{"$f":"'Step 3 Product data'!E30","v":"Choose one"},{"$f":"IF(E19=$A$88,1,IF(E19='Data Validation'!$B$31,0,IF(E19=$D$81,$E$81,IF(E19=$D$82,$E$82,IF(E19=$D$83,$E$83,IF(E19=$A$89,$E$84,0))))))","v":0},{"$f":"'Step 3 Product data'!F30","v":0},{"$f":"$G19*'Step 3 Product data'!G30","v":0},{"$f":"IF(I$7=TRUE,($G19*'Step 3 Product data'!H30*(1-'Emission Calculations'!$F19)),($G19*'Step 3 Product data'!H30))","v":0},{"$f":"IF(J$7=TRUE,($G19*'Step 3 Product data'!I30*(1-'Emission Calculations'!$F19)),($G19*'Step 3 Product data'!I30))","v":0},{"$f":"IF(K$7=TRUE,($G19*'Step 3 Product data'!J30*(1-'Emission Calculations'!$F19)),($G19*'Step 3 Product data'!J30))","v":0},{"$f":"IF(L$7=TRUE,($G19*'Step 3 Product data'!K30*(1-'Emission Calculations'!$F19)),($G19*'Step 3 Product data'!K30))","v":0},{"$f":"IF(M$7=TRUE,($G19*'Step 3 Product data'!L30*(1-'Emission Calculations'!$F19)),($G19*'Step 3 Product data'!L30))","v":0},{"$f":"IF(N$7=TRUE,($G19*'Step 3 Product data'!M30*(1-'Emission Calculations'!$F19)),($G19*'Step 3 Product data'!M30))","v":0},{"$f":"IF(O$7=TRUE,($G19*'Step 3 Product data'!N30*(1-'Emission Calculations'!$F19)),($G19*'Step 3 Product data'!N30))","v":0},{"$f":"IF(P$7=TRUE,($G19*'Step 3 Product data'!O30*(1-'Emission Calculations'!$F19)),($G19*'Step 3 Product data'!O30))","v":0},{"$f":"IF(Q$7=TRUE,($G19*'Step 3 Product data'!P30*(1-'Emission Calculations'!$F19)),($G19*'Step 3 Product data'!P30))","v":0},{"$f":"IF(R$7=TRUE,($G19*'Step 3 Product data'!Q30*(1-'Emission Calculations'!$F19)),($G19*'Step 3 Product data'!Q30))","v":0},{"$f":"IF(S$7=TRUE,($G19*'Step 3 Product data'!R30*(1-'Emission Calculations'!$F19)),($G19*'Step 3 Product data'!R30))","v":0},{"$f":"IF(T$7=TRUE,($G19*'Step 3 Product data'!S30*(1-'Emission Calculations'!$F19)),($G19*'Step 3 Product data'!S30))","v":0},{"$f":"IF(U$7=TRUE,($G19*'Step 3 Product data'!T30*(1-'Emission Calculations'!$F19)),($G19*'Step 3 Product data'!T30))","v":0},{"$f":"IF(V$7=TRUE,($G19*'Step 3 Product data'!U30*(1-'Emission Calculations'!$F19)),($G19*'Step 3 Product data'!U30))","v":0},{"$f":"IF(W$7=TRUE,($G19*'Step 3 Product data'!V30*(1-'Emission Calculations'!$F19)),($G19*'Step 3 Product data'!V30))","v":0},{"$f":"IF(X$7=TRUE,($G19*'Step 3 Product data'!W30*(1-'Emission Calculations'!$F19)),($G19*'Step 3 Product data'!W30))","v":0},{"$f":"IF(Y$7=TRUE,($G19*'Step 3 Product data'!X30*(1-'Emission Calculations'!$F19)),($G19*'Step 3 Product data'!X30))","v":0},{"$f":"IF('Step 3 Product data'!Y30=0,SUM(AE19:AP19),'Step 3 Product data'!Y30)","v":" "},{"$f":"IF('Step 3 Product data'!Z30=0,SUM(AQ19:BB19),'Step 3 Product data'!Z30)","v":0},{"$f":"IF('Step 3 Product data'!AA30=0,SUM(BC19:BN19),'Step 3 Product data'!AA30)","v":0},{"$f":"IF('Step 3 Product data'!AB30=0,SUM(BO19:BZ19),'Step 3 Product data'!AB30)","v":0},{"$f":"IF('Step 3 Product data'!AC30=0,SUM(CA19:CL19),'Step 3 Product data'!AC30)","v":0},{"$f":"'Step 3 Product data'!AD30","v":0},{"$f":"'Step 3 Product data'!AE30","v":0},{"$f":"'Step 3 Product data'!AF30","v":0},{"$f":"'Step 3 Product data'!AG30","v":0},{"$f":"'Step 3 Product data'!AH30","v":0},{"$f":"'Step 3 Product data'!AI30","v":0},{"$f":"'Step 3 Product data'!AJ30","v":0},{"$f":"'Step 3 Product data'!AK30","v":0},{"$f":"'Step 3 Product data'!AL30","v":0},{"$f":"'Step 3 Product data'!AM30","v":0},{"$f":"'Step 3 Product data'!AN30","v":0},{"$f":"'Step 3 Product data'!AO30","v":0},{"$f":"'Step 3 Product data'!AP30","v":0},{"$f":"'Step 3 Product data'!AQ30","v":0},{"$f":"'Step 3 Product data'!AR30","v":0},{"$f":"'Step 3 Product data'!AS30","v":0},{"$f":"'Step 3 Product data'!AT30","v":0},{"$f":"'Step 3 Product data'!AU30","v":0},{"$f":"'Step 3 Product data'!AV30","v":0},{"$f":"'Step 3 Product data'!AW30","v":0},{"$f":"'Step 3 Product data'!AX30","v":0},{"$f":"'Step 3 Product data'!AY30","v":0},{"$f":"'Step 3 Product data'!AZ30","v":0},{"$f":"'Step 3 Product data'!BA30","v":0},{"$f":"'Step 3 Product data'!BB30","v":0},{"$f":"'Step 3 Product data'!BC30","v":0},{"$f":"'Step 3 Product data'!BD30","v":0},{"$f":"'Step 3 Product data'!BE30","v":0},{"$f":"'Step 3 Product data'!BF30","v":0},{"$f":"'Step 3 Product data'!BG30","v":0},{"$f":"'Step 3 Product data'!BH30","v":0},{"$f":"'Step 3 Product data'!BI30","v":0},{"$f":"'Step 3 Product data'!BJ30","v":0},{"$f":"'Step 3 Product data'!BK30","v":0},{"$f":"'Step 3 Product data'!BL30","v":0},{"$f":"'Step 3 Product data'!BM30","v":0},{"$f":"'Step 3 Product data'!BN30","v":0},{"$f":"'Step 3 Product data'!BO30","v":0},{"$f":"'Step 3 Product data'!BP30","v":0},{"$f":"'Step 3 Product data'!BQ30","v":0},{"$f":"'Step 3 Product data'!BR30","v":0},{"$f":"'Step 3 Product data'!BS30","v":0},{"$f":"'Step 3 Product data'!BT30","v":0},{"$f":"'Step 3 Product data'!BU30","v":0},{"$f":"'Step 3 Product data'!BV30","v":0},{"$f":"'Step 3 Product data'!BW30","v":0},{"$f":"'Step 3 Product data'!BX30","v":0},{"$f":"'Step 3 Product data'!BY30","v":0},{"$f":"'Step 3 Product data'!BZ30","v":0},{"$f":"'Step 3 Product data'!CA30","v":0},{"$f":"'Step 3 Product data'!CB30","v":0},{"$f":"'Step 3 Product data'!CC30","v":0},{"$f":"'Step 3 Product data'!CD30","v":0},{"$f":"'Step 3 Product data'!CE30","v":0},{"$f":"'Step 3 Product data'!CF30","v":0},{"$f":"'Step 3 Product data'!CG30","v":0},{"$f":"'Step 3 Product data'!CH30","v":0},{"$f":"'Step 3 Product data'!CI30","v":0},{"$f":"'Step 3 Product data'!CJ30","v":0},{"$f":"'Step 3 Product data'!CK30","v":0},null,0,0,0,0,0]
[{"$f":"'Step 3 Product data'!A31","v":11},{"$f":"'Step 3 Product data'!B31","v":0},{"$f":"'Step 3 Product data'!C31","v":0},{"$f":"'Step 3 Product data'!D31","v":0},{"$f":"'Step 3 Product data'!E31","v":"Choose one"},{"$f":"IF(E20=$A$88,1,IF(E20='Data Validation'!$B$31,0,IF(E20=$D$81,$E$81,IF(E20=$D$82,$E$82,IF(E20=$D$83,$E$83,IF(E20=$A$89,$E$84,0))))))","v":0},{"$f":"'Step 3 Product data'!F31","v":0},{"$f":"$G20*'Step 3 Product data'!G31","v":0},{"$f":"IF(I$7=TRUE,($G20*'Step 3 Product data'!H31*(1-'Emission Calculations'!$F20)),($G20*'Step 3 Product data'!H31))","v":0},{"$f":"IF(J$7=TRUE,($G20*'Step 3 Product data'!I31*(1-'Emission Calculations'!$F20)),($G20*'Step 3 Product data'!I31))","v":0},{"$f":"IF(K$7=TRUE,($G20*'Step 3 Product data'!J31*(1-'Emission Calculations'!$F20)),($G20*'Step 3 Product data'!J31))","v":0},{"$f":"IF(L$7=TRUE,($G20*'Step 3 Product data'!K31*(1-'Emission Calculations'!$F20)),($G20*'Step 3 Product data'!K31))","v":0},{"$f":"IF(M$7=TRUE,($G20*'Step 3 Product data'!L31*(1-'Emission Calculations'!$F20)),($G20*'Step 3 Product data'!L31))","v":0},{"$f":"IF(N$7=TRUE,($G20*'Step 3 Product data'!M31*(1-'Emission Calculations'!$F20)),($G20*'Step 3 Product data'!M31))","v":0},{"$f":"IF(O$7=TRUE,($G20*'Step 3 Product data'!N31*(1-'Emission Calculations'!$F20)),($G20*'Step 3 Product data'!N31))","v":0},{"$f":"IF(P$7=TRUE,($G20*'Step 3 Product data'!O31*(1-'Emission Calculations'!$F20)),($G20*'Step 3 Product data'!O31))","v":0},{"$f":"IF(Q$7=TRUE,($G20*'Step 3 Product data'!P31*(1-'Emission Calculations'!$F20)),($G20*'Step 3 Product data'!P31))","v":0},{"$f":"IF(R$7=TRUE,($G20*'Step 3 Product data'!Q31*(1-'Emission Calculations'!$F20)),($G20*'Step 3 Product data'!Q31))","v":0},{"$f":"IF(S$7=TRUE,($G20*'Step 3 Product data'!R31*(1-'Emission Calculations'!$F20)),($G20*'Step 3 Product data'!R31))","v":0},{"$f":"IF(T$7=TRUE,($G20*'Step 3 Product data'!S31*(1-'Emission Calculations'!$F20)),($G20*'Step 3 Product data'!S31))","v":0},{"$f":"IF(U$7=TRUE,($G20*'Step 3 Product data'!T31*(1-'Emission Calculations'!$F20)),($G20*'Step 3 Product data'!T31))","v":0},{"$f":"IF(V$7=TRUE,($G20*'Step 3 Product data'!U31*(1-'Emission Calculations'!$F20)),($G20*'Step 3 Product data'!U31))","v":0},{"$f":"IF(W$7=TRUE,($G20*'Step 3 Product data'!V31*(1-'Emission Calculations'!$F20)),($G20*'Step 3 Product data'!V31))","v":0},{"$f":"IF(X$7=TRUE,($G20*'Step 3 Product data'!W31*(1-'Emission Calculations'!$F20)),($G20*'Step 3 Product data'!W31))","v":0},{"$f":"IF(Y$7=TRUE,($G20*'Step 3 Product data'!X31*(1-'Emission Calculations'!$F20)),($G20*'Step 3 Product data'!X31))","v":0},{"$f":"IF('Step 3 Product data'!Y31=0,SUM(AE20:AP20),'Step 3 Product data'!Y31)","v":" "},{"$f":"IF('Step 3 Product data'!Z31=0,SUM(AQ20:BB20),'Step 3 Product data'!Z31)","v":0},{"$f":"IF('Step 3 Product data'!AA31=0,SUM(BC20:BN20),'Step 3 Product data'!AA31)","v":0},{"$f":"IF('Step 3 Product data'!AB31=0,SUM(BO20:BZ20),'Step 3 Product data'!AB31)","v":0},{"$f":"IF('Step 3 Product data'!AC31=0,SUM(CA20:CL20),'Step 3 Product data'!AC31)","v":0},{"$f":"'Step 3 Product data'!AD31","v":0},{"$f":"'Step 3 Product data'!AE31","v":0},{"$f":"'Step 3 Product data'!AF31","v":0},{"$f":"'Step 3 Product data'!AG31","v":0},{"$f":"'Step 3 Product data'!AH31","v":0},{"$f":"'Step 3 Product data'!AI31","v":0},{"$f":"'Step 3 Product data'!AJ31","v":0},{"$f":"'Step 3 Product data'!AK31","v":0},{"$f":"'Step 3 Product data'!AL31","v":0},{"$f":"'Step 3 Product data'!AM31","v":0},{"$f":"'Step 3 Product data'!AN31","v":0},{"$f":"'Step 3 Product data'!AO31","v":0},{"$f":"'Step 3 Product data'!AP31","v":0},{"$f":"'Step 3 Product data'!AQ31","v":0},{"$f":"'Step 3 Product data'!AR31","v":0},{"$f":"'Step 3 Product data'!AS31","v":0},{"$f":"'Step 3 Product data'!AT31","v":0},{"$f":"'Step 3 Product data'!AU31","v":0},{"$f":"'Step 3 Product data'!AV31","v":0},{"$f":"'Step 3 Product data'!AW31","v":0},{"$f":"'Step 3 Product data'!AX31","v":0},{"$f":"'Step 3 Product data'!AY31","v":0},{"$f":"'Step 3 Product data'!AZ31","v":0},{"$f":"'Step 3 Product data'!BA31","v":0},{"$f":"'Step 3 Product data'!BB31","v":0},{"$f":"'Step 3 Product data'!BC31","v":0},{"$f":"'Step 3 Product data'!BD31","v":0},{"$f":"'Step 3 Product data'!BE31","v":0},{"$f":"'Step 3 Product data'!BF31","v":0},{"$f":"'Step 3 Product data'!BG31","v":0},{"$f":"'Step 3 Product data'!BH31","v":0},{"$f":"'Step 3 Product data'!BI31","v":0},{"$f":"'Step 3 Product data'!BJ31","v":0},{"$f":"'Step 3 Product data'!BK31","v":0},{"$f":"'Step 3 Product data'!BL31","v":0},{"$f":"'Step 3 Product data'!BM31","v":0},{"$f":"'Step 3 Product data'!BN31","v":0},{"$f":"'Step 3 Product data'!BO31","v":0},{"$f":"'Step 3 Product data'!BP31","v":0},{"$f":"'Step 3 Product data'!BQ31","v":0},{"$f":"'Step 3 Product data'!BR31","v":0},{"$f":"'Step 3 Product data'!BS31","v":0},{"$f":"'Step 3 Product data'!BT31","v":0},{"$f":"'Step 3 Product data'!BU31","v":0},{"$f":"'Step 3 Product data'!BV31","v":0},{"$f":"'Step 3 Product data'!BW31","v":0},{"$f":"'Step 3 Product data'!BX31","v":0},{"$f":"'Step 3 Product data'!BY31","v":0},{"$f":"'Step 3 Product data'!BZ31","v":0},{"$f":"'Step 3 Product data'!CA31","v":0},{"$f":"'Step 3 Product data'!CB31","v":0},{"$f":"'Step 3 Product data'!CC31","v":0},{"$f":"'Step 3 Product data'!CD31","v":0},{"$f":"'Step 3 Product data'!CE31","v":0},{"$f":"'Step 3 Product data'!CF31","v":0},{"$f":"'Step 3 Product data'!CG31","v":0},{"$f":"'Step 3 Product data'!CH31","v":0},{"$f":"'Step 3 Product data'!CI31","v":0},{"$f":"'Step 3 Product data'!CJ31","v":0},{"$f":"'Step 3 Product data'!CK31","v":0},null,0,0,0,0,0]
[{"$f":"'Step 3 Product data'!A32","v":12},{"$f":"'Step 3 Product data'!B32","v":0},{"$f":"'Step 3 Product data'!C32","v":0},{"$f":"'Step 3 Product data'!D32","v":0},{"$f":"'Step 3 Product data'!E32","v":"Choose one"},{"$f":"IF(E21=$A$88,1,IF(E21='Data Validation'!$B$31,0,IF(E21=$D$81,$E$81,IF(E21=$D$82,$E$82,IF(E21=$D$83,$E$83,IF(E21=$A$89,$E$84,0))))))","v":0},{"$f":"'Step 3 Product data'!F32","v":0},{"$f":"$G21*'Step 3 Product data'!G32","v":0},{"$f":"IF(I$7=TRUE,($G21*'Step 3 Product data'!H32*(1-'Emission Calculations'!$F21)),($G21*'Step 3 Product data'!H32))","v":0},{"$f":"IF(J$7=TRUE,($G21*'Step 3 Product data'!I32*(1-'Emission Calculations'!$F21)),($G21*'Step 3 Product data'!I32))","v":0},{"$f":"IF(K$7=TRUE,($G21*'Step 3 Product data'!J32*(1-'Emission Calculations'!$F21)),($G21*'Step 3 Product data'!J32))","v":0},{"$f":"IF(L$7=TRUE,($G21*'Step 3 Product data'!K32*(1-'Emission Calculations'!$F21)),($G21*'Step 3 Product data'!K32))","v":0},{"$f":"IF(M$7=TRUE,($G21*'Step 3 Product data'!L32*(1-'Emission Calculations'!$F21)),($G21*'Step 3 Product data'!L32))","v":0},{"$f":"IF(N$7=TRUE,($G21*'Step 3 Product data'!M32*(1-'Emission Calculations'!$F21)),($G21*'Step 3 Product data'!M32))","v":0},{"$f":"IF(O$7=TRUE,($G21*'Step 3 Product data'!N32*(1-'Emission Calculations'!$F21)),($G21*'Step 3 Product data'!N32))","v":0},{"$f":"IF(P$7=TRUE,($G21*'Step 3 Product data'!O32*(1-'Emission Calculations'!$F21)),($G21*'Step 3 Product data'!O32))","v":0},{"$f":"IF(Q$7=TRUE,($G21*'Step 3 Product data'!P32*(1-'Emission Calculations'!$F21)),($G21*'Step 3 Product data'!P32))","v":0},{"$f":"IF(R$7=TRUE,($G21*'Step 3 Product data'!Q32*(1-'Emission Calculations'!$F21)),($G21*'Step 3 Product data'!Q32))","v":0},{"$f":"IF(S$7=TRUE,($G21*'Step 3 Product data'!R32*(1-'Emission Calculations'!$F21)),($G21*'Step 3 Product data'!R32))","v":0},{"$f":"IF(T$7=TRUE,($G21*'Step 3 Product data'!S32*(1-'Emission Calculations'!$F21)),($G21*'Step 3 Product data'!S32))","v":0},{"$f":"IF(U$7=TRUE,($G21*'Step 3 Product data'!T32*(1-'Emission Calculations'!$F21)),($G21*'Step 3 Product data'!T32))","v":0},{"$f":"IF(V$7=TRUE,($G21*'Step 3 Product data'!U32*(1-'Emission Calculations'!$F21)),($G21*'Step 3 Product data'!U32))","v":0},{"$f":"IF(W$7=TRUE,($G21*'Step 3 Product data'!V32*(1-'Emission Calculations'!$F21)),($G21*'Step 3 Product data'!V32))","v":0},{"$f":"IF(X$7=TRUE,($G21*'Step 3 Product data'!W32*(1-'Emission Calculations'!$F21)),($G21*'Step 3 Product data'!W32))","v":0},{"$f":"IF(Y$7=TRUE,($G21*'Step 3 Product data'!X32*(1-'Emission Calculations'!$F21)),($G21*'Step 3 Product data'!X32))","v":0},{"$f":"IF('Step 3 Product data'!Y32=0,SUM(AE21:AP21),'Step 3 Product data'!Y32)","v":" "},{"$f":"IF('Step 3 Product data'!Z32=0,SUM(AQ21:BB21),'Step 3 Product data'!Z32)","v":0},{"$f":"IF('Step 3 Product data'!AA32=0,SUM(BC21:BN21),'Step 3 Product data'!AA32)","v":0},{"$f":"IF('Step 3 Product data'!AB32=0,SUM(BO21:BZ21),'Step 3 Product data'!AB32)","v":0},{"$f":"IF('Step 3 Product data'!AC32=0,SUM(CA21:CL21),'Step 3 Product data'!AC32)","v":0},{"$f":"'Step 3 Product data'!AD32","v":0},{"$f":"'Step 3 Product data'!AE32","v":0},{"$f":"'Step 3 Product data'!AF32","v":0},{"$f":"'Step 3 Product data'!AG32","v":0},{"$f":"'Step 3 Product data'!AH32","v":0},{"$f":"'Step 3 Product data'!AI32","v":0},{"$f":"'Step 3 Product data'!AJ32","v":0},{"$f":"'Step 3 Product data'!AK32","v":0},{"$f":"'Step 3 Product data'!AL32","v":0},{"$f":"'Step 3 Product data'!AM32","v":0},{"$f":"'Step 3 Product data'!AN32","v":0},{"$f":"'Step 3 Product data'!AO32","v":0},{"$f":"'Step 3 Product data'!AP32","v":0},{"$f":"'Step 3 Product data'!AQ32","v":0},{"$f":"'Step 3 Product data'!AR32","v":0},{"$f":"'Step 3 Product data'!AS32","v":0},{"$f":"'Step 3 Product data'!AT32","v":0},{"$f":"'Step 3 Product data'!AU32","v":0},{"$f":"'Step 3 Product data'!AV32","v":0},{"$f":"'Step 3 Product data'!AW32","v":0},{"$f":"'Step 3 Product data'!AX32","v":0},{"$f":"'Step 3 Product data'!AY32","v":0},{"$f":"'Step 3 Product data'!AZ32","v":0},{"$f":"'Step 3 Product data'!BA32","v":0},{"$f":"'Step 3 Product data'!BB32","v":0},{"$f":"'Step 3 Product data'!BC32","v":0},{"$f":"'Step 3 Product data'!BD32","v":0},{"$f":"'Step 3 Product data'!BE32","v":0},{"$f":"'Step 3 Product data'!BF32","v":0},{"$f":"'Step 3 Product data'!BG32","v":0},{"$f":"'Step 3 Product data'!BH32","v":0},{"$f":"'Step 3 Product data'!BI32","v":0},{"$f":"'Step 3 Product data'!BJ32","v":0},{"$f":"'Step 3 Product data'!BK32","v":0},{"$f":"'Step 3 Product data'!BL32","v":0},{"$f":"'Step 3 Product data'!BM32","v":0},{"$f":"'Step 3 Product data'!BN32","v":0},{"$f":"'Step 3 Product data'!BO32","v":0},{"$f":"'Step 3 Product data'!BP32","v":0},{"$f":"'Step 3 Product data'!BQ32","v":0},{"$f":"'Step 3 Product data'!BR32","v":0},{"$f":"'Step 3 Product data'!BS32","v":0},{"$f":"'Step 3 Product data'!BT32","v":0},{"$f":"'Step 3 Product data'!BU32","v":0},{"$f":"'Step 3 Product data'!BV32","v":0},{"$f":"'Step 3 Product data'!BW32","v":0},{"$f":"'Step 3 Product data'!BX32","v":0},{"$f":"'Step 3 Product data'!BY32","v":0},{"$f":"'Step 3 Product data'!BZ32","v":0},{"$f":"'Step 3 Product data'!CA32","v":0},{"$f":"'Step 3 Product data'!CB32","v":0},{"$f":"'Step 3 Product data'!CC32","v":0},{"$f":"'Step 3 Product data'!CD32","v":0},{"$f":"'Step 3 Product data'!CE32","v":0},{"$f":"'Step 3 Product data'!CF32","v":0},{"$f":"'Step 3 Product data'!CG32","v":0},{"$f":"'Step 3 Product data'!CH32","v":0},{"$f":"'Step 3 Product data'!CI32","v":0},{"$f":"'Step 3 Product data'!CJ32","v":0},{"$f":"'Step 3 Product data'!CK32","v":0},null,0,0,0,0,0]
[{"$f":"'Step 3 Product data'!A33","v":13},{"$f":"'Step 3 Product data'!B33","v":0},{"$f":"'Step 3 Product data'!C33","v":0},{"$f":"'Step 3 Product data'!D33","v":0},{"$f":"'Step 3 Product data'!E33","v":"Choose one"},{"$f":"IF(E22=$A$88,1,IF(E22='Data Validation'!$B$31,0,IF(E22=$D$81,$E$81,IF(E22=$D$82,$E$82,IF(E22=$D$83,$E$83,IF(E22=$A$89,$E$84,0))))))","v":0},{"$f":"'Step 3 Product data'!F33","v":0},{"$f":"$G22*'Step 3 Product data'!G33","v":0},{"$f":"IF(I$7=TRUE,($G22*'Step 3 Product data'!H33*(1-'Emission Calculations'!$F22)),($G22*'Step 3 Product data'!H33))","v":0},{"$f":"IF(J$7=TRUE,($G22*'Step 3 Product data'!I33*(1-'Emission Calculations'!$F22)),($G22*'Step 3 Product data'!I33))","v":0},{"$f":"IF(K$7=TRUE,($G22*'Step 3 Product data'!J33*(1-'Emission Calculations'!$F22)),($G22*'Step 3 Product data'!J33))","v":0},{"$f":"IF(L$7=TRUE,($G22*'Step 3 Product data'!K33*(1-'Emission Calculations'!$F22)),($G22*'Step 3 Product data'!K33))","v":0},{"$f":"IF(M$7=TRUE,($G22*'Step 3 Product data'!L33*(1-'Emission Calculations'!$F22)),($G22*'Step 3 Product data'!L33))","v":0},{"$f":"IF(N$7=TRUE,($G22*'Step 3 Product data'!M33*(1-'Emission Calculations'!$F22)),($G22*'Step 3 Product data'!M33))","v":0},{"$f":"IF(O$7=TRUE,($G22*'Step 3 Product data'!N33*(1-'Emission Calculations'!$F22)),($G22*'Step 3 Product data'!N33))","v":0},{"$f":"IF(P$7=TRUE,($G22*'Step 3 Product data'!O33*(1-'Emission Calculations'!$F22)),($G22*'Step 3 Product data'!O33))","v":0},{"$f":"IF(Q$7=TRUE,($G22*'Step 3 Product data'!P33*(1-'Emission Calculations'!$F22)),($G22*'Step 3 Product data'!P33))","v":0},{"$f":"IF(R$7=TRUE,($G22*'Step 3 Product data'!Q33*(1-'Emission Calculations'!$F22)),($G22*'Step 3 Product data'!Q33))","v":0},{"$f":"IF(S$7=TRUE,($G22*'Step 3 Product data'!R33*(1-'Emission Calculations'!$F22)),($G22*'Step 3 Product data'!R33))","v":0},{"$f":"IF(T$7=TRUE,($G22*'Step 3 Product data'!S33*(1-'Emission Calculations'!$F22)),($G22*'Step 3 Product data'!S33))","v":0},{"$f":"IF(U$7=TRUE,($G22*'Step 3 Product data'!T33*(1-'Emission Calculations'!$F22)),($G22*'Step 3 Product data'!T33))","v":0},{"$f":"IF(V$7=TRUE,($G22*'Step 3 Product data'!U33*(1-'Emission Calculations'!$F22)),($G22*'Step 3 Product data'!U33))","v":0},{"$f":"IF(W$7=TRUE,($G22*'Step 3 Product data'!V33*(1-'Emission Calculations'!$F22)),($G22*'Step 3 Product data'!V33))","v":0},{"$f":"IF(X$7=TRUE,($G22*'Step 3 Product data'!W33*(1-'Emission Calculations'!$F22)),($G22*'Step 3 Product data'!W33))","v":0},{"$f":"IF(Y$7=TRUE,($G22*'Step 3 Product data'!X33*(1-'Emission Calculations'!$F22)),($G22*'Step 3 Product data'!X33))","v":0},{"$f":"IF('Step 3 Product data'!Y33=0,SUM(AE22:AP22),'Step 3 Product data'!Y33)","v":" "},{"$f":"IF('Step 3 Product data'!Z33=0,SUM(AQ22:BB22),'Step 3 Product data'!Z33)","v":0},{"$f":"IF('Step 3 Product data'!AA33=0,SUM(BC22:BN22),'Step 3 Product data'!AA33)","v":0},{"$f":"IF('Step 3 Product data'!AB33=0,SUM(BO22:BZ22),'Step 3 Product data'!AB33)","v":0},{"$f":"IF('Step 3 Product data'!AC33=0,SUM(CA22:CL22),'Step 3 Product data'!AC33)","v":0},{"$f":"'Step 3 Product data'!AD33","v":0},{"$f":"'Step 3 Product data'!AE33","v":0},{"$f":"'Step 3 Product data'!AF33","v":0},{"$f":"'Step 3 Product data'!AG33","v":0},{"$f":"'Step 3 Product data'!AH33","v":0},{"$f":"'Step 3 Product data'!AI33","v":0},{"$f":"'Step 3 Product data'!AJ33","v":0},{"$f":"'Step 3 Product data'!AK33","v":0},{"$f":"'Step 3 Product data'!AL33","v":0},{"$f":"'Step 3 Product data'!AM33","v":0},{"$f":"'Step 3 Product data'!AN33","v":0},{"$f":"'Step 3 Product data'!AO33","v":0},{"$f":"'Step 3 Product data'!AP33","v":0},{"$f":"'Step 3 Product data'!AQ33","v":0},{"$f":"'Step 3 Product data'!AR33","v":0},{"$f":"'Step 3 Product data'!AS33","v":0},{"$f":"'Step 3 Product data'!AT33","v":0},{"$f":"'Step 3 Product data'!AU33","v":0},{"$f":"'Step 3 Product data'!AV33","v":0},{"$f":"'Step 3 Product data'!AW33","v":0},{"$f":"'Step 3 Product data'!AX33","v":0},{"$f":"'Step 3 Product data'!AY33","v":0},{"$f":"'Step 3 Product data'!AZ33","v":0},{"$f":"'Step 3 Product data'!BA33","v":0},{"$f":"'Step 3 Product data'!BB33","v":0},{"$f":"'Step 3 Product data'!BC33","v":0},{"$f":"'Step 3 Product data'!BD33","v":0},{"$f":"'Step 3 Product data'!BE33","v":0},{"$f":"'Step 3 Product data'!BF33","v":0},{"$f":"'Step 3 Product data'!BG33","v":0},{"$f":"'Step 3 Product data'!BH33","v":0},{"$f":"'Step 3 Product data'!BI33","v":0},{"$f":"'Step 3 Product data'!BJ33","v":0},{"$f":"'Step 3 Product data'!BK33","v":0},{"$f":"'Step 3 Product data'!BL33","v":0},{"$f":"'Step 3 Product data'!BM33","v":0},{"$f":"'Step 3 Product data'!BN33","v":0},{"$f":"'Step 3 Product data'!BO33","v":0},{"$f":"'Step 3 Product data'!BP33","v":0},{"$f":"'Step 3 Product data'!BQ33","v":0},{"$f":"'Step 3 Product data'!BR33","v":0},{"$f":"'Step 3 Product data'!BS33","v":0},{"$f":"'Step 3 Product data'!BT33","v":0},{"$f":"'Step 3 Product data'!BU33","v":0},{"$f":"'Step 3 Product data'!BV33","v":0},{"$f":"'Step 3 Product data'!BW33","v":0},{"$f":"'Step 3 Product data'!BX33","v":0},{"$f":"'Step 3 Product data'!BY33","v":0},{"$f":"'Step 3 Product data'!BZ33","v":0},{"$f":"'Step 3 Product data'!CA33","v":0},{"$f":"'Step 3 Product data'!CB33","v":0},{"$f":"'Step 3 Product data'!CC33","v":0},{"$f":"'Step 3 Product data'!CD33","v":0},{"$f":"'Step 3 Product data'!CE33","v":0},{"$f":"'Step 3 Product data'!CF33","v":0},{"$f":"'Step 3 Product data'!CG33","v":0},{"$f":"'Step 3 Product data'!CH33","v":0},{"$f":"'Step 3 Product data'!CI33","v":0},{"$f":"'Step 3 Product data'!CJ33","v":0},{"$f":"'Step 3 Product data'!CK33","v":0},null,0,0,0,0,0]
[{"$f":"'Step 3 Product data'!A34","v":14},{"$f":"'Step 3 Product data'!B34","v":0},{"$f":"'Step 3 Product data'!C34","v":0},{"$f":"'Step 3 Product data'!D34","v":0},{"$f":"'Step 3 Product data'!E34","v":"Choose one"},{"$f":"IF(E23=$A$88,1,IF(E23='Data Validation'!$B$31,0,IF(E23=$D$81,$E$81,IF(E23=$D$82,$E$82,IF(E23=$D$83,$E$83,IF(E23=$A$89,$E$84,0))))))","v":0},{"$f":"'Step 3 Product data'!F34","v":0},{"$f":"$G23*'Step 3 Product data'!G34","v":0},{"$f":"IF(I$7=TRUE,($G23*'Step 3 Product data'!H34*(1-'Emission Calculations'!$F23)),($G23*'Step 3 Product data'!H34))","v":0},{"$f":"IF(J$7=TRUE,($G23*'Step 3 Product data'!I34*(1-'Emission Calculations'!$F23)),($G23*'Step 3 Product data'!I34))","v":0},{"$f":"IF(K$7=TRUE,($G23*'Step 3 Product data'!J34*(1-'Emission Calculations'!$F23)),($G23*'Step 3 Product data'!J34))","v":0},{"$f":"IF(L$7=TRUE,($G23*'Step 3 Product data'!K34*(1-'Emission Calculations'!$F23)),($G23*'Step 3 Product data'!K34))","v":0},{"$f":"IF(M$7=TRUE,($G23*'Step 3 Product data'!L34*(1-'Emission Calculations'!$F23)),($G23*'Step 3 Product data'!L34))","v":0},{"$f":"IF(N$7=TRUE,($G23*'Step 3 Product data'!M34*(1-'Emission Calculations'!$F23)),($G23*'Step 3 Product data'!M34))","v":0},{"$f":"IF(O$7=TRUE,($G23*'Step 3 Product data'!N34*(1-'Emission Calculations'!$F23)),($G23*'Step 3 Product data'!N34))","v":0},{"$f":"IF(P$7=TRUE,($G23*'Step 3 Product data'!O34*(1-'Emission Calculations'!$F23)),($G23*'Step 3 Product data'!O34))","v":0},{"$f":"IF(Q$7=TRUE,($G23*'Step 3 Product data'!P34*(1-'Emission Calculations'!$F23)),($G23*'Step 3 Product data'!P34))","v":0},{"$f":"IF(R$7=TRUE,($G23*'Step 3 Product data'!Q34*(1-'Emission Calculations'!$F23)),($G23*'Step 3 Product data'!Q34))","v":0},{"$f":"IF(S$7=TRUE,($G23*'Step 3 Product data'!R34*(1-'Emission Calculations'!$F23)),($G23*'Step 3 Product data'!R34))","v":0},{"$f":"IF(T$7=TRUE,($G23*'Step 3 Product data'!S34*(1-'Emission Calculations'!$F23)),($G23*'Step 3 Product data'!S34))","v":0},{"$f":"IF(U$7=TRUE,($G23*'Step 3 Product data'!T34*(1-'Emission Calculations'!$F23)),($G23*'Step 3 Product data'!T34))","v":0},{"$f":"IF(V$7=TRUE,($G23*'Step 3 Product data'!U34*(1-'Emission Calculations'!$F23)),($G23*'Step 3 Product data'!U34))","v":0},{"$f":"IF(W$7=TRUE,($G23*'Step 3 Product data'!V34*(1-'Emission Calculations'!$F23)),($G23*'Step 3 Product data'!V34))","v":0},{"$f":"IF(X$7=TRUE,($G23*'Step 3 Product data'!W34*(1-'Emission Calculations'!$F23)),($G23*'Step 3 Product data'!W34))","v":0},{"$f":"IF(Y$7=TRUE,($G23*'Step 3 Product data'!X34*(1-'Emission Calculations'!$F23)),($G23*'Step 3 Product data'!X34))","v":0},{"$f":"IF('Step 3 Product data'!Y34=0,SUM(AE23:AP23),'Step 3 Product data'!Y34)","v":" "},{"$f":"IF('Step 3 Product data'!Z34=0,SUM(AQ23:BB23),'Step 3 Product data'!Z34)","v":0},{"$f":"IF('Step 3 Product data'!AA34=0,SUM(BC23:BN23),'Step 3 Product data'!AA34)","v":0},{"$f":"IF('Step 3 Product data'!AB34=0,SUM(BO23:BZ23),'Step 3 Product data'!AB34)","v":0},{"$f":"IF('Step 3 Product data'!AC34=0,SUM(CA23:CL23),'Step 3 Product data'!AC34)","v":0},{"$f":"'Step 3 Product data'!AD34","v":0},{"$f":"'Step 3 Product data'!AE34","v":0},{"$f":"'Step 3 Product data'!AF34","v":0},{"$f":"'Step 3 Product data'!AG34","v":0},{"$f":"'Step 3 Product data'!AH34","v":0},{"$f":"'Step 3 Product data'!AI34","v":0},{"$f":"'Step 3 Product data'!AJ34","v":0},{"$f":"'Step 3 Product data'!AK34","v":0},{"$f":"'Step 3 Product data'!AL34","v":0},{"$f":"'Step 3 Product data'!AM34","v":0},{"$f":"'Step 3 Product data'!AN34","v":0},{"$f":"'Step 3 Product data'!AO34","v":0},{"$f":"'Step 3 Product data'!AP34","v":0},{"$f":"'Step 3 Product data'!AQ34","v":0},{"$f":"'Step 3 Product data'!AR34","v":0},{"$f":"'Step 3 Product data'!AS34","v":0},{"$f":"'Step 3 Product data'!AT34","v":0},{"$f":"'Step 3 Product data'!AU34","v":0},{"$f":"'Step 3 Product data'!AV34","v":0},{"$f":"'Step 3 Product data'!AW34","v":0},{"$f":"'Step 3 Product data'!AX34","v":0},{"$f":"'Step 3 Product data'!AY34","v":0},{"$f":"'Step 3 Product data'!AZ34","v":0},{"$f":"'Step 3 Product data'!BA34","v":0},{"$f":"'Step 3 Product data'!BB34","v":0},{"$f":"'Step 3 Product data'!BC34","v":0},{"$f":"'Step 3 Product data'!BD34","v":0},{"$f":"'Step 3 Product data'!BE34","v":0},{"$f":"'Step 3 Product data'!BF34","v":0},{"$f":"'Step 3 Product data'!BG34","v":0},{"$f":"'Step 3 Product data'!BH34","v":0},{"$f":"'Step 3 Product data'!BI34","v":0},{"$f":"'Step 3 Product data'!BJ34","v":0},{"$f":"'Step 3 Product data'!BK34","v":0},{"$f":"'Step 3 Product data'!BL34","v":0},{"$f":"'Step 3 Product data'!BM34","v":0},{"$f":"'Step 3 Product data'!BN34","v":0},{"$f":"'Step 3 Product data'!BO34","v":0},{"$f":"'Step 3 Product data'!BP34","v":0},{"$f":"'Step 3 Product data'!BQ34","v":0},{"$f":"'Step 3 Product data'!BR34","v":0},{"$f":"'Step 3 Product data'!BS34","v":0},{"$f":"'Step 3 Product data'!BT34","v":0},{"$f":"'Step 3 Product data'!BU34","v":0},{"$f":"'Step 3 Product data'!BV34","v":0},{"$f":"'Step 3 Product data'!BW34","v":0},{"$f":"'Step 3 Product data'!BX34","v":0},{"$f":"'Step 3 Product data'!BY34","v":0},{"$f":"'Step 3 Product data'!BZ34","v":0},{"$f":"'Step 3 Product data'!CA34","v":0},{"$f":"'Step 3 Product data'!CB34","v":0},{"$f":"'Step 3 Product data'!CC34","v":0},{"$f":"'Step 3 Product data'!CD34","v":0},{"$f":"'Step 3 Product data'!CE34","v":0},{"$f":"'Step 3 Product data'!CF34","v":0},{"$f":"'Step 3 Product data'!CG34","v":0},{"$f":"'Step 3 Product data'!CH34","v":0},{"$f":"'Step 3 Product data'!CI34","v":0},{"$f":"'Step 3 Product data'!CJ34","v":0},{"$f":"'Step 3 Product data'!CK34","v":0},null,0,0,0,0,0]
[{"$f":"'Step 3 Product data'!A35","v":15},{"$f":"'Step 3 Product data'!B35","v":0},{"$f":"'Step 3 Product data'!C35","v":0},{"$f":"'Step 3 Product data'!D35","v":0},{"$f":"'Step 3 Product data'!E35","v":"Choose one"},{"$f":"IF(E24=$A$88,1,IF(E24='Data Validation'!$B$31,0,IF(E24=$D$81,$E$81,IF(E24=$D$82,$E$82,IF(E24=$D$83,$E$83,IF(E24=$A$89,$E$84,0))))))","v":0},{"$f":"'Step 3 Product data'!F35","v":0},{"$f":"$G24*'Step 3 Product data'!G35","v":0},{"$f":"IF(I$7=TRUE,($G24*'Step 3 Product data'!H35*(1-'Emission Calculations'!$F24)),($G24*'Step 3 Product data'!H35))","v":0},{"$f":"IF(J$7=TRUE,($G24*'Step 3 Product data'!I35*(1-'Emission Calculations'!$F24)),($G24*'Step 3 Product data'!I35))","v":0},{"$f":"IF(K$7=TRUE,($G24*'Step 3 Product data'!J35*(1-'Emission Calculations'!$F24)),($G24*'Step 3 Product data'!J35))","v":0},{"$f":"IF(L$7=TRUE,($G24*'Step 3 Product data'!K35*(1-'Emission Calculations'!$F24)),($G24*'Step 3 Product data'!K35))","v":0},{"$f":"IF(M$7=TRUE,($G24*'Step 3 Product data'!L35*(1-'Emission Calculations'!$F24)),($G24*'Step 3 Product data'!L35))","v":0},{"$f":"IF(N$7=TRUE,($G24*'Step 3 Product data'!M35*(1-'Emission Calculations'!$F24)),($G24*'Step 3 Product data'!M35))","v":0},{"$f":"IF(O$7=TRUE,($G24*'Step 3 Product data'!N35*(1-'Emission Calculations'!$F24)),($G24*'Step 3 Product data'!N35))","v":0},{"$f":"IF(P$7=TRUE,($G24*'Step 3 Product data'!O35*(1-'Emission Calculations'!$F24)),($G24*'Step 3 Product data'!O35))","v":0},{"$f":"IF(Q$7=TRUE,($G24*'Step 3 Product data'!P35*(1-'Emission Calculations'!$F24)),($G24*'Step 3 Product data'!P35))","v":0},{"$f":"IF(R$7=TRUE,($G24*'Step 3 Product data'!Q35*(1-'Emission Calculations'!$F24)),($G24*'Step 3 Product data'!Q35))","v":0},{"$f":"IF(S$7=TRUE,($G24*'Step 3 Product data'!R35*(1-'Emission Calculations'!$F24)),($G24*'Step 3 Product data'!R35))","v":0},{"$f":"IF(T$7=TRUE,($G24*'Step 3 Product data'!S35*(1-'Emission Calculations'!$F24)),($G24*'Step 3 Product data'!S35))","v":0},{"$f":"IF(U$7=TRUE,($G24*'Step 3 Product data'!T35*(1-'Emission Calculations'!$F24)),($G24*'Step 3 Product data'!T35))","v":0},{"$f":"IF(V$7=TRUE,($G24*'Step 3 Product data'!U35*(1-'Emission Calculations'!$F24)),($G24*'Step 3 Product data'!U35))","v":0},{"$f":"IF(W$7=TRUE,($G24*'Step 3 Product data'!V35*(1-'Emission Calculations'!$F24)),($G24*'Step 3 Product data'!V35))","v":0},{"$f":"IF(X$7=TRUE,($G24*'Step 3 Product data'!W35*(1-'Emission Calculations'!$F24)),($G24*'Step 3 Product data'!W35))","v":0},{"$f":"IF(Y$7=TRUE,($G24*'Step 3 Product data'!X35*(1-'Emission Calculations'!$F24)),($G24*'Step 3 Product data'!X35))","v":0},{"$f":"IF('Step 3 Product data'!Y35=0,SUM(AE24:AP24),'Step 3 Product data'!Y35)","v":" "},{"$f":"IF('Step 3 Product data'!Z35=0,SUM(AQ24:BB24),'Step 3 Product data'!Z35)","v":0},{"$f":"IF('Step 3 Product data'!AA35=0,SUM(BC24:BN24),'Step 3 Product data'!AA35)","v":0},{"$f":"IF('Step 3 Product data'!AB35=0,SUM(BO24:BZ24),'Step 3 Product data'!AB35)","v":0},{"$f":"IF('Step 3 Product data'!AC35=0,SUM(CA24:CL24),'Step 3 Product data'!AC35)","v":0},{"$f":"'Step 3 Product data'!AD35","v":0},{"$f":"'Step 3 Product data'!AE35","v":0},{"$f":"'Step 3 Product data'!AF35","v":0},{"$f":"'Step 3 Product data'!AG35","v":0},{"$f":"'Step 3 Product data'!AH35","v":0},{"$f":"'Step 3 Product data'!AI35","v":0},{"$f":"'Step 3 Product data'!AJ35","v":0},{"$f":"'Step 3 Product data'!AK35","v":0},{"$f":"'Step 3 Product data'!AL35","v":0},{"$f":"'Step 3 Product data'!AM35","v":0},{"$f":"'Step 3 Product data'!AN35","v":0},{"$f":"'Step 3 Product data'!AO35","v":0},{"$f":"'Step 3 Product data'!AP35","v":0},{"$f":"'Step 3 Product data'!AQ35","v":0},{"$f":"'Step 3 Product data'!AR35","v":0},{"$f":"'Step 3 Product data'!AS35","v":0},{"$f":"'Step 3 Product data'!AT35","v":0},{"$f":"'Step 3 Product data'!AU35","v":0},{"$f":"'Step 3 Product data'!AV35","v":0},{"$f":"'Step 3 Product data'!AW35","v":0},{"$f":"'Step 3 Product data'!AX35","v":0},{"$f":"'Step 3 Product data'!AY35","v":0},{"$f":"'Step 3 Product data'!AZ35","v":0},{"$f":"'Step 3 Product data'!BA35","v":0},{"$f":"'Step 3 Product data'!BB35","v":0},{"$f":"'Step 3 Product data'!BC35","v":0},{"$f":"'Step 3 Product data'!BD35","v":0},{"$f":"'Step 3 Product data'!BE35","v":0},{"$f":"'Step 3 Product data'!BF35","v":0},{"$f":"'Step 3 Product data'!BG35","v":0},{"$f":"'Step 3 Product data'!BH35","v":0},{"$f":"'Step 3 Product data'!BI35","v":0},{"$f":"'Step 3 Product data'!BJ35","v":0},{"$f":"'Step 3 Product data'!BK35","v":0},{"$f":"'Step 3 Product data'!BL35","v":0},{"$f":"'Step 3 Product data'!BM35","v":0},{"$f":"'Step 3 Product data'!BN35","v":0},{"$f":"'Step 3 Product data'!BO35","v":0},{"$f":"'Step 3 Product data'!BP35","v":0},{"$f":"'Step 3 Product data'!BQ35","v":0},{"$f":"'Step 3 Product data'!BR35","v":0},{"$f":"'Step 3 Product data'!BS35","v":0},{"$f":"'Step 3 Product data'!BT35","v":0},{"$f":"'Step 3 Product data'!BU35","v":0},{"$f":"'Step 3 Product data'!BV35","v":0},{"$f":"'Step 3 Product data'!BW35","v":0},{"$f":"'Step 3 Product data'!BX35","v":0},{"$f":"'Step 3 Product data'!BY35","v":0},{"$f":"'Step 3 Product data'!BZ35","v":0},{"$f":"'Step 3 Product data'!CA35","v":0},{"$f":"'Step 3 Product data'!CB35","v":0},{"$f":"'Step 3 Product data'!CC35","v":0},{"$f":"'Step 3 Product data'!CD35","v":0},{"$f":"'Step 3 Product data'!CE35","v":0},{"$f":"'Step 3 Product data'!CF35","v":0},{"$f":"'Step 3 Product data'!CG35","v":0},{"$f":"'Step 3 Product data'!CH35","v":0},{"$f":"'Step 3 Product data'!CI35","v":0},{"$f":"'Step 3 Product data'!CJ35","v":0},{"$f":"'Step 3 Product data'!CK35","v":0},null,0,0,0,0,0]
[{"$f":"'Step 3 Product data'!A36","v":16},{"$f":"'Step 3 Product data'!B36","v":0},{"$f":"'Step 3 Product data'!C36","v":0},{"$f":"'Step 3 Product data'!D36","v":0},{"$f":"'Step 3 Product data'!E36","v":"Choose one"},{"$f":"IF(E25=$A$88,1,IF(E25='Data Validation'!$B$31,0,IF(E25=$D$81,$E$81,IF(E25=$D$82,$E$82,IF(E25=$D$83,$E$83,IF(E25=$A$89,$E$84,0))))))","v":0},{"$f":"'Step 3 Product data'!F36","v":0},{"$f":"$G25*'Step 3 Product data'!G36","v":0},{"$f":"IF(I$7=TRUE,($G25*'Step 3 Product data'!H36*(1-'Emission Calculations'!$F25)),($G25*'Step 3 Product data'!H36))","v":0},{"$f":"IF(J$7=TRUE,($G25*'Step 3 Product data'!I36*(1-'Emission Calculations'!$F25)),($G25*'Step 3 Product data'!I36))","v":0},{"$f":"IF(K$7=TRUE,($G25*'Step 3 Product data'!J36*(1-'Emission Calculations'!$F25)),($G25*'Step 3 Product data'!J36))","v":0},{"$f":"IF(L$7=TRUE,($G25*'Step 3 Product data'!K36*(1-'Emission Calculations'!$F25)),($G25*'Step 3 Product data'!K36))","v":0},{"$f":"IF(M$7=TRUE,($G25*'Step 3 Product data'!L36*(1-'Emission Calculations'!$F25)),($G25*'Step 3 Product data'!L36))","v":0},{"$f":"IF(N$7=TRUE,($G25*'Step 3 Product data'!M36*(1-'Emission Calculations'!$F25)),($G25*'Step 3 Product data'!M36))","v":0},{"$f":"IF(O$7=TRUE,($G25*'Step 3 Product data'!N36*(1-'Emission Calculations'!$F25)),($G25*'Step 3 Product data'!N36))","v":0},{"$f":"IF(P$7=TRUE,($G25*'Step 3 Product data'!O36*(1-'Emission Calculations'!$F25)),($G25*'Step 3 Product data'!O36))","v":0},{"$f":"IF(Q$7=TRUE,($G25*'Step 3 Product data'!P36*(1-'Emission Calculations'!$F25)),($G25*'Step 3 Product data'!P36))","v":0},{"$f":"IF(R$7=TRUE,($G25*'Step 3 Product data'!Q36*(1-'Emission Calculations'!$F25)),($G25*'Step 3 Product data'!Q36))","v":0},{"$f":"IF(S$7=TRUE,($G25*'Step 3 Product data'!R36*(1-'Emission Calculations'!$F25)),($G25*'Step 3 Product data'!R36))","v":0},{"$f":"IF(T$7=TRUE,($G25*'Step 3 Product data'!S36*(1-'Emission Calculations'!$F25)),($G25*'Step 3 Product data'!S36))","v":0},{"$f":"IF(U$7=TRUE,($G25*'Step 3 Product data'!T36*(1-'Emission Calculations'!$F25)),($G25*'Step 3 Product data'!T36))","v":0},{"$f":"IF(V$7=TRUE,($G25*'Step 3 Product data'!U36*(1-'Emission Calculations'!$F25)),($G25*'Step 3 Product data'!U36))","v":0},{"$f":"IF(W$7=TRUE,($G25*'Step 3 Product data'!V36*(1-'Emission Calculations'!$F25)),($G25*'Step 3 Product data'!V36))","v":0},{"$f":"IF(X$7=TRUE,($G25*'Step 3 Product data'!W36*(1-'Emission Calculations'!$F25)),($G25*'Step 3 Product data'!W36))","v":0},{"$f":"IF(Y$7=TRUE,($G25*'Step 3 Product data'!X36*(1-'Emission Calculations'!$F25)),($G25*'Step 3 Product data'!X36))","v":0},{"$f":"IF('Step 3 Product data'!Y36=0,SUM(AE25:AP25),'Step 3 Product data'!Y36)","v":" "},{"$f":"IF('Step 3 Product data'!Z36=0,SUM(AQ25:BB25),'Step 3 Product data'!Z36)","v":0},{"$f":"IF('Step 3 Product data'!AA36=0,SUM(BC25:BN25),'Step 3 Product data'!AA36)","v":0},{"$f":"IF('Step 3 Product data'!AB36=0,SUM(BO25:BZ25),'Step 3 Product data'!AB36)","v":0},{"$f":"IF('Step 3 Product data'!AC36=0,SUM(CA25:CL25),'Step 3 Product data'!AC36)","v":0},{"$f":"'Step 3 Product data'!AD36","v":0},{"$f":"'Step 3 Product data'!AE36","v":0},{"$f":"'Step 3 Product data'!AF36","v":0},{"$f":"'Step 3 Product data'!AG36","v":0},{"$f":"'Step 3 Product data'!AH36","v":0},{"$f":"'Step 3 Product data'!AI36","v":0},{"$f":"'Step 3 Product data'!AJ36","v":0},{"$f":"'Step 3 Product data'!AK36","v":0},{"$f":"'Step 3 Product data'!AL36","v":0},{"$f":"'Step 3 Product data'!AM36","v":0},{"$f":"'Step 3 Product data'!AN36","v":0},{"$f":"'Step 3 Product data'!AO36","v":0},{"$f":"'Step 3 Product data'!AP36","v":0},{"$f":"'Step 3 Product data'!AQ36","v":0},{"$f":"'Step 3 Product data'!AR36","v":0},{"$f":"'Step 3 Product data'!AS36","v":0},{"$f":"'Step 3 Product data'!AT36","v":0},{"$f":"'Step 3 Product data'!AU36","v":0},{"$f":"'Step 3 Product data'!AV36","v":0},{"$f":"'Step 3 Product data'!AW36","v":0},{"$f":"'Step 3 Product data'!AX36","v":0},{"$f":"'Step 3 Product data'!AY36","v":0},{"$f":"'Step 3 Product data'!AZ36","v":0},{"$f":"'Step 3 Product data'!BA36","v":0},{"$f":"'Step 3 Product data'!BB36","v":0},{"$f":"'Step 3 Product data'!BC36","v":0},{"$f":"'Step 3 Product data'!BD36","v":0},{"$f":"'Step 3 Product data'!BE36","v":0},{"$f":"'Step 3 Product data'!BF36","v":0},{"$f":"'Step 3 Product data'!BG36","v":0},{"$f":"'Step 3 Product data'!BH36","v":0},{"$f":"'Step 3 Product data'!BI36","v":0},{"$f":"'Step 3 Product data'!BJ36","v":0},{"$f":"'Step 3 Product data'!BK36","v":0},{"$f":"'Step 3 Product data'!BL36","v":0},{"$f":"'Step 3 Product data'!BM36","v":0},{"$f":"'Step 3 Product data'!BN36","v":0},{"$f":"'Step 3 Product data'!BO36","v":0},{"$f":"'Step 3 Product data'!BP36","v":0},{"$f":"'Step 3 Product data'!BQ36","v":0},{"$f":"'Step 3 Product data'!BR36","v":0},{"$f":"'Step 3 Product data'!BS36","v":0},{"$f":"'Step 3 Product data'!BT36","v":0},{"$f":"'Step 3 Product data'!BU36","v":0},{"$f":"'Step 3 Product data'!BV36","v":0},{"$f":"'Step 3 Product data'!BW36","v":0},{"$f":"'Step 3 Product data'!BX36","v":0},{"$f":"'Step 3 Product data'!BY36","v":0},{"$f":"'Step 3 Product data'!BZ36","v":0},{"$f":"'Step 3 Product data'!CA36","v":0},{"$f":"'Step 3 Product data'!CB36","v":0},{"$f":"'Step 3 Product data'!CC36","v":0},{"$f":"'Step 3 Product data'!CD36","v":0},{"$f":"'Step 3 Product data'!CE36","v":0},{"$f":"'Step 3 Product data'!CF36","v":0},{"$f":"'Step 3 Product data'!CG36","v":0},{"$f":"'Step 3 Product data'!CH36","v":0},{"$f":"'Step 3 Product data'!CI36","v":0},{"$f":"'Step 3 Product data'!CJ36","v":0},{"$f":"'Step 3 Product data'!CK36","v":0},null,0,0,0,0,0]
[{"$f":"'Step 3 Product data'!A37","v":17},{"$f":"'Step 3 Product data'!B37","v":0},{"$f":"'Step 3 Product data'!C37","v":0},{"$f":"'Step 3 Product data'!D37","v":0},{"$f":"'Step 3 Product data'!E37","v":"Choose one"},{"$f":"IF(E26=$A$88,1,IF(E26='Data Validation'!$B$31,0,IF(E26=$D$81,$E$81,IF(E26=$D$82,$E$82,IF(E26=$D$83,$E$83,IF(E26=$A$89,$E$84,0))))))","v":0},{"$f":"'Step 3 Product data'!F37","v":0},{"$f":"$G26*'Step 3 Product data'!G37","v":0},{"$f":"IF(I$7=TRUE,($G26*'Step 3 Product data'!H37*(1-'Emission Calculations'!$F26)),($G26*'Step 3 Product data'!H37))","v":0},{"$f":"IF(J$7=TRUE,($G26*'Step 3 Product data'!I37*(1-'Emission Calculations'!$F26)),($G26*'Step 3 Product data'!I37))","v":0},{"$f":"IF(K$7=TRUE,($G26*'Step 3 Product data'!J37*(1-'Emission Calculations'!$F26)),($G26*'Step 3 Product data'!J37))","v":0},{"$f":"IF(L$7=TRUE,($G26*'Step 3 Product data'!K37*(1-'Emission Calculations'!$F26)),($G26*'Step 3 Product data'!K37))","v":0},{"$f":"IF(M$7=TRUE,($G26*'Step 3 Product data'!L37*(1-'Emission Calculations'!$F26)),($G26*'Step 3 Product data'!L37))","v":0},{"$f":"IF(N$7=TRUE,($G26*'Step 3 Product data'!M37*(1-'Emission Calculations'!$F26)),($G26*'Step 3 Product data'!M37))","v":0},{"$f":"IF(O$7=TRUE,($G26*'Step 3 Product data'!N37*(1-'Emission Calculations'!$F26)),($G26*'Step 3 Product data'!N37))","v":0},{"$f":"IF(P$7=TRUE,($G26*'Step 3 Product data'!O37*(1-'Emission Calculations'!$F26)),($G26*'Step 3 Product data'!O37))","v":0},{"$f":"IF(Q$7=TRUE,($G26*'Step 3 Product data'!P37*(1-'Emission Calculations'!$F26)),($G26*'Step 3 Product data'!P37))","v":0},{"$f":"IF(R$7=TRUE,($G26*'Step 3 Product data'!Q37*(1-'Emission Calculations'!$F26)),($G26*'Step 3 Product data'!Q37))","v":0},{"$f":"IF(S$7=TRUE,($G26*'Step 3 Product data'!R37*(1-'Emission Calculations'!$F26)),($G26*'Step 3 Product data'!R37))","v":0},{"$f":"IF(T$7=TRUE,($G26*'Step 3 Product data'!S37*(1-'Emission Calculations'!$F26)),($G26*'Step 3 Product data'!S37))","v":0},{"$f":"IF(U$7=TRUE,($G26*'Step 3 Product data'!T37*(1-'Emission Calculations'!$F26)),($G26*'Step 3 Product data'!T37))","v":0},{"$f":"IF(V$7=TRUE,($G26*'Step 3 Product data'!U37*(1-'Emission Calculations'!$F26)),($G26*'Step 3 Product data'!U37))","v":0},{"$f":"IF(W$7=TRUE,($G26*'Step 3 Product data'!V37*(1-'Emission Calculations'!$F26)),($G26*'Step 3 Product data'!V37))","v":0},{"$f":"IF(X$7=TRUE,($G26*'Step 3 Product data'!W37*(1-'Emission Calculations'!$F26)),($G26*'Step 3 Product data'!W37))","v":0},{"$f":"IF(Y$7=TRUE,($G26*'Step 3 Product data'!X37*(1-'Emission Calculations'!$F26)),($G26*'Step 3 Product data'!X37))","v":0},{"$f":"IF('Step 3 Product data'!Y37=0,SUM(AE26:AP26),'Step 3 Product data'!Y37)","v":" "},{"$f":"IF('Step 3 Product data'!Z37=0,SUM(AQ26:BB26),'Step 3 Product data'!Z37)","v":0},{"$f":"IF('Step 3 Product data'!AA37=0,SUM(BC26:BN26),'Step 3 Product data'!AA37)","v":0},{"$f":"IF('Step 3 Product data'!AB37=0,SUM(BO26:BZ26),'Step 3 Product data'!AB37)","v":0},{"$f":"IF('Step 3 Product data'!AC37=0,SUM(CA26:CL26),'Step 3 Product data'!AC37)","v":0},{"$f":"'Step 3 Product data'!AD37","v":0},{"$f":"'Step 3 Product data'!AE37","v":0},{"$f":"'Step 3 Product data'!AF37","v":0},{"$f":"'Step 3 Product data'!AG37","v":0},{"$f":"'Step 3 Product data'!AH37","v":0},{"$f":"'Step 3 Product data'!AI37","v":0},{"$f":"'Step 3 Product data'!AJ37","v":0},{"$f":"'Step 3 Product data'!AK37","v":0},{"$f":"'Step 3 Product data'!AL37","v":0},{"$f":"'Step 3 Product data'!AM37","v":0},{"$f":"'Step 3 Product data'!AN37","v":0},{"$f":"'Step 3 Product data'!AO37","v":0},{"$f":"'Step 3 Product data'!AP37","v":0},{"$f":"'Step 3 Product data'!AQ37","v":0},{"$f":"'Step 3 Product data'!AR37","v":0},{"$f":"'Step 3 Product data'!AS37","v":0},{"$f":"'Step 3 Product data'!AT37","v":0},{"$f":"'Step 3 Product data'!AU37","v":0},{"$f":"'Step 3 Product data'!AV37","v":0},{"$f":"'Step 3 Product data'!AW37","v":0},{"$f":"'Step 3 Product data'!AX37","v":0},{"$f":"'Step 3 Product data'!AY37","v":0},{"$f":"'Step 3 Product data'!AZ37","v":0},{"$f":"'Step 3 Product data'!BA37","v":0},{"$f":"'Step 3 Product data'!BB37","v":0},{"$f":"'Step 3 Product data'!BC37","v":0},{"$f":"'Step 3 Product data'!BD37","v":0},{"$f":"'Step 3 Product data'!BE37","v":0},{"$f":"'Step 3 Product data'!BF37","v":0},{"$f":"'Step 3 Product data'!BG37","v":0},{"$f":"'Step 3 Product data'!BH37","v":0},{"$f":"'Step 3 Product data'!BI37","v":0},{"$f":"'Step 3 Product data'!BJ37","v":0},{"$f":"'Step 3 Product data'!BK37","v":0},{"$f":"'Step 3 Product data'!BL37","v":0},{"$f":"'Step 3 Product data'!BM37","v":0},{"$f":"'Step 3 Product data'!BN37","v":0},{"$f":"'Step 3 Product data'!BO37","v":0},{"$f":"'Step 3 Product data'!BP37","v":0},{"$f":"'Step 3 Product data'!BQ37","v":0},{"$f":"'Step 3 Product data'!BR37","v":0},{"$f":"'Step 3 Product data'!BS37","v":0},{"$f":"'Step 3 Product data'!BT37","v":0},{"$f":"'Step 3 Product data'!BU37","v":0},{"$f":"'Step 3 Product data'!BV37","v":0},{"$f":"'Step 3 Product data'!BW37","v":0},{"$f":"'Step 3 Product data'!BX37","v":0},{"$f":"'Step 3 Product data'!BY37","v":0},{"$f":"'Step 3 Product data'!BZ37","v":0},{"$f":"'Step 3 Product data'!CA37","v":0},{"$f":"'Step 3 Product data'!CB37","v":0},{"$f":"'Step 3 Product data'!CC37","v":0},{"$f":"'Step 3 Product data'!CD37","v":0},{"$f":"'Step 3 Product data'!CE37","v":0},{"$f":"'Step 3 Product data'!CF37","v":0},{"$f":"'Step 3 Product data'!CG37","v":0},{"$f":"'Step 3 Product data'!CH37","v":0},{"$f":"'Step 3 Product data'!CI37","v":0},{"$f":"'Step 3 Product data'!CJ37","v":0},{"$f":"'Step 3 Product data'!CK37","v":0},null,0,0,0,0,0]
[{"$f":"'Step 3 Product data'!A38","v":18},{"$f":"'Step 3 Product data'!B38","v":0},{"$f":"'Step 3 Product data'!C38","v":0},{"$f":"'Step 3 Product data'!D38","v":0},{"$f":"'Step 3 Product data'!E38","v":"Choose one"},{"$f":"IF(E27=$A$88,1,IF(E27='Data Validation'!$B$31,0,IF(E27=$D$81,$E$81,IF(E27=$D$82,$E$82,IF(E27=$D$83,$E$83,IF(E27=$A$89,$E$84,0))))))","v":0},{"$f":"'Step 3 Product data'!F38","v":0},{"$f":"$G27*'Step 3 Product data'!G38","v":0},{"$f":"IF(I$7=TRUE,($G27*'Step 3 Product data'!H38*(1-'Emission Calculations'!$F27)),($G27*'Step 3 Product data'!H38))","v":0},{"$f":"IF(J$7=TRUE,($G27*'Step 3 Product data'!I38*(1-'Emission Calculations'!$F27)),($G27*'Step 3 Product data'!I38))","v":0},{"$f":"IF(K$7=TRUE,($G27*'Step 3 Product data'!J38*(1-'Emission Calculations'!$F27)),($G27*'Step 3 Product data'!J38))","v":0},{"$f":"IF(L$7=TRUE,($G27*'Step 3 Product data'!K38*(1-'Emission Calculations'!$F27)),($G27*'Step 3 Product data'!K38))","v":0},{"$f":"IF(M$7=TRUE,($G27*'Step 3 Product data'!L38*(1-'Emission Calculations'!$F27)),($G27*'Step 3 Product data'!L38))","v":0},{"$f":"IF(N$7=TRUE,($G27*'Step 3 Product data'!M38*(1-'Emission Calculations'!$F27)),($G27*'Step 3 Product data'!M38))","v":0},{"$f":"IF(O$7=TRUE,($G27*'Step 3 Product data'!N38*(1-'Emission Calculations'!$F27)),($G27*'Step 3 Product data'!N38))","v":0},{"$f":"IF(P$7=TRUE,($G27*'Step 3 Product data'!O38*(1-'Emission Calculations'!$F27)),($G27*'Step 3 Product data'!O38))","v":0},{"$f":"IF(Q$7=TRUE,($G27*'Step 3 Product data'!P38*(1-'Emission Calculations'!$F27)),($G27*'Step 3 Product data'!P38))","v":0},{"$f":"IF(R$7=TRUE,($G27*'Step 3 Product data'!Q38*(1-'Emission Calculations'!$F27)),($G27*'Step 3 Product data'!Q38))","v":0},{"$f":"IF(S$7=TRUE,($G27*'Step 3 Product data'!R38*(1-'Emission Calculations'!$F27)),($G27*'Step 3 Product data'!R38))","v":0},{"$f":"IF(T$7=TRUE,($G27*'Step 3 Product data'!S38*(1-'Emission Calculations'!$F27)),($G27*'Step 3 Product data'!S38))","v":0},{"$f":"IF(U$7=TRUE,($G27*'Step 3 Product data'!T38*(1-'Emission Calculations'!$F27)),($G27*'Step 3 Product data'!T38))","v":0},{"$f":"IF(V$7=TRUE,($G27*'Step 3 Product data'!U38*(1-'Emission Calculations'!$F27)),($G27*'Step 3 Product data'!U38))","v":0},{"$f":"IF(W$7=TRUE,($G27*'Step 3 Product data'!V38*(1-'Emission Calculations'!$F27)),($G27*'Step 3 Product data'!V38))","v":0},{"$f":"IF(X$7=TRUE,($G27*'Step 3 Product data'!W38*(1-'Emission Calculations'!$F27)),($G27*'Step 3 Product data'!W38))","v":0},{"$f":"IF(Y$7=TRUE,($G27*'Step 3 Product data'!X38*(1-'Emission Calculations'!$F27)),($G27*'Step 3 Product data'!X38))","v":0},{"$f":"IF('Step 3 Product data'!Y38=0,SUM(AE27:AP27),'Step 3 Product data'!Y38)","v":" "},{"$f":"IF('Step 3 Product data'!Z38=0,SUM(AQ27:BB27),'Step 3 Product data'!Z38)","v":0},{"$f":"IF('Step 3 Product data'!AA38=0,SUM(BC27:BN27),'Step 3 Product data'!AA38)","v":0},{"$f":"IF('Step 3 Product data'!AB38=0,SUM(BO27:BZ27),'Step 3 Product data'!AB38)","v":0},{"$f":"IF('Step 3 Product data'!AC38=0,SUM(CA27:CL27),'Step 3 Product data'!AC38)","v":0},{"$f":"'Step 3 Product data'!AD38","v":0},{"$f":"'Step 3 Product data'!AE38","v":0},{"$f":"'Step 3 Product data'!AF38","v":0},{"$f":"'Step 3 Product data'!AG38","v":0},{"$f":"'Step 3 Product data'!AH38","v":0},{"$f":"'Step 3 Product data'!AI38","v":0},{"$f":"'Step 3 Product data'!AJ38","v":0},{"$f":"'Step 3 Product data'!AK38","v":0},{"$f":"'Step 3 Product data'!AL38","v":0},{"$f":"'Step 3 Product data'!AM38","v":0},{"$f":"'Step 3 Product data'!AN38","v":0},{"$f":"'Step 3 Product data'!AO38","v":0},{"$f":"'Step 3 Product data'!AP38","v":0},{"$f":"'Step 3 Product data'!AQ38","v":0},{"$f":"'Step 3 Product data'!AR38","v":0},{"$f":"'Step 3 Product data'!AS38","v":0},{"$f":"'Step 3 Product data'!AT38","v":0},{"$f":"'Step 3 Product data'!AU38","v":0},{"$f":"'Step 3 Product data'!AV38","v":0},{"$f":"'Step 3 Product data'!AW38","v":0},{"$f":"'Step 3 Product data'!AX38","v":0},{"$f":"'Step 3 Product data'!AY38","v":0},{"$f":"'Step 3 Product data'!AZ38","v":0},{"$f":"'Step 3 Product data'!BA38","v":0},{"$f":"'Step 3 Product data'!BB38","v":0},{"$f":"'Step 3 Product data'!BC38","v":0},{"$f":"'Step 3 Product data'!BD38","v":0},{"$f":"'Step 3 Product data'!BE38","v":0},{"$f":"'Step 3 Product data'!BF38","v":0},{"$f":"'Step 3 Product data'!BG38","v":0},{"$f":"'Step 3 Product data'!BH38","v":0},{"$f":"'Step 3 Product data'!BI38","v":0},{"$f":"'Step 3 Product data'!BJ38","v":0},{"$f":"'Step 3 Product data'!BK38","v":0},{"$f":"'Step 3 Product data'!BL38","v":0},{"$f":"'Step 3 Product data'!BM38","v":0},{"$f":"'Step 3 Product data'!BN38","v":0},{"$f":"'Step 3 Product data'!BO38","v":0},{"$f":"'Step 3 Product data'!BP38","v":0},{"$f":"'Step 3 Product data'!BQ38","v":0},{"$f":"'Step 3 Product data'!BR38","v":0},{"$f":"'Step 3 Product data'!BS38","v":0},{"$f":"'Step 3 Product data'!BT38","v":0},{"$f":"'Step 3 Product data'!BU38","v":0},{"$f":"'Step 3 Product data'!BV38","v":0},{"$f":"'Step 3 Product data'!BW38","v":0},{"$f":"'Step 3 Product data'!BX38","v":0},{"$f":"'Step 3 Product data'!BY38","v":0},{"$f":"'Step 3 Product data'!BZ38","v":0},{"$f":"'Step 3 Product data'!CA38","v":0},{"$f":"'Step 3 Product data'!CB38","v":0},{"$f":"'Step 3 Product data'!CC38","v":0},{"$f":"'Step 3 Product data'!CD38","v":0},{"$f":"'Step 3 Product data'!CE38","v":0},{"$f":"'Step 3 Product data'!CF38","v":0},{"$f":"'Step 3 Product data'!CG38","v":0},{"$f":"'Step 3 Product data'!CH38","v":0},{"$f":"'Step 3 Product data'!CI38","v":0},{"$f":"'Step 3 Product data'!CJ38","v":0},{"$f":"'Step 3 Product data'!CK38","v":0},null,0,0,0,0,0]
[{"$f":"'Step 3 Product data'!A39","v":19},{"$f":"'Step 3 Product data'!B39","v":0},{"$f":"'Step 3 Product data'!C39","v":0},{"$f":"'Step 3 Product data'!D39","v":0},{"$f":"'Step 3 Product data'!E39","v":"Choose one"},{"$f":"IF(E28=$A$88,1,IF(E28='Data Validation'!$B$31,0,IF(E28=$D$81,$E$81,IF(E28=$D$82,$E$82,IF(E28=$D$83,$E$83,IF(E28=$A$89,$E$84,0))))))","v":0},{"$f":"'Step 3 Product data'!F39","v":0},{"$f":"$G28*'Step 3 Product data'!G39","v":0},{"$f":"IF(I$7=TRUE,($G28*'Step 3 Product data'!H39*(1-'Emission Calculations'!$F28)),($G28*'Step 3 Product data'!H39))","v":0},{"$f":"IF(J$7=TRUE,($G28*'Step 3 Product data'!I39*(1-'Emission Calculations'!$F28)),($G28*'Step 3 Product data'!I39))","v":0},{"$f":"IF(K$7=TRUE,($G28*'Step 3 Product data'!J39*(1-'Emission Calculations'!$F28)),($G28*'Step 3 Product data'!J39))","v":0},{"$f":"IF(L$7=TRUE,($G28*'Step 3 Product data'!K39*(1-'Emission Calculations'!$F28)),($G28*'Step 3 Product data'!K39))","v":0},{"$f":"IF(M$7=TRUE,($G28*'Step 3 Product data'!L39*(1-'Emission Calculations'!$F28)),($G28*'Step 3 Product data'!L39))","v":0},{"$f":"IF(N$7=TRUE,($G28*'Step 3 Product data'!M39*(1-'Emission Calculations'!$F28)),($G28*'Step 3 Product data'!M39))","v":0},{"$f":"IF(O$7=TRUE,($G28*'Step 3 Product data'!N39*(1-'Emission Calculations'!$F28)),($G28*'Step 3 Product data'!N39))","v":0},{"$f":"IF(P$7=TRUE,($G28*'Step 3 Product data'!O39*(1-'Emission Calculations'!$F28)),($G28*'Step 3 Product data'!O39))","v":0},{"$f":"IF(Q$7=TRUE,($G28*'Step 3 Product data'!P39*(1-'Emission Calculations'!$F28)),($G28*'Step 3 Product data'!P39))","v":0},{"$f":"IF(R$7=TRUE,($G28*'Step 3 Product data'!Q39*(1-'Emission Calculations'!$F28)),($G28*'Step 3 Product data'!Q39))","v":0},{"$f":"IF(S$7=TRUE,($G28*'Step 3 Product data'!R39*(1-'Emission Calculations'!$F28)),($G28*'Step 3 Product data'!R39))","v":0},{"$f":"IF(T$7=TRUE,($G28*'Step 3 Product data'!S39*(1-'Emission Calculations'!$F28)),($G28*'Step 3 Product data'!S39))","v":0},{"$f":"IF(U$7=TRUE,($G28*'Step 3 Product data'!T39*(1-'Emission Calculations'!$F28)),($G28*'Step 3 Product data'!T39))","v":0},{"$f":"IF(V$7=TRUE,($G28*'Step 3 Product data'!U39*(1-'Emission Calculations'!$F28)),($G28*'Step 3 Product data'!U39))","v":0},{"$f":"IF(W$7=TRUE,($G28*'Step 3 Product data'!V39*(1-'Emission Calculations'!$F28)),($G28*'Step 3 Product data'!V39))","v":0},{"$f":"IF(X$7=TRUE,($G28*'Step 3 Product data'!W39*(1-'Emission Calculations'!$F28)),($G28*'Step 3 Product data'!W39))","v":0},{"$f":"IF(Y$7=TRUE,($G28*'Step 3 Product data'!X39*(1-'Emission Calculations'!$F28)),($G28*'Step 3 Product data'!X39))","v":0},{"$f":"IF('Step 3 Product data'!Y39=0,SUM(AE28:AP28),'Step 3 Product data'!Y39)","v":" "},{"$f":"IF('Step 3 Product data'!Z39=0,SUM(AQ28:BB28),'Step 3 Product data'!Z39)","v":0},{"$f":"IF('Step 3 Product data'!AA39=0,SUM(BC28:BN28),'Step 3 Product data'!AA39)","v":0},{"$f":"IF('Step 3 Product data'!AB39=0,SUM(BO28:BZ28),'Step 3 Product data'!AB39)","v":0},{"$f":"IF('Step 3 Product data'!AC39=0,SUM(CA28:CL28),'Step 3 Product data'!AC39)","v":0},{"$f":"'Step 3 Product data'!AD39","v":0},{"$f":"'Step 3 Product data'!AE39","v":0},{"$f":"'Step 3 Product data'!AF39","v":0},{"$f":"'Step 3 Product data'!AG39","v":0},{"$f":"'Step 3 Product data'!AH39","v":0},{"$f":"'Step 3 Product data'!AI39","v":0},{"$f":"'Step 3 Product data'!AJ39","v":0},{"$f":"'Step 3 Product data'!AK39","v":0},{"$f":"'Step 3 Product data'!AL39","v":0},{"$f":"'Step 3 Product data'!AM39","v":0},{"$f":"'Step 3 Product data'!AN39","v":0},{"$f":"'Step 3 Product data'!AO39","v":0},{"$f":"'Step 3 Product data'!AP39","v":0},{"$f":"'Step 3 Product data'!AQ39","v":0},{"$f":"'Step 3 Product data'!AR39","v":0},{"$f":"'Step 3 Product data'!AS39","v":0},{"$f":"'Step 3 Product data'!AT39","v":0},{"$f":"'Step 3 Product data'!AU39","v":0},{"$f":"'Step 3 Product data'!AV39","v":0},{"$f":"'Step 3 Product data'!AW39","v":0},{"$f":"'Step 3 Product data'!AX39","v":0},{"$f":"'Step 3 Product data'!AY39","v":0},{"$f":"'Step 3 Product data'!AZ39","v":0},{"$f":"'Step 3 Product data'!BA39","v":0},{"$f":"'Step 3 Product data'!BB39","v":0},{"$f":"'Step 3 Product data'!BC39","v":0},{"$f":"'Step 3 Product data'!BD39","v":0},{"$f":"'Step 3 Product data'!BE39","v":0},{"$f":"'Step 3 Product data'!BF39","v":0},{"$f":"'Step 3 Product data'!BG39","v":0},{"$f":"'Step 3 Product data'!BH39","v":0},{"$f":"'Step 3 Product data'!BI39","v":0},{"$f":"'Step 3 Product data'!BJ39","v":0},{"$f":"'Step 3 Product data'!BK39","v":0},{"$f":"'Step 3 Product data'!BL39","v":0},{"$f":"'Step 3 Product data'!BM39","v":0},{"$f":"'Step 3 Product data'!BN39","v":0},{"$f":"'Step 3 Product data'!BO39","v":0},{"$f":"'Step 3 Product data'!BP39","v":0},{"$f":"'Step 3 Product data'!BQ39","v":0},{"$f":"'Step 3 Product data'!BR39","v":0},{"$f":"'Step 3 Product data'!BS39","v":0},{"$f":"'Step 3 Product data'!BT39","v":0},{"$f":"'Step 3 Product data'!BU39","v":0},{"$f":"'Step 3 Product data'!BV39","v":0},{"$f":"'Step 3 Product data'!BW39","v":0},{"$f":"'Step 3 Product data'!BX39","v":0},{"$f":"'Step 3 Product data'!BY39","v":0},{"$f":"'Step 3 Product data'!BZ39","v":0},{"$f":"'Step 3 Product data'!CA39","v":0},{"$f":"'Step 3 Product data'!CB39","v":0},{"$f":"'Step 3 Product data'!CC39","v":0},{"$f":"'Step 3 Product data'!CD39","v":0},{"$f":"'Step 3 Product data'!CE39","v":0},{"$f":"'Step 3 Product data'!CF39","v":0},{"$f":"'Step 3 Product data'!CG39","v":0},{"$f":"'Step 3 Product data'!CH39","v":0},{"$f":"'Step 3 Product data'!CI39","v":0},{"$f":"'Step 3 Product data'!CJ39","v":0},{"$f":"'Step 3 Product data'!CK39","v":0},null,0,0,0,0,0]
[{"$f":"'Step 3 Product data'!A40","v":20},{"$f":"'Step 3 Product data'!B40","v":0},{"$f":"'Step 3 Product data'!C40","v":0},{"$f":"'Step 3 Product data'!D40","v":0},{"$f":"'Step 3 Product data'!E40","v":"Choose one"},{"$f":"IF(E29=$A$88,1,IF(E29='Data Validation'!$B$31,0,IF(E29=$D$81,$E$81,IF(E29=$D$82,$E$82,IF(E29=$D$83,$E$83,IF(E29=$A$89,$E$84,0))))))","v":0},{"$f":"'Step 3 Product data'!F40","v":0},{"$f":"$G29*'Step 3 Product data'!G40","v":0},{"$f":"IF(I$7=TRUE,($G29*'Step 3 Product data'!H40*(1-'Emission Calculations'!$F29)),($G29*'Step 3 Product data'!H40))","v":0},{"$f":"IF(J$7=TRUE,($G29*'Step 3 Product data'!I40*(1-'Emission Calculations'!$F29)),($G29*'Step 3 Product data'!I40))","v":0},{"$f":"IF(K$7=TRUE,($G29*'Step 3 Product data'!J40*(1-'Emission Calculations'!$F29)),($G29*'Step 3 Product data'!J40))","v":0},{"$f":"IF(L$7=TRUE,($G29*'Step 3 Product data'!K40*(1-'Emission Calculations'!$F29)),($G29*'Step 3 Product data'!K40))","v":0},{"$f":"IF(M$7=TRUE,($G29*'Step 3 Product data'!L40*(1-'Emission Calculations'!$F29)),($G29*'Step 3 Product data'!L40))","v":0},{"$f":"IF(N$7=TRUE,($G29*'Step 3 Product data'!M40*(1-'Emission Calculations'!$F29)),($G29*'Step 3 Product data'!M40))","v":0},{"$f":"IF(O$7=TRUE,($G29*'Step 3 Product data'!N40*(1-'Emission Calculations'!$F29)),($G29*'Step 3 Product data'!N40))","v":0},{"$f":"IF(P$7=TRUE,($G29*'Step 3 Product data'!O40*(1-'Emission Calculations'!$F29)),($G29*'Step 3 Product data'!O40))","v":0},{"$f":"IF(Q$7=TRUE,($G29*'Step 3 Product data'!P40*(1-'Emission Calculations'!$F29)),($G29*'Step 3 Product data'!P40))","v":0},{"$f":"IF(R$7=TRUE,($G29*'Step 3 Product data'!Q40*(1-'Emission Calculations'!$F29)),($G29*'Step 3 Product data'!Q40))","v":0},{"$f":"IF(S$7=TRUE,($G29*'Step 3 Product data'!R40*(1-'Emission Calculations'!$F29)),($G29*'Step 3 Product data'!R40))","v":0},{"$f":"IF(T$7=TRUE,($G29*'Step 3 Product data'!S40*(1-'Emission Calculations'!$F29)),($G29*'Step 3 Product data'!S40))","v":0},{"$f":"IF(U$7=TRUE,($G29*'Step 3 Product data'!T40*(1-'Emission Calculations'!$F29)),($G29*'Step 3 Product data'!T40))","v":0},{"$f":"IF(V$7=TRUE,($G29*'Step 3 Product data'!U40*(1-'Emission Calculations'!$F29)),($G29*'Step 3 Product data'!U40))","v":0},{"$f":"IF(W$7=TRUE,($G29*'Step 3 Product data'!V40*(1-'Emission Calculations'!$F29)),($G29*'Step 3 Product data'!V40))","v":0},{"$f":"IF(X$7=TRUE,($G29*'Step 3 Product data'!W40*(1-'Emission Calculations'!$F29)),($G29*'Step 3 Product data'!W40))","v":0},{"$f":"IF(Y$7=TRUE,($G29*'Step 3 Product data'!X40*(1-'Emission Calculations'!$F29)),($G29*'Step 3 Product data'!X40))","v":0},{"$f":"IF('Step 3 Product data'!Y40=0,SUM(AE29:AP29),'Step 3 Product data'!Y40)","v":" "},{"$f":"IF('Step 3 Product data'!Z40=0,SUM(AQ29:BB29),'Step 3 Product data'!Z40)","v":0},{"$f":"IF('Step 3 Product data'!AA40=0,SUM(BC29:BN29),'Step 3 Product data'!AA40)","v":0},{"$f":"IF('Step 3 Product data'!AB40=0,SUM(BO29:BZ29),'Step 3 Product data'!AB40)","v":0},{"$f":"IF('Step 3 Product data'!AC40=0,SUM(CA29:CL29),'Step 3 Product data'!AC40)","v":0},{"$f":"'Step 3 Product data'!AD40","v":0},{"$f":"'Step 3 Product data'!AE40","v":0},{"$f":"'Step 3 Product data'!AF40","v":0},{"$f":"'Step 3 Product data'!AG40","v":0},{"$f":"'Step 3 Product data'!AH40","v":0},{"$f":"'Step 3 Product data'!AI40","v":0},{"$f":"'Step 3 Product data'!AJ40","v":0},{"$f":"'Step 3 Product data'!AK40","v":0},{"$f":"'Step 3 Product data'!AL40","v":0},{"$f":"'Step 3 Product data'!AM40","v":0},{"$f":"'Step 3 Product data'!AN40","v":0},{"$f":"'Step 3 Product data'!AO40","v":0},{"$f":"'Step 3 Product data'!AP40","v":0},{"$f":"'Step 3 Product data'!AQ40","v":0},{"$f":"'Step 3 Product data'!AR40","v":0},{"$f":"'Step 3 Product data'!AS40","v":0},{"$f":"'Step 3 Product data'!AT40","v":0},{"$f":"'Step 3 Product data'!AU40","v":0},{"$f":"'Step 3 Product data'!AV40","v":0},{"$f":"'Step 3 Product data'!AW40","v":0},{"$f":"'Step 3 Product data'!AX40","v":0},{"$f":"'Step 3 Product data'!AY40","v":0},{"$f":"'Step 3 Product data'!AZ40","v":0},{"$f":"'Step 3 Product data'!BA40","v":0},{"$f":"'Step 3 Product data'!BB40","v":0},{"$f":"'Step 3 Product data'!BC40","v":0},{"$f":"'Step 3 Product data'!BD40","v":0},{"$f":"'Step 3 Product data'!BE40","v":0},{"$f":"'Step 3 Product data'!BF40","v":0},{"$f":"'Step 3 Product data'!BG40","v":0},{"$f":"'Step 3 Product data'!BH40","v":0},{"$f":"'Step 3 Product data'!BI40","v":0},{"$f":"'Step 3 Product data'!BJ40","v":0},{"$f":"'Step 3 Product data'!BK40","v":0},{"$f":"'Step 3 Product data'!BL40","v":0},{"$f":"'Step 3 Product data'!BM40","v":0},{"$f":"'Step 3 Product data'!BN40","v":0},{"$f":"'Step 3 Product data'!BO40","v":0},{"$f":"'Step 3 Product data'!BP40","v":0},{"$f":"'Step 3 Product data'!BQ40","v":0},{"$f":"'Step 3 Product data'!BR40","v":0},{"$f":"'Step 3 Product data'!BS40","v":0},{"$f":"'Step 3 Product data'!BT40","v":0},{"$f":"'Step 3 Product data'!BU40","v":0},{"$f":"'Step 3 Product data'!BV40","v":0},{"$f":"'Step 3 Product data'!BW40","v":0},{"$f":"'Step 3 Product data'!BX40","v":0},{"$f":"'Step 3 Product data'!BY40","v":0},{"$f":"'Step 3 Product data'!BZ40","v":0},{"$f":"'Step 3 Product data'!CA40","v":0},{"$f":"'Step 3 Product data'!CB40","v":0},{"$f":"'Step 3 Product data'!CC40","v":0},{"$f":"'Step 3 Product data'!CD40","v":0},{"$f":"'Step 3 Product data'!CE40","v":0},{"$f":"'Step 3 Product data'!CF40","v":0},{"$f":"'Step 3 Product data'!CG40","v":0},{"$f":"'Step 3 Product data'!CH40","v":0},{"$f":"'Step 3 Product data'!CI40","v":0},{"$f":"'Step 3 Product data'!CJ40","v":0},{"$f":"'Step 3 Product data'!CK40","v":0},null,0,0,0,0,0]
[{"$f":"'Step 3 Product data'!A41","v":21},{"$f":"'Step 3 Product data'!B41","v":0},{"$f":"'Step 3 Product data'!C41","v":0},{"$f":"'Step 3 Product data'!D41","v":0},{"$f":"'Step 3 Product data'!E41","v":"Choose one"},{"$f":"IF(E30=$A$88,1,IF(E30='Data Validation'!$B$31,0,IF(E30=$D$81,$E$81,IF(E30=$D$82,$E$82,IF(E30=$D$83,$E$83,IF(E30=$A$89,$E$84,0))))))","v":0},{"$f":"'Step 3 Product data'!F41","v":0},{"$f":"$G30*'Step 3 Product data'!G41","v":0},{"$f":"IF(I$7=TRUE,($G30*'Step 3 Product data'!H41*(1-'Emission Calculations'!$F30)),($G30*'Step 3 Product data'!H41))","v":0},{"$f":"IF(J$7=TRUE,($G30*'Step 3 Product data'!I41*(1-'Emission Calculations'!$F30)),($G30*'Step 3 Product data'!I41))","v":0},{"$f":"IF(K$7=TRUE,($G30*'Step 3 Product data'!J41*(1-'Emission Calculations'!$F30)),($G30*'Step 3 Product data'!J41))","v":0},{"$f":"IF(L$7=TRUE,($G30*'Step 3 Product data'!K41*(1-'Emission Calculations'!$F30)),($G30*'Step 3 Product data'!K41))","v":0},{"$f":"IF(M$7=TRUE,($G30*'Step 3 Product data'!L41*(1-'Emission Calculations'!$F30)),($G30*'Step 3 Product data'!L41))","v":0},{"$f":"IF(N$7=TRUE,($G30*'Step 3 Product data'!M41*(1-'Emission Calculations'!$F30)),($G30*'Step 3 Product data'!M41))","v":0},{"$f":"IF(O$7=TRUE,($G30*'Step 3 Product data'!N41*(1-'Emission Calculations'!$F30)),($G30*'Step 3 Product data'!N41))","v":0},{"$f":"IF(P$7=TRUE,($G30*'Step 3 Product data'!O41*(1-'Emission Calculations'!$F30)),($G30*'Step 3 Product data'!O41))","v":0},{"$f":"IF(Q$7=TRUE,($G30*'Step 3 Product data'!P41*(1-'Emission Calculations'!$F30)),($G30*'Step 3 Product data'!P41))","v":0},{"$f":"IF(R$7=TRUE,($G30*'Step 3 Product data'!Q41*(1-'Emission Calculations'!$F30)),($G30*'Step 3 Product data'!Q41))","v":0},{"$f":"IF(S$7=TRUE,($G30*'Step 3 Product data'!R41*(1-'Emission Calculations'!$F30)),($G30*'Step 3 Product data'!R41))","v":0},{"$f":"IF(T$7=TRUE,($G30*'Step 3 Product data'!S41*(1-'Emission Calculations'!$F30)),($G30*'Step 3 Product data'!S41))","v":0},{"$f":"IF(U$7=TRUE,($G30*'Step 3 Product data'!T41*(1-'Emission Calculations'!$F30)),($G30*'Step 3 Product data'!T41))","v":0},{"$f":"IF(V$7=TRUE,($G30*'Step 3 Product data'!U41*(1-'Emission Calculations'!$F30)),($G30*'Step 3 Product data'!U41))","v":0},{"$f":"IF(W$7=TRUE,($G30*'Step 3 Product data'!V41*(1-'Emission Calculations'!$F30)),($G30*'Step 3 Product data'!V41))","v":0},{"$f":"IF(X$7=TRUE,($G30*'Step 3 Product data'!W41*(1-'Emission Calculations'!$F30)),($G30*'Step 3 Product data'!W41))","v":0},{"$f":"IF(Y$7=TRUE,($G30*'Step 3 Product data'!X41*(1-'Emission Calculations'!$F30)),($G30*'Step 3 Product data'!X41))","v":0},{"$f":"IF('Step 3 Product data'!Y41=0,SUM(AE30:AP30),'Step 3 Product data'!Y41)","v":" "},{"$f":"IF('Step 3 Product data'!Z41=0,SUM(AQ30:BB30),'Step 3 Product data'!Z41)","v":0},{"$f":"IF('Step 3 Product data'!AA41=0,SUM(BC30:BN30),'Step 3 Product data'!AA41)","v":0},{"$f":"IF('Step 3 Product data'!AB41=0,SUM(BO30:BZ30),'Step 3 Product data'!AB41)","v":0},{"$f":"IF('Step 3 Product data'!AC41=0,SUM(CA30:CL30),'Step 3 Product data'!AC41)","v":0},{"$f":"'Step 3 Product data'!AD41","v":0},{"$f":"'Step 3 Product data'!AE41","v":0},{"$f":"'Step 3 Product data'!AF41","v":0},{"$f":"'Step 3 Product data'!AG41","v":0},{"$f":"'Step 3 Product data'!AH41","v":0},{"$f":"'Step 3 Product data'!AI41","v":0},{"$f":"'Step 3 Product data'!AJ41","v":0},{"$f":"'Step 3 Product data'!AK41","v":0},{"$f":"'Step 3 Product data'!AL41","v":0},{"$f":"'Step 3 Product data'!AM41","v":0},{"$f":"'Step 3 Product data'!AN41","v":0},{"$f":"'Step 3 Product data'!AO41","v":0},{"$f":"'Step 3 Product data'!AP41","v":0},{"$f":"'Step 3 Product data'!AQ41","v":0},{"$f":"'Step 3 Product data'!AR41","v":0},{"$f":"'Step 3 Product data'!AS41","v":0},{"$f":"'Step 3 Product data'!AT41","v":0},{"$f":"'Step 3 Product data'!AU41","v":0},{"$f":"'Step 3 Product data'!AV41","v":0},{"$f":"'Step 3 Product data'!AW41","v":0},{"$f":"'Step 3 Product data'!AX41","v":0},{"$f":"'Step 3 Product data'!AY41","v":0},{"$f":"'Step 3 Product data'!AZ41","v":0},{"$f":"'Step 3 Product data'!BA41","v":0},{"$f":"'Step 3 Product data'!BB41","v":0},{"$f":"'Step 3 Product data'!BC41","v":0},{"$f":"'Step 3 Product data'!BD41","v":0},{"$f":"'Step 3 Product data'!BE41","v":0},{"$f":"'Step 3 Product data'!BF41","v":0},{"$f":"'Step 3 Product data'!BG41","v":0},{"$f":"'Step 3 Product data'!BH41","v":0},{"$f":"'Step 3 Product data'!BI41","v":0},{"$f":"'Step 3 Product data'!BJ41","v":0},{"$f":"'Step 3 Product data'!BK41","v":0},{"$f":"'Step 3 Product data'!BL41","v":0},{"$f":"'Step 3 Product data'!BM41","v":0},{"$f":"'Step 3 Product data'!BN41","v":0},{"$f":"'Step 3 Product data'!BO41","v":0},{"$f":"'Step 3 Product data'!BP41","v":0},{"$f":"'Step 3 Product data'!BQ41","v":0},{"$f":"'Step 3 Product data'!BR41","v":0},{"$f":"'Step 3 Product data'!BS41","v":0},{"$f":"'Step 3 Product data'!BT41","v":0},{"$f":"'Step 3 Product data'!BU41","v":0},{"$f":"'Step 3 Product data'!BV41","v":0},{"$f":"'Step 3 Product data'!BW41","v":0},{"$f":"'Step 3 Product data'!BX41","v":0},{"$f":"'Step 3 Product data'!BY41","v":0},{"$f":"'Step 3 Product data'!BZ41","v":0},{"$f":"'Step 3 Product data'!CA41","v":0},{"$f":"'Step 3 Product data'!CB41","v":0},{"$f":"'Step 3 Product data'!CC41","v":0},{"$f":"'Step 3 Product data'!CD41","v":0},{"$f":"'Step 3 Product data'!CE41","v":0},{"$f":"'Step 3 Product data'!CF41","v":0},{"$f":"'Step 3 Product data'!CG41","v":0},{"$f":"'Step 3 Product data'!CH41","v":0},{"$f":"'Step 3 Product data'!CI41","v":0},{"$f":"'Step 3 Product data'!CJ41","v":0},{"$f":"'Step 3 Product data'!CK41","v":0},null,0,0,0,0,0]
[{"$f":"'Step 3 Product data'!A42","v":22},{"$f":"'Step 3 Product data'!B42","v":0},{"$f":"'Step 3 Product data'!C42","v":0},{"$f":"'Step 3 Product data'!D42","v":0},{"$f":"'Step 3 Product data'!E42","v":"Choose one"},{"$f":"IF(E31=$A$88,1,IF(E31='Data Validation'!$B$31,0,IF(E31=$D$81,$E$81,IF(E31=$D$82,$E$82,IF(E31=$D$83,$E$83,IF(E31=$A$89,$E$84,0))))))","v":0},{"$f":"'Step 3 Product data'!F42","v":0},{"$f":"$G31*'Step 3 Product data'!G42","v":0},{"$f":"IF(I$7=TRUE,($G31*'Step 3 Product data'!H42*(1-'Emission Calculations'!$F31)),($G31*'Step 3 Product data'!H42))","v":0},{"$f":"IF(J$7=TRUE,($G31*'Step 3 Product data'!I42*(1-'Emission Calculations'!$F31)),($G31*'Step 3 Product data'!I42))","v":0},{"$f":"IF(K$7=TRUE,($G31*'Step 3 Product data'!J42*(1-'Emission Calculations'!$F31)),($G31*'Step 3 Product data'!J42))","v":0},{"$f":"IF(L$7=TRUE,($G31*'Step 3 Product data'!K42*(1-'Emission Calculations'!$F31)),($G31*'Step 3 Product data'!K42))","v":0},{"$f":"IF(M$7=TRUE,($G31*'Step 3 Product data'!L42*(1-'Emission Calculations'!$F31)),($G31*'Step 3 Product data'!L42))","v":0},{"$f":"IF(N$7=TRUE,($G31*'Step 3 Product data'!M42*(1-'Emission Calculations'!$F31)),($G31*'Step 3 Product data'!M42))","v":0},{"$f":"IF(O$7=TRUE,($G31*'Step 3 Product data'!N42*(1-'Emission Calculations'!$F31)),($G31*'Step 3 Product data'!N42))","v":0},{"$f":"IF(P$7=TRUE,($G31*'Step 3 Product data'!O42*(1-'Emission Calculations'!$F31)),($G31*'Step 3 Product data'!O42))","v":0},{"$f":"IF(Q$7=TRUE,($G31*'Step 3 Product data'!P42*(1-'Emission Calculations'!$F31)),($G31*'Step 3 Product data'!P42))","v":0},{"$f":"IF(R$7=TRUE,($G31*'Step 3 Product data'!Q42*(1-'Emission Calculations'!$F31)),($G31*'Step 3 Product data'!Q42))","v":0},{"$f":"IF(S$7=TRUE,($G31*'Step 3 Product data'!R42*(1-'Emission Calculations'!$F31)),($G31*'Step 3 Product data'!R42))","v":0},{"$f":"IF(T$7=TRUE,($G31*'Step 3 Product data'!S42*(1-'Emission Calculations'!$F31)),($G31*'Step 3 Product data'!S42))","v":0},{"$f":"IF(U$7=TRUE,($G31*'Step 3 Product data'!T42*(1-'Emission Calculations'!$F31)),($G31*'Step 3 Product data'!T42))","v":0},{"$f":"IF(V$7=TRUE,($G31*'Step 3 Product data'!U42*(1-'Emission Calculations'!$F31)),($G31*'Step 3 Product data'!U42))","v":0},{"$f":"IF(W$7=TRUE,($G31*'Step 3 Product data'!V42*(1-'Emission Calculations'!$F31)),($G31*'Step 3 Product data'!V42))","v":0},{"$f":"IF(X$7=TRUE,($G31*'Step 3 Product data'!W42*(1-'Emission Calculations'!$F31)),($G31*'Step 3 Product data'!W42))","v":0},{"$f":"IF(Y$7=TRUE,($G31*'Step 3 Product data'!X42*(1-'Emission Calculations'!$F31)),($G31*'Step 3 Product data'!X42))","v":0},{"$f":"IF('Step 3 Product data'!Y42=0,SUM(AE31:AP31),'Step 3 Product data'!Y42)","v":" "},{"$f":"IF('Step 3 Product data'!Z42=0,SUM(AQ31:BB31),'Step 3 Product data'!Z42)","v":0},{"$f":"IF('Step 3 Product data'!AA42=0,SUM(BC31:BN31),'Step 3 Product data'!AA42)","v":0},{"$f":"IF('Step 3 Product data'!AB42=0,SUM(BO31:BZ31),'Step 3 Product data'!AB42)","v":0},{"$f":"IF('Step 3 Product data'!AC42=0,SUM(CA31:CL31),'Step 3 Product data'!AC42)","v":0},{"$f":"'Step 3 Product data'!AD42","v":0},{"$f":"'Step 3 Product data'!AE42","v":0},{"$f":"'Step 3 Product data'!AF42","v":0},{"$f":"'Step 3 Product data'!AG42","v":0},{"$f":"'Step 3 Product data'!AH42","v":0},{"$f":"'Step 3 Product data'!AI42","v":0},{"$f":"'Step 3 Product data'!AJ42","v":0},{"$f":"'Step 3 Product data'!AK42","v":0},{"$f":"'Step 3 Product data'!AL42","v":0},{"$f":"'Step 3 Product data'!AM42","v":0},{"$f":"'Step 3 Product data'!AN42","v":0},{"$f":"'Step 3 Product data'!AO42","v":0},{"$f":"'Step 3 Product data'!AP42","v":0},{"$f":"'Step 3 Product data'!AQ42","v":0},{"$f":"'Step 3 Product data'!AR42","v":0},{"$f":"'Step 3 Product data'!AS42","v":0},{"$f":"'Step 3 Product data'!AT42","v":0},{"$f":"'Step 3 Product data'!AU42","v":0},{"$f":"'Step 3 Product data'!AV42","v":0},{"$f":"'Step 3 Product data'!AW42","v":0},{"$f":"'Step 3 Product data'!AX42","v":0},{"$f":"'Step 3 Product data'!AY42","v":0},{"$f":"'Step 3 Product data'!AZ42","v":0},{"$f":"'Step 3 Product data'!BA42","v":0},{"$f":"'Step 3 Product data'!BB42","v":0},{"$f":"'Step 3 Product data'!BC42","v":0},{"$f":"'Step 3 Product data'!BD42","v":0},{"$f":"'Step 3 Product data'!BE42","v":0},{"$f":"'Step 3 Product data'!BF42","v":0},{"$f":"'Step 3 Product data'!BG42","v":0},{"$f":"'Step 3 Product data'!BH42","v":0},{"$f":"'Step 3 Product data'!BI42","v":0},{"$f":"'Step 3 Product data'!BJ42","v":0},{"$f":"'Step 3 Product data'!BK42","v":0},{"$f":"'Step 3 Product data'!BL42","v":0},{"$f":"'Step 3 Product data'!BM42","v":0},{"$f":"'Step 3 Product data'!BN42","v":0},{"$f":"'Step 3 Product data'!BO42","v":0},{"$f":"'Step 3 Product data'!BP42","v":0},{"$f":"'Step 3 Product data'!BQ42","v":0},{"$f":"'Step 3 Product data'!BR42","v":0},{"$f":"'Step 3 Product data'!BS42","v":0},{"$f":"'Step 3 Product data'!BT42","v":0},{"$f":"'Step 3 Product data'!BU42","v":0},{"$f":"'Step 3 Product data'!BV42","v":0},{"$f":"'Step 3 Product data'!BW42","v":0},{"$f":"'Step 3 Product data'!BX42","v":0},{"$f":"'Step 3 Product data'!BY42","v":0},{"$f":"'Step 3 Product data'!BZ42","v":0},{"$f":"'Step 3 Product data'!CA42","v":0},{"$f":"'Step 3 Product data'!CB42","v":0},{"$f":"'Step 3 Product data'!CC42","v":0},{"$f":"'Step 3 Product data'!CD42","v":0},{"$f":"'Step 3 Product data'!CE42","v":0},{"$f":"'Step 3 Product data'!CF42","v":0},{"$f":"'Step 3 Product data'!CG42","v":0},{"$f":"'Step 3 Product data'!CH42","v":0},{"$f":"'Step 3 Product data'!CI42","v":0},{"$f":"'Step 3 Product data'!CJ42","v":0},{"$f":"'Step 3 Product data'!CK42","v":0},null,0,0,0,0,0]
[{"$f":"'Step 3 Product data'!A43","v":23},{"$f":"'Step 3 Product data'!B43","v":0},{"$f":"'Step 3 Product data'!C43","v":0},{"$f":"'Step 3 Product data'!D43","v":0},{"$f":"'Step 3 Product data'!E43","v":"Choose one"},{"$f":"IF(E32=$A$88,1,IF(E32='Data Validation'!$B$31,0,IF(E32=$D$81,$E$81,IF(E32=$D$82,$E$82,IF(E32=$D$83,$E$83,IF(E32=$A$89,$E$84,0))))))","v":0},{"$f":"'Step 3 Product data'!F43","v":0},{"$f":"$G32*'Step 3 Product data'!G43","v":0},{"$f":"IF(I$7=TRUE,($G32*'Step 3 Product data'!H43*(1-'Emission Calculations'!$F32)),($G32*'Step 3 Product data'!H43))","v":0},{"$f":"IF(J$7=TRUE,($G32*'Step 3 Product data'!I43*(1-'Emission Calculations'!$F32)),($G32*'Step 3 Product data'!I43))","v":0},{"$f":"IF(K$7=TRUE,($G32*'Step 3 Product data'!J43*(1-'Emission Calculations'!$F32)),($G32*'Step 3 Product data'!J43))","v":0},{"$f":"IF(L$7=TRUE,($G32*'Step 3 Product data'!K43*(1-'Emission Calculations'!$F32)),($G32*'Step 3 Product data'!K43))","v":0},{"$f":"IF(M$7=TRUE,($G32*'Step 3 Product data'!L43*(1-'Emission Calculations'!$F32)),($G32*'Step 3 Product data'!L43))","v":0},{"$f":"IF(N$7=TRUE,($G32*'Step 3 Product data'!M43*(1-'Emission Calculations'!$F32)),($G32*'Step 3 Product data'!M43))","v":0},{"$f":"IF(O$7=TRUE,($G32*'Step 3 Product data'!N43*(1-'Emission Calculations'!$F32)),($G32*'Step 3 Product data'!N43))","v":0},{"$f":"IF(P$7=TRUE,($G32*'Step 3 Product data'!O43*(1-'Emission Calculations'!$F32)),($G32*'Step 3 Product data'!O43))","v":0},{"$f":"IF(Q$7=TRUE,($G32*'Step 3 Product data'!P43*(1-'Emission Calculations'!$F32)),($G32*'Step 3 Product data'!P43))","v":0},{"$f":"IF(R$7=TRUE,($G32*'Step 3 Product data'!Q43*(1-'Emission Calculations'!$F32)),($G32*'Step 3 Product data'!Q43))","v":0},{"$f":"IF(S$7=TRUE,($G32*'Step 3 Product data'!R43*(1-'Emission Calculations'!$F32)),($G32*'Step 3 Product data'!R43))","v":0},{"$f":"IF(T$7=TRUE,($G32*'Step 3 Product data'!S43*(1-'Emission Calculations'!$F32)),($G32*'Step 3 Product data'!S43))","v":0},{"$f":"IF(U$7=TRUE,($G32*'Step 3 Product data'!T43*(1-'Emission Calculations'!$F32)),($G32*'Step 3 Product data'!T43))","v":0},{"$f":"IF(V$7=TRUE,($G32*'Step 3 Product data'!U43*(1-'Emission Calculations'!$F32)),($G32*'Step 3 Product data'!U43))","v":0},{"$f":"IF(W$7=TRUE,($G32*'Step 3 Product data'!V43*(1-'Emission Calculations'!$F32)),($G32*'Step 3 Product data'!V43))","v":0},{"$f":"IF(X$7=TRUE,($G32*'Step 3 Product data'!W43*(1-'Emission Calculations'!$F32)),($G32*'Step 3 Product data'!W43))","v":0},{"$f":"IF(Y$7=TRUE,($G32*'Step 3 Product data'!X43*(1-'Emission Calculations'!$F32)),($G32*'Step 3 Product data'!X43))","v":0},{"$f":"IF('Step 3 Product data'!Y43=0,SUM(AE32:AP32),'Step 3 Product data'!Y43)","v":" "},{"$f":"IF('Step 3 Product data'!Z43=0,SUM(AQ32:BB32),'Step 3 Product data'!Z43)","v":0},{"$f":"IF('Step 3 Product data'!AA43=0,SUM(BC32:BN32),'Step 3 Product data'!AA43)","v":0},{"$f":"IF('Step 3 Product data'!AB43=0,SUM(BO32:BZ32),'Step 3 Product data'!AB43)","v":0},{"$f":"IF('Step 3 Product data'!AC43=0,SUM(CA32:CL32),'Step 3 Product data'!AC43)","v":0},{"$f":"'Step 3 Product data'!AD43","v":0},{"$f":"'Step 3 Product data'!AE43","v":0},{"$f":"'Step 3 Product data'!AF43","v":0},{"$f":"'Step 3 Product data'!AG43","v":0},{"$f":"'Step 3 Product data'!AH43","v":0},{"$f":"'Step 3 Product data'!AI43","v":0},{"$f":"'Step 3 Product data'!AJ43","v":0},{"$f":"'Step 3 Product data'!AK43","v":0},{"$f":"'Step 3 Product data'!AL43","v":0},{"$f":"'Step 3 Product data'!AM43","v":0},{"$f":"'Step 3 Product data'!AN43","v":0},{"$f":"'Step 3 Product data'!AO43","v":0},{"$f":"'Step 3 Product data'!AP43","v":0},{"$f":"'Step 3 Product data'!AQ43","v":0},{"$f":"'Step 3 Product data'!AR43","v":0},{"$f":"'Step 3 Product data'!AS43","v":0},{"$f":"'Step 3 Product data'!AT43","v":0},{"$f":"'Step 3 Product data'!AU43","v":0},{"$f":"'Step 3 Product data'!AV43","v":0},{"$f":"'Step 3 Product data'!AW43","v":0},{"$f":"'Step 3 Product data'!AX43","v":0},{"$f":"'Step 3 Product data'!AY43","v":0},{"$f":"'Step 3 Product data'!AZ43","v":0},{"$f":"'Step 3 Product data'!BA43","v":0},{"$f":"'Step 3 Product data'!BB43","v":0},{"$f":"'Step 3 Product data'!BC43","v":0},{"$f":"'Step 3 Product data'!BD43","v":0},{"$f":"'Step 3 Product data'!BE43","v":0},{"$f":"'Step 3 Product data'!BF43","v":0},{"$f":"'Step 3 Product data'!BG43","v":0},{"$f":"'Step 3 Product data'!BH43","v":0},{"$f":"'Step 3 Product data'!BI43","v":0},{"$f":"'Step 3 Product data'!BJ43","v":0},{"$f":"'Step 3 Product data'!BK43","v":0},{"$f":"'Step 3 Product data'!BL43","v":0},{"$f":"'Step 3 Product data'!BM43","v":0},{"$f":"'Step 3 Product data'!BN43","v":0},{"$f":"'Step 3 Product data'!BO43","v":0},{"$f":"'Step 3 Product data'!BP43","v":0},{"$f":"'Step 3 Product data'!BQ43","v":0},{"$f":"'Step 3 Product data'!BR43","v":0},{"$f":"'Step 3 Product data'!BS43","v":0},{"$f":"'Step 3 Product data'!BT43","v":0},{"$f":"'Step 3 Product data'!BU43","v":0},{"$f":"'Step 3 Product data'!BV43","v":0},{"$f":"'Step 3 Product data'!BW43","v":0},{"$f":"'Step 3 Product data'!BX43","v":0},{"$f":"'Step 3 Product data'!BY43","v":0},{"$f":"'Step 3 Product data'!BZ43","v":0},{"$f":"'Step 3 Product data'!CA43","v":0},{"$f":"'Step 3 Product data'!CB43","v":0},{"$f":"'Step 3 Product data'!CC43","v":0},{"$f":"'Step 3 Product data'!CD43","v":0},{"$f":"'Step 3 Product data'!CE43","v":0},{"$f":"'Step 3 Product data'!CF43","v":0},{"$f":"'Step 3 Product data'!CG43","v":0},{"$f":"'Step 3 Product data'!CH43","v":0},{"$f":"'Step 3 Product data'!CI43","v":0},{"$f":"'Step 3 Product data'!CJ43","v":0},{"$f":"'Step 3 Product data'!CK43","v":0},null,0,0,0,0,0]
[{"$f":"'Step 3 Product data'!A44","v":24},{"$f":"'Step 3 Product data'!B44","v":0},{"$f":"'Step 3 Product data'!C44","v":0},{"$f":"'Step 3 Product data'!D44","v":0},{"$f":"'Step 3 Product data'!E44","v":"Choose one"},{"$f":"IF(E33=$A$88,1,IF(E33='Data Validation'!$B$31,0,IF(E33=$D$81,$E$81,IF(E33=$D$82,$E$82,IF(E33=$D$83,$E$83,IF(E33=$A$89,$E$84,0))))))","v":0},{"$f":"'Step 3 Product data'!F44","v":0},{"$f":"$G33*'Step 3 Product data'!G44","v":0},{"$f":"IF(I$7=TRUE,($G33*'Step 3 Product data'!H44*(1-'Emission Calculations'!$F33)),($G33*'Step 3 Product data'!H44))","v":0},{"$f":"IF(J$7=TRUE,($G33*'Step 3 Product data'!I44*(1-'Emission Calculations'!$F33)),($G33*'Step 3 Product data'!I44))","v":0},{"$f":"IF(K$7=TRUE,($G33*'Step 3 Product data'!J44*(1-'Emission Calculations'!$F33)),($G33*'Step 3 Product data'!J44))","v":0},{"$f":"IF(L$7=TRUE,($G33*'Step 3 Product data'!K44*(1-'Emission Calculations'!$F33)),($G33*'Step 3 Product data'!K44))","v":0},{"$f":"IF(M$7=TRUE,($G33*'Step 3 Product data'!L44*(1-'Emission Calculations'!$F33)),($G33*'Step 3 Product data'!L44))","v":0},{"$f":"IF(N$7=TRUE,($G33*'Step 3 Product data'!M44*(1-'Emission Calculations'!$F33)),($G33*'Step 3 Product data'!M44))","v":0},{"$f":"IF(O$7=TRUE,($G33*'Step 3 Product data'!N44*(1-'Emission Calculations'!$F33)),($G33*'Step 3 Product data'!N44))","v":0},{"$f":"IF(P$7=TRUE,($G33*'Step 3 Product data'!O44*(1-'Emission Calculations'!$F33)),($G33*'Step 3 Product data'!O44))","v":0},{"$f":"IF(Q$7=TRUE,($G33*'Step 3 Product data'!P44*(1-'Emission Calculations'!$F33)),($G33*'Step 3 Product data'!P44))","v":0},{"$f":"IF(R$7=TRUE,($G33*'Step 3 Product data'!Q44*(1-'Emission Calculations'!$F33)),($G33*'Step 3 Product data'!Q44))","v":0},{"$f":"IF(S$7=TRUE,($G33*'Step 3 Product data'!R44*(1-'Emission Calculations'!$F33)),($G33*'Step 3 Product data'!R44))","v":0},{"$f":"IF(T$7=TRUE,($G33*'Step 3 Product data'!S44*(1-'Emission Calculations'!$F33)),($G33*'Step 3 Product data'!S44))","v":0},{"$f":"IF(U$7=TRUE,($G33*'Step 3 Product data'!T44*(1-'Emission Calculations'!$F33)),($G33*'Step 3 Product data'!T44))","v":0},{"$f":"IF(V$7=TRUE,($G33*'Step 3 Product data'!U44*(1-'Emission Calculations'!$F33)),($G33*'Step 3 Product data'!U44))","v":0},{"$f":"IF(W$7=TRUE,($G33*'Step 3 Product data'!V44*(1-'Emission Calculations'!$F33)),($G33*'Step 3 Product data'!V44))","v":0},{"$f":"IF(X$7=TRUE,($G33*'Step 3 Product data'!W44*(1-'Emission Calculations'!$F33)),($G33*'Step 3 Product data'!W44))","v":0},{"$f":"IF(Y$7=TRUE,($G33*'Step 3 Product data'!X44*(1-'Emission Calculations'!$F33)),($G33*'Step 3 Product data'!X44))","v":0},{"$f":"IF('Step 3 Product data'!Y44=0,SUM(AE33:AP33),'Step 3 Product data'!Y44)","v":" "},{"$f":"IF('Step 3 Product data'!Z44=0,SUM(AQ33:BB33),'Step 3 Product data'!Z44)","v":0},{"$f":"IF('Step 3 Product data'!AA44=0,SUM(BC33:BN33),'Step 3 Product data'!AA44)","v":0},{"$f":"IF('Step 3 Product data'!AB44=0,SUM(BO33:BZ33),'Step 3 Product data'!AB44)","v":0},{"$f":"IF('Step 3 Product data'!AC44=0,SUM(CA33:CL33),'Step 3 Product data'!AC44)","v":0},{"$f":"'Step 3 Product data'!AD44","v":0},{"$f":"'Step 3 Product data'!AE44","v":0},{"$f":"'Step 3 Product data'!AF44","v":0},{"$f":"'Step 3 Product data'!AG44","v":0},{"$f":"'Step 3 Product data'!AH44","v":0},{"$f":"'Step 3 Product data'!AI44","v":0},{"$f":"'Step 3 Product data'!AJ44","v":0},{"$f":"'Step 3 Product data'!AK44","v":0},{"$f":"'Step 3 Product data'!AL44","v":0},{"$f":"'Step 3 Product data'!AM44","v":0},{"$f":"'Step 3 Product data'!AN44","v":0},{"$f":"'Step 3 Product data'!AO44","v":0},{"$f":"'Step 3 Product data'!AP44","v":0},{"$f":"'Step 3 Product data'!AQ44","v":0},{"$f":"'Step 3 Product data'!AR44","v":0},{"$f":"'Step 3 Product data'!AS44","v":0},{"$f":"'Step 3 Product data'!AT44","v":0},{"$f":"'Step 3 Product data'!AU44","v":0},{"$f":"'Step 3 Product data'!AV44","v":0},{"$f":"'Step 3 Product data'!AW44","v":0},{"$f":"'Step 3 Product data'!AX44","v":0},{"$f":"'Step 3 Product data'!AY44","v":0},{"$f":"'Step 3 Product data'!AZ44","v":0},{"$f":"'Step 3 Product data'!BA44","v":0},{"$f":"'Step 3 Product data'!BB44","v":0},{"$f":"'Step 3 Product data'!BC44","v":0},{"$f":"'Step 3 Product data'!BD44","v":0},{"$f":"'Step 3 Product data'!BE44","v":0},{"$f":"'Step 3 Product data'!BF44","v":0},{"$f":"'Step 3 Product data'!BG44","v":0},{"$f":"'Step 3 Product data'!BH44","v":0},{"$f":"'Step 3 Product data'!BI44","v":0},{"$f":"'Step 3 Product data'!BJ44","v":0},{"$f":"'Step 3 Product data'!BK44","v":0},{"$f":"'Step 3 Product data'!BL44","v":0},{"$f":"'Step 3 Product data'!BM44","v":0},{"$f":"'Step 3 Product data'!BN44","v":0},{"$f":"'Step 3 Product data'!BO44","v":0},{"$f":"'Step 3 Product data'!BP44","v":0},{"$f":"'Step 3 Product data'!BQ44","v":0},{"$f":"'Step 3 Product data'!BR44","v":0},{"$f":"'Step 3 Product data'!BS44","v":0},{"$f":"'Step 3 Product data'!BT44","v":0},{"$f":"'Step 3 Product data'!BU44","v":0},{"$f":"'Step 3 Product data'!BV44","v":0},{"$f":"'Step 3 Product data'!BW44","v":0},{"$f":"'Step 3 Product data'!BX44","v":0},{"$f":"'Step 3 Product data'!BY44","v":0},{"$f":"'Step 3 Product data'!BZ44","v":0},{"$f":"'Step 3 Product data'!CA44","v":0},{"$f":"'Step 3 Product data'!CB44","v":0},{"$f":"'Step 3 Product data'!CC44","v":0},{"$f":"'Step 3 Product data'!CD44","v":0},{"$f":"'Step 3 Product data'!CE44","v":0},{"$f":"'Step 3 Product data'!CF44","v":0},{"$f":"'Step 3 Product data'!CG44","v":0},{"$f":"'Step 3 Product data'!CH44","v":0},{"$f":"'Step 3 Product data'!CI44","v":0},{"$f":"'Step 3 Product data'!CJ44","v":0},{"$f":"'Step 3 Product data'!CK44","v":0},null,0,0,0,0,0]
[{"$f":"'Step 3 Product data'!A45","v":25},{"$f":"'Step 3 Product data'!B45","v":0},{"$f":"'Step 3 Product data'!C45","v":0},{"$f":"'Step 3 Product data'!D45","v":0},{"$f":"'Step 3 Product data'!E45","v":"Choose one"},{"$f":"IF(E34=$A$88,1,IF(E34='Data Validation'!$B$31,0,IF(E34=$D$81,$E$81,IF(E34=$D$82,$E$82,IF(E34=$D$83,$E$83,IF(E34=$A$89,$E$84,0))))))","v":0},{"$f":"'Step 3 Product data'!F45","v":0},{"$f":"$G34*'Step 3 Product data'!G45","v":0},{"$f":"IF(I$7=TRUE,($G34*'Step 3 Product data'!H45*(1-'Emission Calculations'!$F34)),($G34*'Step 3 Product data'!H45))","v":0},{"$f":"IF(J$7=TRUE,($G34*'Step 3 Product data'!I45*(1-'Emission Calculations'!$F34)),($G34*'Step 3 Product data'!I45))","v":0},{"$f":"IF(K$7=TRUE,($G34*'Step 3 Product data'!J45*(1-'Emission Calculations'!$F34)),($G34*'Step 3 Product data'!J45))","v":0},{"$f":"IF(L$7=TRUE,($G34*'Step 3 Product data'!K45*(1-'Emission Calculations'!$F34)),($G34*'Step 3 Product data'!K45))","v":0},{"$f":"IF(M$7=TRUE,($G34*'Step 3 Product data'!L45*(1-'Emission Calculations'!$F34)),($G34*'Step 3 Product data'!L45))","v":0},{"$f":"IF(N$7=TRUE,($G34*'Step 3 Product data'!M45*(1-'Emission Calculations'!$F34)),($G34*'Step 3 Product data'!M45))","v":0},{"$f":"IF(O$7=TRUE,($G34*'Step 3 Product data'!N45*(1-'Emission Calculations'!$F34)),($G34*'Step 3 Product data'!N45))","v":0},{"$f":"IF(P$7=TRUE,($G34*'Step 3 Product data'!O45*(1-'Emission Calculations'!$F34)),($G34*'Step 3 Product data'!O45))","v":0},{"$f":"IF(Q$7=TRUE,($G34*'Step 3 Product data'!P45*(1-'Emission Calculations'!$F34)),($G34*'Step 3 Product data'!P45))","v":0},{"$f":"IF(R$7=TRUE,($G34*'Step 3 Product data'!Q45*(1-'Emission Calculations'!$F34)),($G34*'Step 3 Product data'!Q45))","v":0},{"$f":"IF(S$7=TRUE,($G34*'Step 3 Product data'!R45*(1-'Emission Calculations'!$F34)),($G34*'Step 3 Product data'!R45))","v":0},{"$f":"IF(T$7=TRUE,($G34*'Step 3 Product data'!S45*(1-'Emission Calculations'!$F34)),($G34*'Step 3 Product data'!S45))","v":0},{"$f":"IF(U$7=TRUE,($G34*'Step 3 Product data'!T45*(1-'Emission Calculations'!$F34)),($G34*'Step 3 Product data'!T45))","v":0},{"$f":"IF(V$7=TRUE,($G34*'Step 3 Product data'!U45*(1-'Emission Calculations'!$F34)),($G34*'Step 3 Product data'!U45))","v":0},{"$f":"IF(W$7=TRUE,($G34*'Step 3 Product data'!V45*(1-'Emission Calculations'!$F34)),($G34*'Step 3 Product data'!V45))","v":0},{"$f":"IF(X$7=TRUE,($G34*'Step 3 Product data'!W45*(1-'Emission Calculations'!$F34)),($G34*'Step 3 Product data'!W45))","v":0},{"$f":"IF(Y$7=TRUE,($G34*'Step 3 Product data'!X45*(1-'Emission Calculations'!$F34)),($G34*'Step 3 Product data'!X45))","v":0},{"$f":"IF('Step 3 Product data'!Y45=0,SUM(AE34:AP34),'Step 3 Product data'!Y45)","v":" "},{"$f":"IF('Step 3 Product data'!Z45=0,SUM(AQ34:BB34),'Step 3 Product data'!Z45)","v":0},{"$f":"IF('Step 3 Product data'!AA45=0,SUM(BC34:BN34),'Step 3 Product data'!AA45)","v":0},{"$f":"IF('Step 3 Product data'!AB45=0,SUM(BO34:BZ34),'Step 3 Product data'!AB45)","v":0},{"$f":"IF('Step 3 Product data'!AC45=0,SUM(CA34:CL34),'Step 3 Product data'!AC45)","v":0},{"$f":"'Step 3 Product data'!AD45","v":0},{"$f":"'Step 3 Product data'!AE45","v":0},{"$f":"'Step 3 Product data'!AF45","v":0},{"$f":"'Step 3 Product data'!AG45","v":0},{"$f":"'Step 3 Product data'!AH45","v":0},{"$f":"'Step 3 Product data'!AI45","v":0},{"$f":"'Step 3 Product data'!AJ45","v":0},{"$f":"'Step 3 Product data'!AK45","v":0},{"$f":"'Step 3 Product data'!AL45","v":0},{"$f":"'Step 3 Product data'!AM45","v":0},{"$f":"'Step 3 Product data'!AN45","v":0},{"$f":"'Step 3 Product data'!AO45","v":0},{"$f":"'Step 3 Product data'!AP45","v":0},{"$f":"'Step 3 Product data'!AQ45","v":0},{"$f":"'Step 3 Product data'!AR45","v":0},{"$f":"'Step 3 Product data'!AS45","v":0},{"$f":"'Step 3 Product data'!AT45","v":0},{"$f":"'Step 3 Product data'!AU45","v":0},{"$f":"'Step 3 Product data'!AV45","v":0},{"$f":"'Step 3 Product data'!AW45","v":0},{"$f":"'Step 3 Product data'!AX45","v":0},{"$f":"'Step 3 Product data'!AY45","v":0},{"$f":"'Step 3 Product data'!AZ45","v":0},{"$f":"'Step 3 Product data'!BA45","v":0},{"$f":"'Step 3 Product data'!BB45","v":0},{"$f":"'Step 3 Product data'!BC45","v":0},{"$f":"'Step 3 Product data'!BD45","v":0},{"$f":"'Step 3 Product data'!BE45","v":0},{"$f":"'Step 3 Product data'!BF45","v":0},{"$f":"'Step 3 Product data'!BG45","v":0},{"$f":"'Step 3 Product data'!BH45","v":0},{"$f":"'Step 3 Product data'!BI45","v":0},{"$f":"'Step 3 Product data'!BJ45","v":0},{"$f":"'Step 3 Product data'!BK45","v":0},{"$f":"'Step 3 Product data'!BL45","v":0},{"$f":"'Step 3 Product data'!BM45","v":0},{"$f":"'Step 3 Product data'!BN45","v":0},{"$f":"'Step 3 Product data'!BO45","v":0},{"$f":"'Step 3 Product data'!BP45","v":0},{"$f":"'Step 3 Product data'!BQ45","v":0},{"$f":"'Step 3 Product data'!BR45","v":0},{"$f":"'Step 3 Product data'!BS45","v":0},{"$f":"'Step 3 Product data'!BT45","v":0},{"$f":"'Step 3 Product data'!BU45","v":0},{"$f":"'Step 3 Product data'!BV45","v":0},{"$f":"'Step 3 Product data'!BW45","v":0},{"$f":"'Step 3 Product data'!BX45","v":0},{"$f":"'Step 3 Product data'!BY45","v":0},{"$f":"'Step 3 Product data'!BZ45","v":0},{"$f":"'Step 3 Product data'!CA45","v":0},{"$f":"'Step 3 Product data'!CB45","v":0},{"$f":"'Step 3 Product data'!CC45","v":0},{"$f":"'Step 3 Product data'!CD45","v":0},{"$f":"'Step 3 Product data'!CE45","v":0},{"$f":"'Step 3 Product data'!CF45","v":0},{"$f":"'Step 3 Product data'!CG45","v":0},{"$f":"'Step 3 Product data'!CH45","v":0},{"$f":"'Step 3 Product data'!CI45","v":0},{"$f":"'Step 3 Product data'!CJ45","v":0},{"$f":"'Step 3 Product data'!CK45","v":0},null,0,0,0,0,0]
[{"$f":"'Step 3 Product data'!A46","v":26},{"$f":"'Step 3 Product data'!B46","v":0},{"$f":"'Step 3 Product data'!C46","v":0},{"$f":"'Step 3 Product data'!D46","v":0},{"$f":"'Step 3 Product data'!E46","v":"Choose one"},{"$f":"IF(E35=$A$88,1,IF(E35='Data Validation'!$B$31,0,IF(E35=$D$81,$E$81,IF(E35=$D$82,$E$82,IF(E35=$D$83,$E$83,IF(E35=$A$89,$E$84,0))))))","v":0},{"$f":"'Step 3 Product data'!F46","v":0},{"$f":"$G35*'Step 3 Product data'!G46","v":0},{"$f":"IF(I$7=TRUE,($G35*'Step 3 Product data'!H46*(1-'Emission Calculations'!$F35)),($G35*'Step 3 Product data'!H46))","v":0},{"$f":"IF(J$7=TRUE,($G35*'Step 3 Product data'!I46*(1-'Emission Calculations'!$F35)),($G35*'Step 3 Product data'!I46))","v":0},{"$f":"IF(K$7=TRUE,($G35*'Step 3 Product data'!J46*(1-'Emission Calculations'!$F35)),($G35*'Step 3 Product data'!J46))","v":0},{"$f":"IF(L$7=TRUE,($G35*'Step 3 Product data'!K46*(1-'Emission Calculations'!$F35)),($G35*'Step 3 Product data'!K46))","v":0},{"$f":"IF(M$7=TRUE,($G35*'Step 3 Product data'!L46*(1-'Emission Calculations'!$F35)),($G35*'Step 3 Product data'!L46))","v":0},{"$f":"IF(N$7=TRUE,($G35*'Step 3 Product data'!M46*(1-'Emission Calculations'!$F35)),($G35*'Step 3 Product data'!M46))","v":0},{"$f":"IF(O$7=TRUE,($G35*'Step 3 Product data'!N46*(1-'Emission Calculations'!$F35)),($G35*'Step 3 Product data'!N46))","v":0},{"$f":"IF(P$7=TRUE,($G35*'Step 3 Product data'!O46*(1-'Emission Calculations'!$F35)),($G35*'Step 3 Product data'!O46))","v":0},{"$f":"IF(Q$7=TRUE,($G35*'Step 3 Product data'!P46*(1-'Emission Calculations'!$F35)),($G35*'Step 3 Product data'!P46))","v":0},{"$f":"IF(R$7=TRUE,($G35*'Step 3 Product data'!Q46*(1-'Emission Calculations'!$F35)),($G35*'Step 3 Product data'!Q46))","v":0},{"$f":"IF(S$7=TRUE,($G35*'Step 3 Product data'!R46*(1-'Emission Calculations'!$F35)),($G35*'Step 3 Product data'!R46))","v":0},{"$f":"IF(T$7=TRUE,($G35*'Step 3 Product data'!S46*(1-'Emission Calculations'!$F35)),($G35*'Step 3 Product data'!S46))","v":0},{"$f":"IF(U$7=TRUE,($G35*'Step 3 Product data'!T46*(1-'Emission Calculations'!$F35)),($G35*'Step 3 Product data'!T46))","v":0},{"$f":"IF(V$7=TRUE,($G35*'Step 3 Product data'!U46*(1-'Emission Calculations'!$F35)),($G35*'Step 3 Product data'!U46))","v":0},{"$f":"IF(W$7=TRUE,($G35*'Step 3 Product data'!V46*(1-'Emission Calculations'!$F35)),($G35*'Step 3 Product data'!V46))","v":0},{"$f":"IF(X$7=TRUE,($G35*'Step 3 Product data'!W46*(1-'Emission Calculations'!$F35)),($G35*'Step 3 Product data'!W46))","v":0},{"$f":"IF(Y$7=TRUE,($G35*'Step 3 Product data'!X46*(1-'Emission Calculations'!$F35)),($G35*'Step 3 Product data'!X46))","v":0},{"$f":"IF('Step 3 Product data'!Y46=0,SUM(AE35:AP35),'Step 3 Product data'!Y46)","v":" "},{"$f":"IF('Step 3 Product data'!Z46=0,SUM(AQ35:BB35),'Step 3 Product data'!Z46)","v":0},{"$f":"IF('Step 3 Product data'!AA46=0,SUM(BC35:BN35),'Step 3 Product data'!AA46)","v":0},{"$f":"IF('Step 3 Product data'!AB46=0,SUM(BO35:BZ35),'Step 3 Product data'!AB46)","v":0},{"$f":"IF('Step 3 Product data'!AC46=0,SUM(CA35:CL35),'Step 3 Product data'!AC46)","v":0},{"$f":"'Step 3 Product data'!AD46","v":0},{"$f":"'Step 3 Product data'!AE46","v":0},{"$f":"'Step 3 Product data'!AF46","v":0},{"$f":"'Step 3 Product data'!AG46","v":0},{"$f":"'Step 3 Product data'!AH46","v":0},{"$f":"'Step 3 Product data'!AI46","v":0},{"$f":"'Step 3 Product data'!AJ46","v":0},{"$f":"'Step 3 Product data'!AK46","v":0},{"$f":"'Step 3 Product data'!AL46","v":0},{"$f":"'Step 3 Product data'!AM46","v":0},{"$f":"'Step 3 Product data'!AN46","v":0},{"$f":"'Step 3 Product data'!AO46","v":0},{"$f":"'Step 3 Product data'!AP46","v":0},{"$f":"'Step 3 Product data'!AQ46","v":0},{"$f":"'Step 3 Product data'!AR46","v":0},{"$f":"'Step 3 Product data'!AS46","v":0},{"$f":"'Step 3 Product data'!AT46","v":0},{"$f":"'Step 3 Product data'!AU46","v":0},{"$f":"'Step 3 Product data'!AV46","v":0},{"$f":"'Step 3 Product data'!AW46","v":0},{"$f":"'Step 3 Product data'!AX46","v":0},{"$f":"'Step 3 Product data'!AY46","v":0},{"$f":"'Step 3 Product data'!AZ46","v":0},{"$f":"'Step 3 Product data'!BA46","v":0},{"$f":"'Step 3 Product data'!BB46","v":0},{"$f":"'Step 3 Product data'!BC46","v":0},{"$f":"'Step 3 Product data'!BD46","v":0},{"$f":"'Step 3 Product data'!BE46","v":0},{"$f":"'Step 3 Product data'!BF46","v":0},{"$f":"'Step 3 Product data'!BG46","v":0},{"$f":"'Step 3 Product data'!BH46","v":0},{"$f":"'Step 3 Product data'!BI46","v":0},{"$f":"'Step 3 Product data'!BJ46","v":0},{"$f":"'Step 3 Product data'!BK46","v":0},{"$f":"'Step 3 Product data'!BL46","v":0},{"$f":"'Step 3 Product data'!BM46","v":0},{"$f":"'Step 3 Product data'!BN46","v":0},{"$f":"'Step 3 Product data'!BO46","v":0},{"$f":"'Step 3 Product data'!BP46","v":0},{"$f":"'Step 3 Product data'!BQ46","v":0},{"$f":"'Step 3 Product data'!BR46","v":0},{"$f":"'Step 3 Product data'!BS46","v":0},{"$f":"'Step 3 Product data'!BT46","v":0},{"$f":"'Step 3 Product data'!BU46","v":0},{"$f":"'Step 3 Product data'!BV46","v":0},{"$f":"'Step 3 Product data'!BW46","v":0},{"$f":"'Step 3 Product data'!BX46","v":0},{"$f":"'Step 3 Product data'!BY46","v":0},{"$f":"'Step 3 Product data'!BZ46","v":0},{"$f":"'Step 3 Product data'!CA46","v":0},{"$f":"'Step 3 Product data'!CB46","v":0},{"$f":"'Step 3 Product data'!CC46","v":0},{"$f":"'Step 3 Product data'!CD46","v":0},{"$f":"'Step 3 Product data'!CE46","v":0},{"$f":"'Step 3 Product data'!CF46","v":0},{"$f":"'Step 3 Product data'!CG46","v":0},{"$f":"'Step 3 Product data'!CH46","v":0},{"$f":"'Step 3 Product data'!CI46","v":0},{"$f":"'Step 3 Product data'!CJ46","v":0},{"$f":"'Step 3 Product data'!CK46","v":0},null,0,0,0,0,0]
[{"$f":"'Step 3 Product data'!A47","v":27},{"$f":"'Step 3 Product data'!B47","v":0},{"$f":"'Step 3 Product data'!C47","v":0},{"$f":"'Step 3 Product data'!D47","v":0},{"$f":"'Step 3 Product data'!E47","v":"Choose one"},{"$f":"IF(E36=$A$88,1,IF(E36='Data Validation'!$B$31,0,IF(E36=$D$81,$E$81,IF(E36=$D$82,$E$82,IF(E36=$D$83,$E$83,IF(E36=$A$89,$E$84,0))))))","v":0},{"$f":"'Step 3 Product data'!F47","v":0},{"$f":"$G36*'Step 3 Product data'!G47","v":0},{"$f":"IF(I$7=TRUE,($G36*'Step 3 Product data'!H47*(1-'Emission Calculations'!$F36)),($G36*'Step 3 Product data'!H47))","v":0},{"$f":"IF(J$7=TRUE,($G36*'Step 3 Product data'!I47*(1-'Emission Calculations'!$F36)),($G36*'Step 3 Product data'!I47))","v":0},{"$f":"IF(K$7=TRUE,($G36*'Step 3 Product data'!J47*(1-'Emission Calculations'!$F36)),($G36*'Step 3 Product data'!J47))","v":0},{"$f":"IF(L$7=TRUE,($G36*'Step 3 Product data'!K47*(1-'Emission Calculations'!$F36)),($G36*'Step 3 Product data'!K47))","v":0},{"$f":"IF(M$7=TRUE,($G36*'Step 3 Product data'!L47*(1-'Emission Calculations'!$F36)),($G36*'Step 3 Product data'!L47))","v":0},{"$f":"IF(N$7=TRUE,($G36*'Step 3 Product data'!M47*(1-'Emission Calculations'!$F36)),($G36*'Step 3 Product data'!M47))","v":0},{"$f":"IF(O$7=TRUE,($G36*'Step 3 Product data'!N47*(1-'Emission Calculations'!$F36)),($G36*'Step 3 Product data'!N47))","v":0},{"$f":"IF(P$7=TRUE,($G36*'Step 3 Product data'!O47*(1-'Emission Calculations'!$F36)),($G36*'Step 3 Product data'!O47))","v":0},{"$f":"IF(Q$7=TRUE,($G36*'Step 3 Product data'!P47*(1-'Emission Calculations'!$F36)),($G36*'Step 3 Product data'!P47))","v":0},{"$f":"IF(R$7=TRUE,($G36*'Step 3 Product data'!Q47*(1-'Emission Calculations'!$F36)),($G36*'Step 3 Product data'!Q47))","v":0},{"$f":"IF(S$7=TRUE,($G36*'Step 3 Product data'!R47*(1-'Emission Calculations'!$F36)),($G36*'Step 3 Product data'!R47))","v":0},{"$f":"IF(T$7=TRUE,($G36*'Step 3 Product data'!S47*(1-'Emission Calculations'!$F36)),($G36*'Step 3 Product data'!S47))","v":0},{"$f":"IF(U$7=TRUE,($G36*'Step 3 Product data'!T47*(1-'Emission Calculations'!$F36)),($G36*'Step 3 Product data'!T47))","v":0},{"$f":"IF(V$7=TRUE,($G36*'Step 3 Product data'!U47*(1-'Emission Calculations'!$F36)),($G36*'Step 3 Product data'!U47))","v":0},{"$f":"IF(W$7=TRUE,($G36*'Step 3 Product data'!V47*(1-'Emission Calculations'!$F36)),($G36*'Step 3 Product data'!V47))","v":0},{"$f":"IF(X$7=TRUE,($G36*'Step 3 Product data'!W47*(1-'Emission Calculations'!$F36)),($G36*'Step 3 Product data'!W47))","v":0},{"$f":"IF(Y$7=TRUE,($G36*'Step 3 Product data'!X47*(1-'Emission Calculations'!$F36)),($G36*'Step 3 Product data'!X47))","v":0},{"$f":"IF('Step 3 Product data'!Y47=0,SUM(AE36:AP36),'Step 3 Product data'!Y47)","v":" "},{"$f":"IF('Step 3 Product data'!Z47=0,SUM(AQ36:BB36),'Step 3 Product data'!Z47)","v":0},{"$f":"IF('Step 3 Product data'!AA47=0,SUM(BC36:BN36),'Step 3 Product data'!AA47)","v":0},{"$f":"IF('Step 3 Product data'!AB47=0,SUM(BO36:BZ36),'Step 3 Product data'!AB47)","v":0},{"$f":"IF('Step 3 Product data'!AC47=0,SUM(CA36:CL36),'Step 3 Product data'!AC47)","v":0},{"$f":"'Step 3 Product data'!AD47","v":0},{"$f":"'Step 3 Product data'!AE47","v":0},{"$f":"'Step 3 Product data'!AF47","v":0},{"$f":"'Step 3 Product data'!AG47","v":0},{"$f":"'Step 3 Product data'!AH47","v":0},{"$f":"'Step 3 Product data'!AI47","v":0},{"$f":"'Step 3 Product data'!AJ47","v":0},{"$f":"'Step 3 Product data'!AK47","v":0},{"$f":"'Step 3 Product data'!AL47","v":0},{"$f":"'Step 3 Product data'!AM47","v":0},{"$f":"'Step 3 Product data'!AN47","v":0},{"$f":"'Step 3 Product data'!AO47","v":0},{"$f":"'Step 3 Product data'!AP47","v":0},{"$f":"'Step 3 Product data'!AQ47","v":0},{"$f":"'Step 3 Product data'!AR47","v":0},{"$f":"'Step 3 Product data'!AS47","v":0},{"$f":"'Step 3 Product data'!AT47","v":0},{"$f":"'Step 3 Product data'!AU47","v":0},{"$f":"'Step 3 Product data'!AV47","v":0},{"$f":"'Step 3 Product data'!AW47","v":0},{"$f":"'Step 3 Product data'!AX47","v":0},{"$f":"'Step 3 Product data'!AY47","v":0},{"$f":"'Step 3 Product data'!AZ47","v":0},{"$f":"'Step 3 Product data'!BA47","v":0},{"$f":"'Step 3 Product data'!BB47","v":0},{"$f":"'Step 3 Product data'!BC47","v":0},{"$f":"'Step 3 Product data'!BD47","v":0},{"$f":"'Step 3 Product data'!BE47","v":0},{"$f":"'Step 3 Product data'!BF47","v":0},{"$f":"'Step 3 Product data'!BG47","v":0},{"$f":"'Step 3 Product data'!BH47","v":0},{"$f":"'Step 3 Product data'!BI47","v":0},{"$f":"'Step 3 Product data'!BJ47","v":0},{"$f":"'Step 3 Product data'!BK47","v":0},{"$f":"'Step 3 Product data'!BL47","v":0},{"$f":"'Step 3 Product data'!BM47","v":0},{"$f":"'Step 3 Product data'!BN47","v":0},{"$f":"'Step 3 Product data'!BO47","v":0},{"$f":"'Step 3 Product data'!BP47","v":0},{"$f":"'Step 3 Product data'!BQ47","v":0},{"$f":"'Step 3 Product data'!BR47","v":0},{"$f":"'Step 3 Product data'!BS47","v":0},{"$f":"'Step 3 Product data'!BT47","v":0},{"$f":"'Step 3 Product data'!BU47","v":0},{"$f":"'Step 3 Product data'!BV47","v":0},{"$f":"'Step 3 Product data'!BW47","v":0},{"$f":"'Step 3 Product data'!BX47","v":0},{"$f":"'Step 3 Product data'!BY47","v":0},{"$f":"'Step 3 Product data'!BZ47","v":0},{"$f":"'Step 3 Product data'!CA47","v":0},{"$f":"'Step 3 Product data'!CB47","v":0},{"$f":"'Step 3 Product data'!CC47","v":0},{"$f":"'Step 3 Product data'!CD47","v":0},{"$f":"'Step 3 Product data'!CE47","v":0},{"$f":"'Step 3 Product data'!CF47","v":0},{"$f":"'Step 3 Product data'!CG47","v":0},{"$f":"'Step 3 Product data'!CH47","v":0},{"$f":"'Step 3 Product data'!CI47","v":0},{"$f":"'Step 3 Product data'!CJ47","v":0},{"$f":"'Step 3 Product data'!CK47","v":0},null,0,0,0,0,0]
[{"$f":"'Step 3 Product data'!A48","v":28},{"$f":"'Step 3 Product data'!B48","v":0},{"$f":"'Step 3 Product data'!C48","v":0},{"$f":"'Step 3 Product data'!D48","v":0},{"$f":"'Step 3 Product data'!E48","v":"Choose one"},{"$f":"IF(E37=$A$88,1,IF(E37='Data Validation'!$B$31,0,IF(E37=$D$81,$E$81,IF(E37=$D$82,$E$82,IF(E37=$D$83,$E$83,IF(E37=$A$89,$E$84,0))))))","v":0},{"$f":"'Step 3 Product data'!F48","v":0},{"$f":"$G37*'Step 3 Product data'!G48","v":0},{"$f":"IF(I$7=TRUE,($G37*'Step 3 Product data'!H48*(1-'Emission Calculations'!$F37)),($G37*'Step 3 Product data'!H48))","v":0},{"$f":"IF(J$7=TRUE,($G37*'Step 3 Product data'!I48*(1-'Emission Calculations'!$F37)),($G37*'Step 3 Product data'!I48))","v":0},{"$f":"IF(K$7=TRUE,($G37*'Step 3 Product data'!J48*(1-'Emission Calculations'!$F37)),($G37*'Step 3 Product data'!J48))","v":0},{"$f":"IF(L$7=TRUE,($G37*'Step 3 Product data'!K48*(1-'Emission Calculations'!$F37)),($G37*'Step 3 Product data'!K48))","v":0},{"$f":"IF(M$7=TRUE,($G37*'Step 3 Product data'!L48*(1-'Emission Calculations'!$F37)),($G37*'Step 3 Product data'!L48))","v":0},{"$f":"IF(N$7=TRUE,($G37*'Step 3 Product data'!M48*(1-'Emission Calculations'!$F37)),($G37*'Step 3 Product data'!M48))","v":0},{"$f":"IF(O$7=TRUE,($G37*'Step 3 Product data'!N48*(1-'Emission Calculations'!$F37)),($G37*'Step 3 Product data'!N48))","v":0},{"$f":"IF(P$7=TRUE,($G37*'Step 3 Product data'!O48*(1-'Emission Calculations'!$F37)),($G37*'Step 3 Product data'!O48))","v":0},{"$f":"IF(Q$7=TRUE,($G37*'Step 3 Product data'!P48*(1-'Emission Calculations'!$F37)),($G37*'Step 3 Product data'!P48))","v":0},{"$f":"IF(R$7=TRUE,($G37*'Step 3 Product data'!Q48*(1-'Emission Calculations'!$F37)),($G37*'Step 3 Product data'!Q48))","v":0},{"$f":"IF(S$7=TRUE,($G37*'Step 3 Product data'!R48*(1-'Emission Calculations'!$F37)),($G37*'Step 3 Product data'!R48))","v":0},{"$f":"IF(T$7=TRUE,($G37*'Step 3 Product data'!S48*(1-'Emission Calculations'!$F37)),($G37*'Step 3 Product data'!S48))","v":0},{"$f":"IF(U$7=TRUE,($G37*'Step 3 Product data'!T48*(1-'Emission Calculations'!$F37)),($G37*'Step 3 Product data'!T48))","v":0},{"$f":"IF(V$7=TRUE,($G37*'Step 3 Product data'!U48*(1-'Emission Calculations'!$F37)),($G37*'Step 3 Product data'!U48))","v":0},{"$f":"IF(W$7=TRUE,($G37*'Step 3 Product data'!V48*(1-'Emission Calculations'!$F37)),($G37*'Step 3 Product data'!V48))","v":0},{"$f":"IF(X$7=TRUE,($G37*'Step 3 Product data'!W48*(1-'Emission Calculations'!$F37)),($G37*'Step 3 Product data'!W48))","v":0},{"$f":"IF(Y$7=TRUE,($G37*'Step 3 Product data'!X48*(1-'Emission Calculations'!$F37)),($G37*'Step 3 Product data'!X48))","v":0},{"$f":"IF('Step 3 Product data'!Y48=0,SUM(AE37:AP37),'Step 3 Product data'!Y48)","v":" "},{"$f":"IF('Step 3 Product data'!Z48=0,SUM(AQ37:BB37),'Step 3 Product data'!Z48)","v":0},{"$f":"IF('Step 3 Product data'!AA48=0,SUM(BC37:BN37),'Step 3 Product data'!AA48)","v":0},{"$f":"IF('Step 3 Product data'!AB48=0,SUM(BO37:BZ37),'Step 3 Product data'!AB48)","v":0},{"$f":"IF('Step 3 Product data'!AC48=0,SUM(CA37:CL37),'Step 3 Product data'!AC48)","v":0},{"$f":"'Step 3 Product data'!AD48","v":0},{"$f":"'Step 3 Product data'!AE48","v":0},{"$f":"'Step 3 Product data'!AF48","v":0},{"$f":"'Step 3 Product data'!AG48","v":0},{"$f":"'Step 3 Product data'!AH48","v":0},{"$f":"'Step 3 Product data'!AI48","v":0},{"$f":"'Step 3 Product data'!AJ48","v":0},{"$f":"'Step 3 Product data'!AK48","v":0},{"$f":"'Step 3 Product data'!AL48","v":0},{"$f":"'Step 3 Product data'!AM48","v":0},{"$f":"'Step 3 Product data'!AN48","v":0},{"$f":"'Step 3 Product data'!AO48","v":0},{"$f":"'Step 3 Product data'!AP48","v":0},{"$f":"'Step 3 Product data'!AQ48","v":0},{"$f":"'Step 3 Product data'!AR48","v":0},{"$f":"'Step 3 Product data'!AS48","v":0},{"$f":"'Step 3 Product data'!AT48","v":0},{"$f":"'Step 3 Product data'!AU48","v":0},{"$f":"'Step 3 Product data'!AV48","v":0},{"$f":"'Step 3 Product data'!AW48","v":0},{"$f":"'Step 3 Product data'!AX48","v":0},{"$f":"'Step 3 Product data'!AY48","v":0},{"$f":"'Step 3 Product data'!AZ48","v":0},{"$f":"'Step 3 Product data'!BA48","v":0},{"$f":"'Step 3 Product data'!BB48","v":0},{"$f":"'Step 3 Product data'!BC48","v":0},{"$f":"'Step 3 Product data'!BD48","v":0},{"$f":"'Step 3 Product data'!BE48","v":0},{"$f":"'Step 3 Product data'!BF48","v":0},{"$f":"'Step 3 Product data'!BG48","v":0},{"$f":"'Step 3 Product data'!BH48","v":0},{"$f":"'Step 3 Product data'!BI48","v":0},{"$f":"'Step 3 Product data'!BJ48","v":0},{"$f":"'Step 3 Product data'!BK48","v":0},{"$f":"'Step 3 Product data'!BL48","v":0},{"$f":"'Step 3 Product data'!BM48","v":0},{"$f":"'Step 3 Product data'!BN48","v":0},{"$f":"'Step 3 Product data'!BO48","v":0},{"$f":"'Step 3 Product data'!BP48","v":0},{"$f":"'Step 3 Product data'!BQ48","v":0},{"$f":"'Step 3 Product data'!BR48","v":0},{"$f":"'Step 3 Product data'!BS48","v":0},{"$f":"'Step 3 Product data'!BT48","v":0},{"$f":"'Step 3 Product data'!BU48","v":0},{"$f":"'Step 3 Product data'!BV48","v":0},{"$f":"'Step 3 Product data'!BW48","v":0},{"$f":"'Step 3 Product data'!BX48","v":0},{"$f":"'Step 3 Product data'!BY48","v":0},{"$f":"'Step 3 Product data'!BZ48","v":0},{"$f":"'Step 3 Product data'!CA48","v":0},{"$f":"'Step 3 Product data'!CB48","v":0},{"$f":"'Step 3 Product data'!CC48","v":0},{"$f":"'Step 3 Product data'!CD48","v":0},{"$f":"'Step 3 Product data'!CE48","v":0},{"$f":"'Step 3 Product data'!CF48","v":0},{"$f":"'Step 3 Product data'!CG48","v":0},{"$f":"'Step 3 Product data'!CH48","v":0},{"$f":"'Step 3 Product data'!CI48","v":0},{"$f":"'Step 3 Product data'!CJ48","v":0},{"$f":"'Step 3 Product data'!CK48","v":0},null,0,0,0,0,0]
[{"$f":"'Step 3 Product data'!A49","v":29},{"$f":"'Step 3 Product data'!B49","v":0},{"$f":"'Step 3 Product data'!C49","v":0},{"$f":"'Step 3 Product data'!D49","v":0},{"$f":"'Step 3 Product data'!E49","v":"Choose one"},{"$f":"IF(E38=$A$88,1,IF(E38='Data Validation'!$B$31,0,IF(E38=$D$81,$E$81,IF(E38=$D$82,$E$82,IF(E38=$D$83,$E$83,IF(E38=$A$89,$E$84,0))))))","v":0},{"$f":"'Step 3 Product data'!F49","v":0},{"$f":"$G38*'Step 3 Product data'!G49","v":0},{"$f":"IF(I$7=TRUE,($G38*'Step 3 Product data'!H49*(1-'Emission Calculations'!$F38)),($G38*'Step 3 Product data'!H49))","v":0},{"$f":"IF(J$7=TRUE,($G38*'Step 3 Product data'!I49*(1-'Emission Calculations'!$F38)),($G38*'Step 3 Product data'!I49))","v":0},{"$f":"IF(K$7=TRUE,($G38*'Step 3 Product data'!J49*(1-'Emission Calculations'!$F38)),($G38*'Step 3 Product data'!J49))","v":0},{"$f":"IF(L$7=TRUE,($G38*'Step 3 Product data'!K49*(1-'Emission Calculations'!$F38)),($G38*'Step 3 Product data'!K49))","v":0},{"$f":"IF(M$7=TRUE,($G38*'Step 3 Product data'!L49*(1-'Emission Calculations'!$F38)),($G38*'Step 3 Product data'!L49))","v":0},{"$f":"IF(N$7=TRUE,($G38*'Step 3 Product data'!M49*(1-'Emission Calculations'!$F38)),($G38*'Step 3 Product data'!M49))","v":0},{"$f":"IF(O$7=TRUE,($G38*'Step 3 Product data'!N49*(1-'Emission Calculations'!$F38)),($G38*'Step 3 Product data'!N49))","v":0},{"$f":"IF(P$7=TRUE,($G38*'Step 3 Product data'!O49*(1-'Emission Calculations'!$F38)),($G38*'Step 3 Product data'!O49))","v":0},{"$f":"IF(Q$7=TRUE,($G38*'Step 3 Product data'!P49*(1-'Emission Calculations'!$F38)),($G38*'Step 3 Product data'!P49))","v":0},{"$f":"IF(R$7=TRUE,($G38*'Step 3 Product data'!Q49*(1-'Emission Calculations'!$F38)),($G38*'Step 3 Product data'!Q49))","v":0},{"$f":"IF(S$7=TRUE,($G38*'Step 3 Product data'!R49*(1-'Emission Calculations'!$F38)),($G38*'Step 3 Product data'!R49))","v":0},{"$f":"IF(T$7=TRUE,($G38*'Step 3 Product data'!S49*(1-'Emission Calculations'!$F38)),($G38*'Step 3 Product data'!S49))","v":0},{"$f":"IF(U$7=TRUE,($G38*'Step 3 Product data'!T49*(1-'Emission Calculations'!$F38)),($G38*'Step 3 Product data'!T49))","v":0},{"$f":"IF(V$7=TRUE,($G38*'Step 3 Product data'!U49*(1-'Emission Calculations'!$F38)),($G38*'Step 3 Product data'!U49))","v":0},{"$f":"IF(W$7=TRUE,($G38*'Step 3 Product data'!V49*(1-'Emission Calculations'!$F38)),($G38*'Step 3 Product data'!V49))","v":0},{"$f":"IF(X$7=TRUE,($G38*'Step 3 Product data'!W49*(1-'Emission Calculations'!$F38)),($G38*'Step 3 Product data'!W49))","v":0},{"$f":"IF(Y$7=TRUE,($G38*'Step 3 Product data'!X49*(1-'Emission Calculations'!$F38)),($G38*'Step 3 Product data'!X49))","v":0},{"$f":"IF('Step 3 Product data'!Y49=0,SUM(AE38:AP38),'Step 3 Product data'!Y49)","v":" "},{"$f":"IF('Step 3 Product data'!Z49=0,SUM(AQ38:BB38),'Step 3 Product data'!Z49)","v":0},{"$f":"IF('Step 3 Product data'!AA49=0,SUM(BC38:BN38),'Step 3 Product data'!AA49)","v":0},{"$f":"IF('Step 3 Product data'!AB49=0,SUM(BO38:BZ38),'Step 3 Product data'!AB49)","v":0},{"$f":"IF('Step 3 Product data'!AC49=0,SUM(CA38:CL38),'Step 3 Product data'!AC49)","v":0},{"$f":"'Step 3 Product data'!AD49","v":0},{"$f":"'Step 3 Product data'!AE49","v":0},{"$f":"'Step 3 Product data'!AF49","v":0},{"$f":"'Step 3 Product data'!AG49","v":0},{"$f":"'Step 3 Product data'!AH49","v":0},{"$f":"'Step 3 Product data'!AI49","v":0},{"$f":"'Step 3 Product data'!AJ49","v":0},{"$f":"'Step 3 Product data'!AK49","v":0},{"$f":"'Step 3 Product data'!AL49","v":0},{"$f":"'Step 3 Product data'!AM49","v":0},{"$f":"'Step 3 Product data'!AN49","v":0},{"$f":"'Step 3 Product data'!AO49","v":0},{"$f":"'Step 3 Product data'!AP49","v":0},{"$f":"'Step 3 Product data'!AQ49","v":0},{"$f":"'Step 3 Product data'!AR49","v":0},{"$f":"'Step 3 Product data'!AS49","v":0},{"$f":"'Step 3 Product data'!AT49","v":0},{"$f":"'Step 3 Product data'!AU49","v":0},{"$f":"'Step 3 Product data'!AV49","v":0},{"$f":"'Step 3 Product data'!AW49","v":0},{"$f":"'Step 3 Product data'!AX49","v":0},{"$f":"'Step 3 Product data'!AY49","v":0},{"$f":"'Step 3 Product data'!AZ49","v":0},{"$f":"'Step 3 Product data'!BA49","v":0},{"$f":"'Step 3 Product data'!BB49","v":0},{"$f":"'Step 3 Product data'!BC49","v":0},{"$f":"'Step 3 Product data'!BD49","v":0},{"$f":"'Step 3 Product data'!BE49","v":0},{"$f":"'Step 3 Product data'!BF49","v":0},{"$f":"'Step 3 Product data'!BG49","v":0},{"$f":"'Step 3 Product data'!BH49","v":0},{"$f":"'Step 3 Product data'!BI49","v":0},{"$f":"'Step 3 Product data'!BJ49","v":0},{"$f":"'Step 3 Product data'!BK49","v":0},{"$f":"'Step 3 Product data'!BL49","v":0},{"$f":"'Step 3 Product data'!BM49","v":0},{"$f":"'Step 3 Product data'!BN49","v":0},{"$f":"'Step 3 Product data'!BO49","v":0},{"$f":"'Step 3 Product data'!BP49","v":0},{"$f":"'Step 3 Product data'!BQ49","v":0},{"$f":"'Step 3 Product data'!BR49","v":0},{"$f":"'Step 3 Product data'!BS49","v":0},{"$f":"'Step 3 Product data'!BT49","v":0},{"$f":"'Step 3 Product data'!BU49","v":0},{"$f":"'Step 3 Product data'!BV49","v":0},{"$f":"'Step 3 Product data'!BW49","v":0},{"$f":"'Step 3 Product data'!BX49","v":0},{"$f":"'Step 3 Product data'!BY49","v":0},{"$f":"'Step 3 Product data'!BZ49","v":0},{"$f":"'Step 3 Product data'!CA49","v":0},{"$f":"'Step 3 Product data'!CB49","v":0},{"$f":"'Step 3 Product data'!CC49","v":0},{"$f":"'Step 3 Product data'!CD49","v":0},{"$f":"'Step 3 Product data'!CE49","v":0},{"$f":"'Step 3 Product data'!CF49","v":0},{"$f":"'Step 3 Product data'!CG49","v":0},{"$f":"'Step 3 Product data'!CH49","v":0},{"$f":"'Step 3 Product data'!CI49","v":0},{"$f":"'Step 3 Product data'!CJ49","v":0},{"$f":"'Step 3 Product data'!CK49","v":0},null,0,0,0,0,0]
[{"$f":"'Step 3 Product data'!A50","v":30},{"$f":"'Step 3 Product data'!B50","v":0},{"$f":"'Step 3 Product data'!C50","v":0},{"$f":"'Step 3 Product data'!D50","v":0},{"$f":"'Step 3 Product data'!E50","v":"Choose one"},{"$f":"IF(E39=$A$88,1,IF(E39='Data Validation'!$B$31,0,IF(E39=$D$81,$E$81,IF(E39=$D$82,$E$82,IF(E39=$D$83,$E$83,IF(E39=$A$89,$E$84,0))))))","v":0},{"$f":"'Step 3 Product data'!F50","v":0},{"$f":"$G39*'Step 3 Product data'!G50","v":0},{"$f":"IF(I$7=TRUE,($G39*'Step 3 Product data'!H50*(1-'Emission Calculations'!$F39)),($G39*'Step 3 Product data'!H50))","v":0},{"$f":"IF(J$7=TRUE,($G39*'Step 3 Product data'!I50*(1-'Emission Calculations'!$F39)),($G39*'Step 3 Product data'!I50))","v":0},{"$f":"IF(K$7=TRUE,($G39*'Step 3 Product data'!J50*(1-'Emission Calculations'!$F39)),($G39*'Step 3 Product data'!J50))","v":0},{"$f":"IF(L$7=TRUE,($G39*'Step 3 Product data'!K50*(1-'Emission Calculations'!$F39)),($G39*'Step 3 Product data'!K50))","v":0},{"$f":"IF(M$7=TRUE,($G39*'Step 3 Product data'!L50*(1-'Emission Calculations'!$F39)),($G39*'Step 3 Product data'!L50))","v":0},{"$f":"IF(N$7=TRUE,($G39*'Step 3 Product data'!M50*(1-'Emission Calculations'!$F39)),($G39*'Step 3 Product data'!M50))","v":0},{"$f":"IF(O$7=TRUE,($G39*'Step 3 Product data'!N50*(1-'Emission Calculations'!$F39)),($G39*'Step 3 Product data'!N50))","v":0},{"$f":"IF(P$7=TRUE,($G39*'Step 3 Product data'!O50*(1-'Emission Calculations'!$F39)),($G39*'Step 3 Product data'!O50))","v":0},{"$f":"IF(Q$7=TRUE,($G39*'Step 3 Product data'!P50*(1-'Emission Calculations'!$F39)),($G39*'Step 3 Product data'!P50))","v":0},{"$f":"IF(R$7=TRUE,($G39*'Step 3 Product data'!Q50*(1-'Emission Calculations'!$F39)),($G39*'Step 3 Product data'!Q50))","v":0},{"$f":"IF(S$7=TRUE,($G39*'Step 3 Product data'!R50*(1-'Emission Calculations'!$F39)),($G39*'Step 3 Product data'!R50))","v":0},{"$f":"IF(T$7=TRUE,($G39*'Step 3 Product data'!S50*(1-'Emission Calculations'!$F39)),($G39*'Step 3 Product data'!S50))","v":0},{"$f":"IF(U$7=TRUE,($G39*'Step 3 Product data'!T50*(1-'Emission Calculations'!$F39)),($G39*'Step 3 Product data'!T50))","v":0},{"$f":"IF(V$7=TRUE,($G39*'Step 3 Product data'!U50*(1-'Emission Calculations'!$F39)),($G39*'Step 3 Product data'!U50))","v":0},{"$f":"IF(W$7=TRUE,($G39*'Step 3 Product data'!V50*(1-'Emission Calculations'!$F39)),($G39*'Step 3 Product data'!V50))","v":0},{"$f":"IF(X$7=TRUE,($G39*'Step 3 Product data'!W50*(1-'Emission Calculations'!$F39)),($G39*'Step 3 Product data'!W50))","v":0},{"$f":"IF(Y$7=TRUE,($G39*'Step 3 Product data'!X50*(1-'Emission Calculations'!$F39)),($G39*'Step 3 Product data'!X50))","v":0},{"$f":"IF('Step 3 Product data'!Y50=0,SUM(AE39:AP39),'Step 3 Product data'!Y50)","v":" "},{"$f":"IF('Step 3 Product data'!Z50=0,SUM(AQ39:BB39),'Step 3 Product data'!Z50)","v":0},{"$f":"IF('Step 3 Product data'!AA50=0,SUM(BC39:BN39),'Step 3 Product data'!AA50)","v":0},{"$f":"IF('Step 3 Product data'!AB50=0,SUM(BO39:BZ39),'Step 3 Product data'!AB50)","v":0},{"$f":"IF('Step 3 Product data'!AC50=0,SUM(CA39:CL39),'Step 3 Product data'!AC50)","v":0},{"$f":"'Step 3 Product data'!AD50","v":0},{"$f":"'Step 3 Product data'!AE50","v":0},{"$f":"'Step 3 Product data'!AF50","v":0},{"$f":"'Step 3 Product data'!AG50","v":0},{"$f":"'Step 3 Product data'!AH50","v":0},{"$f":"'Step 3 Product data'!AI50","v":0},{"$f":"'Step 3 Product data'!AJ50","v":0},{"$f":"'Step 3 Product data'!AK50","v":0},{"$f":"'Step 3 Product data'!AL50","v":0},{"$f":"'Step 3 Product data'!AM50","v":0},{"$f":"'Step 3 Product data'!AN50","v":0},{"$f":"'Step 3 Product data'!AO50","v":0},{"$f":"'Step 3 Product data'!AP50","v":0},{"$f":"'Step 3 Product data'!AQ50","v":0},{"$f":"'Step 3 Product data'!AR50","v":0},{"$f":"'Step 3 Product data'!AS50","v":0},{"$f":"'Step 3 Product data'!AT50","v":0},{"$f":"'Step 3 Product data'!AU50","v":0},{"$f":"'Step 3 Product data'!AV50","v":0},{"$f":"'Step 3 Product data'!AW50","v":0},{"$f":"'Step 3 Product data'!AX50","v":0},{"$f":"'Step 3 Product data'!AY50","v":0},{"$f":"'Step 3 Product data'!AZ50","v":0},{"$f":"'Step 3 Product data'!BA50","v":0},{"$f":"'Step 3 Product data'!BB50","v":0},{"$f":"'Step 3 Product data'!BC50","v":0},{"$f":"'Step 3 Product data'!BD50","v":0},{"$f":"'Step 3 Product data'!BE50","v":0},{"$f":"'Step 3 Product data'!BF50","v":0},{"$f":"'Step 3 Product data'!BG50","v":0},{"$f":"'Step 3 Product data'!BH50","v":0},{"$f":"'Step 3 Product data'!BI50","v":0},{"$f":"'Step 3 Product data'!BJ50","v":0},{"$f":"'Step 3 Product data'!BK50","v":0},{"$f":"'Step 3 Product data'!BL50","v":0},{"$f":"'Step 3 Product data'!BM50","v":0},{"$f":"'Step 3 Product data'!BN50","v":0},{"$f":"'Step 3 Product data'!BO50","v":0},{"$f":"'Step 3 Product data'!BP50","v":0},{"$f":"'Step 3 Product data'!BQ50","v":0},{"$f":"'Step 3 Product data'!BR50","v":0},{"$f":"'Step 3 Product data'!BS50","v":0},{"$f":"'Step 3 Product data'!BT50","v":0},{"$f":"'Step 3 Product data'!BU50","v":0},{"$f":"'Step 3 Product data'!BV50","v":0},{"$f":"'Step 3 Product data'!BW50","v":0},{"$f":"'Step 3 Product data'!BX50","v":0},{"$f":"'Step 3 Product data'!BY50","v":0},{"$f":"'Step 3 Product data'!BZ50","v":0},{"$f":"'Step 3 Product data'!CA50","v":0},{"$f":"'Step 3 Product data'!CB50","v":0},{"$f":"'Step 3 Product data'!CC50","v":0},{"$f":"'Step 3 Product data'!CD50","v":0},{"$f":"'Step 3 Product data'!CE50","v":0},{"$f":"'Step 3 Product data'!CF50","v":0},{"$f":"'Step 3 Product data'!CG50","v":0},{"$f":"'Step 3 Product data'!CH50","v":0},{"$f":"'Step 3 Product data'!CI50","v":0},{"$f":"'Step 3 Product data'!CJ50","v":0},{"$f":"'Step 3 Product data'!CK50","v":0},null,0,0,0,0,0]
[{"$f":"'Step 3 Product data'!A51","v":31},{"$f":"'Step 3 Product data'!B51","v":0},{"$f":"'Step 3 Product data'!C51","v":0},{"$f":"'Step 3 Product data'!D51","v":0},{"$f":"'Step 3 Product data'!E51","v":"Choose one"},{"$f":"IF(E40=$A$88,1,IF(E40='Data Validation'!$B$31,0,IF(E40=$D$81,$E$81,IF(E40=$D$82,$E$82,IF(E40=$D$83,$E$83,IF(E40=$A$89,$E$84,0))))))","v":0},{"$f":"'Step 3 Product data'!F51","v":0},{"$f":"$G40*'Step 3 Product data'!G51","v":0},{"$f":"IF(I$7=TRUE,($G40*'Step 3 Product data'!H51*(1-'Emission Calculations'!$F40)),($G40*'Step 3 Product data'!H51))","v":0},{"$f":"IF(J$7=TRUE,($G40*'Step 3 Product data'!I51*(1-'Emission Calculations'!$F40)),($G40*'Step 3 Product data'!I51))","v":0},{"$f":"IF(K$7=TRUE,($G40*'Step 3 Product data'!J51*(1-'Emission Calculations'!$F40)),($G40*'Step 3 Product data'!J51))","v":0},{"$f":"IF(L$7=TRUE,($G40*'Step 3 Product data'!K51*(1-'Emission Calculations'!$F40)),($G40*'Step 3 Product data'!K51))","v":0},{"$f":"IF(M$7=TRUE,($G40*'Step 3 Product data'!L51*(1-'Emission Calculations'!$F40)),($G40*'Step 3 Product data'!L51))","v":0},{"$f":"IF(N$7=TRUE,($G40*'Step 3 Product data'!M51*(1-'Emission Calculations'!$F40)),($G40*'Step 3 Product data'!M51))","v":0},{"$f":"IF(O$7=TRUE,($G40*'Step 3 Product data'!N51*(1-'Emission Calculations'!$F40)),($G40*'Step 3 Product data'!N51))","v":0},{"$f":"IF(P$7=TRUE,($G40*'Step 3 Product data'!O51*(1-'Emission Calculations'!$F40)),($G40*'Step 3 Product data'!O51))","v":0},{"$f":"IF(Q$7=TRUE,($G40*'Step 3 Product data'!P51*(1-'Emission Calculations'!$F40)),($G40*'Step 3 Product data'!P51))","v":0},{"$f":"IF(R$7=TRUE,($G40*'Step 3 Product data'!Q51*(1-'Emission Calculations'!$F40)),($G40*'Step 3 Product data'!Q51))","v":0},{"$f":"IF(S$7=TRUE,($G40*'Step 3 Product data'!R51*(1-'Emission Calculations'!$F40)),($G40*'Step 3 Product data'!R51))","v":0},{"$f":"IF(T$7=TRUE,($G40*'Step 3 Product data'!S51*(1-'Emission Calculations'!$F40)),($G40*'Step 3 Product data'!S51))","v":0},{"$f":"IF(U$7=TRUE,($G40*'Step 3 Product data'!T51*(1-'Emission Calculations'!$F40)),($G40*'Step 3 Product data'!T51))","v":0},{"$f":"IF(V$7=TRUE,($G40*'Step 3 Product data'!U51*(1-'Emission Calculations'!$F40)),($G40*'Step 3 Product data'!U51))","v":0},{"$f":"IF(W$7=TRUE,($G40*'Step 3 Product data'!V51*(1-'Emission Calculations'!$F40)),($G40*'Step 3 Product data'!V51))","v":0},{"$f":"IF(X$7=TRUE,($G40*'Step 3 Product data'!W51*(1-'Emission Calculations'!$F40)),($G40*'Step 3 Product data'!W51))","v":0},{"$f":"IF(Y$7=TRUE,($G40*'Step 3 Product data'!X51*(1-'Emission Calculations'!$F40)),($G40*'Step 3 Product data'!X51))","v":0},{"$f":"IF('Step 3 Product data'!Y51=0,SUM(AE40:AP40),'Step 3 Product data'!Y51)","v":" "},{"$f":"IF('Step 3 Product data'!Z51=0,SUM(AQ40:BB40),'Step 3 Product data'!Z51)","v":0},{"$f":"IF('Step 3 Product data'!AA51=0,SUM(BC40:BN40),'Step 3 Product data'!AA51)","v":0},{"$f":"IF('Step 3 Product data'!AB51=0,SUM(BO40:BZ40),'Step 3 Product data'!AB51)","v":0},{"$f":"IF('Step 3 Product data'!AC51=0,SUM(CA40:CL40),'Step 3 Product data'!AC51)","v":0},{"$f":"'Step 3 Product data'!AD51","v":0},{"$f":"'Step 3 Product data'!AE51","v":0},{"$f":"'Step 3 Product data'!AF51","v":0},{"$f":"'Step 3 Product data'!AG51","v":0},{"$f":"'Step 3 Product data'!AH51","v":0},{"$f":"'Step 3 Product data'!AI51","v":0},{"$f":"'Step 3 Product data'!AJ51","v":0},{"$f":"'Step 3 Product data'!AK51","v":0},{"$f":"'Step 3 Product data'!AL51","v":0},{"$f":"'Step 3 Product data'!AM51","v":0},{"$f":"'Step 3 Product data'!AN51","v":0},{"$f":"'Step 3 Product data'!AO51","v":0},{"$f":"'Step 3 Product data'!AP51","v":0},{"$f":"'Step 3 Product data'!AQ51","v":0},{"$f":"'Step 3 Product data'!AR51","v":0},{"$f":"'Step 3 Product data'!AS51","v":0},{"$f":"'Step 3 Product data'!AT51","v":0},{"$f":"'Step 3 Product data'!AU51","v":0},{"$f":"'Step 3 Product data'!AV51","v":0},{"$f":"'Step 3 Product data'!AW51","v":0},{"$f":"'Step 3 Product data'!AX51","v":0},{"$f":"'Step 3 Product data'!AY51","v":0},{"$f":"'Step 3 Product data'!AZ51","v":0},{"$f":"'Step 3 Product data'!BA51","v":0},{"$f":"'Step 3 Product data'!BB51","v":0},{"$f":"'Step 3 Product data'!BC51","v":0},{"$f":"'Step 3 Product data'!BD51","v":0},{"$f":"'Step 3 Product data'!BE51","v":0},{"$f":"'Step 3 Product data'!BF51","v":0},{"$f":"'Step 3 Product data'!BG51","v":0},{"$f":"'Step 3 Product data'!BH51","v":0},{"$f":"'Step 3 Product data'!BI51","v":0},{"$f":"'Step 3 Product data'!BJ51","v":0},{"$f":"'Step 3 Product data'!BK51","v":0},{"$f":"'Step 3 Product data'!BL51","v":0},{"$f":"'Step 3 Product data'!BM51","v":0},{"$f":"'Step 3 Product data'!BN51","v":0},{"$f":"'Step 3 Product data'!BO51","v":0},{"$f":"'Step 3 Product data'!BP51","v":0},{"$f":"'Step 3 Product data'!BQ51","v":0},{"$f":"'Step 3 Product data'!BR51","v":0},{"$f":"'Step 3 Product data'!BS51","v":0},{"$f":"'Step 3 Product data'!BT51","v":0},{"$f":"'Step 3 Product data'!BU51","v":0},{"$f":"'Step 3 Product data'!BV51","v":0},{"$f":"'Step 3 Product data'!BW51","v":0},{"$f":"'Step 3 Product data'!BX51","v":0},{"$f":"'Step 3 Product data'!BY51","v":0},{"$f":"'Step 3 Product data'!BZ51","v":0},{"$f":"'Step 3 Product data'!CA51","v":0},{"$f":"'Step 3 Product data'!CB51","v":0},{"$f":"'Step 3 Product data'!CC51","v":0},{"$f":"'Step 3 Product data'!CD51","v":0},{"$f":"'Step 3 Product data'!CE51","v":0},{"$f":"'Step 3 Product data'!CF51","v":0},{"$f":"'Step 3 Product data'!CG51","v":0},{"$f":"'Step 3 Product data'!CH51","v":0},{"$f":"'Step 3 Product data'!CI51","v":0},{"$f":"'Step 3 Product data'!CJ51","v":0},{"$f":"'Step 3 Product data'!CK51","v":0},null,0,0,0,0,0]
[{"$f":"'Step 3 Product data'!A52","v":32},{"$f":"'Step 3 Product data'!B52","v":0},{"$f":"'Step 3 Product data'!C52","v":0},{"$f":"'Step 3 Product data'!D52","v":0},{"$f":"'Step 3 Product data'!E52","v":"Choose one"},{"$f":"IF(E41=$A$88,1,IF(E41='Data Validation'!$B$31,0,IF(E41=$D$81,$E$81,IF(E41=$D$82,$E$82,IF(E41=$D$83,$E$83,IF(E41=$A$89,$E$84,0))))))","v":0},{"$f":"'Step 3 Product data'!F52","v":0},{"$f":"$G41*'Step 3 Product data'!G52","v":0},{"$f":"IF(I$7=TRUE,($G41*'Step 3 Product data'!H52*(1-'Emission Calculations'!$F41)),($G41*'Step 3 Product data'!H52))","v":0},{"$f":"IF(J$7=TRUE,($G41*'Step 3 Product data'!I52*(1-'Emission Calculations'!$F41)),($G41*'Step 3 Product data'!I52))","v":0},{"$f":"IF(K$7=TRUE,($G41*'Step 3 Product data'!J52*(1-'Emission Calculations'!$F41)),($G41*'Step 3 Product data'!J52))","v":0},{"$f":"IF(L$7=TRUE,($G41*'Step 3 Product data'!K52*(1-'Emission Calculations'!$F41)),($G41*'Step 3 Product data'!K52))","v":0},{"$f":"IF(M$7=TRUE,($G41*'Step 3 Product data'!L52*(1-'Emission Calculations'!$F41)),($G41*'Step 3 Product data'!L52))","v":0},{"$f":"IF(N$7=TRUE,($G41*'Step 3 Product data'!M52*(1-'Emission Calculations'!$F41)),($G41*'Step 3 Product data'!M52))","v":0},{"$f":"IF(O$7=TRUE,($G41*'Step 3 Product data'!N52*(1-'Emission Calculations'!$F41)),($G41*'Step 3 Product data'!N52))","v":0},{"$f":"IF(P$7=TRUE,($G41*'Step 3 Product data'!O52*(1-'Emission Calculations'!$F41)),($G41*'Step 3 Product data'!O52))","v":0},{"$f":"IF(Q$7=TRUE,($G41*'Step 3 Product data'!P52*(1-'Emission Calculations'!$F41)),($G41*'Step 3 Product data'!P52))","v":0},{"$f":"IF(R$7=TRUE,($G41*'Step 3 Product data'!Q52*(1-'Emission Calculations'!$F41)),($G41*'Step 3 Product data'!Q52))","v":0},{"$f":"IF(S$7=TRUE,($G41*'Step 3 Product data'!R52*(1-'Emission Calculations'!$F41)),($G41*'Step 3 Product data'!R52))","v":0},{"$f":"IF(T$7=TRUE,($G41*'Step 3 Product data'!S52*(1-'Emission Calculations'!$F41)),($G41*'Step 3 Product data'!S52))","v":0},{"$f":"IF(U$7=TRUE,($G41*'Step 3 Product data'!T52*(1-'Emission Calculations'!$F41)),($G41*'Step 3 Product data'!T52))","v":0},{"$f":"IF(V$7=TRUE,($G41*'Step 3 Product data'!U52*(1-'Emission Calculations'!$F41)),($G41*'Step 3 Product data'!U52))","v":0},{"$f":"IF(W$7=TRUE,($G41*'Step 3 Product data'!V52*(1-'Emission Calculations'!$F41)),($G41*'Step 3 Product data'!V52))","v":0},{"$f":"IF(X$7=TRUE,($G41*'Step 3 Product data'!W52*(1-'Emission Calculations'!$F41)),($G41*'Step 3 Product data'!W52))","v":0},{"$f":"IF(Y$7=TRUE,($G41*'Step 3 Product data'!X52*(1-'Emission Calculations'!$F41)),($G41*'Step 3 Product data'!X52))","v":0},{"$f":"IF('Step 3 Product data'!Y52=0,SUM(AE41:AP41),'Step 3 Product data'!Y52)","v":" "},{"$f":"IF('Step 3 Product data'!Z52=0,SUM(AQ41:BB41),'Step 3 Product data'!Z52)","v":0},{"$f":"IF('Step 3 Product data'!AA52=0,SUM(BC41:BN41),'Step 3 Product data'!AA52)","v":0},{"$f":"IF('Step 3 Product data'!AB52=0,SUM(BO41:BZ41),'Step 3 Product data'!AB52)","v":0},{"$f":"IF('Step 3 Product data'!AC52=0,SUM(CA41:CL41),'Step 3 Product data'!AC52)","v":0},{"$f":"'Step 3 Product data'!AD52","v":0},{"$f":"'Step 3 Product data'!AE52","v":0},{"$f":"'Step 3 Product data'!AF52","v":0},{"$f":"'Step 3 Product data'!AG52","v":0},{"$f":"'Step 3 Product data'!AH52","v":0},{"$f":"'Step 3 Product data'!AI52","v":0},{"$f":"'Step 3 Product data'!AJ52","v":0},{"$f":"'Step 3 Product data'!AK52","v":0},{"$f":"'Step 3 Product data'!AL52","v":0},{"$f":"'Step 3 Product data'!AM52","v":0},{"$f":"'Step 3 Product data'!AN52","v":0},{"$f":"'Step 3 Product data'!AO52","v":0},{"$f":"'Step 3 Product data'!AP52","v":0},{"$f":"'Step 3 Product data'!AQ52","v":0},{"$f":"'Step 3 Product data'!AR52","v":0},{"$f":"'Step 3 Product data'!AS52","v":0},{"$f":"'Step 3 Product data'!AT52","v":0},{"$f":"'Step 3 Product data'!AU52","v":0},{"$f":"'Step 3 Product data'!AV52","v":0},{"$f":"'Step 3 Product data'!AW52","v":0},{"$f":"'Step 3 Product data'!AX52","v":0},{"$f":"'Step 3 Product data'!AY52","v":0},{"$f":"'Step 3 Product data'!AZ52","v":0},{"$f":"'Step 3 Product data'!BA52","v":0},{"$f":"'Step 3 Product data'!BB52","v":0},{"$f":"'Step 3 Product data'!BC52","v":0},{"$f":"'Step 3 Product data'!BD52","v":0},{"$f":"'Step 3 Product data'!BE52","v":0},{"$f":"'Step 3 Product data'!BF52","v":0},{"$f":"'Step 3 Product data'!BG52","v":0},{"$f":"'Step 3 Product data'!BH52","v":0},{"$f":"'Step 3 Product data'!BI52","v":0},{"$f":"'Step 3 Product data'!BJ52","v":0},{"$f":"'Step 3 Product data'!BK52","v":0},{"$f":"'Step 3 Product data'!BL52","v":0},{"$f":"'Step 3 Product data'!BM52","v":0},{"$f":"'Step 3 Product data'!BN52","v":0},{"$f":"'Step 3 Product data'!BO52","v":0},{"$f":"'Step 3 Product data'!BP52","v":0},{"$f":"'Step 3 Product data'!BQ52","v":0},{"$f":"'Step 3 Product data'!BR52","v":0},{"$f":"'Step 3 Product data'!BS52","v":0},{"$f":"'Step 3 Product data'!BT52","v":0},{"$f":"'Step 3 Product data'!BU52","v":0},{"$f":"'Step 3 Product data'!BV52","v":0},{"$f":"'Step 3 Product data'!BW52","v":0},{"$f":"'Step 3 Product data'!BX52","v":0},{"$f":"'Step 3 Product data'!BY52","v":0},{"$f":"'Step 3 Product data'!BZ52","v":0},{"$f":"'Step 3 Product data'!CA52","v":0},{"$f":"'Step 3 Product data'!CB52","v":0},{"$f":"'Step 3 Product data'!CC52","v":0},{"$f":"'Step 3 Product data'!CD52","v":0},{"$f":"'Step 3 Product data'!CE52","v":0},{"$f":"'Step 3 Product data'!CF52","v":0},{"$f":"'Step 3 Product data'!CG52","v":0},{"$f":"'Step 3 Product data'!CH52","v":0},{"$f":"'Step 3 Product data'!CI52","v":0},{"$f":"'Step 3 Product data'!CJ52","v":0},{"$f":"'Step 3 Product data'!CK52","v":0},null,0,0,0,0,0]
[{"$f":"'Step 3 Product data'!A53","v":33},{"$f":"'Step 3 Product data'!B53","v":0},{"$f":"'Step 3 Product data'!C53","v":0},{"$f":"'Step 3 Product data'!D53","v":0},{"$f":"'Step 3 Product data'!E53","v":"Choose one"},{"$f":"IF(E42=$A$88,1,IF(E42='Data Validation'!$B$31,0,IF(E42=$D$81,$E$81,IF(E42=$D$82,$E$82,IF(E42=$D$83,$E$83,IF(E42=$A$89,$E$84,0))))))","v":0},{"$f":"'Step 3 Product data'!F53","v":0},{"$f":"$G42*'Step 3 Product data'!G53","v":0},{"$f":"IF(I$7=TRUE,($G42*'Step 3 Product data'!H53*(1-'Emission Calculations'!$F42)),($G42*'Step 3 Product data'!H53))","v":0},{"$f":"IF(J$7=TRUE,($G42*'Step 3 Product data'!I53*(1-'Emission Calculations'!$F42)),($G42*'Step 3 Product data'!I53))","v":0},{"$f":"IF(K$7=TRUE,($G42*'Step 3 Product data'!J53*(1-'Emission Calculations'!$F42)),($G42*'Step 3 Product data'!J53))","v":0},{"$f":"IF(L$7=TRUE,($G42*'Step 3 Product data'!K53*(1-'Emission Calculations'!$F42)),($G42*'Step 3 Product data'!K53))","v":0},{"$f":"IF(M$7=TRUE,($G42*'Step 3 Product data'!L53*(1-'Emission Calculations'!$F42)),($G42*'Step 3 Product data'!L53))","v":0},{"$f":"IF(N$7=TRUE,($G42*'Step 3 Product data'!M53*(1-'Emission Calculations'!$F42)),($G42*'Step 3 Product data'!M53))","v":0},{"$f":"IF(O$7=TRUE,($G42*'Step 3 Product data'!N53*(1-'Emission Calculations'!$F42)),($G42*'Step 3 Product data'!N53))","v":0},{"$f":"IF(P$7=TRUE,($G42*'Step 3 Product data'!O53*(1-'Emission Calculations'!$F42)),($G42*'Step 3 Product data'!O53))","v":0},{"$f":"IF(Q$7=TRUE,($G42*'Step 3 Product data'!P53*(1-'Emission Calculations'!$F42)),($G42*'Step 3 Product data'!P53))","v":0},{"$f":"IF(R$7=TRUE,($G42*'Step 3 Product data'!Q53*(1-'Emission Calculations'!$F42)),($G42*'Step 3 Product data'!Q53))","v":0},{"$f":"IF(S$7=TRUE,($G42*'Step 3 Product data'!R53*(1-'Emission Calculations'!$F42)),($G42*'Step 3 Product data'!R53))","v":0},{"$f":"IF(T$7=TRUE,($G42*'Step 3 Product data'!S53*(1-'Emission Calculations'!$F42)),($G42*'Step 3 Product data'!S53))","v":0},{"$f":"IF(U$7=TRUE,($G42*'Step 3 Product data'!T53*(1-'Emission Calculations'!$F42)),($G42*'Step 3 Product data'!T53))","v":0},{"$f":"IF(V$7=TRUE,($G42*'Step 3 Product data'!U53*(1-'Emission Calculations'!$F42)),($G42*'Step 3 Product data'!U53))","v":0},{"$f":"IF(W$7=TRUE,($G42*'Step 3 Product data'!V53*(1-'Emission Calculations'!$F42)),($G42*'Step 3 Product data'!V53))","v":0},{"$f":"IF(X$7=TRUE,($G42*'Step 3 Product data'!W53*(1-'Emission Calculations'!$F42)),($G42*'Step 3 Product data'!W53))","v":0},{"$f":"IF(Y$7=TRUE,($G42*'Step 3 Product data'!X53*(1-'Emission Calculations'!$F42)),($G42*'Step 3 Product data'!X53))","v":0},{"$f":"IF('Step 3 Product data'!Y53=0,SUM(AE42:AP42),'Step 3 Product data'!Y53)","v":" "},{"$f":"IF('Step 3 Product data'!Z53=0,SUM(AQ42:BB42),'Step 3 Product data'!Z53)","v":0},{"$f":"IF('Step 3 Product data'!AA53=0,SUM(BC42:BN42),'Step 3 Product data'!AA53)","v":0},{"$f":"IF('Step 3 Product data'!AB53=0,SUM(BO42:BZ42),'Step 3 Product data'!AB53)","v":0},{"$f":"IF('Step 3 Product data'!AC53=0,SUM(CA42:CL42),'Step 3 Product data'!AC53)","v":0},{"$f":"'Step 3 Product data'!AD53","v":0},{"$f":"'Step 3 Product data'!AE53","v":0},{"$f":"'Step 3 Product data'!AF53","v":0},{"$f":"'Step 3 Product data'!AG53","v":0},{"$f":"'Step 3 Product data'!AH53","v":0},{"$f":"'Step 3 Product data'!AI53","v":0},{"$f":"'Step 3 Product data'!AJ53","v":0},{"$f":"'Step 3 Product data'!AK53","v":0},{"$f":"'Step 3 Product data'!AL53","v":0},{"$f":"'Step 3 Product data'!AM53","v":0},{"$f":"'Step 3 Product data'!AN53","v":0},{"$f":"'Step 3 Product data'!AO53","v":0},{"$f":"'Step 3 Product data'!AP53","v":0},{"$f":"'Step 3 Product data'!AQ53","v":0},{"$f":"'Step 3 Product data'!AR53","v":0},{"$f":"'Step 3 Product data'!AS53","v":0},{"$f":"'Step 3 Product data'!AT53","v":0},{"$f":"'Step 3 Product data'!AU53","v":0},{"$f":"'Step 3 Product data'!AV53","v":0},{"$f":"'Step 3 Product data'!AW53","v":0},{"$f":"'Step 3 Product data'!AX53","v":0},{"$f":"'Step 3 Product data'!AY53","v":0},{"$f":"'Step 3 Product data'!AZ53","v":0},{"$f":"'Step 3 Product data'!BA53","v":0},{"$f":"'Step 3 Product data'!BB53","v":0},{"$f":"'Step 3 Product data'!BC53","v":0},{"$f":"'Step 3 Product data'!BD53","v":0},{"$f":"'Step 3 Product data'!BE53","v":0},{"$f":"'Step 3 Product data'!BF53","v":0},{"$f":"'Step 3 Product data'!BG53","v":0},{"$f":"'Step 3 Product data'!BH53","v":0},{"$f":"'Step 3 Product data'!BI53","v":0},{"$f":"'Step 3 Product data'!BJ53","v":0},{"$f":"'Step 3 Product data'!BK53","v":0},{"$f":"'Step 3 Product data'!BL53","v":0},{"$f":"'Step 3 Product data'!BM53","v":0},{"$f":"'Step 3 Product data'!BN53","v":0},{"$f":"'Step 3 Product data'!BO53","v":0},{"$f":"'Step 3 Product data'!BP53","v":0},{"$f":"'Step 3 Product data'!BQ53","v":0},{"$f":"'Step 3 Product data'!BR53","v":0},{"$f":"'Step 3 Product data'!BS53","v":0},{"$f":"'Step 3 Product data'!BT53","v":0},{"$f":"'Step 3 Product data'!BU53","v":0},{"$f":"'Step 3 Product data'!BV53","v":0},{"$f":"'Step 3 Product data'!BW53","v":0},{"$f":"'Step 3 Product data'!BX53","v":0},{"$f":"'Step 3 Product data'!BY53","v":0},{"$f":"'Step 3 Product data'!BZ53","v":0},{"$f":"'Step 3 Product data'!CA53","v":0},{"$f":"'Step 3 Product data'!CB53","v":0},{"$f":"'Step 3 Product data'!CC53","v":0},{"$f":"'Step 3 Product data'!CD53","v":0},{"$f":"'Step 3 Product data'!CE53","v":0},{"$f":"'Step 3 Product data'!CF53","v":0},{"$f":"'Step 3 Product data'!CG53","v":0},{"$f":"'Step 3 Product data'!CH53","v":0},{"$f":"'Step 3 Product data'!CI53","v":0},{"$f":"'Step 3 Product data'!CJ53","v":0},{"$f":"'Step 3 Product data'!CK53","v":0},null,{"$f":"SUM(AE42:AP42)","v":0},{"$f":"SUM(AQ42:BB42)","v":0},{"$f":"SUM(BC42:BN42)","v":0},{"$f":"SUM(BO42:BZ42)","v":0},{"$f":"SUM(CA42:CL42)","v":0}]
[{"$f":"'Step 3 Product data'!A54","v":34},{"$f":"'Step 3 Product data'!B54","v":0},{"$f":"'Step 3 Product data'!C54","v":0},{"$f":"'Step 3 Product data'!D54","v":0},{"$f":"'Step 3 Product data'!E54","v":"Choose one"},{"$f":"IF(E43=$A$88,1,IF(E43='Data Validation'!$B$31,0,IF(E43=$D$81,$E$81,IF(E43=$D$82,$E$82,IF(E43=$D$83,$E$83,IF(E43=$A$89,$E$84,0))))))","v":0},{"$f":"'Step 3 Product data'!F54","v":0},{"$f":"$G43*'Step 3 Product data'!G54","v":0},{"$f":"IF(I$7=TRUE,($G43*'Step 3 Product data'!H54*(1-'Emission Calculations'!$F43)),($G43*'Step 3 Product data'!H54))","v":0},{"$f":"IF(J$7=TRUE,($G43*'Step 3 Product data'!I54*(1-'Emission Calculations'!$F43)),($G43*'Step 3 Product data'!I54))","v":0},{"$f":"IF(K$7=TRUE,($G43*'Step 3 Product data'!J54*(1-'Emission Calculations'!$F43)),($G43*'Step 3 Product data'!J54))","v":0},{"$f":"IF(L$7=TRUE,($G43*'Step 3 Product data'!K54*(1-'Emission Calculations'!$F43)),($G43*'Step 3 Product data'!K54))","v":0},{"$f":"IF(M$7=TRUE,($G43*'Step 3 Product data'!L54*(1-'Emission Calculations'!$F43)),($G43*'Step 3 Product data'!L54))","v":0},{"$f":"IF(N$7=TRUE,($G43*'Step 3 Product data'!M54*(1-'Emission Calculations'!$F43)),($G43*'Step 3 Product data'!M54))","v":0},{"$f":"IF(O$7=TRUE,($G43*'Step 3 Product data'!N54*(1-'Emission Calculations'!$F43)),($G43*'Step 3 Product data'!N54))","v":0},{"$f":"IF(P$7=TRUE,($G43*'Step 3 Product data'!O54*(1-'Emission Calculations'!$F43)),($G43*'Step 3 Product data'!O54))","v":0},{"$f":"IF(Q$7=TRUE,($G43*'Step 3 Product data'!P54*(1-'Emission Calculations'!$F43)),($G43*'Step 3 Product data'!P54))","v":0},{"$f":"IF(R$7=TRUE,($G43*'Step 3 Product data'!Q54*(1-'Emission Calculations'!$F43)),($G43*'Step 3 Product data'!Q54))","v":0},{"$f":"IF(S$7=TRUE,($G43*'Step 3 Product data'!R54*(1-'Emission Calculations'!$F43)),($G43*'Step 3 Product data'!R54))","v":0},{"$f":"IF(T$7=TRUE,($G43*'Step 3 Product data'!S54*(1-'Emission Calculations'!$F43)),($G43*'Step 3 Product data'!S54))","v":0},{"$f":"IF(U$7=TRUE,($G43*'Step 3 Product data'!T54*(1-'Emission Calculations'!$F43)),($G43*'Step 3 Product data'!T54))","v":0},{"$f":"IF(V$7=TRUE,($G43*'Step 3 Product data'!U54*(1-'Emission Calculations'!$F43)),($G43*'Step 3 Product data'!U54))","v":0},{"$f":"IF(W$7=TRUE,($G43*'Step 3 Product data'!V54*(1-'Emission Calculations'!$F43)),($G43*'Step 3 Product data'!V54))","v":0},{"$f":"IF(X$7=TRUE,($G43*'Step 3 Product data'!W54*(1-'Emission Calculations'!$F43)),($G43*'Step 3 Product data'!W54))","v":0},{"$f":"IF(Y$7=TRUE,($G43*'Step 3 Product data'!X54*(1-'Emission Calculations'!$F43)),($G43*'Step 3 Product data'!X54))","v":0},{"$f":"IF('Step 3 Product data'!Y54=0,SUM(AE43:AP43),'Step 3 Product data'!Y54)","v":" "},{"$f":"IF('Step 3 Product data'!Z54=0,SUM(AQ43:BB43),'Step 3 Product data'!Z54)","v":0},{"$f":"IF('Step 3 Product data'!AA54=0,SUM(BC43:BN43),'Step 3 Product data'!AA54)","v":0},{"$f":"IF('Step 3 Product data'!AB54=0,SUM(BO43:BZ43),'Step 3 Product data'!AB54)","v":0},{"$f":"IF('Step 3 Product data'!AC54=0,SUM(CA43:CL43),'Step 3 Product data'!AC54)","v":0},{"$f":"'Step 3 Product data'!AD54","v":0},{"$f":"'Step 3 Product data'!AE54","v":0},{"$f":"'Step 3 Product data'!AF54","v":0},{"$f":"'Step 3 Product data'!AG54","v":0},{"$f":"'Step 3 Product data'!AH54","v":0},{"$f":"'Step 3 Product data'!AI54","v":0},{"$f":"'Step 3 Product data'!AJ54","v":0},{"$f":"'Step 3 Product data'!AK54","v":0},{"$f":"'Step 3 Product data'!AL54","v":0},{"$f":"'Step 3 Product data'!AM54","v":0},{"$f":"'Step 3 Product data'!AN54","v":0},{"$f":"'Step 3 Product data'!AO54","v":0},{"$f":"'Step 3 Product data'!AP54","v":0},{"$f":"'Step 3 Product data'!AQ54","v":0},{"$f":"'Step 3 Product data'!AR54","v":0},{"$f":"'Step 3 Product data'!AS54","v":0},{"$f":"'Step 3 Product data'!AT54","v":0},{"$f":"'Step 3 Product data'!AU54","v":0},{"$f":"'Step 3 Product data'!AV54","v":0},{"$f":"'Step 3 Product data'!AW54","v":0},{"$f":"'Step 3 Product data'!AX54","v":0},{"$f":"'Step 3 Product data'!AY54","v":0},{"$f":"'Step 3 Product data'!AZ54","v":0},{"$f":"'Step 3 Product data'!BA54","v":0},{"$f":"'Step 3 Product data'!BB54","v":0},{"$f":"'Step 3 Product data'!BC54","v":0},{"$f":"'Step 3 Product data'!BD54","v":0},{"$f":"'Step 3 Product data'!BE54","v":0},{"$f":"'Step 3 Product data'!BF54","v":0},{"$f":"'Step 3 Product data'!BG54","v":0},{"$f":"'Step 3 Product data'!BH54","v":0},{"$f":"'Step 3 Product data'!BI54","v":0},{"$f":"'Step 3 Product data'!BJ54","v":0},{"$f":"'Step 3 Product data'!BK54","v":0},{"$f":"'Step 3 Product data'!BL54","v":0},{"$f":"'Step 3 Product data'!BM54","v":0},{"$f":"'Step 3 Product data'!BN54","v":0},{"$f":"'Step 3 Product data'!BO54","v":0},{"$f":"'Step 3 Product data'!BP54","v":0},{"$f":"'Step 3 Product data'!BQ54","v":0},{"$f":"'Step 3 Product data'!BR54","v":0},{"$f":"'Step 3 Product data'!BS54","v":0},{"$f":"'Step 3 Product data'!BT54","v":0},{"$f":"'Step 3 Product data'!BU54","v":0},{"$f":"'Step 3 Product data'!BV54","v":0},{"$f":"'Step 3 Product data'!BW54","v":0},{"$f":"'Step 3 Product data'!BX54","v":0},{"$f":"'Step 3 Product data'!BY54","v":0},{"$f":"'Step 3 Product data'!BZ54","v":0},{"$f":"'Step 3 Product data'!CA54","v":0},{"$f":"'Step 3 Product data'!CB54","v":0},{"$f":"'Step 3 Product data'!CC54","v":0},{"$f":"'Step 3 Product data'!CD54","v":0},{"$f":"'Step 3 Product data'!CE54","v":0},{"$f":"'Step 3 Product data'!CF54","v":0},{"$f":"'Step 3 Product data'!CG54","v":0},{"$f":"'Step 3 Product data'!CH54","v":0},{"$f":"'Step 3 Product data'!CI54","v":0},{"$f":"'Step 3 Product data'!CJ54","v":0},{"$f":"'Step 3 Product data'!CK54","v":0},null,0,0,0,0,0]
[{"$f":"'Step 3 Product data'!A55","v":35},{"$f":"'Step 3 Product data'!B55","v":0},{"$f":"'Step 3 Product data'!C55","v":0},{"$f":"'Step 3 Product data'!D55","v":0},{"$f":"'Step 3 Product data'!E55","v":"Choose one"},{"$f":"IF(E44=$A$88,1,IF(E44='Data Validation'!$B$31,0,IF(E44=$D$81,$E$81,IF(E44=$D$82,$E$82,IF(E44=$D$83,$E$83,IF(E44=$A$89,$E$84,0))))))","v":0},{"$f":"'Step 3 Product data'!F55","v":0},{"$f":"$G44*'Step 3 Product data'!G55","v":0},{"$f":"IF(I$7=TRUE,($G44*'Step 3 Product data'!H55*(1-'Emission Calculations'!$F44)),($G44*'Step 3 Product data'!H55))","v":0},{"$f":"IF(J$7=TRUE,($G44*'Step 3 Product data'!I55*(1-'Emission Calculations'!$F44)),($G44*'Step 3 Product data'!I55))","v":0},{"$f":"IF(K$7=TRUE,($G44*'Step 3 Product data'!J55*(1-'Emission Calculations'!$F44)),($G44*'Step 3 Product data'!J55))","v":0},{"$f":"IF(L$7=TRUE,($G44*'Step 3 Product data'!K55*(1-'Emission Calculations'!$F44)),($G44*'Step 3 Product data'!K55))","v":0},{"$f":"IF(M$7=TRUE,($G44*'Step 3 Product data'!L55*(1-'Emission Calculations'!$F44)),($G44*'Step 3 Product data'!L55))","v":0},{"$f":"IF(N$7=TRUE,($G44*'Step 3 Product data'!M55*(1-'Emission Calculations'!$F44)),($G44*'Step 3 Product data'!M55))","v":0},{"$f":"IF(O$7=TRUE,($G44*'Step 3 Product data'!N55*(1-'Emission Calculations'!$F44)),($G44*'Step 3 Product data'!N55))","v":0},{"$f":"IF(P$7=TRUE,($G44*'Step 3 Product data'!O55*(1-'Emission Calculations'!$F44)),($G44*'Step 3 Product data'!O55))","v":0},{"$f":"IF(Q$7=TRUE,($G44*'Step 3 Product data'!P55*(1-'Emission Calculations'!$F44)),($G44*'Step 3 Product data'!P55))","v":0},{"$f":"IF(R$7=TRUE,($G44*'Step 3 Product data'!Q55*(1-'Emission Calculations'!$F44)),($G44*'Step 3 Product data'!Q55))","v":0},{"$f":"IF(S$7=TRUE,($G44*'Step 3 Product data'!R55*(1-'Emission Calculations'!$F44)),($G44*'Step 3 Product data'!R55))","v":0},{"$f":"IF(T$7=TRUE,($G44*'Step 3 Product data'!S55*(1-'Emission Calculations'!$F44)),($G44*'Step 3 Product data'!S55))","v":0},{"$f":"IF(U$7=TRUE,($G44*'Step 3 Product data'!T55*(1-'Emission Calculations'!$F44)),($G44*'Step 3 Product data'!T55))","v":0},{"$f":"IF(V$7=TRUE,($G44*'Step 3 Product data'!U55*(1-'Emission Calculations'!$F44)),($G44*'Step 3 Product data'!U55))","v":0},{"$f":"IF(W$7=TRUE,($G44*'Step 3 Product data'!V55*(1-'Emission Calculations'!$F44)),($G44*'Step 3 Product data'!V55))","v":0},{"$f":"IF(X$7=TRUE,($G44*'Step 3 Product data'!W55*(1-'Emission Calculations'!$F44)),($G44*'Step 3 Product data'!W55))","v":0},{"$f":"IF(Y$7=TRUE,($G44*'Step 3 Product data'!X55*(1-'Emission Calculations'!$F44)),($G44*'Step 3 Product data'!X55))","v":0},{"$f":"IF('Step 3 Product data'!Y55=0,SUM(AE44:AP44),'Step 3 Product data'!Y55)","v":" "},{"$f":"IF('Step 3 Product data'!Z55=0,SUM(AQ44:BB44),'Step 3 Product data'!Z55)","v":0},{"$f":"IF('Step 3 Product data'!AA55=0,SUM(BC44:BN44),'Step 3 Product data'!AA55)","v":0},{"$f":"IF('Step 3 Product data'!AB55=0,SUM(BO44:BZ44),'Step 3 Product data'!AB55)","v":0},{"$f":"IF('Step 3 Product data'!AC55=0,SUM(CA44:CL44),'Step 3 Product data'!AC55)","v":0},{"$f":"'Step 3 Product data'!AD55","v":0},{"$f":"'Step 3 Product data'!AE55","v":0},{"$f":"'Step 3 Product data'!AF55","v":0},{"$f":"'Step 3 Product data'!AG55","v":0},{"$f":"'Step 3 Product data'!AH55","v":0},{"$f":"'Step 3 Product data'!AI55","v":0},{"$f":"'Step 3 Product data'!AJ55","v":0},{"$f":"'Step 3 Product data'!AK55","v":0},{"$f":"'Step 3 Product data'!AL55","v":0},{"$f":"'Step 3 Product data'!AM55","v":0},{"$f":"'Step 3 Product data'!AN55","v":0},{"$f":"'Step 3 Product data'!AO55","v":0},{"$f":"'Step 3 Product data'!AP55","v":0},{"$f":"'Step 3 Product data'!AQ55","v":0},{"$f":"'Step 3 Product data'!AR55","v":0},{"$f":"'Step 3 Product data'!AS55","v":0},{"$f":"'Step 3 Product data'!AT55","v":0},{"$f":"'Step 3 Product data'!AU55","v":0},{"$f":"'Step 3 Product data'!AV55","v":0},{"$f":"'Step 3 Product data'!AW55","v":0},{"$f":"'Step 3 Product data'!AX55","v":0},{"$f":"'Step 3 Product data'!AY55","v":0},{"$f":"'Step 3 Product data'!AZ55","v":0},{"$f":"'Step 3 Product data'!BA55","v":0},{"$f":"'Step 3 Product data'!BB55","v":0},{"$f":"'Step 3 Product data'!BC55","v":0},{"$f":"'Step 3 Product data'!BD55","v":0},{"$f":"'Step 3 Product data'!BE55","v":0},{"$f":"'Step 3 Product data'!BF55","v":0},{"$f":"'Step 3 Product data'!BG55","v":0},{"$f":"'Step 3 Product data'!BH55","v":0},{"$f":"'Step 3 Product data'!BI55","v":0},{"$f":"'Step 3 Product data'!BJ55","v":0},{"$f":"'Step 3 Product data'!BK55","v":0},{"$f":"'Step 3 Product data'!BL55","v":0},{"$f":"'Step 3 Product data'!BM55","v":0},{"$f":"'Step 3 Product data'!BN55","v":0},{"$f":"'Step 3 Product data'!BO55","v":0},{"$f":"'Step 3 Product data'!BP55","v":0},{"$f":"'Step 3 Product data'!BQ55","v":0},{"$f":"'Step 3 Product data'!BR55","v":0},{"$f":"'Step 3 Product data'!BS55","v":0},{"$f":"'Step 3 Product data'!BT55","v":0},{"$f":"'Step 3 Product data'!BU55","v":0},{"$f":"'Step 3 Product data'!BV55","v":0},{"$f":"'Step 3 Product data'!BW55","v":0},{"$f":"'Step 3 Product data'!BX55","v":0},{"$f":"'Step 3 Product data'!BY55","v":0},{"$f":"'Step 3 Product data'!BZ55","v":0},{"$f":"'Step 3 Product data'!CA55","v":0},{"$f":"'Step 3 Product data'!CB55","v":0},{"$f":"'Step 3 Product data'!CC55","v":0},{"$f":"'Step 3 Product data'!CD55","v":0},{"$f":"'Step 3 Product data'!CE55","v":0},{"$f":"'Step 3 Product data'!CF55","v":0},{"$f":"'Step 3 Product data'!CG55","v":0},{"$f":"'Step 3 Product data'!CH55","v":0},{"$f":"'Step 3 Product data'!CI55","v":0},{"$f":"'Step 3 Product data'!CJ55","v":0},{"$f":"'Step 3 Product data'!CK55","v":0},null,0,0,0,0,0]
[{"$f":"'Step 3 Product data'!A56","v":36},{"$f":"'Step 3 Product data'!B56","v":0},{"$f":"'Step 3 Product data'!C56","v":0},{"$f":"'Step 3 Product data'!D56","v":0},{"$f":"'Step 3 Product data'!E56","v":"Choose one"},{"$f":"IF(E45=$A$88,1,IF(E45='Data Validation'!$B$31,0,IF(E45=$D$81,$E$81,IF(E45=$D$82,$E$82,IF(E45=$D$83,$E$83,IF(E45=$A$89,$E$84,0))))))","v":0},{"$f":"'Step 3 Product data'!F56","v":0},{"$f":"$G45*'Step 3 Product data'!G56","v":0},{"$f":"IF(I$7=TRUE,($G45*'Step 3 Product data'!H56*(1-'Emission Calculations'!$F45)),($G45*'Step 3 Product data'!H56))","v":0},{"$f":"IF(J$7=TRUE,($G45*'Step 3 Product data'!I56*(1-'Emission Calculations'!$F45)),($G45*'Step 3 Product data'!I56))","v":0},{"$f":"IF(K$7=TRUE,($G45*'Step 3 Product data'!J56*(1-'Emission Calculations'!$F45)),($G45*'Step 3 Product data'!J56))","v":0},{"$f":"IF(L$7=TRUE,($G45*'Step 3 Product data'!K56*(1-'Emission Calculations'!$F45)),($G45*'Step 3 Product data'!K56))","v":0},{"$f":"IF(M$7=TRUE,($G45*'Step 3 Product data'!L56*(1-'Emission Calculations'!$F45)),($G45*'Step 3 Product data'!L56))","v":0},{"$f":"IF(N$7=TRUE,($G45*'Step 3 Product data'!M56*(1-'Emission Calculations'!$F45)),($G45*'Step 3 Product data'!M56))","v":0},{"$f":"IF(O$7=TRUE,($G45*'Step 3 Product data'!N56*(1-'Emission Calculations'!$F45)),($G45*'Step 3 Product data'!N56))","v":0},{"$f":"IF(P$7=TRUE,($G45*'Step 3 Product data'!O56*(1-'Emission Calculations'!$F45)),($G45*'Step 3 Product data'!O56))","v":0},{"$f":"IF(Q$7=TRUE,($G45*'Step 3 Product data'!P56*(1-'Emission Calculations'!$F45)),($G45*'Step 3 Product data'!P56))","v":0},{"$f":"IF(R$7=TRUE,($G45*'Step 3 Product data'!Q56*(1-'Emission Calculations'!$F45)),($G45*'Step 3 Product data'!Q56))","v":0},{"$f":"IF(S$7=TRUE,($G45*'Step 3 Product data'!R56*(1-'Emission Calculations'!$F45)),($G45*'Step 3 Product data'!R56))","v":0},{"$f":"IF(T$7=TRUE,($G45*'Step 3 Product data'!S56*(1-'Emission Calculations'!$F45)),($G45*'Step 3 Product data'!S56))","v":0},{"$f":"IF(U$7=TRUE,($G45*'Step 3 Product data'!T56*(1-'Emission Calculations'!$F45)),($G45*'Step 3 Product data'!T56))","v":0},{"$f":"IF(V$7=TRUE,($G45*'Step 3 Product data'!U56*(1-'Emission Calculations'!$F45)),($G45*'Step 3 Product data'!U56))","v":0},{"$f":"IF(W$7=TRUE,($G45*'Step 3 Product data'!V56*(1-'Emission Calculations'!$F45)),($G45*'Step 3 Product data'!V56))","v":0},{"$f":"IF(X$7=TRUE,($G45*'Step 3 Product data'!W56*(1-'Emission Calculations'!$F45)),($G45*'Step 3 Product data'!W56))","v":0},{"$f":"IF(Y$7=TRUE,($G45*'Step 3 Product data'!X56*(1-'Emission Calculations'!$F45)),($G45*'Step 3 Product data'!X56))","v":0},{"$f":"IF('Step 3 Product data'!Y56=0,SUM(AE45:AP45),'Step 3 Product data'!Y56)","v":" "},{"$f":"IF('Step 3 Product data'!Z56=0,SUM(AQ45:BB45),'Step 3 Product data'!Z56)","v":0},{"$f":"IF('Step 3 Product data'!AA56=0,SUM(BC45:BN45),'Step 3 Product data'!AA56)","v":0},{"$f":"IF('Step 3 Product data'!AB56=0,SUM(BO45:BZ45),'Step 3 Product data'!AB56)","v":0},{"$f":"IF('Step 3 Product data'!AC56=0,SUM(CA45:CL45),'Step 3 Product data'!AC56)","v":0},{"$f":"'Step 3 Product data'!AD56","v":0},{"$f":"'Step 3 Product data'!AE56","v":0},{"$f":"'Step 3 Product data'!AF56","v":0},{"$f":"'Step 3 Product data'!AG56","v":0},{"$f":"'Step 3 Product data'!AH56","v":0},{"$f":"'Step 3 Product data'!AI56","v":0},{"$f":"'Step 3 Product data'!AJ56","v":0},{"$f":"'Step 3 Product data'!AK56","v":0},{"$f":"'Step 3 Product data'!AL56","v":0},{"$f":"'Step 3 Product data'!AM56","v":0},{"$f":"'Step 3 Product data'!AN56","v":0},{"$f":"'Step 3 Product data'!AO56","v":0},{"$f":"'Step 3 Product data'!AP56","v":0},{"$f":"'Step 3 Product data'!AQ56","v":0},{"$f":"'Step 3 Product data'!AR56","v":0},{"$f":"'Step 3 Product data'!AS56","v":0},{"$f":"'Step 3 Product data'!AT56","v":0},{"$f":"'Step 3 Product data'!AU56","v":0},{"$f":"'Step 3 Product data'!AV56","v":0},{"$f":"'Step 3 Product data'!AW56","v":0},{"$f":"'Step 3 Product data'!AX56","v":0},{"$f":"'Step 3 Product data'!AY56","v":0},{"$f":"'Step 3 Product data'!AZ56","v":0},{"$f":"'Step 3 Product data'!BA56","v":0},{"$f":"'Step 3 Product data'!BB56","v":0},{"$f":"'Step 3 Product data'!BC56","v":0},{"$f":"'Step 3 Product data'!BD56","v":0},{"$f":"'Step 3 Product data'!BE56","v":0},{"$f":"'Step 3 Product data'!BF56","v":0},{"$f":"'Step 3 Product data'!BG56","v":0},{"$f":"'Step 3 Product data'!BH56","v":0},{"$f":"'Step 3 Product data'!BI56","v":0},{"$f":"'Step 3 Product data'!BJ56","v":0},{"$f":"'Step 3 Product data'!BK56","v":0},{"$f":"'Step 3 Product data'!BL56","v":0},{"$f":"'Step 3 Product data'!BM56","v":0},{"$f":"'Step 3 Product data'!BN56","v":0},{"$f":"'Step 3 Product data'!BO56","v":0},{"$f":"'Step 3 Product data'!BP56","v":0},{"$f":"'Step 3 Product data'!BQ56","v":0},{"$f":"'Step 3 Product data'!BR56","v":0},{"$f":"'Step 3 Product data'!BS56","v":0},{"$f":"'Step 3 Product data'!BT56","v":0},{"$f":"'Step 3 Product data'!BU56","v":0},{"$f":"'Step 3 Product data'!BV56","v":0},{"$f":"'Step 3 Product data'!BW56","v":0},{"$f":"'Step 3 Product data'!BX56","v":0},{"$f":"'Step 3 Product data'!BY56","v":0},{"$f":"'Step 3 Product data'!BZ56","v":0},{"$f":"'Step 3 Product data'!CA56","v":0},{"$f":"'Step 3 Product data'!CB56","v":0},{"$f":"'Step 3 Product data'!CC56","v":0},{"$f":"'Step 3 Product data'!CD56","v":0},{"$f":"'Step 3 Product data'!CE56","v":0},{"$f":"'Step 3 Product data'!CF56","v":0},{"$f":"'Step 3 Product data'!CG56","v":0},{"$f":"'Step 3 Product data'!CH56","v":0},{"$f":"'Step 3 Product data'!CI56","v":0},{"$f":"'Step 3 Product data'!CJ56","v":0},{"$f":"'Step 3 Product data'!CK56","v":0},null,0,0,0,0,0]
[{"$f":"'Step 3 Product data'!A57","v":37},{"$f":"'Step 3 Product data'!B57","v":0},{"$f":"'Step 3 Product data'!C57","v":0},{"$f":"'Step 3 Product data'!D57","v":0},{"$f":"'Step 3 Product data'!E57","v":"Choose one"},{"$f":"IF(E46=$A$88,1,IF(E46='Data Validation'!$B$31,0,IF(E46=$D$81,$E$81,IF(E46=$D$82,$E$82,IF(E46=$D$83,$E$83,IF(E46=$A$89,$E$84,0))))))","v":0},{"$f":"'Step 3 Product data'!F57","v":0},{"$f":"$G46*'Step 3 Product data'!G57","v":0},{"$f":"IF(I$7=TRUE,($G46*'Step 3 Product data'!H57*(1-'Emission Calculations'!$F46)),($G46*'Step 3 Product data'!H57))","v":0},{"$f":"IF(J$7=TRUE,($G46*'Step 3 Product data'!I57*(1-'Emission Calculations'!$F46)),($G46*'Step 3 Product data'!I57))","v":0},{"$f":"IF(K$7=TRUE,($G46*'Step 3 Product data'!J57*(1-'Emission Calculations'!$F46)),($G46*'Step 3 Product data'!J57))","v":0},{"$f":"IF(L$7=TRUE,($G46*'Step 3 Product data'!K57*(1-'Emission Calculations'!$F46)),($G46*'Step 3 Product data'!K57))","v":0},{"$f":"IF(M$7=TRUE,($G46*'Step 3 Product data'!L57*(1-'Emission Calculations'!$F46)),($G46*'Step 3 Product data'!L57))","v":0},{"$f":"IF(N$7=TRUE,($G46*'Step 3 Product data'!M57*(1-'Emission Calculations'!$F46)),($G46*'Step 3 Product data'!M57))","v":0},{"$f":"IF(O$7=TRUE,($G46*'Step 3 Product data'!N57*(1-'Emission Calculations'!$F46)),($G46*'Step 3 Product data'!N57))","v":0},{"$f":"IF(P$7=TRUE,($G46*'Step 3 Product data'!O57*(1-'Emission Calculations'!$F46)),($G46*'Step 3 Product data'!O57))","v":0},{"$f":"IF(Q$7=TRUE,($G46*'Step 3 Product data'!P57*(1-'Emission Calculations'!$F46)),($G46*'Step 3 Product data'!P57))","v":0},{"$f":"IF(R$7=TRUE,($G46*'Step 3 Product data'!Q57*(1-'Emission Calculations'!$F46)),($G46*'Step 3 Product data'!Q57))","v":0},{"$f":"IF(S$7=TRUE,($G46*'Step 3 Product data'!R57*(1-'Emission Calculations'!$F46)),($G46*'Step 3 Product data'!R57))","v":0},{"$f":"IF(T$7=TRUE,($G46*'Step 3 Product data'!S57*(1-'Emission Calculations'!$F46)),($G46*'Step 3 Product data'!S57))","v":0},{"$f":"IF(U$7=TRUE,($G46*'Step 3 Product data'!T57*(1-'Emission Calculations'!$F46)),($G46*'Step 3 Product data'!T57))","v":0},{"$f":"IF(V$7=TRUE,($G46*'Step 3 Product data'!U57*(1-'Emission Calculations'!$F46)),($G46*'Step 3 Product data'!U57))","v":0},{"$f":"IF(W$7=TRUE,($G46*'Step 3 Product data'!V57*(1-'Emission Calculations'!$F46)),($G46*'Step 3 Product data'!V57))","v":0},{"$f":"IF(X$7=TRUE,($G46*'Step 3 Product data'!W57*(1-'Emission Calculations'!$F46)),($G46*'Step 3 Product data'!W57))","v":0},{"$f":"IF(Y$7=TRUE,($G46*'Step 3 Product data'!X57*(1-'Emission Calculations'!$F46)),($G46*'Step 3 Product data'!X57))","v":0},{"$f":"IF('Step 3 Product data'!Y57=0,SUM(AE46:AP46),'Step 3 Product data'!Y57)","v":" "},{"$f":"IF('Step 3 Product data'!Z57=0,SUM(AQ46:BB46),'Step 3 Product data'!Z57)","v":0},{"$f":"IF('Step 3 Product data'!AA57=0,SUM(BC46:BN46),'Step 3 Product data'!AA57)","v":0},{"$f":"IF('Step 3 Product data'!AB57=0,SUM(BO46:BZ46),'Step 3 Product data'!AB57)","v":0},{"$f":"IF('Step 3 Product data'!AC57=0,SUM(CA46:CL46),'Step 3 Product data'!AC57)","v":0},{"$f":"'Step 3 Product data'!AD57","v":0},{"$f":"'Step 3 Product data'!AE57","v":0},{"$f":"'Step 3 Product data'!AF57","v":0},{"$f":"'Step 3 Product data'!AG57","v":0},{"$f":"'Step 3 Product data'!AH57","v":0},{"$f":"'Step 3 Product data'!AI57","v":0},{"$f":"'Step 3 Product data'!AJ57","v":0},{"$f":"'Step 3 Product data'!AK57","v":0},{"$f":"'Step 3 Product data'!AL57","v":0},{"$f":"'Step 3 Product data'!AM57","v":0},{"$f":"'Step 3 Product data'!AN57","v":0},{"$f":"'Step 3 Product data'!AO57","v":0},{"$f":"'Step 3 Product data'!AP57","v":0},{"$f":"'Step 3 Product data'!AQ57","v":0},{"$f":"'Step 3 Product data'!AR57","v":0},{"$f":"'Step 3 Product data'!AS57","v":0},{"$f":"'Step 3 Product data'!AT57","v":0},{"$f":"'Step 3 Product data'!AU57","v":0},{"$f":"'Step 3 Product data'!AV57","v":0},{"$f":"'Step 3 Product data'!AW57","v":0},{"$f":"'Step 3 Product data'!AX57","v":0},{"$f":"'Step 3 Product data'!AY57","v":0},{"$f":"'Step 3 Product data'!AZ57","v":0},{"$f":"'Step 3 Product data'!BA57","v":0},{"$f":"'Step 3 Product data'!BB57","v":0},{"$f":"'Step 3 Product data'!BC57","v":0},{"$f":"'Step 3 Product data'!BD57","v":0},{"$f":"'Step 3 Product data'!BE57","v":0},{"$f":"'Step 3 Product data'!BF57","v":0},{"$f":"'Step 3 Product data'!BG57","v":0},{"$f":"'Step 3 Product data'!BH57","v":0},{"$f":"'Step 3 Product data'!BI57","v":0},{"$f":"'Step 3 Product data'!BJ57","v":0},{"$f":"'Step 3 Product data'!BK57","v":0},{"$f":"'Step 3 Product data'!BL57","v":0},{"$f":"'Step 3 Product data'!BM57","v":0},{"$f":"'Step 3 Product data'!BN57","v":0},{"$f":"'Step 3 Product data'!BO57","v":0},{"$f":"'Step 3 Product data'!BP57","v":0},{"$f":"'Step 3 Product data'!BQ57","v":0},{"$f":"'Step 3 Product data'!BR57","v":0},{"$f":"'Step 3 Product data'!BS57","v":0},{"$f":"'Step 3 Product data'!BT57","v":0},{"$f":"'Step 3 Product data'!BU57","v":0},{"$f":"'Step 3 Product data'!BV57","v":0},{"$f":"'Step 3 Product data'!BW57","v":0},{"$f":"'Step 3 Product data'!BX57","v":0},{"$f":"'Step 3 Product data'!BY57","v":0},{"$f":"'Step 3 Product data'!BZ57","v":0},{"$f":"'Step 3 Product data'!CA57","v":0},{"$f":"'Step 3 Product data'!CB57","v":0},{"$f":"'Step 3 Product data'!CC57","v":0},{"$f":"'Step 3 Product data'!CD57","v":0},{"$f":"'Step 3 Product data'!CE57","v":0},{"$f":"'Step 3 Product data'!CF57","v":0},{"$f":"'Step 3 Product data'!CG57","v":0},{"$f":"'Step 3 Product data'!CH57","v":0},{"$f":"'Step 3 Product data'!CI57","v":0},{"$f":"'Step 3 Product data'!CJ57","v":0},{"$f":"'Step 3 Product data'!CK57","v":0},null,0,0,0,0,0]
[{"$f":"'Step 3 Product data'!A58","v":38},{"$f":"'Step 3 Product data'!B58","v":0},{"$f":"'Step 3 Product data'!C58","v":0},{"$f":"'Step 3 Product data'!D58","v":0},{"$f":"'Step 3 Product data'!E58","v":"Choose one"},{"$f":"IF(E47=$A$88,1,IF(E47='Data Validation'!$B$31,0,IF(E47=$D$81,$E$81,IF(E47=$D$82,$E$82,IF(E47=$D$83,$E$83,IF(E47=$A$89,$E$84,0))))))","v":0},{"$f":"'Step 3 Product data'!F58","v":0},{"$f":"$G47*'Step 3 Product data'!G58","v":0},{"$f":"IF(I$7=TRUE,($G47*'Step 3 Product data'!H58*(1-'Emission Calculations'!$F47)),($G47*'Step 3 Product data'!H58))","v":0},{"$f":"IF(J$7=TRUE,($G47*'Step 3 Product data'!I58*(1-'Emission Calculations'!$F47)),($G47*'Step 3 Product data'!I58))","v":0},{"$f":"IF(K$7=TRUE,($G47*'Step 3 Product data'!J58*(1-'Emission Calculations'!$F47)),($G47*'Step 3 Product data'!J58))","v":0},{"$f":"IF(L$7=TRUE,($G47*'Step 3 Product data'!K58*(1-'Emission Calculations'!$F47)),($G47*'Step 3 Product data'!K58))","v":0},{"$f":"IF(M$7=TRUE,($G47*'Step 3 Product data'!L58*(1-'Emission Calculations'!$F47)),($G47*'Step 3 Product data'!L58))","v":0},{"$f":"IF(N$7=TRUE,($G47*'Step 3 Product data'!M58*(1-'Emission Calculations'!$F47)),($G47*'Step 3 Product data'!M58))","v":0},{"$f":"IF(O$7=TRUE,($G47*'Step 3 Product data'!N58*(1-'Emission Calculations'!$F47)),($G47*'Step 3 Product data'!N58))","v":0},{"$f":"IF(P$7=TRUE,($G47*'Step 3 Product data'!O58*(1-'Emission Calculations'!$F47)),($G47*'Step 3 Product data'!O58))","v":0},{"$f":"IF(Q$7=TRUE,($G47*'Step 3 Product data'!P58*(1-'Emission Calculations'!$F47)),($G47*'Step 3 Product data'!P58))","v":0},{"$f":"IF(R$7=TRUE,($G47*'Step 3 Product data'!Q58*(1-'Emission Calculations'!$F47)),($G47*'Step 3 Product data'!Q58))","v":0},{"$f":"IF(S$7=TRUE,($G47*'Step 3 Product data'!R58*(1-'Emission Calculations'!$F47)),($G47*'Step 3 Product data'!R58))","v":0},{"$f":"IF(T$7=TRUE,($G47*'Step 3 Product data'!S58*(1-'Emission Calculations'!$F47)),($G47*'Step 3 Product data'!S58))","v":0},{"$f":"IF(U$7=TRUE,($G47*'Step 3 Product data'!T58*(1-'Emission Calculations'!$F47)),($G47*'Step 3 Product data'!T58))","v":0},{"$f":"IF(V$7=TRUE,($G47*'Step 3 Product data'!U58*(1-'Emission Calculations'!$F47)),($G47*'Step 3 Product data'!U58))","v":0},{"$f":"IF(W$7=TRUE,($G47*'Step 3 Product data'!V58*(1-'Emission Calculations'!$F47)),($G47*'Step 3 Product data'!V58))","v":0},{"$f":"IF(X$7=TRUE,($G47*'Step 3 Product data'!W58*(1-'Emission Calculations'!$F47)),($G47*'Step 3 Product data'!W58))","v":0},{"$f":"IF(Y$7=TRUE,($G47*'Step 3 Product data'!X58*(1-'Emission Calculations'!$F47)),($G47*'Step 3 Product data'!X58))","v":0},{"$f":"IF('Step 3 Product data'!Y58=0,SUM(AE47:AP47),'Step 3 Product data'!Y58)","v":" "},{"$f":"IF('Step 3 Product data'!Z58=0,SUM(AQ47:BB47),'Step 3 Product data'!Z58)","v":0},{"$f":"IF('Step 3 Product data'!AA58=0,SUM(BC47:BN47),'Step 3 Product data'!AA58)","v":0},{"$f":"IF('Step 3 Product data'!AB58=0,SUM(BO47:BZ47),'Step 3 Product data'!AB58)","v":0},{"$f":"IF('Step 3 Product data'!AC58=0,SUM(CA47:CL47),'Step 3 Product data'!AC58)","v":0},{"$f":"'Step 3 Product data'!AD58","v":0},{"$f":"'Step 3 Product data'!AE58","v":0},{"$f":"'Step 3 Product data'!AF58","v":0},{"$f":"'Step 3 Product data'!AG58","v":0},{"$f":"'Step 3 Product data'!AH58","v":0},{"$f":"'Step 3 Product data'!AI58","v":0},{"$f":"'Step 3 Product data'!AJ58","v":0},{"$f":"'Step 3 Product data'!AK58","v":0},{"$f":"'Step 3 Product data'!AL58","v":0},{"$f":"'Step 3 Product data'!AM58","v":0},{"$f":"'Step 3 Product data'!AN58","v":0},{"$f":"'Step 3 Product data'!AO58","v":0},{"$f":"'Step 3 Product data'!AP58","v":0},{"$f":"'Step 3 Product data'!AQ58","v":0},{"$f":"'Step 3 Product data'!AR58","v":0},{"$f":"'Step 3 Product data'!AS58","v":0},{"$f":"'Step 3 Product data'!AT58","v":0},{"$f":"'Step 3 Product data'!AU58","v":0},{"$f":"'Step 3 Product data'!AV58","v":0},{"$f":"'Step 3 Product data'!AW58","v":0},{"$f":"'Step 3 Product data'!AX58","v":0},{"$f":"'Step 3 Product data'!AY58","v":0},{"$f":"'Step 3 Product data'!AZ58","v":0},{"$f":"'Step 3 Product data'!BA58","v":0},{"$f":"'Step 3 Product data'!BB58","v":0},{"$f":"'Step 3 Product data'!BC58","v":0},{"$f":"'Step 3 Product data'!BD58","v":0},{"$f":"'Step 3 Product data'!BE58","v":0},{"$f":"'Step 3 Product data'!BF58","v":0},{"$f":"'Step 3 Product data'!BG58","v":0},{"$f":"'Step 3 Product data'!BH58","v":0},{"$f":"'Step 3 Product data'!BI58","v":0},{"$f":"'Step 3 Product data'!BJ58","v":0},{"$f":"'Step 3 Product data'!BK58","v":0},{"$f":"'Step 3 Product data'!BL58","v":0},{"$f":"'Step 3 Product data'!BM58","v":0},{"$f":"'Step 3 Product data'!BN58","v":0},{"$f":"'Step 3 Product data'!BO58","v":0},{"$f":"'Step 3 Product data'!BP58","v":0},{"$f":"'Step 3 Product data'!BQ58","v":0},{"$f":"'Step 3 Product data'!BR58","v":0},{"$f":"'Step 3 Product data'!BS58","v":0},{"$f":"'Step 3 Product data'!BT58","v":0},{"$f":"'Step 3 Product data'!BU58","v":0},{"$f":"'Step 3 Product data'!BV58","v":0},{"$f":"'Step 3 Product data'!BW58","v":0},{"$f":"'Step 3 Product data'!BX58","v":0},{"$f":"'Step 3 Product data'!BY58","v":0},{"$f":"'Step 3 Product data'!BZ58","v":0},{"$f":"'Step 3 Product data'!CA58","v":0},{"$f":"'Step 3 Product data'!CB58","v":0},{"$f":"'Step 3 Product data'!CC58","v":0},{"$f":"'Step 3 Product data'!CD58","v":0},{"$f":"'Step 3 Product data'!CE58","v":0},{"$f":"'Step 3 Product data'!CF58","v":0},{"$f":"'Step 3 Product data'!CG58","v":0},{"$f":"'Step 3 Product data'!CH58","v":0},{"$f":"'Step 3 Product data'!CI58","v":0},{"$f":"'Step 3 Product data'!CJ58","v":0},{"$f":"'Step 3 Product data'!CK58","v":0},null,0,0,0,0,0]
[{"$f":"'Step 3 Product data'!A59","v":39},{"$f":"'Step 3 Product data'!B59","v":0},{"$f":"'Step 3 Product data'!C59","v":0},{"$f":"'Step 3 Product data'!D59","v":0},{"$f":"'Step 3 Product data'!E59","v":"Choose one"},{"$f":"IF(E48=$A$88,1,IF(E48='Data Validation'!$B$31,0,IF(E48=$D$81,$E$81,IF(E48=$D$82,$E$82,IF(E48=$D$83,$E$83,IF(E48=$A$89,$E$84,0))))))","v":0},{"$f":"'Step 3 Product data'!F59","v":0},{"$f":"$G48*'Step 3 Product data'!G59","v":0},{"$f":"IF(I$7=TRUE,($G48*'Step 3 Product data'!H59*(1-'Emission Calculations'!$F48)),($G48*'Step 3 Product data'!H59))","v":0},{"$f":"IF(J$7=TRUE,($G48*'Step 3 Product data'!I59*(1-'Emission Calculations'!$F48)),($G48*'Step 3 Product data'!I59))","v":0},{"$f":"IF(K$7=TRUE,($G48*'Step 3 Product data'!J59*(1-'Emission Calculations'!$F48)),($G48*'Step 3 Product data'!J59))","v":0},{"$f":"IF(L$7=TRUE,($G48*'Step 3 Product data'!K59*(1-'Emission Calculations'!$F48)),($G48*'Step 3 Product data'!K59))","v":0},{"$f":"IF(M$7=TRUE,($G48*'Step 3 Product data'!L59*(1-'Emission Calculations'!$F48)),($G48*'Step 3 Product data'!L59))","v":0},{"$f":"IF(N$7=TRUE,($G48*'Step 3 Product data'!M59*(1-'Emission Calculations'!$F48)),($G48*'Step 3 Product data'!M59))","v":0},{"$f":"IF(O$7=TRUE,($G48*'Step 3 Product data'!N59*(1-'Emission Calculations'!$F48)),($G48*'Step 3 Product data'!N59))","v":0},{"$f":"IF(P$7=TRUE,($G48*'Step 3 Product data'!O59*(1-'Emission Calculations'!$F48)),($G48*'Step 3 Product data'!O59))","v":0},{"$f":"IF(Q$7=TRUE,($G48*'Step 3 Product data'!P59*(1-'Emission Calculations'!$F48)),($G48*'Step 3 Product data'!P59))","v":0},{"$f":"IF(R$7=TRUE,($G48*'Step 3 Product data'!Q59*(1-'Emission Calculations'!$F48)),($G48*'Step 3 Product data'!Q59))","v":0},{"$f":"IF(S$7=TRUE,($G48*'Step 3 Product data'!R59*(1-'Emission Calculations'!$F48)),($G48*'Step 3 Product data'!R59))","v":0},{"$f":"IF(T$7=TRUE,($G48*'Step 3 Product data'!S59*(1-'Emission Calculations'!$F48)),($G48*'Step 3 Product data'!S59))","v":0},{"$f":"IF(U$7=TRUE,($G48*'Step 3 Product data'!T59*(1-'Emission Calculations'!$F48)),($G48*'Step 3 Product data'!T59))","v":0},{"$f":"IF(V$7=TRUE,($G48*'Step 3 Product data'!U59*(1-'Emission Calculations'!$F48)),($G48*'Step 3 Product data'!U59))","v":0},{"$f":"IF(W$7=TRUE,($G48*'Step 3 Product data'!V59*(1-'Emission Calculations'!$F48)),($G48*'Step 3 Product data'!V59))","v":0},{"$f":"IF(X$7=TRUE,($G48*'Step 3 Product data'!W59*(1-'Emission Calculations'!$F48)),($G48*'Step 3 Product data'!W59))","v":0},{"$f":"IF(Y$7=TRUE,($G48*'Step 3 Product data'!X59*(1-'Emission Calculations'!$F48)),($G48*'Step 3 Product data'!X59))","v":0},{"$f":"IF('Step 3 Product data'!Y59=0,SUM(AE48:AP48),'Step 3 Product data'!Y59)","v":" "},{"$f":"IF('Step 3 Product data'!Z59=0,SUM(AQ48:BB48),'Step 3 Product data'!Z59)","v":0},{"$f":"IF('Step 3 Product data'!AA59=0,SUM(BC48:BN48),'Step 3 Product data'!AA59)","v":0},{"$f":"IF('Step 3 Product data'!AB59=0,SUM(BO48:BZ48),'Step 3 Product data'!AB59)","v":0},{"$f":"IF('Step 3 Product data'!AC59=0,SUM(CA48:CL48),'Step 3 Product data'!AC59)","v":0},{"$f":"'Step 3 Product data'!AD59","v":0},{"$f":"'Step 3 Product data'!AE59","v":0},{"$f":"'Step 3 Product data'!AF59","v":0},{"$f":"'Step 3 Product data'!AG59","v":0},{"$f":"'Step 3 Product data'!AH59","v":0},{"$f":"'Step 3 Product data'!AI59","v":0},{"$f":"'Step 3 Product data'!AJ59","v":0},{"$f":"'Step 3 Product data'!AK59","v":0},{"$f":"'Step 3 Product data'!AL59","v":0},{"$f":"'Step 3 Product data'!AM59","v":0},{"$f":"'Step 3 Product data'!AN59","v":0},{"$f":"'Step 3 Product data'!AO59","v":0},{"$f":"'Step 3 Product data'!AP59","v":0},{"$f":"'Step 3 Product data'!AQ59","v":0},{"$f":"'Step 3 Product data'!AR59","v":0},{"$f":"'Step 3 Product data'!AS59","v":0},{"$f":"'Step 3 Product data'!AT59","v":0},{"$f":"'Step 3 Product data'!AU59","v":0},{"$f":"'Step 3 Product data'!AV59","v":0},{"$f":"'Step 3 Product data'!AW59","v":0},{"$f":"'Step 3 Product data'!AX59","v":0},{"$f":"'Step 3 Product data'!AY59","v":0},{"$f":"'Step 3 Product data'!AZ59","v":0},{"$f":"'Step 3 Product data'!BA59","v":0},{"$f":"'Step 3 Product data'!BB59","v":0},{"$f":"'Step 3 Product data'!BC59","v":0},{"$f":"'Step 3 Product data'!BD59","v":0},{"$f":"'Step 3 Product data'!BE59","v":0},{"$f":"'Step 3 Product data'!BF59","v":0},{"$f":"'Step 3 Product data'!BG59","v":0},{"$f":"'Step 3 Product data'!BH59","v":0},{"$f":"'Step 3 Product data'!BI59","v":0},{"$f":"'Step 3 Product data'!BJ59","v":0},{"$f":"'Step 3 Product data'!BK59","v":0},{"$f":"'Step 3 Product data'!BL59","v":0},{"$f":"'Step 3 Product data'!BM59","v":0},{"$f":"'Step 3 Product data'!BN59","v":0},{"$f":"'Step 3 Product data'!BO59","v":0},{"$f":"'Step 3 Product data'!BP59","v":0},{"$f":"'Step 3 Product data'!BQ59","v":0},{"$f":"'Step 3 Product data'!BR59","v":0},{"$f":"'Step 3 Product data'!BS59","v":0},{"$f":"'Step 3 Product data'!BT59","v":0},{"$f":"'Step 3 Product data'!BU59","v":0},{"$f":"'Step 3 Product data'!BV59","v":0},{"$f":"'Step 3 Product data'!BW59","v":0},{"$f":"'Step 3 Product data'!BX59","v":0},{"$f":"'Step 3 Product data'!BY59","v":0},{"$f":"'Step 3 Product data'!BZ59","v":0},{"$f":"'Step 3 Product data'!CA59","v":0},{"$f":"'Step 3 Product data'!CB59","v":0},{"$f":"'Step 3 Product data'!CC59","v":0},{"$f":"'Step 3 Product data'!CD59","v":0},{"$f":"'Step 3 Product data'!CE59","v":0},{"$f":"'Step 3 Product data'!CF59","v":0},{"$f":"'Step 3 Product data'!CG59","v":0},{"$f":"'Step 3 Product data'!CH59","v":0},{"$f":"'Step 3 Product data'!CI59","v":0},{"$f":"'Step 3 Product data'!CJ59","v":0},{"$f":"'Step 3 Product data'!CK59","v":0},null,0,0,0,0,0]
[{"$f":"'Step 3 Product data'!A60","v":40},{"$f":"'Step 3 Product data'!B60","v":0},{"$f":"'Step 3 Product data'!C60","v":0},{"$f":"'Step 3 Product data'!D60","v":0},{"$f":"'Step 3 Product data'!E60","v":"Choose one"},{"$f":"IF(E49=$A$88,1,IF(E49='Data Validation'!$B$31,0,IF(E49=$D$81,$E$81,IF(E49=$D$82,$E$82,IF(E49=$D$83,$E$83,IF(E49=$A$89,$E$84,0))))))","v":0},{"$f":"'Step 3 Product data'!F60","v":0},{"$f":"$G49*'Step 3 Product data'!G60","v":0},{"$f":"IF(I$7=TRUE,($G49*'Step 3 Product data'!H60*(1-'Emission Calculations'!$F49)),($G49*'Step 3 Product data'!H60))","v":0},{"$f":"IF(J$7=TRUE,($G49*'Step 3 Product data'!I60*(1-'Emission Calculations'!$F49)),($G49*'Step 3 Product data'!I60))","v":0},{"$f":"IF(K$7=TRUE,($G49*'Step 3 Product data'!J60*(1-'Emission Calculations'!$F49)),($G49*'Step 3 Product data'!J60))","v":0},{"$f":"IF(L$7=TRUE,($G49*'Step 3 Product data'!K60*(1-'Emission Calculations'!$F49)),($G49*'Step 3 Product data'!K60))","v":0},{"$f":"IF(M$7=TRUE,($G49*'Step 3 Product data'!L60*(1-'Emission Calculations'!$F49)),($G49*'Step 3 Product data'!L60))","v":0},{"$f":"IF(N$7=TRUE,($G49*'Step 3 Product data'!M60*(1-'Emission Calculations'!$F49)),($G49*'Step 3 Product data'!M60))","v":0},{"$f":"IF(O$7=TRUE,($G49*'Step 3 Product data'!N60*(1-'Emission Calculations'!$F49)),($G49*'Step 3 Product data'!N60))","v":0},{"$f":"IF(P$7=TRUE,($G49*'Step 3 Product data'!O60*(1-'Emission Calculations'!$F49)),($G49*'Step 3 Product data'!O60))","v":0},{"$f":"IF(Q$7=TRUE,($G49*'Step 3 Product data'!P60*(1-'Emission Calculations'!$F49)),($G49*'Step 3 Product data'!P60))","v":0},{"$f":"IF(R$7=TRUE,($G49*'Step 3 Product data'!Q60*(1-'Emission Calculations'!$F49)),($G49*'Step 3 Product data'!Q60))","v":0},{"$f":"IF(S$7=TRUE,($G49*'Step 3 Product data'!R60*(1-'Emission Calculations'!$F49)),($G49*'Step 3 Product data'!R60))","v":0},{"$f":"IF(T$7=TRUE,($G49*'Step 3 Product data'!S60*(1-'Emission Calculations'!$F49)),($G49*'Step 3 Product data'!S60))","v":0},{"$f":"IF(U$7=TRUE,($G49*'Step 3 Product data'!T60*(1-'Emission Calculations'!$F49)),($G49*'Step 3 Product data'!T60))","v":0},{"$f":"IF(V$7=TRUE,($G49*'Step 3 Product data'!U60*(1-'Emission Calculations'!$F49)),($G49*'Step 3 Product data'!U60))","v":0},{"$f":"IF(W$7=TRUE,($G49*'Step 3 Product data'!V60*(1-'Emission Calculations'!$F49)),($G49*'Step 3 Product data'!V60))","v":0},{"$f":"IF(X$7=TRUE,($G49*'Step 3 Product data'!W60*(1-'Emission Calculations'!$F49)),($G49*'Step 3 Product data'!W60))","v":0},{"$f":"IF(Y$7=TRUE,($G49*'Step 3 Product data'!X60*(1-'Emission Calculations'!$F49)),($G49*'Step 3 Product data'!X60))","v":0},{"$f":"IF('Step 3 Product data'!Y60=0,SUM(AE49:AP49),'Step 3 Product data'!Y60)","v":" "},{"$f":"IF('Step 3 Product data'!Z60=0,SUM(AQ49:BB49),'Step 3 Product data'!Z60)","v":0},{"$f":"IF('Step 3 Product data'!AA60=0,SUM(BC49:BN49),'Step 3 Product data'!AA60)","v":0},{"$f":"IF('Step 3 Product data'!AB60=0,SUM(BO49:BZ49),'Step 3 Product data'!AB60)","v":0},{"$f":"IF('Step 3 Product data'!AC60=0,SUM(CA49:CL49),'Step 3 Product data'!AC60)","v":0},{"$f":"'Step 3 Product data'!AD60","v":0},{"$f":"'Step 3 Product data'!AE60","v":0},{"$f":"'Step 3 Product data'!AF60","v":0},{"$f":"'Step 3 Product data'!AG60","v":0},{"$f":"'Step 3 Product data'!AH60","v":0},{"$f":"'Step 3 Product data'!AI60","v":0},{"$f":"'Step 3 Product data'!AJ60","v":0},{"$f":"'Step 3 Product data'!AK60","v":0},{"$f":"'Step 3 Product data'!AL60","v":0},{"$f":"'Step 3 Product data'!AM60","v":0},{"$f":"'Step 3 Product data'!AN60","v":0},{"$f":"'Step 3 Product data'!AO60","v":0},{"$f":"'Step 3 Product data'!AP60","v":0},{"$f":"'Step 3 Product data'!AQ60","v":0},{"$f":"'Step 3 Product data'!AR60","v":0},{"$f":"'Step 3 Product data'!AS60","v":0},{"$f":"'Step 3 Product data'!AT60","v":0},{"$f":"'Step 3 Product data'!AU60","v":0},{"$f":"'Step 3 Product data'!AV60","v":0},{"$f":"'Step 3 Product data'!AW60","v":0},{"$f":"'Step 3 Product data'!AX60","v":0},{"$f":"'Step 3 Product data'!AY60","v":0},{"$f":"'Step 3 Product data'!AZ60","v":0},{"$f":"'Step 3 Product data'!BA60","v":0},{"$f":"'Step 3 Product data'!BB60","v":0},{"$f":"'Step 3 Product data'!BC60","v":0},{"$f":"'Step 3 Product data'!BD60","v":0},{"$f":"'Step 3 Product data'!BE60","v":0},{"$f":"'Step 3 Product data'!BF60","v":0},{"$f":"'Step 3 Product data'!BG60","v":0},{"$f":"'Step 3 Product data'!BH60","v":0},{"$f":"'Step 3 Product data'!BI60","v":0},{"$f":"'Step 3 Product data'!BJ60","v":0},{"$f":"'Step 3 Product data'!BK60","v":0},{"$f":"'Step 3 Product data'!BL60","v":0},{"$f":"'Step 3 Product data'!BM60","v":0},{"$f":"'Step 3 Product data'!BN60","v":0},{"$f":"'Step 3 Product data'!BO60","v":0},{"$f":"'Step 3 Product data'!BP60","v":0},{"$f":"'Step 3 Product data'!BQ60","v":0},{"$f":"'Step 3 Product data'!BR60","v":0},{"$f":"'Step 3 Product data'!BS60","v":0},{"$f":"'Step 3 Product data'!BT60","v":0},{"$f":"'Step 3 Product data'!BU60","v":0},{"$f":"'Step 3 Product data'!BV60","v":0},{"$f":"'Step 3 Product data'!BW60","v":0},{"$f":"'Step 3 Product data'!BX60","v":0},{"$f":"'Step 3 Product data'!BY60","v":0},{"$f":"'Step 3 Product data'!BZ60","v":0},{"$f":"'Step 3 Product data'!CA60","v":0},{"$f":"'Step 3 Product data'!CB60","v":0},{"$f":"'Step 3 Product data'!CC60","v":0},{"$f":"'Step 3 Product data'!CD60","v":0},{"$f":"'Step 3 Product data'!CE60","v":0},{"$f":"'Step 3 Product data'!CF60","v":0},{"$f":"'Step 3 Product data'!CG60","v":0},{"$f":"'Step 3 Product data'!CH60","v":0},{"$f":"'Step 3 Product data'!CI60","v":0},{"$f":"'Step 3 Product data'!CJ60","v":0},{"$f":"'Step 3 Product data'!CK60","v":0},null,0,0,0,0,0]
[{"$f":"'Step 3 Product data'!A61","v":41},{"$f":"'Step 3 Product data'!B61","v":0},{"$f":"'Step 3 Product data'!C61","v":0},{"$f":"'Step 3 Product data'!D61","v":0},{"$f":"'Step 3 Product data'!E61","v":"Choose one"},{"$f":"IF(E50=$A$88,1,IF(E50='Data Validation'!$B$31,0,IF(E50=$D$81,$E$81,IF(E50=$D$82,$E$82,IF(E50=$D$83,$E$83,IF(E50=$A$89,$E$84,0))))))","v":0},{"$f":"'Step 3 Product data'!F61","v":0},{"$f":"$G50*'Step 3 Product data'!G61","v":0},{"$f":"IF(I$7=TRUE,($G50*'Step 3 Product data'!H61*(1-'Emission Calculations'!$F50)),($G50*'Step 3 Product data'!H61))","v":0},{"$f":"IF(J$7=TRUE,($G50*'Step 3 Product data'!I61*(1-'Emission Calculations'!$F50)),($G50*'Step 3 Product data'!I61))","v":0},{"$f":"IF(K$7=TRUE,($G50*'Step 3 Product data'!J61*(1-'Emission Calculations'!$F50)),($G50*'Step 3 Product data'!J61))","v":0},{"$f":"IF(L$7=TRUE,($G50*'Step 3 Product data'!K61*(1-'Emission Calculations'!$F50)),($G50*'Step 3 Product data'!K61))","v":0},{"$f":"IF(M$7=TRUE,($G50*'Step 3 Product data'!L61*(1-'Emission Calculations'!$F50)),($G50*'Step 3 Product data'!L61))","v":0},{"$f":"IF(N$7=TRUE,($G50*'Step 3 Product data'!M61*(1-'Emission Calculations'!$F50)),($G50*'Step 3 Product data'!M61))","v":0},{"$f":"IF(O$7=TRUE,($G50*'Step 3 Product data'!N61*(1-'Emission Calculations'!$F50)),($G50*'Step 3 Product data'!N61))","v":0},{"$f":"IF(P$7=TRUE,($G50*'Step 3 Product data'!O61*(1-'Emission Calculations'!$F50)),($G50*'Step 3 Product data'!O61))","v":0},{"$f":"IF(Q$7=TRUE,($G50*'Step 3 Product data'!P61*(1-'Emission Calculations'!$F50)),($G50*'Step 3 Product data'!P61))","v":0},{"$f":"IF(R$7=TRUE,($G50*'Step 3 Product data'!Q61*(1-'Emission Calculations'!$F50)),($G50*'Step 3 Product data'!Q61))","v":0},{"$f":"IF(S$7=TRUE,($G50*'Step 3 Product data'!R61*(1-'Emission Calculations'!$F50)),($G50*'Step 3 Product data'!R61))","v":0},{"$f":"IF(T$7=TRUE,($G50*'Step 3 Product data'!S61*(1-'Emission Calculations'!$F50)),($G50*'Step 3 Product data'!S61))","v":0},{"$f":"IF(U$7=TRUE,($G50*'Step 3 Product data'!T61*(1-'Emission Calculations'!$F50)),($G50*'Step 3 Product data'!T61))","v":0},{"$f":"IF(V$7=TRUE,($G50*'Step 3 Product data'!U61*(1-'Emission Calculations'!$F50)),($G50*'Step 3 Product data'!U61))","v":0},{"$f":"IF(W$7=TRUE,($G50*'Step 3 Product data'!V61*(1-'Emission Calculations'!$F50)),($G50*'Step 3 Product data'!V61))","v":0},{"$f":"IF(X$7=TRUE,($G50*'Step 3 Product data'!W61*(1-'Emission Calculations'!$F50)),($G50*'Step 3 Product data'!W61))","v":0},{"$f":"IF(Y$7=TRUE,($G50*'Step 3 Product data'!X61*(1-'Emission Calculations'!$F50)),($G50*'Step 3 Product data'!X61))","v":0},{"$f":"IF('Step 3 Product data'!Y61=0,SUM(AE50:AP50),'Step 3 Product data'!Y61)","v":" "},{"$f":"IF('Step 3 Product data'!Z61=0,SUM(AQ50:BB50),'Step 3 Product data'!Z61)","v":0},{"$f":"IF('Step 3 Product data'!AA61=0,SUM(BC50:BN50),'Step 3 Product data'!AA61)","v":0},{"$f":"IF('Step 3 Product data'!AB61=0,SUM(BO50:BZ50),'Step 3 Product data'!AB61)","v":0},{"$f":"IF('Step 3 Product data'!AC61=0,SUM(CA50:CL50),'Step 3 Product data'!AC61)","v":0},{"$f":"'Step 3 Product data'!AD61","v":0},{"$f":"'Step 3 Product data'!AE61","v":0},{"$f":"'Step 3 Product data'!AF61","v":0},{"$f":"'Step 3 Product data'!AG61","v":0},{"$f":"'Step 3 Product data'!AH61","v":0},{"$f":"'Step 3 Product data'!AI61","v":0},{"$f":"'Step 3 Product data'!AJ61","v":0},{"$f":"'Step 3 Product data'!AK61","v":0},{"$f":"'Step 3 Product data'!AL61","v":0},{"$f":"'Step 3 Product data'!AM61","v":0},{"$f":"'Step 3 Product data'!AN61","v":0},{"$f":"'Step 3 Product data'!AO61","v":0},{"$f":"'Step 3 Product data'!AP61","v":0},{"$f":"'Step 3 Product data'!AQ61","v":0},{"$f":"'Step 3 Product data'!AR61","v":0},{"$f":"'Step 3 Product data'!AS61","v":0},{"$f":"'Step 3 Product data'!AT61","v":0},{"$f":"'Step 3 Product data'!AU61","v":0},{"$f":"'Step 3 Product data'!AV61","v":0},{"$f":"'Step 3 Product data'!AW61","v":0},{"$f":"'Step 3 Product data'!AX61","v":0},{"$f":"'Step 3 Product data'!AY61","v":0},{"$f":"'Step 3 Product data'!AZ61","v":0},{"$f":"'Step 3 Product data'!BA61","v":0},{"$f":"'Step 3 Product data'!BB61","v":0},{"$f":"'Step 3 Product data'!BC61","v":0},{"$f":"'Step 3 Product data'!BD61","v":0},{"$f":"'Step 3 Product data'!BE61","v":0},{"$f":"'Step 3 Product data'!BF61","v":0},{"$f":"'Step 3 Product data'!BG61","v":0},{"$f":"'Step 3 Product data'!BH61","v":0},{"$f":"'Step 3 Product data'!BI61","v":0},{"$f":"'Step 3 Product data'!BJ61","v":0},{"$f":"'Step 3 Product data'!BK61","v":0},{"$f":"'Step 3 Product data'!BL61","v":0},{"$f":"'Step 3 Product data'!BM61","v":0},{"$f":"'Step 3 Product data'!BN61","v":0},{"$f":"'Step 3 Product data'!BO61","v":0},{"$f":"'Step 3 Product data'!BP61","v":0},{"$f":"'Step 3 Product data'!BQ61","v":0},{"$f":"'Step 3 Product data'!BR61","v":0},{"$f":"'Step 3 Product data'!BS61","v":0},{"$f":"'Step 3 Product data'!BT61","v":0},{"$f":"'Step 3 Product data'!BU61","v":0},{"$f":"'Step 3 Product data'!BV61","v":0},{"$f":"'Step 3 Product data'!BW61","v":0},{"$f":"'Step 3 Product data'!BX61","v":0},{"$f":"'Step 3 Product data'!BY61","v":0},{"$f":"'Step 3 Product data'!BZ61","v":0},{"$f":"'Step 3 Product data'!CA61","v":0},{"$f":"'Step 3 Product data'!CB61","v":0},{"$f":"'Step 3 Product data'!CC61","v":0},{"$f":"'Step 3 Product data'!CD61","v":0},{"$f":"'Step 3 Product data'!CE61","v":0},{"$f":"'Step 3 Product data'!CF61","v":0},{"$f":"'Step 3 Product data'!CG61","v":0},{"$f":"'Step 3 Product data'!CH61","v":0},{"$f":"'Step 3 Product data'!CI61","v":0},{"$f":"'Step 3 Product data'!CJ61","v":0},{"$f":"'Step 3 Product data'!CK61","v":0},null,0,0,0,0,0]
[{"$f":"'Step 3 Product data'!A62","v":42},{"$f":"'Step 3 Product data'!B62","v":0},{"$f":"'Step 3 Product data'!C62","v":0},{"$f":"'Step 3 Product data'!D62","v":0},{"$f":"'Step 3 Product data'!E62","v":"Choose one"},{"$f":"IF(E51=$A$88,1,IF(E51='Data Validation'!$B$31,0,IF(E51=$D$81,$E$81,IF(E51=$D$82,$E$82,IF(E51=$D$83,$E$83,IF(E51=$A$89,$E$84,0))))))","v":0},{"$f":"'Step 3 Product data'!F62","v":0},{"$f":"$G51*'Step 3 Product data'!G62","v":0},{"$f":"IF(I$7=TRUE,($G51*'Step 3 Product data'!H62*(1-'Emission Calculations'!$F51)),($G51*'Step 3 Product data'!H62))","v":0},{"$f":"IF(J$7=TRUE,($G51*'Step 3 Product data'!I62*(1-'Emission Calculations'!$F51)),($G51*'Step 3 Product data'!I62))","v":0},{"$f":"IF(K$7=TRUE,($G51*'Step 3 Product data'!J62*(1-'Emission Calculations'!$F51)),($G51*'Step 3 Product data'!J62))","v":0},{"$f":"IF(L$7=TRUE,($G51*'Step 3 Product data'!K62*(1-'Emission Calculations'!$F51)),($G51*'Step 3 Product data'!K62))","v":0},{"$f":"IF(M$7=TRUE,($G51*'Step 3 Product data'!L62*(1-'Emission Calculations'!$F51)),($G51*'Step 3 Product data'!L62))","v":0},{"$f":"IF(N$7=TRUE,($G51*'Step 3 Product data'!M62*(1-'Emission Calculations'!$F51)),($G51*'Step 3 Product data'!M62))","v":0},{"$f":"IF(O$7=TRUE,($G51*'Step 3 Product data'!N62*(1-'Emission Calculations'!$F51)),($G51*'Step 3 Product data'!N62))","v":0},{"$f":"IF(P$7=TRUE,($G51*'Step 3 Product data'!O62*(1-'Emission Calculations'!$F51)),($G51*'Step 3 Product data'!O62))","v":0},{"$f":"IF(Q$7=TRUE,($G51*'Step 3 Product data'!P62*(1-'Emission Calculations'!$F51)),($G51*'Step 3 Product data'!P62))","v":0},{"$f":"IF(R$7=TRUE,($G51*'Step 3 Product data'!Q62*(1-'Emission Calculations'!$F51)),($G51*'Step 3 Product data'!Q62))","v":0},{"$f":"IF(S$7=TRUE,($G51*'Step 3 Product data'!R62*(1-'Emission Calculations'!$F51)),($G51*'Step 3 Product data'!R62))","v":0},{"$f":"IF(T$7=TRUE,($G51*'Step 3 Product data'!S62*(1-'Emission Calculations'!$F51)),($G51*'Step 3 Product data'!S62))","v":0},{"$f":"IF(U$7=TRUE,($G51*'Step 3 Product data'!T62*(1-'Emission Calculations'!$F51)),($G51*'Step 3 Product data'!T62))","v":0},{"$f":"IF(V$7=TRUE,($G51*'Step 3 Product data'!U62*(1-'Emission Calculations'!$F51)),($G51*'Step 3 Product data'!U62))","v":0},{"$f":"IF(W$7=TRUE,($G51*'Step 3 Product data'!V62*(1-'Emission Calculations'!$F51)),($G51*'Step 3 Product data'!V62))","v":0},{"$f":"IF(X$7=TRUE,($G51*'Step 3 Product data'!W62*(1-'Emission Calculations'!$F51)),($G51*'Step 3 Product data'!W62))","v":0},{"$f":"IF(Y$7=TRUE,($G51*'Step 3 Product data'!X62*(1-'Emission Calculations'!$F51)),($G51*'Step 3 Product data'!X62))","v":0},{"$f":"IF('Step 3 Product data'!Y62=0,SUM(AE51:AP51),'Step 3 Product data'!Y62)","v":" "},{"$f":"IF('Step 3 Product data'!Z62=0,SUM(AQ51:BB51),'Step 3 Product data'!Z62)","v":0},{"$f":"IF('Step 3 Product data'!AA62=0,SUM(BC51:BN51),'Step 3 Product data'!AA62)","v":0},{"$f":"IF('Step 3 Product data'!AB62=0,SUM(BO51:BZ51),'Step 3 Product data'!AB62)","v":0},{"$f":"IF('Step 3 Product data'!AC62=0,SUM(CA51:CL51),'Step 3 Product data'!AC62)","v":0},{"$f":"'Step 3 Product data'!AD62","v":0},{"$f":"'Step 3 Product data'!AE62","v":0},{"$f":"'Step 3 Product data'!AF62","v":0},{"$f":"'Step 3 Product data'!AG62","v":0},{"$f":"'Step 3 Product data'!AH62","v":0},{"$f":"'Step 3 Product data'!AI62","v":0},{"$f":"'Step 3 Product data'!AJ62","v":0},{"$f":"'Step 3 Product data'!AK62","v":0},{"$f":"'Step 3 Product data'!AL62","v":0},{"$f":"'Step 3 Product data'!AM62","v":0},{"$f":"'Step 3 Product data'!AN62","v":0},{"$f":"'Step 3 Product data'!AO62","v":0},{"$f":"'Step 3 Product data'!AP62","v":0},{"$f":"'Step 3 Product data'!AQ62","v":0},{"$f":"'Step 3 Product data'!AR62","v":0},{"$f":"'Step 3 Product data'!AS62","v":0},{"$f":"'Step 3 Product data'!AT62","v":0},{"$f":"'Step 3 Product data'!AU62","v":0},{"$f":"'Step 3 Product data'!AV62","v":0},{"$f":"'Step 3 Product data'!AW62","v":0},{"$f":"'Step 3 Product data'!AX62","v":0},{"$f":"'Step 3 Product data'!AY62","v":0},{"$f":"'Step 3 Product data'!AZ62","v":0},{"$f":"'Step 3 Product data'!BA62","v":0},{"$f":"'Step 3 Product data'!BB62","v":0},{"$f":"'Step 3 Product data'!BC62","v":0},{"$f":"'Step 3 Product data'!BD62","v":0},{"$f":"'Step 3 Product data'!BE62","v":0},{"$f":"'Step 3 Product data'!BF62","v":0},{"$f":"'Step 3 Product data'!BG62","v":0},{"$f":"'Step 3 Product data'!BH62","v":0},{"$f":"'Step 3 Product data'!BI62","v":0},{"$f":"'Step 3 Product data'!BJ62","v":0},{"$f":"'Step 3 Product data'!BK62","v":0},{"$f":"'Step 3 Product data'!BL62","v":0},{"$f":"'Step 3 Product data'!BM62","v":0},{"$f":"'Step 3 Product data'!BN62","v":0},{"$f":"'Step 3 Product data'!BO62","v":0},{"$f":"'Step 3 Product data'!BP62","v":0},{"$f":"'Step 3 Product data'!BQ62","v":0},{"$f":"'Step 3 Product data'!BR62","v":0},{"$f":"'Step 3 Product data'!BS62","v":0},{"$f":"'Step 3 Product data'!BT62","v":0},{"$f":"'Step 3 Product data'!BU62","v":0},{"$f":"'Step 3 Product data'!BV62","v":0},{"$f":"'Step 3 Product data'!BW62","v":0},{"$f":"'Step 3 Product data'!BX62","v":0},{"$f":"'Step 3 Product data'!BY62","v":0},{"$f":"'Step 3 Product data'!BZ62","v":0},{"$f":"'Step 3 Product data'!CA62","v":0},{"$f":"'Step 3 Product data'!CB62","v":0},{"$f":"'Step 3 Product data'!CC62","v":0},{"$f":"'Step 3 Product data'!CD62","v":0},{"$f":"'Step 3 Product data'!CE62","v":0},{"$f":"'Step 3 Product data'!CF62","v":0},{"$f":"'Step 3 Product data'!CG62","v":0},{"$f":"'Step 3 Product data'!CH62","v":0},{"$f":"'Step 3 Product data'!CI62","v":0},{"$f":"'Step 3 Product data'!CJ62","v":0},{"$f":"'Step 3 Product data'!CK62","v":0},null,0,0,0,0,0]
[{"$f":"'Step 3 Product data'!A63","v":43},{"$f":"'Step 3 Product data'!B63","v":0},{"$f":"'Step 3 Product data'!C63","v":0},{"$f":"'Step 3 Product data'!D63","v":0},{"$f":"'Step 3 Product data'!E63","v":"Choose one"},{"$f":"IF(E52=$A$88,1,IF(E52='Data Validation'!$B$31,0,IF(E52=$D$81,$E$81,IF(E52=$D$82,$E$82,IF(E52=$D$83,$E$83,IF(E52=$A$89,$E$84,0))))))","v":0},{"$f":"'Step 3 Product data'!F63","v":0},{"$f":"$G52*'Step 3 Product data'!G63","v":0},{"$f":"IF(I$7=TRUE,($G52*'Step 3 Product data'!H63*(1-'Emission Calculations'!$F52)),($G52*'Step 3 Product data'!H63))","v":0},{"$f":"IF(J$7=TRUE,($G52*'Step 3 Product data'!I63*(1-'Emission Calculations'!$F52)),($G52*'Step 3 Product data'!I63))","v":0},{"$f":"IF(K$7=TRUE,($G52*'Step 3 Product data'!J63*(1-'Emission Calculations'!$F52)),($G52*'Step 3 Product data'!J63))","v":0},{"$f":"IF(L$7=TRUE,($G52*'Step 3 Product data'!K63*(1-'Emission Calculations'!$F52)),($G52*'Step 3 Product data'!K63))","v":0},{"$f":"IF(M$7=TRUE,($G52*'Step 3 Product data'!L63*(1-'Emission Calculations'!$F52)),($G52*'Step 3 Product data'!L63))","v":0},{"$f":"IF(N$7=TRUE,($G52*'Step 3 Product data'!M63*(1-'Emission Calculations'!$F52)),($G52*'Step 3 Product data'!M63))","v":0},{"$f":"IF(O$7=TRUE,($G52*'Step 3 Product data'!N63*(1-'Emission Calculations'!$F52)),($G52*'Step 3 Product data'!N63))","v":0},{"$f":"IF(P$7=TRUE,($G52*'Step 3 Product data'!O63*(1-'Emission Calculations'!$F52)),($G52*'Step 3 Product data'!O63))","v":0},{"$f":"IF(Q$7=TRUE,($G52*'Step 3 Product data'!P63*(1-'Emission Calculations'!$F52)),($G52*'Step 3 Product data'!P63))","v":0},{"$f":"IF(R$7=TRUE,($G52*'Step 3 Product data'!Q63*(1-'Emission Calculations'!$F52)),($G52*'Step 3 Product data'!Q63))","v":0},{"$f":"IF(S$7=TRUE,($G52*'Step 3 Product data'!R63*(1-'Emission Calculations'!$F52)),($G52*'Step 3 Product data'!R63))","v":0},{"$f":"IF(T$7=TRUE,($G52*'Step 3 Product data'!S63*(1-'Emission Calculations'!$F52)),($G52*'Step 3 Product data'!S63))","v":0},{"$f":"IF(U$7=TRUE,($G52*'Step 3 Product data'!T63*(1-'Emission Calculations'!$F52)),($G52*'Step 3 Product data'!T63))","v":0},{"$f":"IF(V$7=TRUE,($G52*'Step 3 Product data'!U63*(1-'Emission Calculations'!$F52)),($G52*'Step 3 Product data'!U63))","v":0},{"$f":"IF(W$7=TRUE,($G52*'Step 3 Product data'!V63*(1-'Emission Calculations'!$F52)),($G52*'Step 3 Product data'!V63))","v":0},{"$f":"IF(X$7=TRUE,($G52*'Step 3 Product data'!W63*(1-'Emission Calculations'!$F52)),($G52*'Step 3 Product data'!W63))","v":0},{"$f":"IF(Y$7=TRUE,($G52*'Step 3 Product data'!X63*(1-'Emission Calculations'!$F52)),($G52*'Step 3 Product data'!X63))","v":0},{"$f":"IF('Step 3 Product data'!Y63=0,SUM(AE52:AP52),'Step 3 Product data'!Y63)","v":" "},{"$f":"IF('Step 3 Product data'!Z63=0,SUM(AQ52:BB52),'Step 3 Product data'!Z63)","v":0},{"$f":"IF('Step 3 Product data'!AA63=0,SUM(BC52:BN52),'Step 3 Product data'!AA63)","v":0},{"$f":"IF('Step 3 Product data'!AB63=0,SUM(BO52:BZ52),'Step 3 Product data'!AB63)","v":0},{"$f":"IF('Step 3 Product data'!AC63=0,SUM(CA52:CL52),'Step 3 Product data'!AC63)","v":0},{"$f":"'Step 3 Product data'!AD63","v":0},{"$f":"'Step 3 Product data'!AE63","v":0},{"$f":"'Step 3 Product data'!AF63","v":0},{"$f":"'Step 3 Product data'!AG63","v":0},{"$f":"'Step 3 Product data'!AH63","v":0},{"$f":"'Step 3 Product data'!AI63","v":0},{"$f":"'Step 3 Product data'!AJ63","v":0},{"$f":"'Step 3 Product data'!AK63","v":0},{"$f":"'Step 3 Product data'!AL63","v":0},{"$f":"'Step 3 Product data'!AM63","v":0},{"$f":"'Step 3 Product data'!AN63","v":0},{"$f":"'Step 3 Product data'!AO63","v":0},{"$f":"'Step 3 Product data'!AP63","v":0},{"$f":"'Step 3 Product data'!AQ63","v":0},{"$f":"'Step 3 Product data'!AR63","v":0},{"$f":"'Step 3 Product data'!AS63","v":0},{"$f":"'Step 3 Product data'!AT63","v":0},{"$f":"'Step 3 Product data'!AU63","v":0},{"$f":"'Step 3 Product data'!AV63","v":0},{"$f":"'Step 3 Product data'!AW63","v":0},{"$f":"'Step 3 Product data'!AX63","v":0},{"$f":"'Step 3 Product data'!AY63","v":0},{"$f":"'Step 3 Product data'!AZ63","v":0},{"$f":"'Step 3 Product data'!BA63","v":0},{"$f":"'Step 3 Product data'!BB63","v":0},{"$f":"'Step 3 Product data'!BC63","v":0},{"$f":"'Step 3 Product data'!BD63","v":0},{"$f":"'Step 3 Product data'!BE63","v":0},{"$f":"'Step 3 Product data'!BF63","v":0},{"$f":"'Step 3 Product data'!BG63","v":0},{"$f":"'Step 3 Product data'!BH63","v":0},{"$f":"'Step 3 Product data'!BI63","v":0},{"$f":"'Step 3 Product data'!BJ63","v":0},{"$f":"'Step 3 Product data'!BK63","v":0},{"$f":"'Step 3 Product data'!BL63","v":0},{"$f":"'Step 3 Product data'!BM63","v":0},{"$f":"'Step 3 Product data'!BN63","v":0},{"$f":"'Step 3 Product data'!BO63","v":0},{"$f":"'Step 3 Product data'!BP63","v":0},{"$f":"'Step 3 Product data'!BQ63","v":0},{"$f":"'Step 3 Product data'!BR63","v":0},{"$f":"'Step 3 Product data'!BS63","v":0},{"$f":"'Step 3 Product data'!BT63","v":0},{"$f":"'Step 3 Product data'!BU63","v":0},{"$f":"'Step 3 Product data'!BV63","v":0},{"$f":"'Step 3 Product data'!BW63","v":0},{"$f":"'Step 3 Product data'!BX63","v":0},{"$f":"'Step 3 Product data'!BY63","v":0},{"$f":"'Step 3 Product data'!BZ63","v":0},{"$f":"'Step 3 Product data'!CA63","v":0},{"$f":"'Step 3 Product data'!CB63","v":0},{"$f":"'Step 3 Product data'!CC63","v":0},{"$f":"'Step 3 Product data'!CD63","v":0},{"$f":"'Step 3 Product data'!CE63","v":0},{"$f":"'Step 3 Product data'!CF63","v":0},{"$f":"'Step 3 Product data'!CG63","v":0},{"$f":"'Step 3 Product data'!CH63","v":0},{"$f":"'Step 3 Product data'!CI63","v":0},{"$f":"'Step 3 Product data'!CJ63","v":0},{"$f":"'Step 3 Product data'!CK63","v":0},null,0,0,0,0,0]
[{"$f":"'Step 3 Product data'!A64","v":44},{"$f":"'Step 3 Product data'!B64","v":0},{"$f":"'Step 3 Product data'!C64","v":0},{"$f":"'Step 3 Product data'!D64","v":0},{"$f":"'Step 3 Product data'!E64","v":"Choose one"},{"$f":"IF(E53=$A$88,1,IF(E53='Data Validation'!$B$31,0,IF(E53=$D$81,$E$81,IF(E53=$D$82,$E$82,IF(E53=$D$83,$E$83,IF(E53=$A$89,$E$84,0))))))","v":0},{"$f":"'Step 3 Product data'!F64","v":0},{"$f":"$G53*'Step 3 Product data'!G64","v":0},{"$f":"IF(I$7=TRUE,($G53*'Step 3 Product data'!H64*(1-'Emission Calculations'!$F53)),($G53*'Step 3 Product data'!H64))","v":0},{"$f":"IF(J$7=TRUE,($G53*'Step 3 Product data'!I64*(1-'Emission Calculations'!$F53)),($G53*'Step 3 Product data'!I64))","v":0},{"$f":"IF(K$7=TRUE,($G53*'Step 3 Product data'!J64*(1-'Emission Calculations'!$F53)),($G53*'Step 3 Product data'!J64))","v":0},{"$f":"IF(L$7=TRUE,($G53*'Step 3 Product data'!K64*(1-'Emission Calculations'!$F53)),($G53*'Step 3 Product data'!K64))","v":0},{"$f":"IF(M$7=TRUE,($G53*'Step 3 Product data'!L64*(1-'Emission Calculations'!$F53)),($G53*'Step 3 Product data'!L64))","v":0},{"$f":"IF(N$7=TRUE,($G53*'Step 3 Product data'!M64*(1-'Emission Calculations'!$F53)),($G53*'Step 3 Product data'!M64))","v":0},{"$f":"IF(O$7=TRUE,($G53*'Step 3 Product data'!N64*(1-'Emission Calculations'!$F53)),($G53*'Step 3 Product data'!N64))","v":0},{"$f":"IF(P$7=TRUE,($G53*'Step 3 Product data'!O64*(1-'Emission Calculations'!$F53)),($G53*'Step 3 Product data'!O64))","v":0},{"$f":"IF(Q$7=TRUE,($G53*'Step 3 Product data'!P64*(1-'Emission Calculations'!$F53)),($G53*'Step 3 Product data'!P64))","v":0},{"$f":"IF(R$7=TRUE,($G53*'Step 3 Product data'!Q64*(1-'Emission Calculations'!$F53)),($G53*'Step 3 Product data'!Q64))","v":0},{"$f":"IF(S$7=TRUE,($G53*'Step 3 Product data'!R64*(1-'Emission Calculations'!$F53)),($G53*'Step 3 Product data'!R64))","v":0},{"$f":"IF(T$7=TRUE,($G53*'Step 3 Product data'!S64*(1-'Emission Calculations'!$F53)),($G53*'Step 3 Product data'!S64))","v":0},{"$f":"IF(U$7=TRUE,($G53*'Step 3 Product data'!T64*(1-'Emission Calculations'!$F53)),($G53*'Step 3 Product data'!T64))","v":0},{"$f":"IF(V$7=TRUE,($G53*'Step 3 Product data'!U64*(1-'Emission Calculations'!$F53)),($G53*'Step 3 Product data'!U64))","v":0},{"$f":"IF(W$7=TRUE,($G53*'Step 3 Product data'!V64*(1-'Emission Calculations'!$F53)),($G53*'Step 3 Product data'!V64))","v":0},{"$f":"IF(X$7=TRUE,($G53*'Step 3 Product data'!W64*(1-'Emission Calculations'!$F53)),($G53*'Step 3 Product data'!W64))","v":0},{"$f":"IF(Y$7=TRUE,($G53*'Step 3 Product data'!X64*(1-'Emission Calculations'!$F53)),($G53*'Step 3 Product data'!X64))","v":0},{"$f":"IF('Step 3 Product data'!Y64=0,SUM(AE53:AP53),'Step 3 Product data'!Y64)","v":" "},{"$f":"IF('Step 3 Product data'!Z64=0,SUM(AQ53:BB53),'Step 3 Product data'!Z64)","v":0},{"$f":"IF('Step 3 Product data'!AA64=0,SUM(BC53:BN53),'Step 3 Product data'!AA64)","v":0},{"$f":"IF('Step 3 Product data'!AB64=0,SUM(BO53:BZ53),'Step 3 Product data'!AB64)","v":0},{"$f":"IF('Step 3 Product data'!AC64=0,SUM(CA53:CL53),'Step 3 Product data'!AC64)","v":0},{"$f":"'Step 3 Product data'!AD64","v":0},{"$f":"'Step 3 Product data'!AE64","v":0},{"$f":"'Step 3 Product data'!AF64","v":0},{"$f":"'Step 3 Product data'!AG64","v":0},{"$f":"'Step 3 Product data'!AH64","v":0},{"$f":"'Step 3 Product data'!AI64","v":0},{"$f":"'Step 3 Product data'!AJ64","v":0},{"$f":"'Step 3 Product data'!AK64","v":0},{"$f":"'Step 3 Product data'!AL64","v":0},{"$f":"'Step 3 Product data'!AM64","v":0},{"$f":"'Step 3 Product data'!AN64","v":0},{"$f":"'Step 3 Product data'!AO64","v":0},{"$f":"'Step 3 Product data'!AP64","v":0},{"$f":"'Step 3 Product data'!AQ64","v":0},{"$f":"'Step 3 Product data'!AR64","v":0},{"$f":"'Step 3 Product data'!AS64","v":0},{"$f":"'Step 3 Product data'!AT64","v":0},{"$f":"'Step 3 Product data'!AU64","v":0},{"$f":"'Step 3 Product data'!AV64","v":0},{"$f":"'Step 3 Product data'!AW64","v":0},{"$f":"'Step 3 Product data'!AX64","v":0},{"$f":"'Step 3 Product data'!AY64","v":0},{"$f":"'Step 3 Product data'!AZ64","v":0},{"$f":"'Step 3 Product data'!BA64","v":0},{"$f":"'Step 3 Product data'!BB64","v":0},{"$f":"'Step 3 Product data'!BC64","v":0},{"$f":"'Step 3 Product data'!BD64","v":0},{"$f":"'Step 3 Product data'!BE64","v":0},{"$f":"'Step 3 Product data'!BF64","v":0},{"$f":"'Step 3 Product data'!BG64","v":0},{"$f":"'Step 3 Product data'!BH64","v":0},{"$f":"'Step 3 Product data'!BI64","v":0},{"$f":"'Step 3 Product data'!BJ64","v":0},{"$f":"'Step 3 Product data'!BK64","v":0},{"$f":"'Step 3 Product data'!BL64","v":0},{"$f":"'Step 3 Product data'!BM64","v":0},{"$f":"'Step 3 Product data'!BN64","v":0},{"$f":"'Step 3 Product data'!BO64","v":0},{"$f":"'Step 3 Product data'!BP64","v":0},{"$f":"'Step 3 Product data'!BQ64","v":0},{"$f":"'Step 3 Product data'!BR64","v":0},{"$f":"'Step 3 Product data'!BS64","v":0},{"$f":"'Step 3 Product data'!BT64","v":0},{"$f":"'Step 3 Product data'!BU64","v":0},{"$f":"'Step 3 Product data'!BV64","v":0},{"$f":"'Step 3 Product data'!BW64","v":0},{"$f":"'Step 3 Product data'!BX64","v":0},{"$f":"'Step 3 Product data'!BY64","v":0},{"$f":"'Step 3 Product data'!BZ64","v":0},{"$f":"'Step 3 Product data'!CA64","v":0},{"$f":"'Step 3 Product data'!CB64","v":0},{"$f":"'Step 3 Product data'!CC64","v":0},{"$f":"'Step 3 Product data'!CD64","v":0},{"$f":"'Step 3 Product data'!CE64","v":0},{"$f":"'Step 3 Product data'!CF64","v":0},{"$f":"'Step 3 Product data'!CG64","v":0},{"$f":"'Step 3 Product data'!CH64","v":0},{"$f":"'Step 3 Product data'!CI64","v":0},{"$f":"'Step 3 Product data'!CJ64","v":0},{"$f":"'Step 3 Product data'!CK64","v":0},null,0,0,0,0,0]
[{"$f":"'Step 3 Product data'!A65","v":45},{"$f":"'Step 3 Product data'!B65","v":0},{"$f":"'Step 3 Product data'!C65","v":0},{"$f":"'Step 3 Product data'!D65","v":0},{"$f":"'Step 3 Product data'!E65","v":"Choose one"},{"$f":"IF(E54=$A$88,1,IF(E54='Data Validation'!$B$31,0,IF(E54=$D$81,$E$81,IF(E54=$D$82,$E$82,IF(E54=$D$83,$E$83,IF(E54=$A$89,$E$84,0))))))","v":0},{"$f":"'Step 3 Product data'!F65","v":0},{"$f":"$G54*'Step 3 Product data'!G65","v":0},{"$f":"IF(I$7=TRUE,($G54*'Step 3 Product data'!H65*(1-'Emission Calculations'!$F54)),($G54*'Step 3 Product data'!H65))","v":0},{"$f":"IF(J$7=TRUE,($G54*'Step 3 Product data'!I65*(1-'Emission Calculations'!$F54)),($G54*'Step 3 Product data'!I65))","v":0},{"$f":"IF(K$7=TRUE,($G54*'Step 3 Product data'!J65*(1-'Emission Calculations'!$F54)),($G54*'Step 3 Product data'!J65))","v":0},{"$f":"IF(L$7=TRUE,($G54*'Step 3 Product data'!K65*(1-'Emission Calculations'!$F54)),($G54*'Step 3 Product data'!K65))","v":0},{"$f":"IF(M$7=TRUE,($G54*'Step 3 Product data'!L65*(1-'Emission Calculations'!$F54)),($G54*'Step 3 Product data'!L65))","v":0},{"$f":"IF(N$7=TRUE,($G54*'Step 3 Product data'!M65*(1-'Emission Calculations'!$F54)),($G54*'Step 3 Product data'!M65))","v":0},{"$f":"IF(O$7=TRUE,($G54*'Step 3 Product data'!N65*(1-'Emission Calculations'!$F54)),($G54*'Step 3 Product data'!N65))","v":0},{"$f":"IF(P$7=TRUE,($G54*'Step 3 Product data'!O65*(1-'Emission Calculations'!$F54)),($G54*'Step 3 Product data'!O65))","v":0},{"$f":"IF(Q$7=TRUE,($G54*'Step 3 Product data'!P65*(1-'Emission Calculations'!$F54)),($G54*'Step 3 Product data'!P65))","v":0},{"$f":"IF(R$7=TRUE,($G54*'Step 3 Product data'!Q65*(1-'Emission Calculations'!$F54)),($G54*'Step 3 Product data'!Q65))","v":0},{"$f":"IF(S$7=TRUE,($G54*'Step 3 Product data'!R65*(1-'Emission Calculations'!$F54)),($G54*'Step 3 Product data'!R65))","v":0},{"$f":"IF(T$7=TRUE,($G54*'Step 3 Product data'!S65*(1-'Emission Calculations'!$F54)),($G54*'Step 3 Product data'!S65))","v":0},{"$f":"IF(U$7=TRUE,($G54*'Step 3 Product data'!T65*(1-'Emission Calculations'!$F54)),($G54*'Step 3 Product data'!T65))","v":0},{"$f":"IF(V$7=TRUE,($G54*'Step 3 Product data'!U65*(1-'Emission Calculations'!$F54)),($G54*'Step 3 Product data'!U65))","v":0},{"$f":"IF(W$7=TRUE,($G54*'Step 3 Product data'!V65*(1-'Emission Calculations'!$F54)),($G54*'Step 3 Product data'!V65))","v":0},{"$f":"IF(X$7=TRUE,($G54*'Step 3 Product data'!W65*(1-'Emission Calculations'!$F54)),($G54*'Step 3 Product data'!W65))","v":0},{"$f":"IF(Y$7=TRUE,($G54*'Step 3 Product data'!X65*(1-'Emission Calculations'!$F54)),($G54*'Step 3 Product data'!X65))","v":0},{"$f":"IF('Step 3 Product data'!Y65=0,SUM(AE54:AP54),'Step 3 Product data'!Y65)","v":" "},{"$f":"IF('Step 3 Product data'!Z65=0,SUM(AQ54:BB54),'Step 3 Product data'!Z65)","v":0},{"$f":"IF('Step 3 Product data'!AA65=0,SUM(BC54:BN54),'Step 3 Product data'!AA65)","v":0},{"$f":"IF('Step 3 Product data'!AB65=0,SUM(BO54:BZ54),'Step 3 Product data'!AB65)","v":0},{"$f":"IF('Step 3 Product data'!AC65=0,SUM(CA54:CL54),'Step 3 Product data'!AC65)","v":0},{"$f":"'Step 3 Product data'!AD65","v":0},{"$f":"'Step 3 Product data'!AE65","v":0},{"$f":"'Step 3 Product data'!AF65","v":0},{"$f":"'Step 3 Product data'!AG65","v":0},{"$f":"'Step 3 Product data'!AH65","v":0},{"$f":"'Step 3 Product data'!AI65","v":0},{"$f":"'Step 3 Product data'!AJ65","v":0},{"$f":"'Step 3 Product data'!AK65","v":0},{"$f":"'Step 3 Product data'!AL65","v":0},{"$f":"'Step 3 Product data'!AM65","v":0},{"$f":"'Step 3 Product data'!AN65","v":0},{"$f":"'Step 3 Product data'!AO65","v":0},{"$f":"'Step 3 Product data'!AP65","v":0},{"$f":"'Step 3 Product data'!AQ65","v":0},{"$f":"'Step 3 Product data'!AR65","v":0},{"$f":"'Step 3 Product data'!AS65","v":0},{"$f":"'Step 3 Product data'!AT65","v":0},{"$f":"'Step 3 Product data'!AU65","v":0},{"$f":"'Step 3 Product data'!AV65","v":0},{"$f":"'Step 3 Product data'!AW65","v":0},{"$f":"'Step 3 Product data'!AX65","v":0},{"$f":"'Step 3 Product data'!AY65","v":0},{"$f":"'Step 3 Product data'!AZ65","v":0},{"$f":"'Step 3 Product data'!BA65","v":0},{"$f":"'Step 3 Product data'!BB65","v":0},{"$f":"'Step 3 Product data'!BC65","v":0},{"$f":"'Step 3 Product data'!BD65","v":0},{"$f":"'Step 3 Product data'!BE65","v":0},{"$f":"'Step 3 Product data'!BF65","v":0},{"$f":"'Step 3 Product data'!BG65","v":0},{"$f":"'Step 3 Product data'!BH65","v":0},{"$f":"'Step 3 Product data'!BI65","v":0},{"$f":"'Step 3 Product data'!BJ65","v":0},{"$f":"'Step 3 Product data'!BK65","v":0},{"$f":"'Step 3 Product data'!BL65","v":0},{"$f":"'Step 3 Product data'!BM65","v":0},{"$f":"'Step 3 Product data'!BN65","v":0},{"$f":"'Step 3 Product data'!BO65","v":0},{"$f":"'Step 3 Product data'!BP65","v":0},{"$f":"'Step 3 Product data'!BQ65","v":0},{"$f":"'Step 3 Product data'!BR65","v":0},{"$f":"'Step 3 Product data'!BS65","v":0},{"$f":"'Step 3 Product data'!BT65","v":0},{"$f":"'Step 3 Product data'!BU65","v":0},{"$f":"'Step 3 Product data'!BV65","v":0},{"$f":"'Step 3 Product data'!BW65","v":0},{"$f":"'Step 3 Product data'!BX65","v":0},{"$f":"'Step 3 Product data'!BY65","v":0},{"$f":"'Step 3 Product data'!BZ65","v":0},{"$f":"'Step 3 Product data'!CA65","v":0},{"$f":"'Step 3 Product data'!CB65","v":0},{"$f":"'Step 3 Product data'!CC65","v":0},{"$f":"'Step 3 Product data'!CD65","v":0},{"$f":"'Step 3 Product data'!CE65","v":0},{"$f":"'Step 3 Product data'!CF65","v":0},{"$f":"'Step 3 Product data'!CG65","v":0},{"$f":"'Step 3 Product data'!CH65","v":0},{"$f":"'Step 3 Product data'!CI65","v":0},{"$f":"'Step 3 Product data'!CJ65","v":0},{"$f":"'Step 3 Product data'!CK65","v":0},null,0,0,0,0,0]
[{"$f":"'Step 3 Product data'!A66","v":46},{"$f":"'Step 3 Product data'!B66","v":0},{"$f":"'Step 3 Product data'!C66","v":0},{"$f":"'Step 3 Product data'!D66","v":0},{"$f":"'Step 3 Product data'!E66","v":"Choose one"},{"$f":"IF(E55=$A$88,1,IF(E55='Data Validation'!$B$31,0,IF(E55=$D$81,$E$81,IF(E55=$D$82,$E$82,IF(E55=$D$83,$E$83,IF(E55=$A$89,$E$84,0))))))","v":0},{"$f":"'Step 3 Product data'!F66","v":0},{"$f":"$G55*'Step 3 Product data'!G66","v":0},{"$f":"IF(I$7=TRUE,($G55*'Step 3 Product data'!H66*(1-'Emission Calculations'!$F55)),($G55*'Step 3 Product data'!H66))","v":0},{"$f":"IF(J$7=TRUE,($G55*'Step 3 Product data'!I66*(1-'Emission Calculations'!$F55)),($G55*'Step 3 Product data'!I66))","v":0},{"$f":"IF(K$7=TRUE,($G55*'Step 3 Product data'!J66*(1-'Emission Calculations'!$F55)),($G55*'Step 3 Product data'!J66))","v":0},{"$f":"IF(L$7=TRUE,($G55*'Step 3 Product data'!K66*(1-'Emission Calculations'!$F55)),($G55*'Step 3 Product data'!K66))","v":0},{"$f":"IF(M$7=TRUE,($G55*'Step 3 Product data'!L66*(1-'Emission Calculations'!$F55)),($G55*'Step 3 Product data'!L66))","v":0},{"$f":"IF(N$7=TRUE,($G55*'Step 3 Product data'!M66*(1-'Emission Calculations'!$F55)),($G55*'Step 3 Product data'!M66))","v":0},{"$f":"IF(O$7=TRUE,($G55*'Step 3 Product data'!N66*(1-'Emission Calculations'!$F55)),($G55*'Step 3 Product data'!N66))","v":0},{"$f":"IF(P$7=TRUE,($G55*'Step 3 Product data'!O66*(1-'Emission Calculations'!$F55)),($G55*'Step 3 Product data'!O66))","v":0},{"$f":"IF(Q$7=TRUE,($G55*'Step 3 Product data'!P66*(1-'Emission Calculations'!$F55)),($G55*'Step 3 Product data'!P66))","v":0},{"$f":"IF(R$7=TRUE,($G55*'Step 3 Product data'!Q66*(1-'Emission Calculations'!$F55)),($G55*'Step 3 Product data'!Q66))","v":0},{"$f":"IF(S$7=TRUE,($G55*'Step 3 Product data'!R66*(1-'Emission Calculations'!$F55)),($G55*'Step 3 Product data'!R66))","v":0},{"$f":"IF(T$7=TRUE,($G55*'Step 3 Product data'!S66*(1-'Emission Calculations'!$F55)),($G55*'Step 3 Product data'!S66))","v":0},{"$f":"IF(U$7=TRUE,($G55*'Step 3 Product data'!T66*(1-'Emission Calculations'!$F55)),($G55*'Step 3 Product data'!T66))","v":0},{"$f":"IF(V$7=TRUE,($G55*'Step 3 Product data'!U66*(1-'Emission Calculations'!$F55)),($G55*'Step 3 Product data'!U66))","v":0},{"$f":"IF(W$7=TRUE,($G55*'Step 3 Product data'!V66*(1-'Emission Calculations'!$F55)),($G55*'Step 3 Product data'!V66))","v":0},{"$f":"IF(X$7=TRUE,($G55*'Step 3 Product data'!W66*(1-'Emission Calculations'!$F55)),($G55*'Step 3 Product data'!W66))","v":0},{"$f":"IF(Y$7=TRUE,($G55*'Step 3 Product data'!X66*(1-'Emission Calculations'!$F55)),($G55*'Step 3 Product data'!X66))","v":0},{"$f":"IF('Step 3 Product data'!Y66=0,SUM(AE55:AP55),'Step 3 Product data'!Y66)","v":" "},{"$f":"IF('Step 3 Product data'!Z66=0,SUM(AQ55:BB55),'Step 3 Product data'!Z66)","v":0},{"$f":"IF('Step 3 Product data'!AA66=0,SUM(BC55:BN55),'Step 3 Product data'!AA66)","v":0},{"$f":"IF('Step 3 Product data'!AB66=0,SUM(BO55:BZ55),'Step 3 Product data'!AB66)","v":0},{"$f":"IF('Step 3 Product data'!AC66=0,SUM(CA55:CL55),'Step 3 Product data'!AC66)","v":0},{"$f":"'Step 3 Product data'!AD66","v":0},{"$f":"'Step 3 Product data'!AE66","v":0},{"$f":"'Step 3 Product data'!AF66","v":0},{"$f":"'Step 3 Product data'!AG66","v":0},{"$f":"'Step 3 Product data'!AH66","v":0},{"$f":"'Step 3 Product data'!AI66","v":0},{"$f":"'Step 3 Product data'!AJ66","v":0},{"$f":"'Step 3 Product data'!AK66","v":0},{"$f":"'Step 3 Product data'!AL66","v":0},{"$f":"'Step 3 Product data'!AM66","v":0},{"$f":"'Step 3 Product data'!AN66","v":0},{"$f":"'Step 3 Product data'!AO66","v":0},{"$f":"'Step 3 Product data'!AP66","v":0},{"$f":"'Step 3 Product data'!AQ66","v":0},{"$f":"'Step 3 Product data'!AR66","v":0},{"$f":"'Step 3 Product data'!AS66","v":0},{"$f":"'Step 3 Product data'!AT66","v":0},{"$f":"'Step 3 Product data'!AU66","v":0},{"$f":"'Step 3 Product data'!AV66","v":0},{"$f":"'Step 3 Product data'!AW66","v":0},{"$f":"'Step 3 Product data'!AX66","v":0},{"$f":"'Step 3 Product data'!AY66","v":0},{"$f":"'Step 3 Product data'!AZ66","v":0},{"$f":"'Step 3 Product data'!BA66","v":0},{"$f":"'Step 3 Product data'!BB66","v":0},{"$f":"'Step 3 Product data'!BC66","v":0},{"$f":"'Step 3 Product data'!BD66","v":0},{"$f":"'Step 3 Product data'!BE66","v":0},{"$f":"'Step 3 Product data'!BF66","v":0},{"$f":"'Step 3 Product data'!BG66","v":0},{"$f":"'Step 3 Product data'!BH66","v":0},{"$f":"'Step 3 Product data'!BI66","v":0},{"$f":"'Step 3 Product data'!BJ66","v":0},{"$f":"'Step 3 Product data'!BK66","v":0},{"$f":"'Step 3 Product data'!BL66","v":0},{"$f":"'Step 3 Product data'!BM66","v":0},{"$f":"'Step 3 Product data'!BN66","v":0},{"$f":"'Step 3 Product data'!BO66","v":0},{"$f":"'Step 3 Product data'!BP66","v":0},{"$f":"'Step 3 Product data'!BQ66","v":0},{"$f":"'Step 3 Product data'!BR66","v":0},{"$f":"'Step 3 Product data'!BS66","v":0},{"$f":"'Step 3 Product data'!BT66","v":0},{"$f":"'Step 3 Product data'!BU66","v":0},{"$f":"'Step 3 Product data'!BV66","v":0},{"$f":"'Step 3 Product data'!BW66","v":0},{"$f":"'Step 3 Product data'!BX66","v":0},{"$f":"'Step 3 Product data'!BY66","v":0},{"$f":"'Step 3 Product data'!BZ66","v":0},{"$f":"'Step 3 Product data'!CA66","v":0},{"$f":"'Step 3 Product data'!CB66","v":0},{"$f":"'Step 3 Product data'!CC66","v":0},{"$f":"'Step 3 Product data'!CD66","v":0},{"$f":"'Step 3 Product data'!CE66","v":0},{"$f":"'Step 3 Product data'!CF66","v":0},{"$f":"'Step 3 Product data'!CG66","v":0},{"$f":"'Step 3 Product data'!CH66","v":0},{"$f":"'Step 3 Product data'!CI66","v":0},{"$f":"'Step 3 Product data'!CJ66","v":0},{"$f":"'Step 3 Product data'!CK66","v":0},null,0,0,0,0,0]
[{"$f":"'Step 3 Product data'!A67","v":47},{"$f":"'Step 3 Product data'!B67","v":0},{"$f":"'Step 3 Product data'!C67","v":0},{"$f":"'Step 3 Product data'!D67","v":0},{"$f":"'Step 3 Product data'!E67","v":"Choose one"},{"$f":"IF(E56=$A$88,1,IF(E56='Data Validation'!$B$31,0,IF(E56=$D$81,$E$81,IF(E56=$D$82,$E$82,IF(E56=$D$83,$E$83,IF(E56=$A$89,$E$84,0))))))","v":0},{"$f":"'Step 3 Product data'!F67","v":0},{"$f":"$G56*'Step 3 Product data'!G67","v":0},{"$f":"IF(I$7=TRUE,($G56*'Step 3 Product data'!H67*(1-'Emission Calculations'!$F56)),($G56*'Step 3 Product data'!H67))","v":0},{"$f":"IF(J$7=TRUE,($G56*'Step 3 Product data'!I67*(1-'Emission Calculations'!$F56)),($G56*'Step 3 Product data'!I67))","v":0},{"$f":"IF(K$7=TRUE,($G56*'Step 3 Product data'!J67*(1-'Emission Calculations'!$F56)),($G56*'Step 3 Product data'!J67))","v":0},{"$f":"IF(L$7=TRUE,($G56*'Step 3 Product data'!K67*(1-'Emission Calculations'!$F56)),($G56*'Step 3 Product data'!K67))","v":0},{"$f":"IF(M$7=TRUE,($G56*'Step 3 Product data'!L67*(1-'Emission Calculations'!$F56)),($G56*'Step 3 Product data'!L67))","v":0},{"$f":"IF(N$7=TRUE,($G56*'Step 3 Product data'!M67*(1-'Emission Calculations'!$F56)),($G56*'Step 3 Product data'!M67))","v":0},{"$f":"IF(O$7=TRUE,($G56*'Step 3 Product data'!N67*(1-'Emission Calculations'!$F56)),($G56*'Step 3 Product data'!N67))","v":0},{"$f":"IF(P$7=TRUE,($G56*'Step 3 Product data'!O67*(1-'Emission Calculations'!$F56)),($G56*'Step 3 Product data'!O67))","v":0},{"$f":"IF(Q$7=TRUE,($G56*'Step 3 Product data'!P67*(1-'Emission Calculations'!$F56)),($G56*'Step 3 Product data'!P67))","v":0},{"$f":"IF(R$7=TRUE,($G56*'Step 3 Product data'!Q67*(1-'Emission Calculations'!$F56)),($G56*'Step 3 Product data'!Q67))","v":0},{"$f":"IF(S$7=TRUE,($G56*'Step 3 Product data'!R67*(1-'Emission Calculations'!$F56)),($G56*'Step 3 Product data'!R67))","v":0},{"$f":"IF(T$7=TRUE,($G56*'Step 3 Product data'!S67*(1-'Emission Calculations'!$F56)),($G56*'Step 3 Product data'!S67))","v":0},{"$f":"IF(U$7=TRUE,($G56*'Step 3 Product data'!T67*(1-'Emission Calculations'!$F56)),($G56*'Step 3 Product data'!T67))","v":0},{"$f":"IF(V$7=TRUE,($G56*'Step 3 Product data'!U67*(1-'Emission Calculations'!$F56)),($G56*'Step 3 Product data'!U67))","v":0},{"$f":"IF(W$7=TRUE,($G56*'Step 3 Product data'!V67*(1-'Emission Calculations'!$F56)),($G56*'Step 3 Product data'!V67))","v":0},{"$f":"IF(X$7=TRUE,($G56*'Step 3 Product data'!W67*(1-'Emission Calculations'!$F56)),($G56*'Step 3 Product data'!W67))","v":0},{"$f":"IF(Y$7=TRUE,($G56*'Step 3 Product data'!X67*(1-'Emission Calculations'!$F56)),($G56*'Step 3 Product data'!X67))","v":0},{"$f":"IF('Step 3 Product data'!Y67=0,SUM(AE56:AP56),'Step 3 Product data'!Y67)","v":" "},{"$f":"IF('Step 3 Product data'!Z67=0,SUM(AQ56:BB56),'Step 3 Product data'!Z67)","v":0},{"$f":"IF('Step 3 Product data'!AA67=0,SUM(BC56:BN56),'Step 3 Product data'!AA67)","v":0},{"$f":"IF('Step 3 Product data'!AB67=0,SUM(BO56:BZ56),'Step 3 Product data'!AB67)","v":0},{"$f":"IF('Step 3 Product data'!AC67=0,SUM(CA56:CL56),'Step 3 Product data'!AC67)","v":0},{"$f":"'Step 3 Product data'!AD67","v":0},{"$f":"'Step 3 Product data'!AE67","v":0},{"$f":"'Step 3 Product data'!AF67","v":0},{"$f":"'Step 3 Product data'!AG67","v":0},{"$f":"'Step 3 Product data'!AH67","v":0},{"$f":"'Step 3 Product data'!AI67","v":0},{"$f":"'Step 3 Product data'!AJ67","v":0},{"$f":"'Step 3 Product data'!AK67","v":0},{"$f":"'Step 3 Product data'!AL67","v":0},{"$f":"'Step 3 Product data'!AM67","v":0},{"$f":"'Step 3 Product data'!AN67","v":0},{"$f":"'Step 3 Product data'!AO67","v":0},{"$f":"'Step 3 Product data'!AP67","v":0},{"$f":"'Step 3 Product data'!AQ67","v":0},{"$f":"'Step 3 Product data'!AR67","v":0},{"$f":"'Step 3 Product data'!AS67","v":0},{"$f":"'Step 3 Product data'!AT67","v":0},{"$f":"'Step 3 Product data'!AU67","v":0},{"$f":"'Step 3 Product data'!AV67","v":0},{"$f":"'Step 3 Product data'!AW67","v":0},{"$f":"'Step 3 Product data'!AX67","v":0},{"$f":"'Step 3 Product data'!AY67","v":0},{"$f":"'Step 3 Product data'!AZ67","v":0},{"$f":"'Step 3 Product data'!BA67","v":0},{"$f":"'Step 3 Product data'!BB67","v":0},{"$f":"'Step 3 Product data'!BC67","v":0},{"$f":"'Step 3 Product data'!BD67","v":0},{"$f":"'Step 3 Product data'!BE67","v":0},{"$f":"'Step 3 Product data'!BF67","v":0},{"$f":"'Step 3 Product data'!BG67","v":0},{"$f":"'Step 3 Product data'!BH67","v":0},{"$f":"'Step 3 Product data'!BI67","v":0},{"$f":"'Step 3 Product data'!BJ67","v":0},{"$f":"'Step 3 Product data'!BK67","v":0},{"$f":"'Step 3 Product data'!BL67","v":0},{"$f":"'Step 3 Product data'!BM67","v":0},{"$f":"'Step 3 Product data'!BN67","v":0},{"$f":"'Step 3 Product data'!BO67","v":0},{"$f":"'Step 3 Product data'!BP67","v":0},{"$f":"'Step 3 Product data'!BQ67","v":0},{"$f":"'Step 3 Product data'!BR67","v":0},{"$f":"'Step 3 Product data'!BS67","v":0},{"$f":"'Step 3 Product data'!BT67","v":0},{"$f":"'Step 3 Product data'!BU67","v":0},{"$f":"'Step 3 Product data'!BV67","v":0},{"$f":"'Step 3 Product data'!BW67","v":0},{"$f":"'Step 3 Product data'!BX67","v":0},{"$f":"'Step 3 Product data'!BY67","v":0},{"$f":"'Step 3 Product data'!BZ67","v":0},{"$f":"'Step 3 Product data'!CA67","v":0},{"$f":"'Step 3 Product data'!CB67","v":0},{"$f":"'Step 3 Product data'!CC67","v":0},{"$f":"'Step 3 Product data'!CD67","v":0},{"$f":"'Step 3 Product data'!CE67","v":0},{"$f":"'Step 3 Product data'!CF67","v":0},{"$f":"'Step 3 Product data'!CG67","v":0},{"$f":"'Step 3 Product data'!CH67","v":0},{"$f":"'Step 3 Product data'!CI67","v":0},{"$f":"'Step 3 Product data'!CJ67","v":0},{"$f":"'Step 3 Product data'!CK67","v":0},null,0,0,0,0,0]
[{"$f":"'Step 3 Product data'!A68","v":48},{"$f":"'Step 3 Product data'!B68","v":0},{"$f":"'Step 3 Product data'!C68","v":0},{"$f":"'Step 3 Product data'!D68","v":0},{"$f":"'Step 3 Product data'!E68","v":"Choose one"},{"$f":"IF(E57=$A$88,1,IF(E57='Data Validation'!$B$31,0,IF(E57=$D$81,$E$81,IF(E57=$D$82,$E$82,IF(E57=$D$83,$E$83,IF(E57=$A$89,$E$84,0))))))","v":0},{"$f":"'Step 3 Product data'!F68","v":0},{"$f":"$G57*'Step 3 Product data'!G68","v":0},{"$f":"IF(I$7=TRUE,($G57*'Step 3 Product data'!H68*(1-'Emission Calculations'!$F57)),($G57*'Step 3 Product data'!H68))","v":0},{"$f":"IF(J$7=TRUE,($G57*'Step 3 Product data'!I68*(1-'Emission Calculations'!$F57)),($G57*'Step 3 Product data'!I68))","v":0},{"$f":"IF(K$7=TRUE,($G57*'Step 3 Product data'!J68*(1-'Emission Calculations'!$F57)),($G57*'Step 3 Product data'!J68))","v":0},{"$f":"IF(L$7=TRUE,($G57*'Step 3 Product data'!K68*(1-'Emission Calculations'!$F57)),($G57*'Step 3 Product data'!K68))","v":0},{"$f":"IF(M$7=TRUE,($G57*'Step 3 Product data'!L68*(1-'Emission Calculations'!$F57)),($G57*'Step 3 Product data'!L68))","v":0},{"$f":"IF(N$7=TRUE,($G57*'Step 3 Product data'!M68*(1-'Emission Calculations'!$F57)),($G57*'Step 3 Product data'!M68))","v":0},{"$f":"IF(O$7=TRUE,($G57*'Step 3 Product data'!N68*(1-'Emission Calculations'!$F57)),($G57*'Step 3 Product data'!N68))","v":0},{"$f":"IF(P$7=TRUE,($G57*'Step 3 Product data'!O68*(1-'Emission Calculations'!$F57)),($G57*'Step 3 Product data'!O68))","v":0},{"$f":"IF(Q$7=TRUE,($G57*'Step 3 Product data'!P68*(1-'Emission Calculations'!$F57)),($G57*'Step 3 Product data'!P68))","v":0},{"$f":"IF(R$7=TRUE,($G57*'Step 3 Product data'!Q68*(1-'Emission Calculations'!$F57)),($G57*'Step 3 Product data'!Q68))","v":0},{"$f":"IF(S$7=TRUE,($G57*'Step 3 Product data'!R68*(1-'Emission Calculations'!$F57)),($G57*'Step 3 Product data'!R68))","v":0},{"$f":"IF(T$7=TRUE,($G57*'Step 3 Product data'!S68*(1-'Emission Calculations'!$F57)),($G57*'Step 3 Product data'!S68))","v":0},{"$f":"IF(U$7=TRUE,($G57*'Step 3 Product data'!T68*(1-'Emission Calculations'!$F57)),($G57*'Step 3 Product data'!T68))","v":0},{"$f":"IF(V$7=TRUE,($G57*'Step 3 Product data'!U68*(1-'Emission Calculations'!$F57)),($G57*'Step 3 Product data'!U68))","v":0},{"$f":"IF(W$7=TRUE,($G57*'Step 3 Product data'!V68*(1-'Emission Calculations'!$F57)),($G57*'Step 3 Product data'!V68))","v":0},{"$f":"IF(X$7=TRUE,($G57*'Step 3 Product data'!W68*(1-'Emission Calculations'!$F57)),($G57*'Step 3 Product data'!W68))","v":0},{"$f":"IF(Y$7=TRUE,($G57*'Step 3 Product data'!X68*(1-'Emission Calculations'!$F57)),($G57*'Step 3 Product data'!X68))","v":0},{"$f":"IF('Step 3 Product data'!Y68=0,SUM(AE57:AP57),'Step 3 Product data'!Y68)","v":" "},{"$f":"IF('Step 3 Product data'!Z68=0,SUM(AQ57:BB57),'Step 3 Product data'!Z68)","v":0},{"$f":"IF('Step 3 Product data'!AA68=0,SUM(BC57:BN57),'Step 3 Product data'!AA68)","v":0},{"$f":"IF('Step 3 Product data'!AB68=0,SUM(BO57:BZ57),'Step 3 Product data'!AB68)","v":0},{"$f":"IF('Step 3 Product data'!AC68=0,SUM(CA57:CL57),'Step 3 Product data'!AC68)","v":0},{"$f":"'Step 3 Product data'!AD68","v":0},{"$f":"'Step 3 Product data'!AE68","v":0},{"$f":"'Step 3 Product data'!AF68","v":0},{"$f":"'Step 3 Product data'!AG68","v":0},{"$f":"'Step 3 Product data'!AH68","v":0},{"$f":"'Step 3 Product data'!AI68","v":0},{"$f":"'Step 3 Product data'!AJ68","v":0},{"$f":"'Step 3 Product data'!AK68","v":0},{"$f":"'Step 3 Product data'!AL68","v":0},{"$f":"'Step 3 Product data'!AM68","v":0},{"$f":"'Step 3 Product data'!AN68","v":0},{"$f":"'Step 3 Product data'!AO68","v":0},{"$f":"'Step 3 Product data'!AP68","v":0},{"$f":"'Step 3 Product data'!AQ68","v":0},{"$f":"'Step 3 Product data'!AR68","v":0},{"$f":"'Step 3 Product data'!AS68","v":0},{"$f":"'Step 3 Product data'!AT68","v":0},{"$f":"'Step 3 Product data'!AU68","v":0},{"$f":"'Step 3 Product data'!AV68","v":0},{"$f":"'Step 3 Product data'!AW68","v":0},{"$f":"'Step 3 Product data'!AX68","v":0},{"$f":"'Step 3 Product data'!AY68","v":0},{"$f":"'Step 3 Product data'!AZ68","v":0},{"$f":"'Step 3 Product data'!BA68","v":0},{"$f":"'Step 3 Product data'!BB68","v":0},{"$f":"'Step 3 Product data'!BC68","v":0},{"$f":"'Step 3 Product data'!BD68","v":0},{"$f":"'Step 3 Product data'!BE68","v":0},{"$f":"'Step 3 Product data'!BF68","v":0},{"$f":"'Step 3 Product data'!BG68","v":0},{"$f":"'Step 3 Product data'!BH68","v":0},{"$f":"'Step 3 Product data'!BI68","v":0},{"$f":"'Step 3 Product data'!BJ68","v":0},{"$f":"'Step 3 Product data'!BK68","v":0},{"$f":"'Step 3 Product data'!BL68","v":0},{"$f":"'Step 3 Product data'!BM68","v":0},{"$f":"'Step 3 Product data'!BN68","v":0},{"$f":"'Step 3 Product data'!BO68","v":0},{"$f":"'Step 3 Product data'!BP68","v":0},{"$f":"'Step 3 Product data'!BQ68","v":0},{"$f":"'Step 3 Product data'!BR68","v":0},{"$f":"'Step 3 Product data'!BS68","v":0},{"$f":"'Step 3 Product data'!BT68","v":0},{"$f":"'Step 3 Product data'!BU68","v":0},{"$f":"'Step 3 Product data'!BV68","v":0},{"$f":"'Step 3 Product data'!BW68","v":0},{"$f":"'Step 3 Product data'!BX68","v":0},{"$f":"'Step 3 Product data'!BY68","v":0},{"$f":"'Step 3 Product data'!BZ68","v":0},{"$f":"'Step 3 Product data'!CA68","v":0},{"$f":"'Step 3 Product data'!CB68","v":0},{"$f":"'Step 3 Product data'!CC68","v":0},{"$f":"'Step 3 Product data'!CD68","v":0},{"$f":"'Step 3 Product data'!CE68","v":0},{"$f":"'Step 3 Product data'!CF68","v":0},{"$f":"'Step 3 Product data'!CG68","v":0},{"$f":"'Step 3 Product data'!CH68","v":0},{"$f":"'Step 3 Product data'!CI68","v":0},{"$f":"'Step 3 Product data'!CJ68","v":0},{"$f":"'Step 3 Product data'!CK68","v":0},null,0,0,0,0,0]
[{"$f":"'Step 3 Product data'!A69","v":49},{"$f":"'Step 3 Product data'!B69","v":0},{"$f":"'Step 3 Product data'!C69","v":0},{"$f":"'Step 3 Product data'!D69","v":0},{"$f":"'Step 3 Product data'!E69","v":"Choose one"},{"$f":"IF(E58=$A$88,1,IF(E58='Data Validation'!$B$31,0,IF(E58=$D$81,$E$81,IF(E58=$D$82,$E$82,IF(E58=$D$83,$E$83,IF(E58=$A$89,$E$84,0))))))","v":0},{"$f":"'Step 3 Product data'!F69","v":0},{"$f":"$G58*'Step 3 Product data'!G69","v":0},{"$f":"IF(I$7=TRUE,($G58*'Step 3 Product data'!H69*(1-'Emission Calculations'!$F58)),($G58*'Step 3 Product data'!H69))","v":0},{"$f":"IF(J$7=TRUE,($G58*'Step 3 Product data'!I69*(1-'Emission Calculations'!$F58)),($G58*'Step 3 Product data'!I69))","v":0},{"$f":"IF(K$7=TRUE,($G58*'Step 3 Product data'!J69*(1-'Emission Calculations'!$F58)),($G58*'Step 3 Product data'!J69))","v":0},{"$f":"IF(L$7=TRUE,($G58*'Step 3 Product data'!K69*(1-'Emission Calculations'!$F58)),($G58*'Step 3 Product data'!K69))","v":0},{"$f":"IF(M$7=TRUE,($G58*'Step 3 Product data'!L69*(1-'Emission Calculations'!$F58)),($G58*'Step 3 Product data'!L69))","v":0},{"$f":"IF(N$7=TRUE,($G58*'Step 3 Product data'!M69*(1-'Emission Calculations'!$F58)),($G58*'Step 3 Product data'!M69))","v":0},{"$f":"IF(O$7=TRUE,($G58*'Step 3 Product data'!N69*(1-'Emission Calculations'!$F58)),($G58*'Step 3 Product data'!N69))","v":0},{"$f":"IF(P$7=TRUE,($G58*'Step 3 Product data'!O69*(1-'Emission Calculations'!$F58)),($G58*'Step 3 Product data'!O69))","v":0},{"$f":"IF(Q$7=TRUE,($G58*'Step 3 Product data'!P69*(1-'Emission Calculations'!$F58)),($G58*'Step 3 Product data'!P69))","v":0},{"$f":"IF(R$7=TRUE,($G58*'Step 3 Product data'!Q69*(1-'Emission Calculations'!$F58)),($G58*'Step 3 Product data'!Q69))","v":0},{"$f":"IF(S$7=TRUE,($G58*'Step 3 Product data'!R69*(1-'Emission Calculations'!$F58)),($G58*'Step 3 Product data'!R69))","v":0},{"$f":"IF(T$7=TRUE,($G58*'Step 3 Product data'!S69*(1-'Emission Calculations'!$F58)),($G58*'Step 3 Product data'!S69))","v":0},{"$f":"IF(U$7=TRUE,($G58*'Step 3 Product data'!T69*(1-'Emission Calculations'!$F58)),($G58*'Step 3 Product data'!T69))","v":0},{"$f":"IF(V$7=TRUE,($G58*'Step 3 Product data'!U69*(1-'Emission Calculations'!$F58)),($G58*'Step 3 Product data'!U69))","v":0},{"$f":"IF(W$7=TRUE,($G58*'Step 3 Product data'!V69*(1-'Emission Calculations'!$F58)),($G58*'Step 3 Product data'!V69))","v":0},{"$f":"IF(X$7=TRUE,($G58*'Step 3 Product data'!W69*(1-'Emission Calculations'!$F58)),($G58*'Step 3 Product data'!W69))","v":0},{"$f":"IF(Y$7=TRUE,($G58*'Step 3 Product data'!X69*(1-'Emission Calculations'!$F58)),($G58*'Step 3 Product data'!X69))","v":0},{"$f":"IF('Step 3 Product data'!Y69=0,SUM(AE58:AP58),'Step 3 Product data'!Y69)","v":" "},{"$f":"IF('Step 3 Product data'!Z69=0,SUM(AQ58:BB58),'Step 3 Product data'!Z69)","v":0},{"$f":"IF('Step 3 Product data'!AA69=0,SUM(BC58:BN58),'Step 3 Product data'!AA69)","v":0},{"$f":"IF('Step 3 Product data'!AB69=0,SUM(BO58:BZ58),'Step 3 Product data'!AB69)","v":0},{"$f":"IF('Step 3 Product data'!AC69=0,SUM(CA58:CL58),'Step 3 Product data'!AC69)","v":0},{"$f":"'Step 3 Product data'!AD69","v":0},{"$f":"'Step 3 Product data'!AE69","v":0},{"$f":"'Step 3 Product data'!AF69","v":0},{"$f":"'Step 3 Product data'!AG69","v":0},{"$f":"'Step 3 Product data'!AH69","v":0},{"$f":"'Step 3 Product data'!AI69","v":0},{"$f":"'Step 3 Product data'!AJ69","v":0},{"$f":"'Step 3 Product data'!AK69","v":0},{"$f":"'Step 3 Product data'!AL69","v":0},{"$f":"'Step 3 Product data'!AM69","v":0},{"$f":"'Step 3 Product data'!AN69","v":0},{"$f":"'Step 3 Product data'!AO69","v":0},{"$f":"'Step 3 Product data'!AP69","v":0},{"$f":"'Step 3 Product data'!AQ69","v":0},{"$f":"'Step 3 Product data'!AR69","v":0},{"$f":"'Step 3 Product data'!AS69","v":0},{"$f":"'Step 3 Product data'!AT69","v":0},{"$f":"'Step 3 Product data'!AU69","v":0},{"$f":"'Step 3 Product data'!AV69","v":0},{"$f":"'Step 3 Product data'!AW69","v":0},{"$f":"'Step 3 Product data'!AX69","v":0},{"$f":"'Step 3 Product data'!AY69","v":0},{"$f":"'Step 3 Product data'!AZ69","v":0},{"$f":"'Step 3 Product data'!BA69","v":0},{"$f":"'Step 3 Product data'!BB69","v":0},{"$f":"'Step 3 Product data'!BC69","v":0},{"$f":"'Step 3 Product data'!BD69","v":0},{"$f":"'Step 3 Product data'!BE69","v":0},{"$f":"'Step 3 Product data'!BF69","v":0},{"$f":"'Step 3 Product data'!BG69","v":0},{"$f":"'Step 3 Product data'!BH69","v":0},{"$f":"'Step 3 Product data'!BI69","v":0},{"$f":"'Step 3 Product data'!BJ69","v":0},{"$f":"'Step 3 Product data'!BK69","v":0},{"$f":"'Step 3 Product data'!BL69","v":0},{"$f":"'Step 3 Product data'!BM69","v":0},{"$f":"'Step 3 Product data'!BN69","v":0},{"$f":"'Step 3 Product data'!BO69","v":0},{"$f":"'Step 3 Product data'!BP69","v":0},{"$f":"'Step 3 Product data'!BQ69","v":0},{"$f":"'Step 3 Product data'!BR69","v":0},{"$f":"'Step 3 Product data'!BS69","v":0},{"$f":"'Step 3 Product data'!BT69","v":0},{"$f":"'Step 3 Product data'!BU69","v":0},{"$f":"'Step 3 Product data'!BV69","v":0},{"$f":"'Step 3 Product data'!BW69","v":0},{"$f":"'Step 3 Product data'!BX69","v":0},{"$f":"'Step 3 Product data'!BY69","v":0},{"$f":"'Step 3 Product data'!BZ69","v":0},{"$f":"'Step 3 Product data'!CA69","v":0},{"$f":"'Step 3 Product data'!CB69","v":0},{"$f":"'Step 3 Product data'!CC69","v":0},{"$f":"'Step 3 Product data'!CD69","v":0},{"$f":"'Step 3 Product data'!CE69","v":0},{"$f":"'Step 3 Product data'!CF69","v":0},{"$f":"'Step 3 Product data'!CG69","v":0},{"$f":"'Step 3 Product data'!CH69","v":0},{"$f":"'Step 3 Product data'!CI69","v":0},{"$f":"'Step 3 Product data'!CJ69","v":0},{"$f":"'Step 3 Product data'!CK69","v":0},null,0,0,0,0,0]
[{"$f":"'Step 3 Product data'!A70","v":50},{"$f":"'Step 3 Product data'!B70","v":0},{"$f":"'Step 3 Product data'!C70","v":0},{"$f":"'Step 3 Product data'!D70","v":0},{"$f":"'Step 3 Product data'!E70","v":"Choose one"},{"$f":"IF(E59=$A$88,1,IF(E59='Data Validation'!$B$31,0,IF(E59=$D$81,$E$81,IF(E59=$D$82,$E$82,IF(E59=$D$83,$E$83,IF(E59=$A$89,$E$84,0))))))","v":0},{"$f":"'Step 3 Product data'!F70","v":0},{"$f":"$G59*'Step 3 Product data'!G70","v":0},{"$f":"IF(I$7=TRUE,($G59*'Step 3 Product data'!H70*(1-'Emission Calculations'!$F59)),($G59*'Step 3 Product data'!H70))","v":0},{"$f":"IF(J$7=TRUE,($G59*'Step 3 Product data'!I70*(1-'Emission Calculations'!$F59)),($G59*'Step 3 Product data'!I70))","v":0},{"$f":"IF(K$7=TRUE,($G59*'Step 3 Product data'!J70*(1-'Emission Calculations'!$F59)),($G59*'Step 3 Product data'!J70))","v":0},{"$f":"IF(L$7=TRUE,($G59*'Step 3 Product data'!K70*(1-'Emission Calculations'!$F59)),($G59*'Step 3 Product data'!K70))","v":0},{"$f":"IF(M$7=TRUE,($G59*'Step 3 Product data'!L70*(1-'Emission Calculations'!$F59)),($G59*'Step 3 Product data'!L70))","v":0},{"$f":"IF(N$7=TRUE,($G59*'Step 3 Product data'!M70*(1-'Emission Calculations'!$F59)),($G59*'Step 3 Product data'!M70))","v":0},{"$f":"IF(O$7=TRUE,($G59*'Step 3 Product data'!N70*(1-'Emission Calculations'!$F59)),($G59*'Step 3 Product data'!N70))","v":0},{"$f":"IF(P$7=TRUE,($G59*'Step 3 Product data'!O70*(1-'Emission Calculations'!$F59)),($G59*'Step 3 Product data'!O70))","v":0},{"$f":"IF(Q$7=TRUE,($G59*'Step 3 Product data'!P70*(1-'Emission Calculations'!$F59)),($G59*'Step 3 Product data'!P70))","v":0},{"$f":"IF(R$7=TRUE,($G59*'Step 3 Product data'!Q70*(1-'Emission Calculations'!$F59)),($G59*'Step 3 Product data'!Q70))","v":0},{"$f":"IF(S$7=TRUE,($G59*'Step 3 Product data'!R70*(1-'Emission Calculations'!$F59)),($G59*'Step 3 Product data'!R70))","v":0},{"$f":"IF(T$7=TRUE,($G59*'Step 3 Product data'!S70*(1-'Emission Calculations'!$F59)),($G59*'Step 3 Product data'!S70))","v":0},{"$f":"IF(U$7=TRUE,($G59*'Step 3 Product data'!T70*(1-'Emission Calculations'!$F59)),($G59*'Step 3 Product data'!T70))","v":0},{"$f":"IF(V$7=TRUE,($G59*'Step 3 Product data'!U70*(1-'Emission Calculations'!$F59)),($G59*'Step 3 Product data'!U70))","v":0},{"$f":"IF(W$7=TRUE,($G59*'Step 3 Product data'!V70*(1-'Emission Calculations'!$F59)),($G59*'Step 3 Product data'!V70))","v":0},{"$f":"IF(X$7=TRUE,($G59*'Step 3 Product data'!W70*(1-'Emission Calculations'!$F59)),($G59*'Step 3 Product data'!W70))","v":0},{"$f":"IF(Y$7=TRUE,($G59*'Step 3 Product data'!X70*(1-'Emission Calculations'!$F59)),($G59*'Step 3 Product data'!X70))","v":0},{"$f":"IF('Step 3 Product data'!Y70=0,SUM(AE59:AP59),'Step 3 Product data'!Y70)","v":" "},{"$f":"IF('Step 3 Product data'!Z70=0,SUM(AQ59:BB59),'Step 3 Product data'!Z70)","v":0},{"$f":"IF('Step 3 Product data'!AA70=0,SUM(BC59:BN59),'Step 3 Product data'!AA70)","v":0},{"$f":"IF('Step 3 Product data'!AB70=0,SUM(BO59:BZ59),'Step 3 Product data'!AB70)","v":0},{"$f":"IF('Step 3 Product data'!AC70=0,SUM(CA59:CL59),'Step 3 Product data'!AC70)","v":0},{"$f":"'Step 3 Product data'!AD70","v":0},{"$f":"'Step 3 Product data'!AE70","v":0},{"$f":"'Step 3 Product data'!AF70","v":0},{"$f":"'Step 3 Product data'!AG70","v":0},{"$f":"'Step 3 Product data'!AH70","v":0},{"$f":"'Step 3 Product data'!AI70","v":0},{"$f":"'Step 3 Product data'!AJ70","v":0},{"$f":"'Step 3 Product data'!AK70","v":0},{"$f":"'Step 3 Product data'!AL70","v":0},{"$f":"'Step 3 Product data'!AM70","v":0},{"$f":"'Step 3 Product data'!AN70","v":0},{"$f":"'Step 3 Product data'!AO70","v":0},{"$f":"'Step 3 Product data'!AP70","v":0},{"$f":"'Step 3 Product data'!AQ70","v":0},{"$f":"'Step 3 Product data'!AR70","v":0},{"$f":"'Step 3 Product data'!AS70","v":0},{"$f":"'Step 3 Product data'!AT70","v":0},{"$f":"'Step 3 Product data'!AU70","v":0},{"$f":"'Step 3 Product data'!AV70","v":0},{"$f":"'Step 3 Product data'!AW70","v":0},{"$f":"'Step 3 Product data'!AX70","v":0},{"$f":"'Step 3 Product data'!AY70","v":0},{"$f":"'Step 3 Product data'!AZ70","v":0},{"$f":"'Step 3 Product data'!BA70","v":0},{"$f":"'Step 3 Product data'!BB70","v":0},{"$f":"'Step 3 Product data'!BC70","v":0},{"$f":"'Step 3 Product data'!BD70","v":0},{"$f":"'Step 3 Product data'!BE70","v":0},{"$f":"'Step 3 Product data'!BF70","v":0},{"$f":"'Step 3 Product data'!BG70","v":0},{"$f":"'Step 3 Product data'!BH70","v":0},{"$f":"'Step 3 Product data'!BI70","v":0},{"$f":"'Step 3 Product data'!BJ70","v":0},{"$f":"'Step 3 Product data'!BK70","v":0},{"$f":"'Step 3 Product data'!BL70","v":0},{"$f":"'Step 3 Product data'!BM70","v":0},{"$f":"'Step 3 Product data'!BN70","v":0},{"$f":"'Step 3 Product data'!BO70","v":0},{"$f":"'Step 3 Product data'!BP70","v":0},{"$f":"'Step 3 Product data'!BQ70","v":0},{"$f":"'Step 3 Product data'!BR70","v":0},{"$f":"'Step 3 Product data'!BS70","v":0},{"$f":"'Step 3 Product data'!BT70","v":0},{"$f":"'Step 3 Product data'!BU70","v":0},{"$f":"'Step 3 Product data'!BV70","v":0},{"$f":"'Step 3 Product data'!BW70","v":0},{"$f":"'Step 3 Product data'!BX70","v":0},{"$f":"'Step 3 Product data'!BY70","v":0},{"$f":"'Step 3 Product data'!BZ70","v":0},{"$f":"'Step 3 Product data'!CA70","v":0},{"$f":"'Step 3 Product data'!CB70","v":0},{"$f":"'Step 3 Product data'!CC70","v":0},{"$f":"'Step 3 Product data'!CD70","v":0},{"$f":"'Step 3 Product data'!CE70","v":0},{"$f":"'Step 3 Product data'!CF70","v":0},{"$f":"'Step 3 Product data'!CG70","v":0},{"$f":"'Step 3 Product data'!CH70","v":0},{"$f":"'Step 3 Product data'!CI70","v":0},{"$f":"'Step 3 Product data'!CJ70","v":0},{"$f":"'Step 3 Product data'!CK70","v":0},null,0,0,0,0,0]
[{"$f":"'Step 3 Product data'!A71","v":51},{"$f":"'Step 3 Product data'!B71","v":0},{"$f":"'Step 3 Product data'!C71","v":0},{"$f":"'Step 3 Product data'!D71","v":0},{"$f":"'Step 3 Product data'!E71","v":"Choose one"},{"$f":"IF(E60=$A$88,1,IF(E60='Data Validation'!$B$31,0,IF(E60=$D$81,$E$81,IF(E60=$D$82,$E$82,IF(E60=$D$83,$E$83,IF(E60=$A$89,$E$84,0))))))","v":0},{"$f":"'Step 3 Product data'!F71","v":0},{"$f":"$G60*'Step 3 Product data'!G71","v":0},{"$f":"IF(I$7=TRUE,($G60*'Step 3 Product data'!H71*(1-'Emission Calculations'!$F60)),($G60*'Step 3 Product data'!H71))","v":0},{"$f":"IF(J$7=TRUE,($G60*'Step 3 Product data'!I71*(1-'Emission Calculations'!$F60)),($G60*'Step 3 Product data'!I71))","v":0},{"$f":"IF(K$7=TRUE,($G60*'Step 3 Product data'!J71*(1-'Emission Calculations'!$F60)),($G60*'Step 3 Product data'!J71))","v":0},{"$f":"IF(L$7=TRUE,($G60*'Step 3 Product data'!K71*(1-'Emission Calculations'!$F60)),($G60*'Step 3 Product data'!K71))","v":0},{"$f":"IF(M$7=TRUE,($G60*'Step 3 Product data'!L71*(1-'Emission Calculations'!$F60)),($G60*'Step 3 Product data'!L71))","v":0},{"$f":"IF(N$7=TRUE,($G60*'Step 3 Product data'!M71*(1-'Emission Calculations'!$F60)),($G60*'Step 3 Product data'!M71))","v":0},{"$f":"IF(O$7=TRUE,($G60*'Step 3 Product data'!N71*(1-'Emission Calculations'!$F60)),($G60*'Step 3 Product data'!N71))","v":0},{"$f":"IF(P$7=TRUE,($G60*'Step 3 Product data'!O71*(1-'Emission Calculations'!$F60)),($G60*'Step 3 Product data'!O71))","v":0},{"$f":"IF(Q$7=TRUE,($G60*'Step 3 Product data'!P71*(1-'Emission Calculations'!$F60)),($G60*'Step 3 Product data'!P71))","v":0},{"$f":"IF(R$7=TRUE,($G60*'Step 3 Product data'!Q71*(1-'Emission Calculations'!$F60)),($G60*'Step 3 Product data'!Q71))","v":0},{"$f":"IF(S$7=TRUE,($G60*'Step 3 Product data'!R71*(1-'Emission Calculations'!$F60)),($G60*'Step 3 Product data'!R71))","v":0},{"$f":"IF(T$7=TRUE,($G60*'Step 3 Product data'!S71*(1-'Emission Calculations'!$F60)),($G60*'Step 3 Product data'!S71))","v":0},{"$f":"IF(U$7=TRUE,($G60*'Step 3 Product data'!T71*(1-'Emission Calculations'!$F60)),($G60*'Step 3 Product data'!T71))","v":0},{"$f":"IF(V$7=TRUE,($G60*'Step 3 Product data'!U71*(1-'Emission Calculations'!$F60)),($G60*'Step 3 Product data'!U71))","v":0},{"$f":"IF(W$7=TRUE,($G60*'Step 3 Product data'!V71*(1-'Emission Calculations'!$F60)),($G60*'Step 3 Product data'!V71))","v":0},{"$f":"IF(X$7=TRUE,($G60*'Step 3 Product data'!W71*(1-'Emission Calculations'!$F60)),($G60*'Step 3 Product data'!W71))","v":0},{"$f":"IF(Y$7=TRUE,($G60*'Step 3 Product data'!X71*(1-'Emission Calculations'!$F60)),($G60*'Step 3 Product data'!X71))","v":0},{"$f":"IF('Step 3 Product data'!Y71=0,SUM(AE60:AP60),'Step 3 Product data'!Y71)","v":" "},{"$f":"IF('Step 3 Product data'!Z71=0,SUM(AQ60:BB60),'Step 3 Product data'!Z71)","v":0},{"$f":"IF('Step 3 Product data'!AA71=0,SUM(BC60:BN60),'Step 3 Product data'!AA71)","v":0},{"$f":"IF('Step 3 Product data'!AB71=0,SUM(BO60:BZ60),'Step 3 Product data'!AB71)","v":0},{"$f":"IF('Step 3 Product data'!AC71=0,SUM(CA60:CL60),'Step 3 Product data'!AC71)","v":0},{"$f":"'Step 3 Product data'!AD71","v":0},{"$f":"'Step 3 Product data'!AE71","v":0},{"$f":"'Step 3 Product data'!AF71","v":0},{"$f":"'Step 3 Product data'!AG71","v":0},{"$f":"'Step 3 Product data'!AH71","v":0},{"$f":"'Step 3 Product data'!AI71","v":0},{"$f":"'Step 3 Product data'!AJ71","v":0},{"$f":"'Step 3 Product data'!AK71","v":0},{"$f":"'Step 3 Product data'!AL71","v":0},{"$f":"'Step 3 Product data'!AM71","v":0},{"$f":"'Step 3 Product data'!AN71","v":0},{"$f":"'Step 3 Product data'!AO71","v":0},{"$f":"'Step 3 Product data'!AP71","v":0},{"$f":"'Step 3 Product data'!AQ71","v":0},{"$f":"'Step 3 Product data'!AR71","v":0},{"$f":"'Step 3 Product data'!AS71","v":0},{"$f":"'Step 3 Product data'!AT71","v":0},{"$f":"'Step 3 Product data'!AU71","v":0},{"$f":"'Step 3 Product data'!AV71","v":0},{"$f":"'Step 3 Product data'!AW71","v":0},{"$f":"'Step 3 Product data'!AX71","v":0},{"$f":"'Step 3 Product data'!AY71","v":0},{"$f":"'Step 3 Product data'!AZ71","v":0},{"$f":"'Step 3 Product data'!BA71","v":0},{"$f":"'Step 3 Product data'!BB71","v":0},{"$f":"'Step 3 Product data'!BC71","v":0},{"$f":"'Step 3 Product data'!BD71","v":0},{"$f":"'Step 3 Product data'!BE71","v":0},{"$f":"'Step 3 Product data'!BF71","v":0},{"$f":"'Step 3 Product data'!BG71","v":0},{"$f":"'Step 3 Product data'!BH71","v":0},{"$f":"'Step 3 Product data'!BI71","v":0},{"$f":"'Step 3 Product data'!BJ71","v":0},{"$f":"'Step 3 Product data'!BK71","v":0},{"$f":"'Step 3 Product data'!BL71","v":0},{"$f":"'Step 3 Product data'!BM71","v":0},{"$f":"'Step 3 Product data'!BN71","v":0},{"$f":"'Step 3 Product data'!BO71","v":0},{"$f":"'Step 3 Product data'!BP71","v":0},{"$f":"'Step 3 Product data'!BQ71","v":0},{"$f":"'Step 3 Product data'!BR71","v":0},{"$f":"'Step 3 Product data'!BS71","v":0},{"$f":"'Step 3 Product data'!BT71","v":0},{"$f":"'Step 3 Product data'!BU71","v":0},{"$f":"'Step 3 Product data'!BV71","v":0},{"$f":"'Step 3 Product data'!BW71","v":0},{"$f":"'Step 3 Product data'!BX71","v":0},{"$f":"'Step 3 Product data'!BY71","v":0},{"$f":"'Step 3 Product data'!BZ71","v":0},{"$f":"'Step 3 Product data'!CA71","v":0},{"$f":"'Step 3 Product data'!CB71","v":0},{"$f":"'Step 3 Product data'!CC71","v":0},{"$f":"'Step 3 Product data'!CD71","v":0},{"$f":"'Step 3 Product data'!CE71","v":0},{"$f":"'Step 3 Product data'!CF71","v":0},{"$f":"'Step 3 Product data'!CG71","v":0},{"$f":"'Step 3 Product data'!CH71","v":0},{"$f":"'Step 3 Product data'!CI71","v":0},{"$f":"'Step 3 Product data'!CJ71","v":0},{"$f":"'Step 3 Product data'!CK71","v":0},null,0,0,0,0,0]
[{"$f":"'Step 3 Product data'!A72","v":52},{"$f":"'Step 3 Product data'!B72","v":0},{"$f":"'Step 3 Product data'!C72","v":0},{"$f":"'Step 3 Product data'!D72","v":0},{"$f":"'Step 3 Product data'!E72","v":"Choose one"},{"$f":"IF(E61=$A$88,1,IF(E61='Data Validation'!$B$31,0,IF(E61=$D$81,$E$81,IF(E61=$D$82,$E$82,IF(E61=$D$83,$E$83,IF(E61=$A$89,$E$84,0))))))","v":0},{"$f":"'Step 3 Product data'!F72","v":0},{"$f":"$G61*'Step 3 Product data'!G72","v":0},{"$f":"IF(I$7=TRUE,($G61*'Step 3 Product data'!H72*(1-'Emission Calculations'!$F61)),($G61*'Step 3 Product data'!H72))","v":0},{"$f":"IF(J$7=TRUE,($G61*'Step 3 Product data'!I72*(1-'Emission Calculations'!$F61)),($G61*'Step 3 Product data'!I72))","v":0},{"$f":"IF(K$7=TRUE,($G61*'Step 3 Product data'!J72*(1-'Emission Calculations'!$F61)),($G61*'Step 3 Product data'!J72))","v":0},{"$f":"IF(L$7=TRUE,($G61*'Step 3 Product data'!K72*(1-'Emission Calculations'!$F61)),($G61*'Step 3 Product data'!K72))","v":0},{"$f":"IF(M$7=TRUE,($G61*'Step 3 Product data'!L72*(1-'Emission Calculations'!$F61)),($G61*'Step 3 Product data'!L72))","v":0},{"$f":"IF(N$7=TRUE,($G61*'Step 3 Product data'!M72*(1-'Emission Calculations'!$F61)),($G61*'Step 3 Product data'!M72))","v":0},{"$f":"IF(O$7=TRUE,($G61*'Step 3 Product data'!N72*(1-'Emission Calculations'!$F61)),($G61*'Step 3 Product data'!N72))","v":0},{"$f":"IF(P$7=TRUE,($G61*'Step 3 Product data'!O72*(1-'Emission Calculations'!$F61)),($G61*'Step 3 Product data'!O72))","v":0},{"$f":"IF(Q$7=TRUE,($G61*'Step 3 Product data'!P72*(1-'Emission Calculations'!$F61)),($G61*'Step 3 Product data'!P72))","v":0},{"$f":"IF(R$7=TRUE,($G61*'Step 3 Product data'!Q72*(1-'Emission Calculations'!$F61)),($G61*'Step 3 Product data'!Q72))","v":0},{"$f":"IF(S$7=TRUE,($G61*'Step 3 Product data'!R72*(1-'Emission Calculations'!$F61)),($G61*'Step 3 Product data'!R72))","v":0},{"$f":"IF(T$7=TRUE,($G61*'Step 3 Product data'!S72*(1-'Emission Calculations'!$F61)),($G61*'Step 3 Product data'!S72))","v":0},{"$f":"IF(U$7=TRUE,($G61*'Step 3 Product data'!T72*(1-'Emission Calculations'!$F61)),($G61*'Step 3 Product data'!T72))","v":0},{"$f":"IF(V$7=TRUE,($G61*'Step 3 Product data'!U72*(1-'Emission Calculations'!$F61)),($G61*'Step 3 Product data'!U72))","v":0},{"$f":"IF(W$7=TRUE,($G61*'Step 3 Product data'!V72*(1-'Emission Calculations'!$F61)),($G61*'Step 3 Product data'!V72))","v":0},{"$f":"IF(X$7=TRUE,($G61*'Step 3 Product data'!W72*(1-'Emission Calculations'!$F61)),($G61*'Step 3 Product data'!W72))","v":0},{"$f":"IF(Y$7=TRUE,($G61*'Step 3 Product data'!X72*(1-'Emission Calculations'!$F61)),($G61*'Step 3 Product data'!X72))","v":0},{"$f":"IF('Step 3 Product data'!Y72=0,SUM(AE61:AP61),'Step 3 Product data'!Y72)","v":" "},{"$f":"IF('Step 3 Product data'!Z72=0,SUM(AQ61:BB61),'Step 3 Product data'!Z72)","v":0},{"$f":"IF('Step 3 Product data'!AA72=0,SUM(BC61:BN61),'Step 3 Product data'!AA72)","v":0},{"$f":"IF('Step 3 Product data'!AB72=0,SUM(BO61:BZ61),'Step 3 Product data'!AB72)","v":0},{"$f":"IF('Step 3 Product data'!AC72=0,SUM(CA61:CL61),'Step 3 Product data'!AC72)","v":0},{"$f":"'Step 3 Product data'!AD72","v":0},{"$f":"'Step 3 Product data'!AE72","v":0},{"$f":"'Step 3 Product data'!AF72","v":0},{"$f":"'Step 3 Product data'!AG72","v":0},{"$f":"'Step 3 Product data'!AH72","v":0},{"$f":"'Step 3 Product data'!AI72","v":0},{"$f":"'Step 3 Product data'!AJ72","v":0},{"$f":"'Step 3 Product data'!AK72","v":0},{"$f":"'Step 3 Product data'!AL72","v":0},{"$f":"'Step 3 Product data'!AM72","v":0},{"$f":"'Step 3 Product data'!AN72","v":0},{"$f":"'Step 3 Product data'!AO72","v":0},{"$f":"'Step 3 Product data'!AP72","v":0},{"$f":"'Step 3 Product data'!AQ72","v":0},{"$f":"'Step 3 Product data'!AR72","v":0},{"$f":"'Step 3 Product data'!AS72","v":0},{"$f":"'Step 3 Product data'!AT72","v":0},{"$f":"'Step 3 Product data'!AU72","v":0},{"$f":"'Step 3 Product data'!AV72","v":0},{"$f":"'Step 3 Product data'!AW72","v":0},{"$f":"'Step 3 Product data'!AX72","v":0},{"$f":"'Step 3 Product data'!AY72","v":0},{"$f":"'Step 3 Product data'!AZ72","v":0},{"$f":"'Step 3 Product data'!BA72","v":0},{"$f":"'Step 3 Product data'!BB72","v":0},{"$f":"'Step 3 Product data'!BC72","v":0},{"$f":"'Step 3 Product data'!BD72","v":0},{"$f":"'Step 3 Product data'!BE72","v":0},{"$f":"'Step 3 Product data'!BF72","v":0},{"$f":"'Step 3 Product data'!BG72","v":0},{"$f":"'Step 3 Product data'!BH72","v":0},{"$f":"'Step 3 Product data'!BI72","v":0},{"$f":"'Step 3 Product data'!BJ72","v":0},{"$f":"'Step 3 Product data'!BK72","v":0},{"$f":"'Step 3 Product data'!BL72","v":0},{"$f":"'Step 3 Product data'!BM72","v":0},{"$f":"'Step 3 Product data'!BN72","v":0},{"$f":"'Step 3 Product data'!BO72","v":0},{"$f":"'Step 3 Product data'!BP72","v":0},{"$f":"'Step 3 Product data'!BQ72","v":0},{"$f":"'Step 3 Product data'!BR72","v":0},{"$f":"'Step 3 Product data'!BS72","v":0},{"$f":"'Step 3 Product data'!BT72","v":0},{"$f":"'Step 3 Product data'!BU72","v":0},{"$f":"'Step 3 Product data'!BV72","v":0},{"$f":"'Step 3 Product data'!BW72","v":0},{"$f":"'Step 3 Product data'!BX72","v":0},{"$f":"'Step 3 Product data'!BY72","v":0},{"$f":"'Step 3 Product data'!BZ72","v":0},{"$f":"'Step 3 Product data'!CA72","v":0},{"$f":"'Step 3 Product data'!CB72","v":0},{"$f":"'Step 3 Product data'!CC72","v":0},{"$f":"'Step 3 Product data'!CD72","v":0},{"$f":"'Step 3 Product data'!CE72","v":0},{"$f":"'Step 3 Product data'!CF72","v":0},{"$f":"'Step 3 Product data'!CG72","v":0},{"$f":"'Step 3 Product data'!CH72","v":0},{"$f":"'Step 3 Product data'!CI72","v":0},{"$f":"'Step 3 Product data'!CJ72","v":0},{"$f":"'Step 3 Product data'!CK72","v":0},null,0,0,0,0,0]
[{"$f":"'Step 3 Product data'!A73","v":53},{"$f":"'Step 3 Product data'!B73","v":0},{"$f":"'Step 3 Product data'!C73","v":0},{"$f":"'Step 3 Product data'!D73","v":0},{"$f":"'Step 3 Product data'!E73","v":"Choose one"},{"$f":"IF(E62=$A$88,1,IF(E62='Data Validation'!$B$31,0,IF(E62=$D$81,$E$81,IF(E62=$D$82,$E$82,IF(E62=$D$83,$E$83,IF(E62=$A$89,$E$84,0))))))","v":0},{"$f":"'Step 3 Product data'!F73","v":0},{"$f":"$G62*'Step 3 Product data'!G73","v":0},{"$f":"IF(I$7=TRUE,($G62*'Step 3 Product data'!H73*(1-'Emission Calculations'!$F62)),($G62*'Step 3 Product data'!H73))","v":0},{"$f":"IF(J$7=TRUE,($G62*'Step 3 Product data'!I73*(1-'Emission Calculations'!$F62)),($G62*'Step 3 Product data'!I73))","v":0},{"$f":"IF(K$7=TRUE,($G62*'Step 3 Product data'!J73*(1-'Emission Calculations'!$F62)),($G62*'Step 3 Product data'!J73))","v":0},{"$f":"IF(L$7=TRUE,($G62*'Step 3 Product data'!K73*(1-'Emission Calculations'!$F62)),($G62*'Step 3 Product data'!K73))","v":0},{"$f":"IF(M$7=TRUE,($G62*'Step 3 Product data'!L73*(1-'Emission Calculations'!$F62)),($G62*'Step 3 Product data'!L73))","v":0},{"$f":"IF(N$7=TRUE,($G62*'Step 3 Product data'!M73*(1-'Emission Calculations'!$F62)),($G62*'Step 3 Product data'!M73))","v":0},{"$f":"IF(O$7=TRUE,($G62*'Step 3 Product data'!N73*(1-'Emission Calculations'!$F62)),($G62*'Step 3 Product data'!N73))","v":0},{"$f":"IF(P$7=TRUE,($G62*'Step 3 Product data'!O73*(1-'Emission Calculations'!$F62)),($G62*'Step 3 Product data'!O73))","v":0},{"$f":"IF(Q$7=TRUE,($G62*'Step 3 Product data'!P73*(1-'Emission Calculations'!$F62)),($G62*'Step 3 Product data'!P73))","v":0},{"$f":"IF(R$7=TRUE,($G62*'Step 3 Product data'!Q73*(1-'Emission Calculations'!$F62)),($G62*'Step 3 Product data'!Q73))","v":0},{"$f":"IF(S$7=TRUE,($G62*'Step 3 Product data'!R73*(1-'Emission Calculations'!$F62)),($G62*'Step 3 Product data'!R73))","v":0},{"$f":"IF(T$7=TRUE,($G62*'Step 3 Product data'!S73*(1-'Emission Calculations'!$F62)),($G62*'Step 3 Product data'!S73))","v":0},{"$f":"IF(U$7=TRUE,($G62*'Step 3 Product data'!T73*(1-'Emission Calculations'!$F62)),($G62*'Step 3 Product data'!T73))","v":0},{"$f":"IF(V$7=TRUE,($G62*'Step 3 Product data'!U73*(1-'Emission Calculations'!$F62)),($G62*'Step 3 Product data'!U73))","v":0},{"$f":"IF(W$7=TRUE,($G62*'Step 3 Product data'!V73*(1-'Emission Calculations'!$F62)),($G62*'Step 3 Product data'!V73))","v":0},{"$f":"IF(X$7=TRUE,($G62*'Step 3 Product data'!W73*(1-'Emission Calculations'!$F62)),($G62*'Step 3 Product data'!W73))","v":0},{"$f":"IF(Y$7=TRUE,($G62*'Step 3 Product data'!X73*(1-'Emission Calculations'!$F62)),($G62*'Step 3 Product data'!X73))","v":0},{"$f":"IF('Step 3 Product data'!Y73=0,SUM(AE62:AP62),'Step 3 Product data'!Y73)","v":" "},{"$f":"IF('Step 3 Product data'!Z73=0,SUM(AQ62:BB62),'Step 3 Product data'!Z73)","v":0},{"$f":"IF('Step 3 Product data'!AA73=0,SUM(BC62:BN62),'Step 3 Product data'!AA73)","v":0},{"$f":"IF('Step 3 Product data'!AB73=0,SUM(BO62:BZ62),'Step 3 Product data'!AB73)","v":0},{"$f":"IF('Step 3 Product data'!AC73=0,SUM(CA62:CL62),'Step 3 Product data'!AC73)","v":0},{"$f":"'Step 3 Product data'!AD73","v":0},{"$f":"'Step 3 Product data'!AE73","v":0},{"$f":"'Step 3 Product data'!AF73","v":0},{"$f":"'Step 3 Product data'!AG73","v":0},{"$f":"'Step 3 Product data'!AH73","v":0},{"$f":"'Step 3 Product data'!AI73","v":0},{"$f":"'Step 3 Product data'!AJ73","v":0},{"$f":"'Step 3 Product data'!AK73","v":0},{"$f":"'Step 3 Product data'!AL73","v":0},{"$f":"'Step 3 Product data'!AM73","v":0},{"$f":"'Step 3 Product data'!AN73","v":0},{"$f":"'Step 3 Product data'!AO73","v":0},{"$f":"'Step 3 Product data'!AP73","v":0},{"$f":"'Step 3 Product data'!AQ73","v":0},{"$f":"'Step 3 Product data'!AR73","v":0},{"$f":"'Step 3 Product data'!AS73","v":0},{"$f":"'Step 3 Product data'!AT73","v":0},{"$f":"'Step 3 Product data'!AU73","v":0},{"$f":"'Step 3 Product data'!AV73","v":0},{"$f":"'Step 3 Product data'!AW73","v":0},{"$f":"'Step 3 Product data'!AX73","v":0},{"$f":"'Step 3 Product data'!AY73","v":0},{"$f":"'Step 3 Product data'!AZ73","v":0},{"$f":"'Step 3 Product data'!BA73","v":0},{"$f":"'Step 3 Product data'!BB73","v":0},{"$f":"'Step 3 Product data'!BC73","v":0},{"$f":"'Step 3 Product data'!BD73","v":0},{"$f":"'Step 3 Product data'!BE73","v":0},{"$f":"'Step 3 Product data'!BF73","v":0},{"$f":"'Step 3 Product data'!BG73","v":0},{"$f":"'Step 3 Product data'!BH73","v":0},{"$f":"'Step 3 Product data'!BI73","v":0},{"$f":"'Step 3 Product data'!BJ73","v":0},{"$f":"'Step 3 Product data'!BK73","v":0},{"$f":"'Step 3 Product data'!BL73","v":0},{"$f":"'Step 3 Product data'!BM73","v":0},{"$f":"'Step 3 Product data'!BN73","v":0},{"$f":"'Step 3 Product data'!BO73","v":0},{"$f":"'Step 3 Product data'!BP73","v":0},{"$f":"'Step 3 Product data'!BQ73","v":0},{"$f":"'Step 3 Product data'!BR73","v":0},{"$f":"'Step 3 Product data'!BS73","v":0},{"$f":"'Step 3 Product data'!BT73","v":0},{"$f":"'Step 3 Product data'!BU73","v":0},{"$f":"'Step 3 Product data'!BV73","v":0},{"$f":"'Step 3 Product data'!BW73","v":0},{"$f":"'Step 3 Product data'!BX73","v":0},{"$f":"'Step 3 Product data'!BY73","v":0},{"$f":"'Step 3 Product data'!BZ73","v":0},{"$f":"'Step 3 Product data'!CA73","v":0},{"$f":"'Step 3 Product data'!CB73","v":0},{"$f":"'Step 3 Product data'!CC73","v":0},{"$f":"'Step 3 Product data'!CD73","v":0},{"$f":"'Step 3 Product data'!CE73","v":0},{"$f":"'Step 3 Product data'!CF73","v":0},{"$f":"'Step 3 Product data'!CG73","v":0},{"$f":"'Step 3 Product data'!CH73","v":0},{"$f":"'Step 3 Product data'!CI73","v":0},{"$f":"'Step 3 Product data'!CJ73","v":0},{"$f":"'Step 3 Product data'!CK73","v":0},null,0,0,0,0,0]
[{"$f":"'Step 3 Product data'!A74","v":54},{"$f":"'Step 3 Product data'!B74","v":0},{"$f":"'Step 3 Product data'!C74","v":0},{"$f":"'Step 3 Product data'!D74","v":0},{"$f":"'Step 3 Product data'!E74","v":"Choose one"},{"$f":"IF(E63=$A$88,1,IF(E63='Data Validation'!$B$31,0,IF(E63=$D$81,$E$81,IF(E63=$D$82,$E$82,IF(E63=$D$83,$E$83,IF(E63=$A$89,$E$84,0))))))","v":0},{"$f":"'Step 3 Product data'!F74","v":0},{"$f":"$G63*'Step 3 Product data'!G74","v":0},{"$f":"IF(I$7=TRUE,($G63*'Step 3 Product data'!H74*(1-'Emission Calculations'!$F63)),($G63*'Step 3 Product data'!H74))","v":0},{"$f":"IF(J$7=TRUE,($G63*'Step 3 Product data'!I74*(1-'Emission Calculations'!$F63)),($G63*'Step 3 Product data'!I74))","v":0},{"$f":"IF(K$7=TRUE,($G63*'Step 3 Product data'!J74*(1-'Emission Calculations'!$F63)),($G63*'Step 3 Product data'!J74))","v":0},{"$f":"IF(L$7=TRUE,($G63*'Step 3 Product data'!K74*(1-'Emission Calculations'!$F63)),($G63*'Step 3 Product data'!K74))","v":0},{"$f":"IF(M$7=TRUE,($G63*'Step 3 Product data'!L74*(1-'Emission Calculations'!$F63)),($G63*'Step 3 Product data'!L74))","v":0},{"$f":"IF(N$7=TRUE,($G63*'Step 3 Product data'!M74*(1-'Emission Calculations'!$F63)),($G63*'Step 3 Product data'!M74))","v":0},{"$f":"IF(O$7=TRUE,($G63*'Step 3 Product data'!N74*(1-'Emission Calculations'!$F63)),($G63*'Step 3 Product data'!N74))","v":0},{"$f":"IF(P$7=TRUE,($G63*'Step 3 Product data'!O74*(1-'Emission Calculations'!$F63)),($G63*'Step 3 Product data'!O74))","v":0},{"$f":"IF(Q$7=TRUE,($G63*'Step 3 Product data'!P74*(1-'Emission Calculations'!$F63)),($G63*'Step 3 Product data'!P74))","v":0},{"$f":"IF(R$7=TRUE,($G63*'Step 3 Product data'!Q74*(1-'Emission Calculations'!$F63)),($G63*'Step 3 Product data'!Q74))","v":0},{"$f":"IF(S$7=TRUE,($G63*'Step 3 Product data'!R74*(1-'Emission Calculations'!$F63)),($G63*'Step 3 Product data'!R74))","v":0},{"$f":"IF(T$7=TRUE,($G63*'Step 3 Product data'!S74*(1-'Emission Calculations'!$F63)),($G63*'Step 3 Product data'!S74))","v":0},{"$f":"IF(U$7=TRUE,($G63*'Step 3 Product data'!T74*(1-'Emission Calculations'!$F63)),($G63*'Step 3 Product data'!T74))","v":0},{"$f":"IF(V$7=TRUE,($G63*'Step 3 Product data'!U74*(1-'Emission Calculations'!$F63)),($G63*'Step 3 Product data'!U74))","v":0},{"$f":"IF(W$7=TRUE,($G63*'Step 3 Product data'!V74*(1-'Emission Calculations'!$F63)),($G63*'Step 3 Product data'!V74))","v":0},{"$f":"IF(X$7=TRUE,($G63*'Step 3 Product data'!W74*(1-'Emission Calculations'!$F63)),($G63*'Step 3 Product data'!W74))","v":0},{"$f":"IF(Y$7=TRUE,($G63*'Step 3 Product data'!X74*(1-'Emission Calculations'!$F63)),($G63*'Step 3 Product data'!X74))","v":0},{"$f":"IF('Step 3 Product data'!Y74=0,SUM(AE63:AP63),'Step 3 Product data'!Y74)","v":" "},{"$f":"IF('Step 3 Product data'!Z74=0,SUM(AQ63:BB63),'Step 3 Product data'!Z74)","v":0},{"$f":"IF('Step 3 Product data'!AA74=0,SUM(BC63:BN63),'Step 3 Product data'!AA74)","v":0},{"$f":"IF('Step 3 Product data'!AB74=0,SUM(BO63:BZ63),'Step 3 Product data'!AB74)","v":0},{"$f":"IF('Step 3 Product data'!AC74=0,SUM(CA63:CL63),'Step 3 Product data'!AC74)","v":0},{"$f":"'Step 3 Product data'!AD74","v":0},{"$f":"'Step 3 Product data'!AE74","v":0},{"$f":"'Step 3 Product data'!AF74","v":0},{"$f":"'Step 3 Product data'!AG74","v":0},{"$f":"'Step 3 Product data'!AH74","v":0},{"$f":"'Step 3 Product data'!AI74","v":0},{"$f":"'Step 3 Product data'!AJ74","v":0},{"$f":"'Step 3 Product data'!AK74","v":0},{"$f":"'Step 3 Product data'!AL74","v":0},{"$f":"'Step 3 Product data'!AM74","v":0},{"$f":"'Step 3 Product data'!AN74","v":0},{"$f":"'Step 3 Product data'!AO74","v":0},{"$f":"'Step 3 Product data'!AP74","v":0},{"$f":"'Step 3 Product data'!AQ74","v":0},{"$f":"'Step 3 Product data'!AR74","v":0},{"$f":"'Step 3 Product data'!AS74","v":0},{"$f":"'Step 3 Product data'!AT74","v":0},{"$f":"'Step 3 Product data'!AU74","v":0},{"$f":"'Step 3 Product data'!AV74","v":0},{"$f":"'Step 3 Product data'!AW74","v":0},{"$f":"'Step 3 Product data'!AX74","v":0},{"$f":"'Step 3 Product data'!AY74","v":0},{"$f":"'Step 3 Product data'!AZ74","v":0},{"$f":"'Step 3 Product data'!BA74","v":0},{"$f":"'Step 3 Product data'!BB74","v":0},{"$f":"'Step 3 Product data'!BC74","v":0},{"$f":"'Step 3 Product data'!BD74","v":0},{"$f":"'Step 3 Product data'!BE74","v":0},{"$f":"'Step 3 Product data'!BF74","v":0},{"$f":"'Step 3 Product data'!BG74","v":0},{"$f":"'Step 3 Product data'!BH74","v":0},{"$f":"'Step 3 Product data'!BI74","v":0},{"$f":"'Step 3 Product data'!BJ74","v":0},{"$f":"'Step 3 Product data'!BK74","v":0},{"$f":"'Step 3 Product data'!BL74","v":0},{"$f":"'Step 3 Product data'!BM74","v":0},{"$f":"'Step 3 Product data'!BN74","v":0},{"$f":"'Step 3 Product data'!BO74","v":0},{"$f":"'Step 3 Product data'!BP74","v":0},{"$f":"'Step 3 Product data'!BQ74","v":0},{"$f":"'Step 3 Product data'!BR74","v":0},{"$f":"'Step 3 Product data'!BS74","v":0},{"$f":"'Step 3 Product data'!BT74","v":0},{"$f":"'Step 3 Product data'!BU74","v":0},{"$f":"'Step 3 Product data'!BV74","v":0},{"$f":"'Step 3 Product data'!BW74","v":0},{"$f":"'Step 3 Product data'!BX74","v":0},{"$f":"'Step 3 Product data'!BY74","v":0},{"$f":"'Step 3 Product data'!BZ74","v":0},{"$f":"'Step 3 Product data'!CA74","v":0},{"$f":"'Step 3 Product data'!CB74","v":0},{"$f":"'Step 3 Product data'!CC74","v":0},{"$f":"'Step 3 Product data'!CD74","v":0},{"$f":"'Step 3 Product data'!CE74","v":0},{"$f":"'Step 3 Product data'!CF74","v":0},{"$f":"'Step 3 Product data'!CG74","v":0},{"$f":"'Step 3 Product data'!CH74","v":0},{"$f":"'Step 3 Product data'!CI74","v":0},{"$f":"'Step 3 Product data'!CJ74","v":0},{"$f":"'Step 3 Product data'!CK74","v":0},null,0,0,0,0,0]
[{"$f":"'Step 3 Product data'!A75","v":55},{"$f":"'Step 3 Product data'!B75","v":0},{"$f":"'Step 3 Product data'!C75","v":0},{"$f":"'Step 3 Product data'!D75","v":0},{"$f":"'Step 3 Product data'!E75","v":"Choose one"},{"$f":"IF(E64=$A$88,1,IF(E64='Data Validation'!$B$31,0,IF(E64=$D$81,$E$81,IF(E64=$D$82,$E$82,IF(E64=$D$83,$E$83,IF(E64=$A$89,$E$84,0))))))","v":0},{"$f":"'Step 3 Product data'!F75","v":0},{"$f":"$G64*'Step 3 Product data'!G75","v":0},{"$f":"IF(I$7=TRUE,($G64*'Step 3 Product data'!H75*(1-'Emission Calculations'!$F64)),($G64*'Step 3 Product data'!H75))","v":0},{"$f":"IF(J$7=TRUE,($G64*'Step 3 Product data'!I75*(1-'Emission Calculations'!$F64)),($G64*'Step 3 Product data'!I75))","v":0},{"$f":"IF(K$7=TRUE,($G64*'Step 3 Product data'!J75*(1-'Emission Calculations'!$F64)),($G64*'Step 3 Product data'!J75))","v":0},{"$f":"IF(L$7=TRUE,($G64*'Step 3 Product data'!K75*(1-'Emission Calculations'!$F64)),($G64*'Step 3 Product data'!K75))","v":0},{"$f":"IF(M$7=TRUE,($G64*'Step 3 Product data'!L75*(1-'Emission Calculations'!$F64)),($G64*'Step 3 Product data'!L75))","v":0},{"$f":"IF(N$7=TRUE,($G64*'Step 3 Product data'!M75*(1-'Emission Calculations'!$F64)),($G64*'Step 3 Product data'!M75))","v":0},{"$f":"IF(O$7=TRUE,($G64*'Step 3 Product data'!N75*(1-'Emission Calculations'!$F64)),($G64*'Step 3 Product data'!N75))","v":0},{"$f":"IF(P$7=TRUE,($G64*'Step 3 Product data'!O75*(1-'Emission Calculations'!$F64)),($G64*'Step 3 Product data'!O75))","v":0},{"$f":"IF(Q$7=TRUE,($G64*'Step 3 Product data'!P75*(1-'Emission Calculations'!$F64)),($G64*'Step 3 Product data'!P75))","v":0},{"$f":"IF(R$7=TRUE,($G64*'Step 3 Product data'!Q75*(1-'Emission Calculations'!$F64)),($G64*'Step 3 Product data'!Q75))","v":0},{"$f":"IF(S$7=TRUE,($G64*'Step 3 Product data'!R75*(1-'Emission Calculations'!$F64)),($G64*'Step 3 Product data'!R75))","v":0},{"$f":"IF(T$7=TRUE,($G64*'Step 3 Product data'!S75*(1-'Emission Calculations'!$F64)),($G64*'Step 3 Product data'!S75))","v":0},{"$f":"IF(U$7=TRUE,($G64*'Step 3 Product data'!T75*(1-'Emission Calculations'!$F64)),($G64*'Step 3 Product data'!T75))","v":0},{"$f":"IF(V$7=TRUE,($G64*'Step 3 Product data'!U75*(1-'Emission Calculations'!$F64)),($G64*'Step 3 Product data'!U75))","v":0},{"$f":"IF(W$7=TRUE,($G64*'Step 3 Product data'!V75*(1-'Emission Calculations'!$F64)),($G64*'Step 3 Product data'!V75))","v":0},{"$f":"IF(X$7=TRUE,($G64*'Step 3 Product data'!W75*(1-'Emission Calculations'!$F64)),($G64*'Step 3 Product data'!W75))","v":0},{"$f":"IF(Y$7=TRUE,($G64*'Step 3 Product data'!X75*(1-'Emission Calculations'!$F64)),($G64*'Step 3 Product data'!X75))","v":0},{"$f":"IF('Step 3 Product data'!Y75=0,SUM(AE64:AP64),'Step 3 Product data'!Y75)","v":" "},{"$f":"IF('Step 3 Product data'!Z75=0,SUM(AQ64:BB64),'Step 3 Product data'!Z75)","v":0},{"$f":"IF('Step 3 Product data'!AA75=0,SUM(BC64:BN64),'Step 3 Product data'!AA75)","v":0},{"$f":"IF('Step 3 Product data'!AB75=0,SUM(BO64:BZ64),'Step 3 Product data'!AB75)","v":0},{"$f":"IF('Step 3 Product data'!AC75=0,SUM(CA64:CL64),'Step 3 Product data'!AC75)","v":0},{"$f":"'Step 3 Product data'!AD75","v":0},{"$f":"'Step 3 Product data'!AE75","v":0},{"$f":"'Step 3 Product data'!AF75","v":0},{"$f":"'Step 3 Product data'!AG75","v":0},{"$f":"'Step 3 Product data'!AH75","v":0},{"$f":"'Step 3 Product data'!AI75","v":0},{"$f":"'Step 3 Product data'!AJ75","v":0},{"$f":"'Step 3 Product data'!AK75","v":0},{"$f":"'Step 3 Product data'!AL75","v":0},{"$f":"'Step 3 Product data'!AM75","v":0},{"$f":"'Step 3 Product data'!AN75","v":0},{"$f":"'Step 3 Product data'!AO75","v":0},{"$f":"'Step 3 Product data'!AP75","v":0},{"$f":"'Step 3 Product data'!AQ75","v":0},{"$f":"'Step 3 Product data'!AR75","v":0},{"$f":"'Step 3 Product data'!AS75","v":0},{"$f":"'Step 3 Product data'!AT75","v":0},{"$f":"'Step 3 Product data'!AU75","v":0},{"$f":"'Step 3 Product data'!AV75","v":0},{"$f":"'Step 3 Product data'!AW75","v":0},{"$f":"'Step 3 Product data'!AX75","v":0},{"$f":"'Step 3 Product data'!AY75","v":0},{"$f":"'Step 3 Product data'!AZ75","v":0},{"$f":"'Step 3 Product data'!BA75","v":0},{"$f":"'Step 3 Product data'!BB75","v":0},{"$f":"'Step 3 Product data'!BC75","v":0},{"$f":"'Step 3 Product data'!BD75","v":0},{"$f":"'Step 3 Product data'!BE75","v":0},{"$f":"'Step 3 Product data'!BF75","v":0},{"$f":"'Step 3 Product data'!BG75","v":0},{"$f":"'Step 3 Product data'!BH75","v":0},{"$f":"'Step 3 Product data'!BI75","v":0},{"$f":"'Step 3 Product data'!BJ75","v":0},{"$f":"'Step 3 Product data'!BK75","v":0},{"$f":"'Step 3 Product data'!BL75","v":0},{"$f":"'Step 3 Product data'!BM75","v":0},{"$f":"'Step 3 Product data'!BN75","v":0},{"$f":"'Step 3 Product data'!BO75","v":0},{"$f":"'Step 3 Product data'!BP75","v":0},{"$f":"'Step 3 Product data'!BQ75","v":0},{"$f":"'Step 3 Product data'!BR75","v":0},{"$f":"'Step 3 Product data'!BS75","v":0},{"$f":"'Step 3 Product data'!BT75","v":0},{"$f":"'Step 3 Product data'!BU75","v":0},{"$f":"'Step 3 Product data'!BV75","v":0},{"$f":"'Step 3 Product data'!BW75","v":0},{"$f":"'Step 3 Product data'!BX75","v":0},{"$f":"'Step 3 Product data'!BY75","v":0},{"$f":"'Step 3 Product data'!BZ75","v":0},{"$f":"'Step 3 Product data'!CA75","v":0},{"$f":"'Step 3 Product data'!CB75","v":0},{"$f":"'Step 3 Product data'!CC75","v":0},{"$f":"'Step 3 Product data'!CD75","v":0},{"$f":"'Step 3 Product data'!CE75","v":0},{"$f":"'Step 3 Product data'!CF75","v":0},{"$f":"'Step 3 Product data'!CG75","v":0},{"$f":"'Step 3 Product data'!CH75","v":0},{"$f":"'Step 3 Product data'!CI75","v":0},{"$f":"'Step 3 Product data'!CJ75","v":0},{"$f":"'Step 3 Product data'!CK75","v":0},null,0,0,0,0,0]
[{"$f":"'Step 3 Product data'!A76","v":56},{"$f":"'Step 3 Product data'!B76","v":0},{"$f":"'Step 3 Product data'!C76","v":0},{"$f":"'Step 3 Product data'!D76","v":0},{"$f":"'Step 3 Product data'!E76","v":"Choose one"},{"$f":"IF(E65=$A$88,1,IF(E65='Data Validation'!$B$31,0,IF(E65=$D$81,$E$81,IF(E65=$D$82,$E$82,IF(E65=$D$83,$E$83,IF(E65=$A$89,$E$84,0))))))","v":0},{"$f":"'Step 3 Product data'!F76","v":0},{"$f":"$G65*'Step 3 Product data'!G76","v":0},{"$f":"IF(I$7=TRUE,($G65*'Step 3 Product data'!H76*(1-'Emission Calculations'!$F65)),($G65*'Step 3 Product data'!H76))","v":0},{"$f":"IF(J$7=TRUE,($G65*'Step 3 Product data'!I76*(1-'Emission Calculations'!$F65)),($G65*'Step 3 Product data'!I76))","v":0},{"$f":"IF(K$7=TRUE,($G65*'Step 3 Product data'!J76*(1-'Emission Calculations'!$F65)),($G65*'Step 3 Product data'!J76))","v":0},{"$f":"IF(L$7=TRUE,($G65*'Step 3 Product data'!K76*(1-'Emission Calculations'!$F65)),($G65*'Step 3 Product data'!K76))","v":0},{"$f":"IF(M$7=TRUE,($G65*'Step 3 Product data'!L76*(1-'Emission Calculations'!$F65)),($G65*'Step 3 Product data'!L76))","v":0},{"$f":"IF(N$7=TRUE,($G65*'Step 3 Product data'!M76*(1-'Emission Calculations'!$F65)),($G65*'Step 3 Product data'!M76))","v":0},{"$f":"IF(O$7=TRUE,($G65*'Step 3 Product data'!N76*(1-'Emission Calculations'!$F65)),($G65*'Step 3 Product data'!N76))","v":0},{"$f":"IF(P$7=TRUE,($G65*'Step 3 Product data'!O76*(1-'Emission Calculations'!$F65)),($G65*'Step 3 Product data'!O76))","v":0},{"$f":"IF(Q$7=TRUE,($G65*'Step 3 Product data'!P76*(1-'Emission Calculations'!$F65)),($G65*'Step 3 Product data'!P76))","v":0},{"$f":"IF(R$7=TRUE,($G65*'Step 3 Product data'!Q76*(1-'Emission Calculations'!$F65)),($G65*'Step 3 Product data'!Q76))","v":0},{"$f":"IF(S$7=TRUE,($G65*'Step 3 Product data'!R76*(1-'Emission Calculations'!$F65)),($G65*'Step 3 Product data'!R76))","v":0},{"$f":"IF(T$7=TRUE,($G65*'Step 3 Product data'!S76*(1-'Emission Calculations'!$F65)),($G65*'Step 3 Product data'!S76))","v":0},{"$f":"IF(U$7=TRUE,($G65*'Step 3 Product data'!T76*(1-'Emission Calculations'!$F65)),($G65*'Step 3 Product data'!T76))","v":0},{"$f":"IF(V$7=TRUE,($G65*'Step 3 Product data'!U76*(1-'Emission Calculations'!$F65)),($G65*'Step 3 Product data'!U76))","v":0},{"$f":"IF(W$7=TRUE,($G65*'Step 3 Product data'!V76*(1-'Emission Calculations'!$F65)),($G65*'Step 3 Product data'!V76))","v":0},{"$f":"IF(X$7=TRUE,($G65*'Step 3 Product data'!W76*(1-'Emission Calculations'!$F65)),($G65*'Step 3 Product data'!W76))","v":0},{"$f":"IF(Y$7=TRUE,($G65*'Step 3 Product data'!X76*(1-'Emission Calculations'!$F65)),($G65*'Step 3 Product data'!X76))","v":0},{"$f":"IF('Step 3 Product data'!Y76=0,SUM(AE65:AP65),'Step 3 Product data'!Y76)","v":" "},{"$f":"IF('Step 3 Product data'!Z76=0,SUM(AQ65:BB65),'Step 3 Product data'!Z76)","v":0},{"$f":"IF('Step 3 Product data'!AA76=0,SUM(BC65:BN65),'Step 3 Product data'!AA76)","v":0},{"$f":"IF('Step 3 Product data'!AB76=0,SUM(BO65:BZ65),'Step 3 Product data'!AB76)","v":0},{"$f":"IF('Step 3 Product data'!AC76=0,SUM(CA65:CL65),'Step 3 Product data'!AC76)","v":0},{"$f":"'Step 3 Product data'!AD76","v":0},{"$f":"'Step 3 Product data'!AE76","v":0},{"$f":"'Step 3 Product data'!AF76","v":0},{"$f":"'Step 3 Product data'!AG76","v":0},{"$f":"'Step 3 Product data'!AH76","v":0},{"$f":"'Step 3 Product data'!AI76","v":0},{"$f":"'Step 3 Product data'!AJ76","v":0},{"$f":"'Step 3 Product data'!AK76","v":0},{"$f":"'Step 3 Product data'!AL76","v":0},{"$f":"'Step 3 Product data'!AM76","v":0},{"$f":"'Step 3 Product data'!AN76","v":0},{"$f":"'Step 3 Product data'!AO76","v":0},{"$f":"'Step 3 Product data'!AP76","v":0},{"$f":"'Step 3 Product data'!AQ76","v":0},{"$f":"'Step 3 Product data'!AR76","v":0},{"$f":"'Step 3 Product data'!AS76","v":0},{"$f":"'Step 3 Product data'!AT76","v":0},{"$f":"'Step 3 Product data'!AU76","v":0},{"$f":"'Step 3 Product data'!AV76","v":0},{"$f":"'Step 3 Product data'!AW76","v":0},{"$f":"'Step 3 Product data'!AX76","v":0},{"$f":"'Step 3 Product data'!AY76","v":0},{"$f":"'Step 3 Product data'!AZ76","v":0},{"$f":"'Step 3 Product data'!BA76","v":0},{"$f":"'Step 3 Product data'!BB76","v":0},{"$f":"'Step 3 Product data'!BC76","v":0},{"$f":"'Step 3 Product data'!BD76","v":0},{"$f":"'Step 3 Product data'!BE76","v":0},{"$f":"'Step 3 Product data'!BF76","v":0},{"$f":"'Step 3 Product data'!BG76","v":0},{"$f":"'Step 3 Product data'!BH76","v":0},{"$f":"'Step 3 Product data'!BI76","v":0},{"$f":"'Step 3 Product data'!BJ76","v":0},{"$f":"'Step 3 Product data'!BK76","v":0},{"$f":"'Step 3 Product data'!BL76","v":0},{"$f":"'Step 3 Product data'!BM76","v":0},{"$f":"'Step 3 Product data'!BN76","v":0},{"$f":"'Step 3 Product data'!BO76","v":0},{"$f":"'Step 3 Product data'!BP76","v":0},{"$f":"'Step 3 Product data'!BQ76","v":0},{"$f":"'Step 3 Product data'!BR76","v":0},{"$f":"'Step 3 Product data'!BS76","v":0},{"$f":"'Step 3 Product data'!BT76","v":0},{"$f":"'Step 3 Product data'!BU76","v":0},{"$f":"'Step 3 Product data'!BV76","v":0},{"$f":"'Step 3 Product data'!BW76","v":0},{"$f":"'Step 3 Product data'!BX76","v":0},{"$f":"'Step 3 Product data'!BY76","v":0},{"$f":"'Step 3 Product data'!BZ76","v":0},{"$f":"'Step 3 Product data'!CA76","v":0},{"$f":"'Step 3 Product data'!CB76","v":0},{"$f":"'Step 3 Product data'!CC76","v":0},{"$f":"'Step 3 Product data'!CD76","v":0},{"$f":"'Step 3 Product data'!CE76","v":0},{"$f":"'Step 3 Product data'!CF76","v":0},{"$f":"'Step 3 Product data'!CG76","v":0},{"$f":"'Step 3 Product data'!CH76","v":0},{"$f":"'Step 3 Product data'!CI76","v":0},{"$f":"'Step 3 Product data'!CJ76","v":0},{"$f":"'Step 3 Product data'!CK76","v":0},null,0,0,0,0,0]
[{"$f":"'Step 3 Product data'!A77","v":57},{"$f":"'Step 3 Product data'!B77","v":0},{"$f":"'Step 3 Product data'!C77","v":0},{"$f":"'Step 3 Product data'!D77","v":0},{"$f":"'Step 3 Product data'!E77","v":"Choose one"},{"$f":"IF(E66=$A$88,1,IF(E66='Data Validation'!$B$31,0,IF(E66=$D$81,$E$81,IF(E66=$D$82,$E$82,IF(E66=$D$83,$E$83,IF(E66=$A$89,$E$84,0))))))","v":0},{"$f":"'Step 3 Product data'!F77","v":0},{"$f":"$G66*'Step 3 Product data'!G77","v":0},{"$f":"IF(I$7=TRUE,($G66*'Step 3 Product data'!H77*(1-'Emission Calculations'!$F66)),($G66*'Step 3 Product data'!H77))","v":0},{"$f":"IF(J$7=TRUE,($G66*'Step 3 Product data'!I77*(1-'Emission Calculations'!$F66)),($G66*'Step 3 Product data'!I77))","v":0},{"$f":"IF(K$7=TRUE,($G66*'Step 3 Product data'!J77*(1-'Emission Calculations'!$F66)),($G66*'Step 3 Product data'!J77))","v":0},{"$f":"IF(L$7=TRUE,($G66*'Step 3 Product data'!K77*(1-'Emission Calculations'!$F66)),($G66*'Step 3 Product data'!K77))","v":0},{"$f":"IF(M$7=TRUE,($G66*'Step 3 Product data'!L77*(1-'Emission Calculations'!$F66)),($G66*'Step 3 Product data'!L77))","v":0},{"$f":"IF(N$7=TRUE,($G66*'Step 3 Product data'!M77*(1-'Emission Calculations'!$F66)),($G66*'Step 3 Product data'!M77))","v":0},{"$f":"IF(O$7=TRUE,($G66*'Step 3 Product data'!N77*(1-'Emission Calculations'!$F66)),($G66*'Step 3 Product data'!N77))","v":0},{"$f":"IF(P$7=TRUE,($G66*'Step 3 Product data'!O77*(1-'Emission Calculations'!$F66)),($G66*'Step 3 Product data'!O77))","v":0},{"$f":"IF(Q$7=TRUE,($G66*'Step 3 Product data'!P77*(1-'Emission Calculations'!$F66)),($G66*'Step 3 Product data'!P77))","v":0},{"$f":"IF(R$7=TRUE,($G66*'Step 3 Product data'!Q77*(1-'Emission Calculations'!$F66)),($G66*'Step 3 Product data'!Q77))","v":0},{"$f":"IF(S$7=TRUE,($G66*'Step 3 Product data'!R77*(1-'Emission Calculations'!$F66)),($G66*'Step 3 Product data'!R77))","v":0},{"$f":"IF(T$7=TRUE,($G66*'Step 3 Product data'!S77*(1-'Emission Calculations'!$F66)),($G66*'Step 3 Product data'!S77))","v":0},{"$f":"IF(U$7=TRUE,($G66*'Step 3 Product data'!T77*(1-'Emission Calculations'!$F66)),($G66*'Step 3 Product data'!T77))","v":0},{"$f":"IF(V$7=TRUE,($G66*'Step 3 Product data'!U77*(1-'Emission Calculations'!$F66)),($G66*'Step 3 Product data'!U77))","v":0},{"$f":"IF(W$7=TRUE,($G66*'Step 3 Product data'!V77*(1-'Emission Calculations'!$F66)),($G66*'Step 3 Product data'!V77))","v":0},{"$f":"IF(X$7=TRUE,($G66*'Step 3 Product data'!W77*(1-'Emission Calculations'!$F66)),($G66*'Step 3 Product data'!W77))","v":0},{"$f":"IF(Y$7=TRUE,($G66*'Step 3 Product data'!X77*(1-'Emission Calculations'!$F66)),($G66*'Step 3 Product data'!X77))","v":0},{"$f":"IF('Step 3 Product data'!Y77=0,SUM(AE66:AP66),'Step 3 Product data'!Y77)","v":" "},{"$f":"IF('Step 3 Product data'!Z77=0,SUM(AQ66:BB66),'Step 3 Product data'!Z77)","v":0},{"$f":"IF('Step 3 Product data'!AA77=0,SUM(BC66:BN66),'Step 3 Product data'!AA77)","v":0},{"$f":"IF('Step 3 Product data'!AB77=0,SUM(BO66:BZ66),'Step 3 Product data'!AB77)","v":0},{"$f":"IF('Step 3 Product data'!AC77=0,SUM(CA66:CL66),'Step 3 Product data'!AC77)","v":0},{"$f":"'Step 3 Product data'!AD77","v":0},{"$f":"'Step 3 Product data'!AE77","v":0},{"$f":"'Step 3 Product data'!AF77","v":0},{"$f":"'Step 3 Product data'!AG77","v":0},{"$f":"'Step 3 Product data'!AH77","v":0},{"$f":"'Step 3 Product data'!AI77","v":0},{"$f":"'Step 3 Product data'!AJ77","v":0},{"$f":"'Step 3 Product data'!AK77","v":0},{"$f":"'Step 3 Product data'!AL77","v":0},{"$f":"'Step 3 Product data'!AM77","v":0},{"$f":"'Step 3 Product data'!AN77","v":0},{"$f":"'Step 3 Product data'!AO77","v":0},{"$f":"'Step 3 Product data'!AP77","v":0},{"$f":"'Step 3 Product data'!AQ77","v":0},{"$f":"'Step 3 Product data'!AR77","v":0},{"$f":"'Step 3 Product data'!AS77","v":0},{"$f":"'Step 3 Product data'!AT77","v":0},{"$f":"'Step 3 Product data'!AU77","v":0},{"$f":"'Step 3 Product data'!AV77","v":0},{"$f":"'Step 3 Product data'!AW77","v":0},{"$f":"'Step 3 Product data'!AX77","v":0},{"$f":"'Step 3 Product data'!AY77","v":0},{"$f":"'Step 3 Product data'!AZ77","v":0},{"$f":"'Step 3 Product data'!BA77","v":0},{"$f":"'Step 3 Product data'!BB77","v":0},{"$f":"'Step 3 Product data'!BC77","v":0},{"$f":"'Step 3 Product data'!BD77","v":0},{"$f":"'Step 3 Product data'!BE77","v":0},{"$f":"'Step 3 Product data'!BF77","v":0},{"$f":"'Step 3 Product data'!BG77","v":0},{"$f":"'Step 3 Product data'!BH77","v":0},{"$f":"'Step 3 Product data'!BI77","v":0},{"$f":"'Step 3 Product data'!BJ77","v":0},{"$f":"'Step 3 Product data'!BK77","v":0},{"$f":"'Step 3 Product data'!BL77","v":0},{"$f":"'Step 3 Product data'!BM77","v":0},{"$f":"'Step 3 Product data'!BN77","v":0},{"$f":"'Step 3 Product data'!BO77","v":0},{"$f":"'Step 3 Product data'!BP77","v":0},{"$f":"'Step 3 Product data'!BQ77","v":0},{"$f":"'Step 3 Product data'!BR77","v":0},{"$f":"'Step 3 Product data'!BS77","v":0},{"$f":"'Step 3 Product data'!BT77","v":0},{"$f":"'Step 3 Product data'!BU77","v":0},{"$f":"'Step 3 Product data'!BV77","v":0},{"$f":"'Step 3 Product data'!BW77","v":0},{"$f":"'Step 3 Product data'!BX77","v":0},{"$f":"'Step 3 Product data'!BY77","v":0},{"$f":"'Step 3 Product data'!BZ77","v":0},{"$f":"'Step 3 Product data'!CA77","v":0},{"$f":"'Step 3 Product data'!CB77","v":0},{"$f":"'Step 3 Product data'!CC77","v":0},{"$f":"'Step 3 Product data'!CD77","v":0},{"$f":"'Step 3 Product data'!CE77","v":0},{"$f":"'Step 3 Product data'!CF77","v":0},{"$f":"'Step 3 Product data'!CG77","v":0},{"$f":"'Step 3 Product data'!CH77","v":0},{"$f":"'Step 3 Product data'!CI77","v":0},{"$f":"'Step 3 Product data'!CJ77","v":0},{"$f":"'Step 3 Product data'!CK77","v":0},null,0,0,0,0,0]
[{"$f":"'Step 3 Product data'!A78","v":58},{"$f":"'Step 3 Product data'!B78","v":0},{"$f":"'Step 3 Product data'!C78","v":0},{"$f":"'Step 3 Product data'!D78","v":0},{"$f":"'Step 3 Product data'!E78","v":"Choose one"},{"$f":"IF(E67=$A$88,1,IF(E67='Data Validation'!$B$31,0,IF(E67=$D$81,$E$81,IF(E67=$D$82,$E$82,IF(E67=$D$83,$E$83,IF(E67=$A$89,$E$84,0))))))","v":0},{"$f":"'Step 3 Product data'!F78","v":0},{"$f":"$G67*'Step 3 Product data'!G78","v":0},{"$f":"IF(I$7=TRUE,($G67*'Step 3 Product data'!H78*(1-'Emission Calculations'!$F67)),($G67*'Step 3 Product data'!H78))","v":0},{"$f":"IF(J$7=TRUE,($G67*'Step 3 Product data'!I78*(1-'Emission Calculations'!$F67)),($G67*'Step 3 Product data'!I78))","v":0},{"$f":"IF(K$7=TRUE,($G67*'Step 3 Product data'!J78*(1-'Emission Calculations'!$F67)),($G67*'Step 3 Product data'!J78))","v":0},{"$f":"IF(L$7=TRUE,($G67*'Step 3 Product data'!K78*(1-'Emission Calculations'!$F67)),($G67*'Step 3 Product data'!K78))","v":0},{"$f":"IF(M$7=TRUE,($G67*'Step 3 Product data'!L78*(1-'Emission Calculations'!$F67)),($G67*'Step 3 Product data'!L78))","v":0},{"$f":"IF(N$7=TRUE,($G67*'Step 3 Product data'!M78*(1-'Emission Calculations'!$F67)),($G67*'Step 3 Product data'!M78))","v":0},{"$f":"IF(O$7=TRUE,($G67*'Step 3 Product data'!N78*(1-'Emission Calculations'!$F67)),($G67*'Step 3 Product data'!N78))","v":0},{"$f":"IF(P$7=TRUE,($G67*'Step 3 Product data'!O78*(1-'Emission Calculations'!$F67)),($G67*'Step 3 Product data'!O78))","v":0},{"$f":"IF(Q$7=TRUE,($G67*'Step 3 Product data'!P78*(1-'Emission Calculations'!$F67)),($G67*'Step 3 Product data'!P78))","v":0},{"$f":"IF(R$7=TRUE,($G67*'Step 3 Product data'!Q78*(1-'Emission Calculations'!$F67)),($G67*'Step 3 Product data'!Q78))","v":0},{"$f":"IF(S$7=TRUE,($G67*'Step 3 Product data'!R78*(1-'Emission Calculations'!$F67)),($G67*'Step 3 Product data'!R78))","v":0},{"$f":"IF(T$7=TRUE,($G67*'Step 3 Product data'!S78*(1-'Emission Calculations'!$F67)),($G67*'Step 3 Product data'!S78))","v":0},{"$f":"IF(U$7=TRUE,($G67*'Step 3 Product data'!T78*(1-'Emission Calculations'!$F67)),($G67*'Step 3 Product data'!T78))","v":0},{"$f":"IF(V$7=TRUE,($G67*'Step 3 Product data'!U78*(1-'Emission Calculations'!$F67)),($G67*'Step 3 Product data'!U78))","v":0},{"$f":"IF(W$7=TRUE,($G67*'Step 3 Product data'!V78*(1-'Emission Calculations'!$F67)),($G67*'Step 3 Product data'!V78))","v":0},{"$f":"IF(X$7=TRUE,($G67*'Step 3 Product data'!W78*(1-'Emission Calculations'!$F67)),($G67*'Step 3 Product data'!W78))","v":0},{"$f":"IF(Y$7=TRUE,($G67*'Step 3 Product data'!X78*(1-'Emission Calculations'!$F67)),($G67*'Step 3 Product data'!X78))","v":0},{"$f":"IF('Step 3 Product data'!Y78=0,SUM(AE67:AP67),'Step 3 Product data'!Y78)","v":" "},{"$f":"IF('Step 3 Product data'!Z78=0,SUM(AQ67:BB67),'Step 3 Product data'!Z78)","v":0},{"$f":"IF('Step 3 Product data'!AA78=0,SUM(BC67:BN67),'Step 3 Product data'!AA78)","v":0},{"$f":"IF('Step 3 Product data'!AB78=0,SUM(BO67:BZ67),'Step 3 Product data'!AB78)","v":0},{"$f":"IF('Step 3 Product data'!AC78=0,SUM(CA67:CL67),'Step 3 Product data'!AC78)","v":0},{"$f":"'Step 3 Product data'!AD78","v":0},{"$f":"'Step 3 Product data'!AE78","v":0},{"$f":"'Step 3 Product data'!AF78","v":0},{"$f":"'Step 3 Product data'!AG78","v":0},{"$f":"'Step 3 Product data'!AH78","v":0},{"$f":"'Step 3 Product data'!AI78","v":0},{"$f":"'Step 3 Product data'!AJ78","v":0},{"$f":"'Step 3 Product data'!AK78","v":0},{"$f":"'Step 3 Product data'!AL78","v":0},{"$f":"'Step 3 Product data'!AM78","v":0},{"$f":"'Step 3 Product data'!AN78","v":0},{"$f":"'Step 3 Product data'!AO78","v":0},{"$f":"'Step 3 Product data'!AP78","v":0},{"$f":"'Step 3 Product data'!AQ78","v":0},{"$f":"'Step 3 Product data'!AR78","v":0},{"$f":"'Step 3 Product data'!AS78","v":0},{"$f":"'Step 3 Product data'!AT78","v":0},{"$f":"'Step 3 Product data'!AU78","v":0},{"$f":"'Step 3 Product data'!AV78","v":0},{"$f":"'Step 3 Product data'!AW78","v":0},{"$f":"'Step 3 Product data'!AX78","v":0},{"$f":"'Step 3 Product data'!AY78","v":0},{"$f":"'Step 3 Product data'!AZ78","v":0},{"$f":"'Step 3 Product data'!BA78","v":0},{"$f":"'Step 3 Product data'!BB78","v":0},{"$f":"'Step 3 Product data'!BC78","v":0},{"$f":"'Step 3 Product data'!BD78","v":0},{"$f":"'Step 3 Product data'!BE78","v":0},{"$f":"'Step 3 Product data'!BF78","v":0},{"$f":"'Step 3 Product data'!BG78","v":0},{"$f":"'Step 3 Product data'!BH78","v":0},{"$f":"'Step 3 Product data'!BI78","v":0},{"$f":"'Step 3 Product data'!BJ78","v":0},{"$f":"'Step 3 Product data'!BK78","v":0},{"$f":"'Step 3 Product data'!BL78","v":0},{"$f":"'Step 3 Product data'!BM78","v":0},{"$f":"'Step 3 Product data'!BN78","v":0},{"$f":"'Step 3 Product data'!BO78","v":0},{"$f":"'Step 3 Product data'!BP78","v":0},{"$f":"'Step 3 Product data'!BQ78","v":0},{"$f":"'Step 3 Product data'!BR78","v":0},{"$f":"'Step 3 Product data'!BS78","v":0},{"$f":"'Step 3 Product data'!BT78","v":0},{"$f":"'Step 3 Product data'!BU78","v":0},{"$f":"'Step 3 Product data'!BV78","v":0},{"$f":"'Step 3 Product data'!BW78","v":0},{"$f":"'Step 3 Product data'!BX78","v":0},{"$f":"'Step 3 Product data'!BY78","v":0},{"$f":"'Step 3 Product data'!BZ78","v":0},{"$f":"'Step 3 Product data'!CA78","v":0},{"$f":"'Step 3 Product data'!CB78","v":0},{"$f":"'Step 3 Product data'!CC78","v":0},{"$f":"'Step 3 Product data'!CD78","v":0},{"$f":"'Step 3 Product data'!CE78","v":0},{"$f":"'Step 3 Product data'!CF78","v":0},{"$f":"'Step 3 Product data'!CG78","v":0},{"$f":"'Step 3 Product data'!CH78","v":0},{"$f":"'Step 3 Product data'!CI78","v":0},{"$f":"'Step 3 Product data'!CJ78","v":0},{"$f":"'Step 3 Product data'!CK78","v":0},null,0,0,0,0,0]
[{"$f":"'Step 3 Product data'!A79","v":59},{"$f":"'Step 3 Product data'!B79","v":0},{"$f":"'Step 3 Product data'!C79","v":0},{"$f":"'Step 3 Product data'!D79","v":0},{"$f":"'Step 3 Product data'!E79","v":"Choose one"},{"$f":"IF(E68=$A$88,1,IF(E68='Data Validation'!$B$31,0,IF(E68=$D$81,$E$81,IF(E68=$D$82,$E$82,IF(E68=$D$83,$E$83,IF(E68=$A$89,$E$84,0))))))","v":0},{"$f":"'Step 3 Product data'!F79","v":0},{"$f":"$G68*'Step 3 Product data'!G79","v":0},{"$f":"IF(I$7=TRUE,($G68*'Step 3 Product data'!H79*(1-'Emission Calculations'!$F68)),($G68*'Step 3 Product data'!H79))","v":0},{"$f":"IF(J$7=TRUE,($G68*'Step 3 Product data'!I79*(1-'Emission Calculations'!$F68)),($G68*'Step 3 Product data'!I79))","v":0},{"$f":"IF(K$7=TRUE,($G68*'Step 3 Product data'!J79*(1-'Emission Calculations'!$F68)),($G68*'Step 3 Product data'!J79))","v":0},{"$f":"IF(L$7=TRUE,($G68*'Step 3 Product data'!K79*(1-'Emission Calculations'!$F68)),($G68*'Step 3 Product data'!K79))","v":0},{"$f":"IF(M$7=TRUE,($G68*'Step 3 Product data'!L79*(1-'Emission Calculations'!$F68)),($G68*'Step 3 Product data'!L79))","v":0},{"$f":"IF(N$7=TRUE,($G68*'Step 3 Product data'!M79*(1-'Emission Calculations'!$F68)),($G68*'Step 3 Product data'!M79))","v":0},{"$f":"IF(O$7=TRUE,($G68*'Step 3 Product data'!N79*(1-'Emission Calculations'!$F68)),($G68*'Step 3 Product data'!N79))","v":0},{"$f":"IF(P$7=TRUE,($G68*'Step 3 Product data'!O79*(1-'Emission Calculations'!$F68)),($G68*'Step 3 Product data'!O79))","v":0},{"$f":"IF(Q$7=TRUE,($G68*'Step 3 Product data'!P79*(1-'Emission Calculations'!$F68)),($G68*'Step 3 Product data'!P79))","v":0},{"$f":"IF(R$7=TRUE,($G68*'Step 3 Product data'!Q79*(1-'Emission Calculations'!$F68)),($G68*'Step 3 Product data'!Q79))","v":0},{"$f":"IF(S$7=TRUE,($G68*'Step 3 Product data'!R79*(1-'Emission Calculations'!$F68)),($G68*'Step 3 Product data'!R79))","v":0},{"$f":"IF(T$7=TRUE,($G68*'Step 3 Product data'!S79*(1-'Emission Calculations'!$F68)),($G68*'Step 3 Product data'!S79))","v":0},{"$f":"IF(U$7=TRUE,($G68*'Step 3 Product data'!T79*(1-'Emission Calculations'!$F68)),($G68*'Step 3 Product data'!T79))","v":0},{"$f":"IF(V$7=TRUE,($G68*'Step 3 Product data'!U79*(1-'Emission Calculations'!$F68)),($G68*'Step 3 Product data'!U79))","v":0},{"$f":"IF(W$7=TRUE,($G68*'Step 3 Product data'!V79*(1-'Emission Calculations'!$F68)),($G68*'Step 3 Product data'!V79))","v":0},{"$f":"IF(X$7=TRUE,($G68*'Step 3 Product data'!W79*(1-'Emission Calculations'!$F68)),($G68*'Step 3 Product data'!W79))","v":0},{"$f":"IF(Y$7=TRUE,($G68*'Step 3 Product data'!X79*(1-'Emission Calculations'!$F68)),($G68*'Step 3 Product data'!X79))","v":0},{"$f":"IF('Step 3 Product data'!Y79=0,SUM(AE68:AP68),'Step 3 Product data'!Y79)","v":" "},{"$f":"IF('Step 3 Product data'!Z79=0,SUM(AQ68:BB68),'Step 3 Product data'!Z79)","v":0},{"$f":"IF('Step 3 Product data'!AA79=0,SUM(BC68:BN68),'Step 3 Product data'!AA79)","v":0},{"$f":"IF('Step 3 Product data'!AB79=0,SUM(BO68:BZ68),'Step 3 Product data'!AB79)","v":0},{"$f":"IF('Step 3 Product data'!AC79=0,SUM(CA68:CL68),'Step 3 Product data'!AC79)","v":0},{"$f":"'Step 3 Product data'!AD79","v":0},{"$f":"'Step 3 Product data'!AE79","v":0},{"$f":"'Step 3 Product data'!AF79","v":0},{"$f":"'Step 3 Product data'!AG79","v":0},{"$f":"'Step 3 Product data'!AH79","v":0},{"$f":"'Step 3 Product data'!AI79","v":0},{"$f":"'Step 3 Product data'!AJ79","v":0},{"$f":"'Step 3 Product data'!AK79","v":0},{"$f":"'Step 3 Product data'!AL79","v":0},{"$f":"'Step 3 Product data'!AM79","v":0},{"$f":"'Step 3 Product data'!AN79","v":0},{"$f":"'Step 3 Product data'!AO79","v":0},{"$f":"'Step 3 Product data'!AP79","v":0},{"$f":"'Step 3 Product data'!AQ79","v":0},{"$f":"'Step 3 Product data'!AR79","v":0},{"$f":"'Step 3 Product data'!AS79","v":0},{"$f":"'Step 3 Product data'!AT79","v":0},{"$f":"'Step 3 Product data'!AU79","v":0},{"$f":"'Step 3 Product data'!AV79","v":0},{"$f":"'Step 3 Product data'!AW79","v":0},{"$f":"'Step 3 Product data'!AX79","v":0},{"$f":"'Step 3 Product data'!AY79","v":0},{"$f":"'Step 3 Product data'!AZ79","v":0},{"$f":"'Step 3 Product data'!BA79","v":0},{"$f":"'Step 3 Product data'!BB79","v":0},{"$f":"'Step 3 Product data'!BC79","v":0},{"$f":"'Step 3 Product data'!BD79","v":0},{"$f":"'Step 3 Product data'!BE79","v":0},{"$f":"'Step 3 Product data'!BF79","v":0},{"$f":"'Step 3 Product data'!BG79","v":0},{"$f":"'Step 3 Product data'!BH79","v":0},{"$f":"'Step 3 Product data'!BI79","v":0},{"$f":"'Step 3 Product data'!BJ79","v":0},{"$f":"'Step 3 Product data'!BK79","v":0},{"$f":"'Step 3 Product data'!BL79","v":0},{"$f":"'Step 3 Product data'!BM79","v":0},{"$f":"'Step 3 Product data'!BN79","v":0},{"$f":"'Step 3 Product data'!BO79","v":0},{"$f":"'Step 3 Product data'!BP79","v":0},{"$f":"'Step 3 Product data'!BQ79","v":0},{"$f":"'Step 3 Product data'!BR79","v":0},{"$f":"'Step 3 Product data'!BS79","v":0},{"$f":"'Step 3 Product data'!BT79","v":0},{"$f":"'Step 3 Product data'!BU79","v":0},{"$f":"'Step 3 Product data'!BV79","v":0},{"$f":"'Step 3 Product data'!BW79","v":0},{"$f":"'Step 3 Product data'!BX79","v":0},{"$f":"'Step 3 Product data'!BY79","v":0},{"$f":"'Step 3 Product data'!BZ79","v":0},{"$f":"'Step 3 Product data'!CA79","v":0},{"$f":"'Step 3 Product data'!CB79","v":0},{"$f":"'Step 3 Product data'!CC79","v":0},{"$f":"'Step 3 Product data'!CD79","v":0},{"$f":"'Step 3 Product data'!CE79","v":0},{"$f":"'Step 3 Product data'!CF79","v":0},{"$f":"'Step 3 Product data'!CG79","v":0},{"$f":"'Step 3 Product data'!CH79","v":0},{"$f":"'Step 3 Product data'!CI79","v":0},{"$f":"'Step 3 Product data'!CJ79","v":0},{"$f":"'Step 3 Product data'!CK79","v":0},null,0,0,0,0,0]
[{"$f":"'Step 3 Product data'!A80","v":60},{"$f":"'Step 3 Product data'!B80","v":0},{"$f":"'Step 3 Product data'!C80","v":0},{"$f":"'Step 3 Product data'!D80","v":0},{"$f":"'Step 3 Product data'!E80","v":"Choose one"},{"$f":"IF(E69=$A$88,1,IF(E69='Data Validation'!$B$31,0,IF(E69=$D$81,$E$81,IF(E69=$D$82,$E$82,IF(E69=$D$83,$E$83,IF(E69=$A$89,$E$84,0))))))","v":0},{"$f":"'Step 3 Product data'!F80","v":0},{"$f":"$G69*'Step 3 Product data'!G80","v":0},{"$f":"IF(I$7=TRUE,($G69*'Step 3 Product data'!H80*(1-'Emission Calculations'!$F69)),($G69*'Step 3 Product data'!H80))","v":0},{"$f":"IF(J$7=TRUE,($G69*'Step 3 Product data'!I80*(1-'Emission Calculations'!$F69)),($G69*'Step 3 Product data'!I80))","v":0},{"$f":"IF(K$7=TRUE,($G69*'Step 3 Product data'!J80*(1-'Emission Calculations'!$F69)),($G69*'Step 3 Product data'!J80))","v":0},{"$f":"IF(L$7=TRUE,($G69*'Step 3 Product data'!K80*(1-'Emission Calculations'!$F69)),($G69*'Step 3 Product data'!K80))","v":0},{"$f":"IF(M$7=TRUE,($G69*'Step 3 Product data'!L80*(1-'Emission Calculations'!$F69)),($G69*'Step 3 Product data'!L80))","v":0},{"$f":"IF(N$7=TRUE,($G69*'Step 3 Product data'!M80*(1-'Emission Calculations'!$F69)),($G69*'Step 3 Product data'!M80))","v":0},{"$f":"IF(O$7=TRUE,($G69*'Step 3 Product data'!N80*(1-'Emission Calculations'!$F69)),($G69*'Step 3 Product data'!N80))","v":0},{"$f":"IF(P$7=TRUE,($G69*'Step 3 Product data'!O80*(1-'Emission Calculations'!$F69)),($G69*'Step 3 Product data'!O80))","v":0},{"$f":"IF(Q$7=TRUE,($G69*'Step 3 Product data'!P80*(1-'Emission Calculations'!$F69)),($G69*'Step 3 Product data'!P80))","v":0},{"$f":"IF(R$7=TRUE,($G69*'Step 3 Product data'!Q80*(1-'Emission Calculations'!$F69)),($G69*'Step 3 Product data'!Q80))","v":0},{"$f":"IF(S$7=TRUE,($G69*'Step 3 Product data'!R80*(1-'Emission Calculations'!$F69)),($G69*'Step 3 Product data'!R80))","v":0},{"$f":"IF(T$7=TRUE,($G69*'Step 3 Product data'!S80*(1-'Emission Calculations'!$F69)),($G69*'Step 3 Product data'!S80))","v":0},{"$f":"IF(U$7=TRUE,($G69*'Step 3 Product data'!T80*(1-'Emission Calculations'!$F69)),($G69*'Step 3 Product data'!T80))","v":0},{"$f":"IF(V$7=TRUE,($G69*'Step 3 Product data'!U80*(1-'Emission Calculations'!$F69)),($G69*'Step 3 Product data'!U80))","v":0},{"$f":"IF(W$7=TRUE,($G69*'Step 3 Product data'!V80*(1-'Emission Calculations'!$F69)),($G69*'Step 3 Product data'!V80))","v":0},{"$f":"IF(X$7=TRUE,($G69*'Step 3 Product data'!W80*(1-'Emission Calculations'!$F69)),($G69*'Step 3 Product data'!W80))","v":0},{"$f":"IF(Y$7=TRUE,($G69*'Step 3 Product data'!X80*(1-'Emission Calculations'!$F69)),($G69*'Step 3 Product data'!X80))","v":0},{"$f":"IF('Step 3 Product data'!Y80=0,SUM(AE69:AP69),'Step 3 Product data'!Y80)","v":" "},{"$f":"IF('Step 3 Product data'!Z80=0,SUM(AQ69:BB69),'Step 3 Product data'!Z80)","v":0},{"$f":"IF('Step 3 Product data'!AA80=0,SUM(BC69:BN69),'Step 3 Product data'!AA80)","v":0},{"$f":"IF('Step 3 Product data'!AB80=0,SUM(BO69:BZ69),'Step 3 Product data'!AB80)","v":0},{"$f":"IF('Step 3 Product data'!AC80=0,SUM(CA69:CL69),'Step 3 Product data'!AC80)","v":0},{"$f":"'Step 3 Product data'!AD80","v":0},{"$f":"'Step 3 Product data'!AE80","v":0},{"$f":"'Step 3 Product data'!AF80","v":0},{"$f":"'Step 3 Product data'!AG80","v":0},{"$f":"'Step 3 Product data'!AH80","v":0},{"$f":"'Step 3 Product data'!AI80","v":0},{"$f":"'Step 3 Product data'!AJ80","v":0},{"$f":"'Step 3 Product data'!AK80","v":0},{"$f":"'Step 3 Product data'!AL80","v":0},{"$f":"'Step 3 Product data'!AM80","v":0},{"$f":"'Step 3 Product data'!AN80","v":0},{"$f":"'Step 3 Product data'!AO80","v":0},{"$f":"'Step 3 Product data'!AP80","v":0},{"$f":"'Step 3 Product data'!AQ80","v":0},{"$f":"'Step 3 Product data'!AR80","v":0},{"$f":"'Step 3 Product data'!AS80","v":0},{"$f":"'Step 3 Product data'!AT80","v":0},{"$f":"'Step 3 Product data'!AU80","v":0},{"$f":"'Step 3 Product data'!AV80","v":0},{"$f":"'Step 3 Product data'!AW80","v":0},{"$f":"'Step 3 Product data'!AX80","v":0},{"$f":"'Step 3 Product data'!AY80","v":0},{"$f":"'Step 3 Product data'!AZ80","v":0},{"$f":"'Step 3 Product data'!BA80","v":0},{"$f":"'Step 3 Product data'!BB80","v":0},{"$f":"'Step 3 Product data'!BC80","v":0},{"$f":"'Step 3 Product data'!BD80","v":0},{"$f":"'Step 3 Product data'!BE80","v":0},{"$f":"'Step 3 Product data'!BF80","v":0},{"$f":"'Step 3 Product data'!BG80","v":0},{"$f":"'Step 3 Product data'!BH80","v":0},{"$f":"'Step 3 Product data'!BI80","v":0},{"$f":"'Step 3 Product data'!BJ80","v":0},{"$f":"'Step 3 Product data'!BK80","v":0},{"$f":"'Step 3 Product data'!BL80","v":0},{"$f":"'Step 3 Product data'!BM80","v":0},{"$f":"'Step 3 Product data'!BN80","v":0},{"$f":"'Step 3 Product data'!BO80","v":0},{"$f":"'Step 3 Product data'!BP80","v":0},{"$f":"'Step 3 Product data'!BQ80","v":0},{"$f":"'Step 3 Product data'!BR80","v":0},{"$f":"'Step 3 Product data'!BS80","v":0},{"$f":"'Step 3 Product data'!BT80","v":0},{"$f":"'Step 3 Product data'!BU80","v":0},{"$f":"'Step 3 Product data'!BV80","v":0},{"$f":"'Step 3 Product data'!BW80","v":0},{"$f":"'Step 3 Product data'!BX80","v":0},{"$f":"'Step 3 Product data'!BY80","v":0},{"$f":"'Step 3 Product data'!BZ80","v":0},{"$f":"'Step 3 Product data'!CA80","v":0},{"$f":"'Step 3 Product data'!CB80","v":0},{"$f":"'Step 3 Product data'!CC80","v":0},{"$f":"'Step 3 Product data'!CD80","v":0},{"$f":"'Step 3 Product data'!CE80","v":0},{"$f":"'Step 3 Product data'!CF80","v":0},{"$f":"'Step 3 Product data'!CG80","v":0},{"$f":"'Step 3 Product data'!CH80","v":0},{"$f":"'Step 3 Product data'!CI80","v":0},{"$f":"'Step 3 Product data'!CJ80","v":0},{"$f":"'Step 3 Product data'!CK80","v":0},null,0,0,0,0,0]
[{"$f":"'Step 3 Product data'!A81","v":61},{"$f":"'Step 3 Product data'!B81","v":0},{"$f":"'Step 3 Product data'!C81","v":0},{"$f":"'Step 3 Product data'!D81","v":0},{"$f":"'Step 3 Product data'!E81","v":"Choose one"},{"$f":"IF(E70=$A$88,1,IF(E70='Data Validation'!$B$31,0,IF(E70=$D$81,$E$81,IF(E70=$D$82,$E$82,IF(E70=$D$83,$E$83,IF(E70=$A$89,$E$84,0))))))","v":0},{"$f":"'Step 3 Product data'!F81","v":0},{"$f":"$G70*'Step 3 Product data'!G81","v":0},{"$f":"IF(I$7=TRUE,($G70*'Step 3 Product data'!H81*(1-'Emission Calculations'!$F70)),($G70*'Step 3 Product data'!H81))","v":0},{"$f":"IF(J$7=TRUE,($G70*'Step 3 Product data'!I81*(1-'Emission Calculations'!$F70)),($G70*'Step 3 Product data'!I81))","v":0},{"$f":"IF(K$7=TRUE,($G70*'Step 3 Product data'!J81*(1-'Emission Calculations'!$F70)),($G70*'Step 3 Product data'!J81))","v":0},{"$f":"IF(L$7=TRUE,($G70*'Step 3 Product data'!K81*(1-'Emission Calculations'!$F70)),($G70*'Step 3 Product data'!K81))","v":0},{"$f":"IF(M$7=TRUE,($G70*'Step 3 Product data'!L81*(1-'Emission Calculations'!$F70)),($G70*'Step 3 Product data'!L81))","v":0},{"$f":"IF(N$7=TRUE,($G70*'Step 3 Product data'!M81*(1-'Emission Calculations'!$F70)),($G70*'Step 3 Product data'!M81))","v":0},{"$f":"IF(O$7=TRUE,($G70*'Step 3 Product data'!N81*(1-'Emission Calculations'!$F70)),($G70*'Step 3 Product data'!N81))","v":0},{"$f":"IF(P$7=TRUE,($G70*'Step 3 Product data'!O81*(1-'Emission Calculations'!$F70)),($G70*'Step 3 Product data'!O81))","v":0},{"$f":"IF(Q$7=TRUE,($G70*'Step 3 Product data'!P81*(1-'Emission Calculations'!$F70)),($G70*'Step 3 Product data'!P81))","v":0},{"$f":"IF(R$7=TRUE,($G70*'Step 3 Product data'!Q81*(1-'Emission Calculations'!$F70)),($G70*'Step 3 Product data'!Q81))","v":0},{"$f":"IF(S$7=TRUE,($G70*'Step 3 Product data'!R81*(1-'Emission Calculations'!$F70)),($G70*'Step 3 Product data'!R81))","v":0},{"$f":"IF(T$7=TRUE,($G70*'Step 3 Product data'!S81*(1-'Emission Calculations'!$F70)),($G70*'Step 3 Product data'!S81))","v":0},{"$f":"IF(U$7=TRUE,($G70*'Step 3 Product data'!T81*(1-'Emission Calculations'!$F70)),($G70*'Step 3 Product data'!T81))","v":0},{"$f":"IF(V$7=TRUE,($G70*'Step 3 Product data'!U81*(1-'Emission Calculations'!$F70)),($G70*'Step 3 Product data'!U81))","v":0},{"$f":"IF(W$7=TRUE,($G70*'Step 3 Product data'!V81*(1-'Emission Calculations'!$F70)),($G70*'Step 3 Product data'!V81))","v":0},{"$f":"IF(X$7=TRUE,($G70*'Step 3 Product data'!W81*(1-'Emission Calculations'!$F70)),($G70*'Step 3 Product data'!W81))","v":0},{"$f":"IF(Y$7=TRUE,($G70*'Step 3 Product data'!X81*(1-'Emission Calculations'!$F70)),($G70*'Step 3 Product data'!X81))","v":0},{"$f":"IF('Step 3 Product data'!Y81=0,SUM(AE70:AP70),'Step 3 Product data'!Y81)","v":" "},{"$f":"IF('Step 3 Product data'!Z81=0,SUM(AQ70:BB70),'Step 3 Product data'!Z81)","v":0},{"$f":"IF('Step 3 Product data'!AA81=0,SUM(BC70:BN70),'Step 3 Product data'!AA81)","v":0},{"$f":"IF('Step 3 Product data'!AB81=0,SUM(BO70:BZ70),'Step 3 Product data'!AB81)","v":0},{"$f":"IF('Step 3 Product data'!AC81=0,SUM(CA70:CL70),'Step 3 Product data'!AC81)","v":0},{"$f":"'Step 3 Product data'!AD81","v":0},{"$f":"'Step 3 Product data'!AE81","v":0},{"$f":"'Step 3 Product data'!AF81","v":0},{"$f":"'Step 3 Product data'!AG81","v":0},{"$f":"'Step 3 Product data'!AH81","v":0},{"$f":"'Step 3 Product data'!AI81","v":0},{"$f":"'Step 3 Product data'!AJ81","v":0},{"$f":"'Step 3 Product data'!AK81","v":0},{"$f":"'Step 3 Product data'!AL81","v":0},{"$f":"'Step 3 Product data'!AM81","v":0},{"$f":"'Step 3 Product data'!AN81","v":0},{"$f":"'Step 3 Product data'!AO81","v":0},{"$f":"'Step 3 Product data'!AP81","v":0},{"$f":"'Step 3 Product data'!AQ81","v":0},{"$f":"'Step 3 Product data'!AR81","v":0},{"$f":"'Step 3 Product data'!AS81","v":0},{"$f":"'Step 3 Product data'!AT81","v":0},{"$f":"'Step 3 Product data'!AU81","v":0},{"$f":"'Step 3 Product data'!AV81","v":0},{"$f":"'Step 3 Product data'!AW81","v":0},{"$f":"'Step 3 Product data'!AX81","v":0},{"$f":"'Step 3 Product data'!AY81","v":0},{"$f":"'Step 3 Product data'!AZ81","v":0},{"$f":"'Step 3 Product data'!BA81","v":0},{"$f":"'Step 3 Product data'!BB81","v":0},{"$f":"'Step 3 Product data'!BC81","v":0},{"$f":"'Step 3 Product data'!BD81","v":0},{"$f":"'Step 3 Product data'!BE81","v":0},{"$f":"'Step 3 Product data'!BF81","v":0},{"$f":"'Step 3 Product data'!BG81","v":0},{"$f":"'Step 3 Product data'!BH81","v":0},{"$f":"'Step 3 Product data'!BI81","v":0},{"$f":"'Step 3 Product data'!BJ81","v":0},{"$f":"'Step 3 Product data'!BK81","v":0},{"$f":"'Step 3 Product data'!BL81","v":0},{"$f":"'Step 3 Product data'!BM81","v":0},{"$f":"'Step 3 Product data'!BN81","v":0},{"$f":"'Step 3 Product data'!BO81","v":0},{"$f":"'Step 3 Product data'!BP81","v":0},{"$f":"'Step 3 Product data'!BQ81","v":0},{"$f":"'Step 3 Product data'!BR81","v":0},{"$f":"'Step 3 Product data'!BS81","v":0},{"$f":"'Step 3 Product data'!BT81","v":0},{"$f":"'Step 3 Product data'!BU81","v":0},{"$f":"'Step 3 Product data'!BV81","v":0},{"$f":"'Step 3 Product data'!BW81","v":0},{"$f":"'Step 3 Product data'!BX81","v":0},{"$f":"'Step 3 Product data'!BY81","v":0},{"$f":"'Step 3 Product data'!BZ81","v":0},{"$f":"'Step 3 Product data'!CA81","v":0},{"$f":"'Step 3 Product data'!CB81","v":0},{"$f":"'Step 3 Product data'!CC81","v":0},{"$f":"'Step 3 Product data'!CD81","v":0},{"$f":"'Step 3 Product data'!CE81","v":0},{"$f":"'Step 3 Product data'!CF81","v":0},{"$f":"'Step 3 Product data'!CG81","v":0},{"$f":"'Step 3 Product data'!CH81","v":0},{"$f":"'Step 3 Product data'!CI81","v":0},{"$f":"'Step 3 Product data'!CJ81","v":0},{"$f":"'Step 3 Product data'!CK81","v":0},null,0,0,0,0,0]
[{"$f":"'Step 3 Product data'!A82","v":62},{"$f":"'Step 3 Product data'!B82","v":0},{"$f":"'Step 3 Product data'!C82","v":0},{"$f":"'Step 3 Product data'!D82","v":0},{"$f":"'Step 3 Product data'!E82","v":"Choose one"},{"$f":"IF(E71=$A$88,1,IF(E71='Data Validation'!$B$31,0,IF(E71=$D$81,$E$81,IF(E71=$D$82,$E$82,IF(E71=$D$83,$E$83,IF(E71=$A$89,$E$84,0))))))","v":0},{"$f":"'Step 3 Product data'!F82","v":0},{"$f":"$G71*'Step 3 Product data'!G82","v":0},{"$f":"IF(I$7=TRUE,($G71*'Step 3 Product data'!H82*(1-'Emission Calculations'!$F71)),($G71*'Step 3 Product data'!H82))","v":0},{"$f":"IF(J$7=TRUE,($G71*'Step 3 Product data'!I82*(1-'Emission Calculations'!$F71)),($G71*'Step 3 Product data'!I82))","v":0},{"$f":"IF(K$7=TRUE,($G71*'Step 3 Product data'!J82*(1-'Emission Calculations'!$F71)),($G71*'Step 3 Product data'!J82))","v":0},{"$f":"IF(L$7=TRUE,($G71*'Step 3 Product data'!K82*(1-'Emission Calculations'!$F71)),($G71*'Step 3 Product data'!K82))","v":0},{"$f":"IF(M$7=TRUE,($G71*'Step 3 Product data'!L82*(1-'Emission Calculations'!$F71)),($G71*'Step 3 Product data'!L82))","v":0},{"$f":"IF(N$7=TRUE,($G71*'Step 3 Product data'!M82*(1-'Emission Calculations'!$F71)),($G71*'Step 3 Product data'!M82))","v":0},{"$f":"IF(O$7=TRUE,($G71*'Step 3 Product data'!N82*(1-'Emission Calculations'!$F71)),($G71*'Step 3 Product data'!N82))","v":0},{"$f":"IF(P$7=TRUE,($G71*'Step 3 Product data'!O82*(1-'Emission Calculations'!$F71)),($G71*'Step 3 Product data'!O82))","v":0},{"$f":"IF(Q$7=TRUE,($G71*'Step 3 Product data'!P82*(1-'Emission Calculations'!$F71)),($G71*'Step 3 Product data'!P82))","v":0},{"$f":"IF(R$7=TRUE,($G71*'Step 3 Product data'!Q82*(1-'Emission Calculations'!$F71)),($G71*'Step 3 Product data'!Q82))","v":0},{"$f":"IF(S$7=TRUE,($G71*'Step 3 Product data'!R82*(1-'Emission Calculations'!$F71)),($G71*'Step 3 Product data'!R82))","v":0},{"$f":"IF(T$7=TRUE,($G71*'Step 3 Product data'!S82*(1-'Emission Calculations'!$F71)),($G71*'Step 3 Product data'!S82))","v":0},{"$f":"IF(U$7=TRUE,($G71*'Step 3 Product data'!T82*(1-'Emission Calculations'!$F71)),($G71*'Step 3 Product data'!T82))","v":0},{"$f":"IF(V$7=TRUE,($G71*'Step 3 Product data'!U82*(1-'Emission Calculations'!$F71)),($G71*'Step 3 Product data'!U82))","v":0},{"$f":"IF(W$7=TRUE,($G71*'Step 3 Product data'!V82*(1-'Emission Calculations'!$F71)),($G71*'Step 3 Product data'!V82))","v":0},{"$f":"IF(X$7=TRUE,($G71*'Step 3 Product data'!W82*(1-'Emission Calculations'!$F71)),($G71*'Step 3 Product data'!W82))","v":0},{"$f":"IF(Y$7=TRUE,($G71*'Step 3 Product data'!X82*(1-'Emission Calculations'!$F71)),($G71*'Step 3 Product data'!X82))","v":0},{"$f":"IF('Step 3 Product data'!Y82=0,SUM(AE71:AP71),'Step 3 Product data'!Y82)","v":" "},{"$f":"IF('Step 3 Product data'!Z82=0,SUM(AQ71:BB71),'Step 3 Product data'!Z82)","v":0},{"$f":"IF('Step 3 Product data'!AA82=0,SUM(BC71:BN71),'Step 3 Product data'!AA82)","v":0},{"$f":"IF('Step 3 Product data'!AB82=0,SUM(BO71:BZ71),'Step 3 Product data'!AB82)","v":0},{"$f":"IF('Step 3 Product data'!AC82=0,SUM(CA71:CL71),'Step 3 Product data'!AC82)","v":0},{"$f":"'Step 3 Product data'!AD82","v":0},{"$f":"'Step 3 Product data'!AE82","v":0},{"$f":"'Step 3 Product data'!AF82","v":0},{"$f":"'Step 3 Product data'!AG82","v":0},{"$f":"'Step 3 Product data'!AH82","v":0},{"$f":"'Step 3 Product data'!AI82","v":0},{"$f":"'Step 3 Product data'!AJ82","v":0},{"$f":"'Step 3 Product data'!AK82","v":0},{"$f":"'Step 3 Product data'!AL82","v":0},{"$f":"'Step 3 Product data'!AM82","v":0},{"$f":"'Step 3 Product data'!AN82","v":0},{"$f":"'Step 3 Product data'!AO82","v":0},{"$f":"'Step 3 Product data'!AP82","v":0},{"$f":"'Step 3 Product data'!AQ82","v":0},{"$f":"'Step 3 Product data'!AR82","v":0},{"$f":"'Step 3 Product data'!AS82","v":0},{"$f":"'Step 3 Product data'!AT82","v":0},{"$f":"'Step 3 Product data'!AU82","v":0},{"$f":"'Step 3 Product data'!AV82","v":0},{"$f":"'Step 3 Product data'!AW82","v":0},{"$f":"'Step 3 Product data'!AX82","v":0},{"$f":"'Step 3 Product data'!AY82","v":0},{"$f":"'Step 3 Product data'!AZ82","v":0},{"$f":"'Step 3 Product data'!BA82","v":0},{"$f":"'Step 3 Product data'!BB82","v":0},{"$f":"'Step 3 Product data'!BC82","v":0},{"$f":"'Step 3 Product data'!BD82","v":0},{"$f":"'Step 3 Product data'!BE82","v":0},{"$f":"'Step 3 Product data'!BF82","v":0},{"$f":"'Step 3 Product data'!BG82","v":0},{"$f":"'Step 3 Product data'!BH82","v":0},{"$f":"'Step 3 Product data'!BI82","v":0},{"$f":"'Step 3 Product data'!BJ82","v":0},{"$f":"'Step 3 Product data'!BK82","v":0},{"$f":"'Step 3 Product data'!BL82","v":0},{"$f":"'Step 3 Product data'!BM82","v":0},{"$f":"'Step 3 Product data'!BN82","v":0},{"$f":"'Step 3 Product data'!BO82","v":0},{"$f":"'Step 3 Product data'!BP82","v":0},{"$f":"'Step 3 Product data'!BQ82","v":0},{"$f":"'Step 3 Product data'!BR82","v":0},{"$f":"'Step 3 Product data'!BS82","v":0},{"$f":"'Step 3 Product data'!BT82","v":0},{"$f":"'Step 3 Product data'!BU82","v":0},{"$f":"'Step 3 Product data'!BV82","v":0},{"$f":"'Step 3 Product data'!BW82","v":0},{"$f":"'Step 3 Product data'!BX82","v":0},{"$f":"'Step 3 Product data'!BY82","v":0},{"$f":"'Step 3 Product data'!BZ82","v":0},{"$f":"'Step 3 Product data'!CA82","v":0},{"$f":"'Step 3 Product data'!CB82","v":0},{"$f":"'Step 3 Product data'!CC82","v":0},{"$f":"'Step 3 Product data'!CD82","v":0},{"$f":"'Step 3 Product data'!CE82","v":0},{"$f":"'Step 3 Product data'!CF82","v":0},{"$f":"'Step 3 Product data'!CG82","v":0},{"$f":"'Step 3 Product data'!CH82","v":0},{"$f":"'Step 3 Product data'!CI82","v":0},{"$f":"'Step 3 Product data'!CJ82","v":0},{"$f":"'Step 3 Product data'!CK82","v":0},null,0,0,0,0,0]
[{"$f":"'Step 3 Product data'!A83","v":63},{"$f":"'Step 3 Product data'!B83","v":0},{"$f":"'Step 3 Product data'!C83","v":0},{"$f":"'Step 3 Product data'!D83","v":0},{"$f":"'Step 3 Product data'!E83","v":"Choose one"},{"$f":"IF(E72=$A$88,1,IF(E72='Data Validation'!$B$31,0,IF(E72=$D$81,$E$81,IF(E72=$D$82,$E$82,IF(E72=$D$83,$E$83,IF(E72=$A$89,$E$84,0))))))","v":0},{"$f":"'Step 3 Product data'!F83","v":0},{"$f":"$G72*'Step 3 Product data'!G83","v":0},{"$f":"IF(I$7=TRUE,($G72*'Step 3 Product data'!H83*(1-'Emission Calculations'!$F72)),($G72*'Step 3 Product data'!H83))","v":0},{"$f":"IF(J$7=TRUE,($G72*'Step 3 Product data'!I83*(1-'Emission Calculations'!$F72)),($G72*'Step 3 Product data'!I83))","v":0},{"$f":"IF(K$7=TRUE,($G72*'Step 3 Product data'!J83*(1-'Emission Calculations'!$F72)),($G72*'Step 3 Product data'!J83))","v":0},{"$f":"IF(L$7=TRUE,($G72*'Step 3 Product data'!K83*(1-'Emission Calculations'!$F72)),($G72*'Step 3 Product data'!K83))","v":0},{"$f":"IF(M$7=TRUE,($G72*'Step 3 Product data'!L83*(1-'Emission Calculations'!$F72)),($G72*'Step 3 Product data'!L83))","v":0},{"$f":"IF(N$7=TRUE,($G72*'Step 3 Product data'!M83*(1-'Emission Calculations'!$F72)),($G72*'Step 3 Product data'!M83))","v":0},{"$f":"IF(O$7=TRUE,($G72*'Step 3 Product data'!N83*(1-'Emission Calculations'!$F72)),($G72*'Step 3 Product data'!N83))","v":0},{"$f":"IF(P$7=TRUE,($G72*'Step 3 Product data'!O83*(1-'Emission Calculations'!$F72)),($G72*'Step 3 Product data'!O83))","v":0},{"$f":"IF(Q$7=TRUE,($G72*'Step 3 Product data'!P83*(1-'Emission Calculations'!$F72)),($G72*'Step 3 Product data'!P83))","v":0},{"$f":"IF(R$7=TRUE,($G72*'Step 3 Product data'!Q83*(1-'Emission Calculations'!$F72)),($G72*'Step 3 Product data'!Q83))","v":0},{"$f":"IF(S$7=TRUE,($G72*'Step 3 Product data'!R83*(1-'Emission Calculations'!$F72)),($G72*'Step 3 Product data'!R83))","v":0},{"$f":"IF(T$7=TRUE,($G72*'Step 3 Product data'!S83*(1-'Emission Calculations'!$F72)),($G72*'Step 3 Product data'!S83))","v":0},{"$f":"IF(U$7=TRUE,($G72*'Step 3 Product data'!T83*(1-'Emission Calculations'!$F72)),($G72*'Step 3 Product data'!T83))","v":0},{"$f":"IF(V$7=TRUE,($G72*'Step 3 Product data'!U83*(1-'Emission Calculations'!$F72)),($G72*'Step 3 Product data'!U83))","v":0},{"$f":"IF(W$7=TRUE,($G72*'Step 3 Product data'!V83*(1-'Emission Calculations'!$F72)),($G72*'Step 3 Product data'!V83))","v":0},{"$f":"IF(X$7=TRUE,($G72*'Step 3 Product data'!W83*(1-'Emission Calculations'!$F72)),($G72*'Step 3 Product data'!W83))","v":0},{"$f":"IF(Y$7=TRUE,($G72*'Step 3 Product data'!X83*(1-'Emission Calculations'!$F72)),($G72*'Step 3 Product data'!X83))","v":0},{"$f":"IF('Step 3 Product data'!Y83=0,SUM(AE72:AP72),'Step 3 Product data'!Y83)","v":" "},{"$f":"IF('Step 3 Product data'!Z83=0,SUM(AQ72:BB72),'Step 3 Product data'!Z83)","v":0},{"$f":"IF('Step 3 Product data'!AA83=0,SUM(BC72:BN72),'Step 3 Product data'!AA83)","v":0},{"$f":"IF('Step 3 Product data'!AB83=0,SUM(BO72:BZ72),'Step 3 Product data'!AB83)","v":0},{"$f":"IF('Step 3 Product data'!AC83=0,SUM(CA72:CL72),'Step 3 Product data'!AC83)","v":0},{"$f":"'Step 3 Product data'!AD83","v":0},{"$f":"'Step 3 Product data'!AE83","v":0},{"$f":"'Step 3 Product data'!AF83","v":0},{"$f":"'Step 3 Product data'!AG83","v":0},{"$f":"'Step 3 Product data'!AH83","v":0},{"$f":"'Step 3 Product data'!AI83","v":0},{"$f":"'Step 3 Product data'!AJ83","v":0},{"$f":"'Step 3 Product data'!AK83","v":0},{"$f":"'Step 3 Product data'!AL83","v":0},{"$f":"'Step 3 Product data'!AM83","v":0},{"$f":"'Step 3 Product data'!AN83","v":0},{"$f":"'Step 3 Product data'!AO83","v":0},{"$f":"'Step 3 Product data'!AP83","v":0},{"$f":"'Step 3 Product data'!AQ83","v":0},{"$f":"'Step 3 Product data'!AR83","v":0},{"$f":"'Step 3 Product data'!AS83","v":0},{"$f":"'Step 3 Product data'!AT83","v":0},{"$f":"'Step 3 Product data'!AU83","v":0},{"$f":"'Step 3 Product data'!AV83","v":0},{"$f":"'Step 3 Product data'!AW83","v":0},{"$f":"'Step 3 Product data'!AX83","v":0},{"$f":"'Step 3 Product data'!AY83","v":0},{"$f":"'Step 3 Product data'!AZ83","v":0},{"$f":"'Step 3 Product data'!BA83","v":0},{"$f":"'Step 3 Product data'!BB83","v":0},{"$f":"'Step 3 Product data'!BC83","v":0},{"$f":"'Step 3 Product data'!BD83","v":0},{"$f":"'Step 3 Product data'!BE83","v":0},{"$f":"'Step 3 Product data'!BF83","v":0},{"$f":"'Step 3 Product data'!BG83","v":0},{"$f":"'Step 3 Product data'!BH83","v":0},{"$f":"'Step 3 Product data'!BI83","v":0},{"$f":"'Step 3 Product data'!BJ83","v":0},{"$f":"'Step 3 Product data'!BK83","v":0},{"$f":"'Step 3 Product data'!BL83","v":0},{"$f":"'Step 3 Product data'!BM83","v":0},{"$f":"'Step 3 Product data'!BN83","v":0},{"$f":"'Step 3 Product data'!BO83","v":0},{"$f":"'Step 3 Product data'!BP83","v":0},{"$f":"'Step 3 Product data'!BQ83","v":0},{"$f":"'Step 3 Product data'!BR83","v":0},{"$f":"'Step 3 Product data'!BS83","v":0},{"$f":"'Step 3 Product data'!BT83","v":0},{"$f":"'Step 3 Product data'!BU83","v":0},{"$f":"'Step 3 Product data'!BV83","v":0},{"$f":"'Step 3 Product data'!BW83","v":0},{"$f":"'Step 3 Product data'!BX83","v":0},{"$f":"'Step 3 Product data'!BY83","v":0},{"$f":"'Step 3 Product data'!BZ83","v":0},{"$f":"'Step 3 Product data'!CA83","v":0},{"$f":"'Step 3 Product data'!CB83","v":0},{"$f":"'Step 3 Product data'!CC83","v":0},{"$f":"'Step 3 Product data'!CD83","v":0},{"$f":"'Step 3 Product data'!CE83","v":0},{"$f":"'Step 3 Product data'!CF83","v":0},{"$f":"'Step 3 Product data'!CG83","v":0},{"$f":"'Step 3 Product data'!CH83","v":0},{"$f":"'Step 3 Product data'!CI83","v":0},{"$f":"'Step 3 Product data'!CJ83","v":0},{"$f":"'Step 3 Product data'!CK83","v":0},null,0,0,0,0,0]
[{"$f":"'Step 3 Product data'!A84","v":64},{"$f":"'Step 3 Product data'!B84","v":0},{"$f":"'Step 3 Product data'!C84","v":0},{"$f":"'Step 3 Product data'!D84","v":0},{"$f":"'Step 3 Product data'!E84","v":"Choose one"},{"$f":"IF(E73=$A$88,1,IF(E73='Data Validation'!$B$31,0,IF(E73=$D$81,$E$81,IF(E73=$D$82,$E$82,IF(E73=$D$83,$E$83,IF(E73=$A$89,$E$84,0))))))","v":0},{"$f":"'Step 3 Product data'!F84","v":0},{"$f":"$G73*'Step 3 Product data'!G84","v":0},{"$f":"IF(I$7=TRUE,($G73*'Step 3 Product data'!H84*(1-'Emission Calculations'!$F73)),($G73*'Step 3 Product data'!H84))","v":0},{"$f":"IF(J$7=TRUE,($G73*'Step 3 Product data'!I84*(1-'Emission Calculations'!$F73)),($G73*'Step 3 Product data'!I84))","v":0},{"$f":"IF(K$7=TRUE,($G73*'Step 3 Product data'!J84*(1-'Emission Calculations'!$F73)),($G73*'Step 3 Product data'!J84))","v":0},{"$f":"IF(L$7=TRUE,($G73*'Step 3 Product data'!K84*(1-'Emission Calculations'!$F73)),($G73*'Step 3 Product data'!K84))","v":0},{"$f":"IF(M$7=TRUE,($G73*'Step 3 Product data'!L84*(1-'Emission Calculations'!$F73)),($G73*'Step 3 Product data'!L84))","v":0},{"$f":"IF(N$7=TRUE,($G73*'Step 3 Product data'!M84*(1-'Emission Calculations'!$F73)),($G73*'Step 3 Product data'!M84))","v":0},{"$f":"IF(O$7=TRUE,($G73*'Step 3 Product data'!N84*(1-'Emission Calculations'!$F73)),($G73*'Step 3 Product data'!N84))","v":0},{"$f":"IF(P$7=TRUE,($G73*'Step 3 Product data'!O84*(1-'Emission Calculations'!$F73)),($G73*'Step 3 Product data'!O84))","v":0},{"$f":"IF(Q$7=TRUE,($G73*'Step 3 Product data'!P84*(1-'Emission Calculations'!$F73)),($G73*'Step 3 Product data'!P84))","v":0},{"$f":"IF(R$7=TRUE,($G73*'Step 3 Product data'!Q84*(1-'Emission Calculations'!$F73)),($G73*'Step 3 Product data'!Q84))","v":0},{"$f":"IF(S$7=TRUE,($G73*'Step 3 Product data'!R84*(1-'Emission Calculations'!$F73)),($G73*'Step 3 Product data'!R84))","v":0},{"$f":"IF(T$7=TRUE,($G73*'Step 3 Product data'!S84*(1-'Emission Calculations'!$F73)),($G73*'Step 3 Product data'!S84))","v":0},{"$f":"IF(U$7=TRUE,($G73*'Step 3 Product data'!T84*(1-'Emission Calculations'!$F73)),($G73*'Step 3 Product data'!T84))","v":0},{"$f":"IF(V$7=TRUE,($G73*'Step 3 Product data'!U84*(1-'Emission Calculations'!$F73)),($G73*'Step 3 Product data'!U84))","v":0},{"$f":"IF(W$7=TRUE,($G73*'Step 3 Product data'!V84*(1-'Emission Calculations'!$F73)),($G73*'Step 3 Product data'!V84))","v":0},{"$f":"IF(X$7=TRUE,($G73*'Step 3 Product data'!W84*(1-'Emission Calculations'!$F73)),($G73*'Step 3 Product data'!W84))","v":0},{"$f":"IF(Y$7=TRUE,($G73*'Step 3 Product data'!X84*(1-'Emission Calculations'!$F73)),($G73*'Step 3 Product data'!X84))","v":0},{"$f":"IF('Step 3 Product data'!Y84=0,SUM(AE73:AP73),'Step 3 Product data'!Y84)","v":" "},{"$f":"IF('Step 3 Product data'!Z84=0,SUM(AQ73:BB73),'Step 3 Product data'!Z84)","v":0},{"$f":"IF('Step 3 Product data'!AA84=0,SUM(BC73:BN73),'Step 3 Product data'!AA84)","v":0},{"$f":"IF('Step 3 Product data'!AB84=0,SUM(BO73:BZ73),'Step 3 Product data'!AB84)","v":0},{"$f":"IF('Step 3 Product data'!AC84=0,SUM(CA73:CL73),'Step 3 Product data'!AC84)","v":0},{"$f":"'Step 3 Product data'!AD84","v":0},{"$f":"'Step 3 Product data'!AE84","v":0},{"$f":"'Step 3 Product data'!AF84","v":0},{"$f":"'Step 3 Product data'!AG84","v":0},{"$f":"'Step 3 Product data'!AH84","v":0},{"$f":"'Step 3 Product data'!AI84","v":0},{"$f":"'Step 3 Product data'!AJ84","v":0},{"$f":"'Step 3 Product data'!AK84","v":0},{"$f":"'Step 3 Product data'!AL84","v":0},{"$f":"'Step 3 Product data'!AM84","v":0},{"$f":"'Step 3 Product data'!AN84","v":0},{"$f":"'Step 3 Product data'!AO84","v":0},{"$f":"'Step 3 Product data'!AP84","v":0},{"$f":"'Step 3 Product data'!AQ84","v":0},{"$f":"'Step 3 Product data'!AR84","v":0},{"$f":"'Step 3 Product data'!AS84","v":0},{"$f":"'Step 3 Product data'!AT84","v":0},{"$f":"'Step 3 Product data'!AU84","v":0},{"$f":"'Step 3 Product data'!AV84","v":0},{"$f":"'Step 3 Product data'!AW84","v":0},{"$f":"'Step 3 Product data'!AX84","v":0},{"$f":"'Step 3 Product data'!AY84","v":0},{"$f":"'Step 3 Product data'!AZ84","v":0},{"$f":"'Step 3 Product data'!BA84","v":0},{"$f":"'Step 3 Product data'!BB84","v":0},{"$f":"'Step 3 Product data'!BC84","v":0},{"$f":"'Step 3 Product data'!BD84","v":0},{"$f":"'Step 3 Product data'!BE84","v":0},{"$f":"'Step 3 Product data'!BF84","v":0},{"$f":"'Step 3 Product data'!BG84","v":0},{"$f":"'Step 3 Product data'!BH84","v":0},{"$f":"'Step 3 Product data'!BI84","v":0},{"$f":"'Step 3 Product data'!BJ84","v":0},{"$f":"'Step 3 Product data'!BK84","v":0},{"$f":"'Step 3 Product data'!BL84","v":0},{"$f":"'Step 3 Product data'!BM84","v":0},{"$f":"'Step 3 Product data'!BN84","v":0},{"$f":"'Step 3 Product data'!BO84","v":0},{"$f":"'Step 3 Product data'!BP84","v":0},{"$f":"'Step 3 Product data'!BQ84","v":0},{"$f":"'Step 3 Product data'!BR84","v":0},{"$f":"'Step 3 Product data'!BS84","v":0},{"$f":"'Step 3 Product data'!BT84","v":0},{"$f":"'Step 3 Product data'!BU84","v":0},{"$f":"'Step 3 Product data'!BV84","v":0},{"$f":"'Step 3 Product data'!BW84","v":0},{"$f":"'Step 3 Product data'!BX84","v":0},{"$f":"'Step 3 Product data'!BY84","v":0},{"$f":"'Step 3 Product data'!BZ84","v":0},{"$f":"'Step 3 Product data'!CA84","v":0},{"$f":"'Step 3 Product data'!CB84","v":0},{"$f":"'Step 3 Product data'!CC84","v":0},{"$f":"'Step 3 Product data'!CD84","v":0},{"$f":"'Step 3 Product data'!CE84","v":0},{"$f":"'Step 3 Product data'!CF84","v":0},{"$f":"'Step 3 Product data'!CG84","v":0},{"$f":"'Step 3 Product data'!CH84","v":0},{"$f":"'Step 3 Product data'!CI84","v":0},{"$f":"'Step 3 Product data'!CJ84","v":0},{"$f":"'Step 3 Product data'!CK84","v":0},null,0,0,0,0,0]
[{"$f":"'Step 3 Product data'!A85","v":65},{"$f":"'Step 3 Product data'!B85","v":0},{"$f":"'Step 3 Product data'!C85","v":0},{"$f":"'Step 3 Product data'!D85","v":0},{"$f":"'Step 3 Product data'!E85","v":"Choose one"},{"$f":"IF(E74=$A$88,1,IF(E74='Data Validation'!$B$31,0,IF(E74=$D$81,$E$81,IF(E74=$D$82,$E$82,IF(E74=$D$83,$E$83,IF(E74=$A$89,$E$84,0))))))","v":0},{"$f":"'Step 3 Product data'!F85","v":0},{"$f":"$G74*'Step 3 Product data'!G85","v":0},{"$f":"IF(I$7=TRUE,($G74*'Step 3 Product data'!H85*(1-'Emission Calculations'!$F74)),($G74*'Step 3 Product data'!H85))","v":0},{"$f":"IF(J$7=TRUE,($G74*'Step 3 Product data'!I85*(1-'Emission Calculations'!$F74)),($G74*'Step 3 Product data'!I85))","v":0},{"$f":"IF(K$7=TRUE,($G74*'Step 3 Product data'!J85*(1-'Emission Calculations'!$F74)),($G74*'Step 3 Product data'!J85))","v":0},{"$f":"IF(L$7=TRUE,($G74*'Step 3 Product data'!K85*(1-'Emission Calculations'!$F74)),($G74*'Step 3 Product data'!K85))","v":0},{"$f":"IF(M$7=TRUE,($G74*'Step 3 Product data'!L85*(1-'Emission Calculations'!$F74)),($G74*'Step 3 Product data'!L85))","v":0},{"$f":"IF(N$7=TRUE,($G74*'Step 3 Product data'!M85*(1-'Emission Calculations'!$F74)),($G74*'Step 3 Product data'!M85))","v":0},{"$f":"IF(O$7=TRUE,($G74*'Step 3 Product data'!N85*(1-'Emission Calculations'!$F74)),($G74*'Step 3 Product data'!N85))","v":0},{"$f":"IF(P$7=TRUE,($G74*'Step 3 Product data'!O85*(1-'Emission Calculations'!$F74)),($G74*'Step 3 Product data'!O85))","v":0},{"$f":"IF(Q$7=TRUE,($G74*'Step 3 Product data'!P85*(1-'Emission Calculations'!$F74)),($G74*'Step 3 Product data'!P85))","v":0},{"$f":"IF(R$7=TRUE,($G74*'Step 3 Product data'!Q85*(1-'Emission Calculations'!$F74)),($G74*'Step 3 Product data'!Q85))","v":0},{"$f":"IF(S$7=TRUE,($G74*'Step 3 Product data'!R85*(1-'Emission Calculations'!$F74)),($G74*'Step 3 Product data'!R85))","v":0},{"$f":"IF(T$7=TRUE,($G74*'Step 3 Product data'!S85*(1-'Emission Calculations'!$F74)),($G74*'Step 3 Product data'!S85))","v":0},{"$f":"IF(U$7=TRUE,($G74*'Step 3 Product data'!T85*(1-'Emission Calculations'!$F74)),($G74*'Step 3 Product data'!T85))","v":0},{"$f":"IF(V$7=TRUE,($G74*'Step 3 Product data'!U85*(1-'Emission Calculations'!$F74)),($G74*'Step 3 Product data'!U85))","v":0},{"$f":"IF(W$7=TRUE,($G74*'Step 3 Product data'!V85*(1-'Emission Calculations'!$F74)),($G74*'Step 3 Product data'!V85))","v":0},{"$f":"IF(X$7=TRUE,($G74*'Step 3 Product data'!W85*(1-'Emission Calculations'!$F74)),($G74*'Step 3 Product data'!W85))","v":0},{"$f":"IF(Y$7=TRUE,($G74*'Step 3 Product data'!X85*(1-'Emission Calculations'!$F74)),($G74*'Step 3 Product data'!X85))","v":0},{"$f":"IF('Step 3 Product data'!Y85=0,SUM(AE74:AP74),'Step 3 Product data'!Y85)","v":" "},{"$f":"IF('Step 3 Product data'!Z85=0,SUM(AQ74:BB74),'Step 3 Product data'!Z85)","v":0},{"$f":"IF('Step 3 Product data'!AA85=0,SUM(BC74:BN74),'Step 3 Product data'!AA85)","v":0},{"$f":"IF('Step 3 Product data'!AB85=0,SUM(BO74:BZ74),'Step 3 Product data'!AB85)","v":0},{"$f":"IF('Step 3 Product data'!AC85=0,SUM(CA74:CL74),'Step 3 Product data'!AC85)","v":0},{"$f":"'Step 3 Product data'!AD85","v":0},{"$f":"'Step 3 Product data'!AE85","v":0},{"$f":"'Step 3 Product data'!AF85","v":0},{"$f":"'Step 3 Product data'!AG85","v":0},{"$f":"'Step 3 Product data'!AH85","v":0},{"$f":"'Step 3 Product data'!AI85","v":0},{"$f":"'Step 3 Product data'!AJ85","v":0},{"$f":"'Step 3 Product data'!AK85","v":0},{"$f":"'Step 3 Product data'!AL85","v":0},{"$f":"'Step 3 Product data'!AM85","v":0},{"$f":"'Step 3 Product data'!AN85","v":0},{"$f":"'Step 3 Product data'!AO85","v":0},{"$f":"'Step 3 Product data'!AP85","v":0},{"$f":"'Step 3 Product data'!AQ85","v":0},{"$f":"'Step 3 Product data'!AR85","v":0},{"$f":"'Step 3 Product data'!AS85","v":0},{"$f":"'Step 3 Product data'!AT85","v":0},{"$f":"'Step 3 Product data'!AU85","v":0},{"$f":"'Step 3 Product data'!AV85","v":0},{"$f":"'Step 3 Product data'!AW85","v":0},{"$f":"'Step 3 Product data'!AX85","v":0},{"$f":"'Step 3 Product data'!AY85","v":0},{"$f":"'Step 3 Product data'!AZ85","v":0},{"$f":"'Step 3 Product data'!BA85","v":0},{"$f":"'Step 3 Product data'!BB85","v":0},{"$f":"'Step 3 Product data'!BC85","v":0},{"$f":"'Step 3 Product data'!BD85","v":0},{"$f":"'Step 3 Product data'!BE85","v":0},{"$f":"'Step 3 Product data'!BF85","v":0},{"$f":"'Step 3 Product data'!BG85","v":0},{"$f":"'Step 3 Product data'!BH85","v":0},{"$f":"'Step 3 Product data'!BI85","v":0},{"$f":"'Step 3 Product data'!BJ85","v":0},{"$f":"'Step 3 Product data'!BK85","v":0},{"$f":"'Step 3 Product data'!BL85","v":0},{"$f":"'Step 3 Product data'!BM85","v":0},{"$f":"'Step 3 Product data'!BN85","v":0},{"$f":"'Step 3 Product data'!BO85","v":0},{"$f":"'Step 3 Product data'!BP85","v":0},{"$f":"'Step 3 Product data'!BQ85","v":0},{"$f":"'Step 3 Product data'!BR85","v":0},{"$f":"'Step 3 Product data'!BS85","v":0},{"$f":"'Step 3 Product data'!BT85","v":0},{"$f":"'Step 3 Product data'!BU85","v":0},{"$f":"'Step 3 Product data'!BV85","v":0},{"$f":"'Step 3 Product data'!BW85","v":0},{"$f":"'Step 3 Product data'!BX85","v":0},{"$f":"'Step 3 Product data'!BY85","v":0},{"$f":"'Step 3 Product data'!BZ85","v":0},{"$f":"'Step 3 Product data'!CA85","v":0},{"$f":"'Step 3 Product data'!CB85","v":0},{"$f":"'Step 3 Product data'!CC85","v":0},{"$f":"'Step 3 Product data'!CD85","v":0},{"$f":"'Step 3 Product data'!CE85","v":0},{"$f":"'Step 3 Product data'!CF85","v":0},{"$f":"'Step 3 Product data'!CG85","v":0},{"$f":"'Step 3 Product data'!CH85","v":0},{"$f":"'Step 3 Product data'!CI85","v":0},{"$f":"'Step 3 Product data'!CJ85","v":0},{"$f":"'Step 3 Product data'!CK85","v":0},null,0,0,0,0,0]
[]
[]
[]
["Pariculate emissions: transfer efficiency"]
["Used to calculate particulate pollutant emission factors with transfer efficiency",null,null,null,null,null,null,"Helper1","Method 1","TE 1","Method 2","TE 2","Method 3","TE 3"]
["Application method","Transfer efficiency",null,"Application","TE","Column",null,{"$f":"ROWS($A$80:A80)","v":1},{"$f":"IF('Step 3 Product data'!$E$7=$A80,$H80,\"\")","v":""},{"$f":"IFERROR(SMALL($I$80:$I$88,ROWS($I$80:I80)),\"\")","v":""},{"$f":"IF('Step 3 Product data'!E$8=$A80,$H80,\"\")","v":""},{"$f":"IFERROR(SMALL(K$80:K$88,ROWS(K$80:K80)),\"\")","v":""},{"$f":"IF('Step 3 Product data'!E$9=$A80,$H80,\"\")","v":""},{"$f":"IFERROR(SMALL(M$80:M$88,ROWS(M$80:M80)),\"\")","v":""}]
["Air Atomization Spray",0.3,null,{"$f":"IFERROR(INDEX(HAPs4[#All],$J80,COLUMNS($C80:C81)),\"\")","v":""},{"$f":"IFERROR(INDEX(HAPs4[#All],$J80,COLUMNS($C$81:D81)),\"\")","v":""},"Method 1",null,{"$f":"ROWS($A$80:A81)","v":2},{"$f":"IF('Step 3 Product data'!$E$7=$A81,$H81,\"\")","v":""},{"$f":"IFERROR(SMALL($I$80:$I$88,ROWS($I$80:I81)),\"\")","v":""},{"$f":"IF('Step 3 Product data'!E$8=$A81,$H81,\"\")","v":""},{"$f":"IFERROR(SMALL(K$80:K$88,ROWS(K$80:K81)),\"\")","v":""},{"$f":"IF('Step 3 Product data'!E$9=$A81,$H81,\"\")","v":""},{"$f":"IFERROR(SMALL(M$80:M$88,ROWS(M$80:M81)),\"\")","v":""}]
["Airless Spray",0.45,null,{"$f":"IFERROR(INDEX(HAPs4[#All],$L80,COLUMNS($C81:C82)),\"\")","v":""},{"$f":"IFERROR(INDEX(HAPs4[#All],$L80,COLUMNS($C81:D82)),\"\")","v":""},"Method 2",null,{"$f":"ROWS($A$80:A82)","v":3},{"$f":"IF('Step 3 Product data'!$E$7=$A82,$H82,\"\")","v":""},{"$f":"IFERROR(SMALL($I$80:$I$88,ROWS($I$80:I82)),\"\")","v":""},{"$f":"IF('Step 3 Product data'!E$8=$A82,$H82,\"\")","v":""},{"$f":"IFERROR(SMALL(K$80:K$88,ROWS(K$80:K82)),\"\")","v":""},{"$f":"IF('Step 3 Product data'!E$9=$A82,$H82,\"\")","v":""},{"$f":"IFERROR(SMALL(M$80:M$88,ROWS(M$80:M82)),\"\")","v":""}]
["Electrostatic/Air Atomization",0.7,null,{"$f":"IFERROR(INDEX(HAPs4[#All],$N80,COLUMNS($C$81:C83)),\"\")","v":""},{"$f":"IFERROR(INDEX(HAPs4[#All],$N80,COLUMNS($C$81:D83)),\"\")","v":""},"Method 3",null,{"$f":"ROWS($A$80:A83)","v":4},{"$f":"IF('Step 3 Product data'!$E$7=$A83,$H83,\"\")","v":""},{"$f":"IFERROR(SMALL($I$80:$I$88,ROWS($I$80:I83)),\"\")","v":""},{"$f":"IF('Step 3 Product data'!E$8=$A83,$H83,\"\")","v":""},{"$f":"IFERROR(SMALL(K$80:K$88,ROWS(K$80:K83)),\"\")","v":""},{"$f":"IF('Step 3 Product data'!E$9=$A83,$H83,\"\")","v":""},{"$f":"IFERROR(SMALL(M$80:M$88,ROWS(M$80:M83)),\"\")","v":""}]
["Electrostatic/Airless",0.75,null,{"$f":"IF($B$89>0,\"Worst-case\",\"\")","v":""},{"$f":"IF($D$84=\"Worst-case\",MIN(E81:E83))","v":false},null,null,{"$f":"ROWS($A$80:A84)","v":5},{"$f":"IF('Step 3 Product data'!$E$7=$A84,$H84,\"\")","v":""},{"$f":"IFERROR(SMALL($I$80:$I$88,ROWS($I$80:I84)),\"\")","v":""},{"$f":"IF('Step 3 Product data'!E$8=$A84,$H84,\"\")","v":""},{"$f":"IFERROR(SMALL(K$80:K$88,ROWS(K$80:K84)),\"\")","v":""},{"$f":"IF('Step 3 Product data'!E$9=$A84,$H84,\"\")","v":""},{"$f":"IFERROR(SMALL(M$80:M$88,ROWS(M$80:M84)),\"\")","v":""}]
["HVLP (High Volume Low Pressure)",0.75,null,null,null,null,null,{"$f":"ROWS($A$80:A85)","v":6},{"$f":"IF('Step 3 Product data'!$E$7=$A85,$H85,\"\")","v":""},{"$f":"IFERROR(SMALL($I$80:$I$88,ROWS($I$80:I85)),\"\")","v":""},{"$f":"IF('Step 3 Product data'!E$8=$A85,$H85,\"\")","v":""},{"$f":"IFERROR(SMALL(K$80:K$88,ROWS(K$80:K85)),\"\")","v":""},{"$f":"IF('Step 3 Product data'!E$9=$A85,$H85,\"\")","v":""},{"$f":"IFERROR(SMALL(M$80:M$88,ROWS(M$80:M85)),\"\")","v":""}]
["Electrode Deposition",0.95,null,null,null,null,null,{"$f":"ROWS($A$80:A86)","v":7},{"$f":"IF('Step 3 Product data'!$E$7=$A86,$H86,\"\")","v":""},{"$f":"IFERROR(SMALL($I$80:$I$88,ROWS($I$80:I86)),\"\")","v":""},{"$f":"IF('Step 3 Product data'!E$8=$A86,$H86,\"\")","v":""},{"$f":"IFERROR(SMALL(K$80:K$88,ROWS(K$80:K86)),\"\")","v":""},{"$f":"IF('Step 3 Product data'!E$9=$A86,$H86,\"\")","v":""},{"$f":"IFERROR(SMALL(M$80:M$88,ROWS(M$80:M86)),\"\")","v":""}]
["Powder",0.95,null,null,null,null,null,{"$f":"ROWS($A$80:A87)","v":8},{"$f":"IF('Step 3 Product data'!$E$7=$A87,$H87,\"\")","v":""},{"$f":"IFERROR(SMALL($I$80:$I$88,ROWS($I$80:I87)),\"\")","v":""},{"$f":"IF('Step 3 Product data'!E$8=$A87,$H87,\"\")","v":""},{"$f":"IFERROR(SMALL(K$80:K$88,ROWS(K$80:K87)),\"\")","v":""},{"$f":"IF('Step 3 Product data'!E$9=$A87,$H87,\"\")","v":""},{"$f":"IFERROR(SMALL(M$80:M$88,ROWS(M$80:M87)),\"\")","v":""}]
["Brush/roll/wipe",1,null,null,null,null,null,{"$f":"ROWS($A$80:A88)","v":9},{"$f":"IF('Step 3 Product data'!$E$7=$A88,$H88,\"\")","v":""},{"$f":"IFERROR(SMALL($I$80:$I$88,ROWS($I$80:I88)),\"\")","v":""},{"$f":"IF('Step 3 Product data'!E$8=$A88,$H88,\"\")","v":""},{"$f":"IFERROR(SMALL(K$80:K$88,ROWS(K$80:K88)),\"\")","v":""},{"$f":"IF('Step 3 Product data'!E$9=$A88,$H88,\"\")","v":""},{"$f":"IFERROR(SMALL(M$80:M$88,ROWS(M$80:M88)),\"\")","v":""}]
["Worst-case",{"$f":"MIN(E81:E83)","v":0}]
[]
[]
["Particulate HAPs "]
["PM"]
["PM10"]
["Antimony compounds"]
["Arsenic compounds (inorganic including arsine)"]
["Beryllium compounds"]
["Cadmium compounds"]
["Chromium compounds"]
["Cobalt compounds"]
["Coke oven emissions"]
["Cyanide compounds"]
["Lead compounds"]
["Manganese compounds"]
["Mercury compounds"]
["Mineral fibers"]
["Nickel compounds"]
["Polycyclic organic matter"]
["Radionuclides"]
["Selenium compounds"]
[]
[]
[]
["Potential emissions: max emission factors"]
["Brush/roll/wipe emission factors"]
["Max EF",{"$f":"MAX(B118:B182)","v":0},{"$f":"MAX(C118:C182)","v":0},0,0,0,0,0,0,0,0,0,0,0,0,0,0,0,0]
["Entry #",{"$f":"H6","v":"VOC"},"PM/PM10","HAP Name","HAP Name","HAP Name","HAP Name","HAP Name","HAP Name","HAP Name","HAP Name","HAP Name","HAP Name","HAP Name","HAP Name","HAP Name","HAP Name","HAP Name","HAP Name"]
[{"$f":"A10","v":1},{"$f":"IF($E10=$A$88,H10,0)","v":0},{"$f":"IF($E10=$A$88,I10,0)","v":0},{"$f":"IF($E10=$A$88,J10,0)","v":0},{"$f":"IF($E10=$A$88,K10,0)","v":0},{"$f":"IF($E10=$A$88,L10,0)","v":0},{"$f":"IF($E10=$A$88,M10,0)","v":0},{"$f":"IF($E10=$A$88,N10,0)","v":0},{"$f":"IF($E10=$A$88,O10,0)","v":0},{"$f":"IF($E10=$A$88,P10,0)","v":0},{"$f":"IF($E10=$A$88,Q10,0)","v":0},{"$f":"IF($E10=$A$88,R10,0)","v":0},{"$f":"IF($E10=$A$88,S10,0)","v":0},{"$f":"IF($E10=$A$88,T10,0)","v":0},{"$f":"IF($E10=$A$88,U10,0)","v":0},{"$f":"IF($E10=$A$88,V10,0)","v":0},{"$f":"IF($E10=$A$88,W10,0)","v":0},{"$f":"IF($E10=$A$88,X10,0)","v":0},{"$f":"IF($E10=$A$88,Y10,0)","v":0}]
[2,0,0,0,0,0,0,0,0,0,0,0,0,0,0,0,0,0,0]
[3,0,0,0,0,0,0,0,0,0,0,0,0,0,0,0,0,0,0]
[4,0,0,0,0,0,0,0,0,0,0,0,0,0,0,0,0,0,0]
[5,0,0,0,0,0,0,0,0,0,0,0,0,0,0,0,0,0,0]
[6,0,0,0,0,0,0,0,0,0,0,0,0,0,0,0,0,0,0]
[7,0,0,0,0,0,0,0,0,0,0,0,0,0,0,0,0,0,0]
[8,0,0,0,0,0,0,0,0,0,0,0,0,0,0,0,0,0,0]
[9,0,0,0,0,0,0,0,0,0,0,0,0,0,0,0,0,0,0]
[10,0,0,0,0,0,0,0,0,0,0,0,0,0,0,0,0,0,0]
[11,0,0,0,0,0,0,0,0,0,0,0,0,0,0,0,0,0,0]
[12,0,0,0,0,0,0,0,0,0,0,0,0,0,0,0,0,0,0]
[13,0,0,0,0,0,0,0,0,0,0,0,0,0,0,0,0,0,0]
[14,0,0,0,0,0,0,0,0,0,0,0,0,0,0,0,0,0,0]
[15,0,0,0,0,0,0,0,0,0,0,0,0,0,0,0,0,0,0]
[16,0,0,0,0,0,0,0,0,0,0,0,0,0,0,0,0,0,0]
[17,0,0,0,0,0,0,0,0,0,0,0,0,0,0,0,0,0,0]
[18,0,0,0,0,0,0,0,0,0,0,0,0,0,0,0,0,0,0]
[19,0,0,0,0,0,0,0,0,0,0,0,0,0,0,0,0,0,0]
[20,0,0,0,0,0,0,0,0,0,0,0,0,0,0,0,0,0,0]
[21,0,0,0,0,0,0,0,0,0,0,0,0,0,0,0,0,0,0]
[22,0,0,0,0,0,0,0,0,0,0,0,0,0,0,0,0,0,0]
[23,0,0,0,0,0,0,0,0,0,0,0,0,0,0,0,0,0,0]
[24,0,0,0,0,0,0,0,0,0,0,0,0,0,0,0,0,0,0]
[25,0,0,0,0,0,0,0,0,0,0,0,0,0,0,0,0,0,0]
[26,0,0,0,0,0,0,0,0,0,0,0,0,0,0,0,0,0,0]
[27,0,0,0,0,0,0,0,0,0,0,0,0,0,0,0,0,0,0]
[28,0,0,0,0,0,0,0,0,0,0,0,0,0,0,0,0,0,0]
[29,0,0,0,0,0,0,0,0,0,0,0,0,0,0,0,0,0,0]
[30,0,0,0,0,0,0,0,0,0,0,0,0,0,0,0,0,0,0]
[31,0,0,0,0,0,0,0,0,0,0,0,0,0,0,0,0,0,0]
[32,0,0,0,0,0,0,0,0,0,0,0,0,0,0,0,0,0,0]
[{"$f":"A42","v":33},{"$f":"IF($E42=$A$88,H42,0)","v":0},{"$f":"IF($E42=$A$88,I42,0)","v":0},{"$f":"IF($E42=$A$88,J42,0)","v":0},{"$f":"IF($E42=$A$88,K42,0)","v":0},{"$f":"IF($E42=$A$88,L42,0)","v":0},{"$f":"IF($E42=$A$88,M42,0)","v":0},{"$f":"IF($E42=$A$88,N42,0)","v":0},{"$f":"IF($E42=$A$88,O42,0)","v":0},{"$f":"IF($E42=$A$88,P42,0)","v":0},{"$f":"IF($E42=$A$88,Q42,0)","v":0},{"$f":"IF($E42=$A$88,R42,0)","v":0},{"$f":"IF($E42=$A$88,S42,0)","v":0},{"$f":"IF($E42=$A$88,T42,0)","v":0},{"$f":"IF($E42=$A$88,U42,0)","v":0},{"$f":"IF($E42=$A$88,V42,0)","v":0},{"$f":"IF($E42=$A$88,W42,0)","v":0},{"$f":"IF($E42=$A$88,X42,0)","v":0},{"$f":"IF($E42=$A$88,Y42,0)","v":0}]
[34,0,0,0,0,0,0,0,0,0,0,0,0,0,0,0,0,0,0]
[35,0,0,0,0,0,0,0,0,0,0,0,0,0,0,0,0,0,0]
[36,0,0,0,0,0,0,0,0,0,0,0,0,0,0,0,0,0,0]
[37,0,0,0,0,0,0,0,0,0,0,0,0,0,0,0,0,0,0]
[38,0,0,0,0,0,0,0,0,0,0,0,0,0,0,0,0,0,0]
[39,0,0,0,0,0,0,0,0,0,0,0,0,0,0,0,0,0,0]
[40,0,0,0,0,0,0,0,0,0,0,0,0,0,0,0,0,0,0]
[41,0,0,0,0,0,0,0,0,0,0,0,0,0,0,0,0,0,0]
[42,0,0,0,0,0,0,0,0,0,0,0,0,0,0,0,0,0,0]
[43,0,0,0,0,0,0,0,0,0,0,0,0,0,0,0,0,0,0]
[44,0,0,0,0,0,0,0,0,0,0,0,0,0,0,0,0,0,0]
[45,0,0,0,0,0,0,0,0,0,0,0,0,0,0,0,0,0,0]
[46,0,0,0,0,0,0,0,0,0,0,0,0,0,0,0,0,0,0]
[47,0,0,0,0,0,0,0,0,0,0,0,0,0,0,0,0,0,0]
[48,0,0,0,0,0,0,0,0,0,0,0,0,0,0,0,0,0,0]
[49,0,0,0,0,0,0,0,0,0,0,0,0,0,0,0,0,0,0]
[50,0,0,0,0,0,0,0,0,0,0,0,0,0,0,0,0,0,0]
[51,0,0,0,0,0,0,0,0,0,0,0,0,0,0,0,0,0,0]
[52,0,0,0,0,0,0,0,0,0,0,0,0,0,0,0,0,0,0]
[53,0,0,0,0,0,0,0,0,0,0,0,0,0,0,0,0,0,0]
[54,0,0,0,0,0,0,0,0,0,0,0,0,0,0,0,0,0,0]
[55,0,0,0,0,0,0,0,0,0,0,0,0,0,0,0,0,0,0]
[56,0,0,0,0,0,0,0,0,0,0,0,0,0,0,0,0,0,0]
[57,0,0,0,0,0,0,0,0,0,0,0,0,0,0,0,0,0,0]
[58,0,0,0,0,0,0,0,0,0,0,0,0,0,0,0,0,0,0]
[59,0,0,0,0,0,0,0,0,0,0,0,0,0,0,0,0,0,0]
[60,0,0,0,0,0,0,0,0,0,0,0,0,0,0,0,0,0,0]
[61,0,0,0,0,0,0,0,0,0,0,0,0,0,0,0,0,0,0]
[62,0,0,0,0,0,0,0,0,0,0,0,0,0,0,0,0,0,0]
[63,0,0,0,0,0,0,0,0,0,0,0,0,0,0,0,0,0,0]
[64,0,0,0,0,0,0,0,0,0,0,0,0,0,0,0,0,0,0]
[{"$f":"A74","v":65},{"$f":"IF($E74=$A$88,H74,0)","v":0},{"$f":"IF($E74=$A$88,I74,0)","v":0},{"$f":"IF($E74=$A$88,J74,0)","v":0},{"$f":"IF($E74=$A$88,K74,0)","v":0},{"$f":"IF($E74=$A$88,L74,0)","v":0},{"$f":"IF($E74=$A$88,M74,0)","v":0},{"$f":"IF($E74=$A$88,N74,0)","v":0},{"$f":"IF($E74=$A$88,O74,0)","v":0},{"$f":"IF($E74=$A$88,P74,0)","v":0},{"$f":"IF($E74=$A$88,Q74,0)","v":0},{"$f":"IF($E74=$A$88,R74,0)","v":0},{"$f":"IF($E74=$A$88,S74,0)","v":0},{"$f":"IF($E74=$A$88,T74,0)","v":0},{"$f":"IF($E74=$A$88,U74,0)","v":0},{"$f":"IF($E74=$A$88,V74,0)","v":0},{"$f":"IF($E74=$A$88,W74,0)","v":0},{"$f":"IF($E74=$A$88,X74,0)","v":0},{"$f":"IF($E74=$A$88,Y74,0)","v":0}]
[]
[]
["All Spray Methods: emission factors"]
["Max EF",{"$f":"MAX(B188:B252)","v":0},{"$f":"MAX(C188:C252)","v":0},0,0,0,0,0,0,0,0,0,0,0,0,0,0,0,0]
["Entry #",{"$f":"H6","v":"VOC"},"PM/PM10","HAP Name","HAP Name","HAP Name","HAP Name","HAP Name","HAP Name","HAP Name","HAP Name","HAP Name","HAP Name","HAP Name","HAP Name","HAP Name","HAP Name","HAP Name","HAP Name"]
[{"$f":"A10","v":1},{"$f":"IF(OR($E10=\"Choose one\",OR($E10=$D$81,OR($E10=$D$82,$E10=$D$83))),H10,0)","v":0},{"$f":"IF(OR($E10=\"Choose one\",OR($E10=$D$81,OR($E10=$D$82,$E10=$D$83))),I10,0)","v":0},{"$f":"IF(OR($E10=\"Choose one\",OR($E10=$D$81,OR($E10=$D$82,$E10=$D$83))),J10,0)","v":0},{"$f":"IF(OR($E10=\"Choose one\",OR($E10=$D$81,OR($E10=$D$82,$E10=$D$83))),K10,0)","v":0},{"$f":"IF(OR($E10=\"Choose one\",OR($E10=$D$81,OR($E10=$D$82,$E10=$D$83))),L10,0)","v":0},{"$f":"IF(OR($E10=\"Choose one\",OR($E10=$D$81,OR($E10=$D$82,$E10=$D$83))),M10,0)","v":0},{"$f":"IF(OR($E10=\"Choose one\",OR($E10=$D$81,OR($E10=$D$82,$E10=$D$83))),N10,0)","v":0},{"$f":"IF(OR($E10=\"Choose one\",OR($E10=$D$81,OR($E10=$D$82,$E10=$D$83))),O10,0)","v":0},{"$f":"IF(OR($E10=\"Choose one\",OR($E10=$D$81,OR($E10=$D$82,$E10=$D$83))),P10,0)","v":0},{"$f":"IF(OR($E10=\"Choose one\",OR($E10=$D$81,OR($E10=$D$82,$E10=$D$83))),Q10,0)","v":0},{"$f":"IF(OR($E10=\"Choose one\",OR($E10=$D$81,OR($E10=$D$82,$E10=$D$83))),R10,0)","v":0},{"$f":"IF(OR($E10=\"Choose one\",OR($E10=$D$81,OR($E10=$D$82,$E10=$D$83))),S10,0)","v":0},{"$f":"IF(OR($E10=\"Choose one\",OR($E10=$D$81,OR($E10=$D$82,$E10=$D$83))),T10,0)","v":0},{"$f":"IF(OR($E10=\"Choose one\",OR($E10=$D$81,OR($E10=$D$82,$E10=$D$83))),U10,0)","v":0},{"$f":"IF(OR($E10=\"Choose one\",OR($E10=$D$81,OR($E10=$D$82,$E10=$D$83))),V10,0)","v":0},{"$f":"IF(OR($E10=\"Choose one\",OR($E10=$D$81,OR($E10=$D$82,$E10=$D$83))),W10,0)","v":0},{"$f":"IF(OR($E10=\"Choose one\",OR($E10=$D$81,OR($E10=$D$82,$E10=$D$83))),X10,0)","v":0},{"$f":"IF(OR($E10=\"Choose one\",OR($E10=$D$81,OR($E10=$D$82,$E10=$D$83))),Y10,0)","v":0}]
[2,0,0,0,0,0,0,0,0,0,0,0,0,0,0,0,0,0,0]
[3,0,0,0,0,0,0,0,0,0,0,0,0,0,0,0,0,0,0]
[4,0,0,0,0,0,0,0,0,0,0,0,0,0,0,0,0,0,0]
[5,0,0,0,0,0,0,0,0,0,0,0,0,0,0,0,0,0,0]
[6,0,0,0,0,0,0,0,0,0,0,0,0,0,0,0,0,0,0]
[7,0,0,0,0,0,0,0,0,0,0,0,0,0,0,0,0,0,0]
[8,0,0,0,0,0,0,0,0,0,0,0,0,0,0,0,0,0,0]
[9,0,0,0,0,0,0,0,0,0,0,0,0,0,0,0,0,0,0]
[10,0,0,0,0,0,0,0,0,0,0,0,0,0,0,0,0,0,0]
[11,0,0,0,0,0,0,0,0,0,0,0,0,0,0,0,0,0,0]
[12,0,0,0,0,0,0,0,0,0,0,0,0,0,0,0,0,0,0]
[13,0,0,0,0,0,0,0,0,0,0,0,0,0,0,0,0,0,0]
[14,0,0,0,0,0,0,0,0,0,0,0,0,0,0,0,0,0,0]
[15,0,0,0,0,0,0,0,0,0,0,0,0,0,0,0,0,0,0]
[16,0,0,0,0,0,0,0,0,0,0,0,0,0,0,0,0,0,0]
[17,0,0,0,0,0,0,0,0,0,0,0,0,0,0,0,0,0,0]
[18,0,0,0,0,0,0,0,0,0,0,0,0,0,0,0,0,0,0]
[19,0,0,0,0,0,0,0,0,0,0,0,0,0,0,0,0,0,0]
[20,0,0,0,0,0,0,0,0,0,0,0,0,0,0,0,0,0,0]
[21,0,0,0,0,0,0,0,0,0,0,0,0,0,0,0,0,0,0]
[22,0,0,0,0,0,0,0,0,0,0,0,0,0,0,0,0,0,0]
[23,0,0,0,0,0,0,0,0,0,0,0,0,0,0,0,0,0,0]
[24,0,0,0,0,0,0,0,0,0,0,0,0,0,0,0,0,0,0]
[25,0,0,0,0,0,0,0,0,0,0,0,0,0,0,0,0,0,0]
[26,0,0,0,0,0,0,0,0,0,0,0,0,0,0,0,0,0,0]
[27,0,0,0,0,0,0,0,0,0,0,0,0,0,0,0,0,0,0]
[28,0,0,0,0,0,0,0,0,0,0,0,0,0,0,0,0,0,0]
[29,0,0,0,0,0,0,0,0,0,0,0,0,0,0,0,0,0,0]
[30,0,0,0,0,0,0,0,0,0,0,0,0,0,0,0,0,0,0]
[31,0,0,0,0,0,0,0,0,0,0,0,0,0,0,0,0,0,0]
[32,0,0,0,0,0,0,0,0,0,0,0,0,0,0,0,0,0,0]
[{"$f":"A42","v":33},{"$f":"IF(OR($E42=\"Choose one\",OR($E42=$D$81,OR($E42=$D$82,$E42=$D$83))),H42,0)","v":0},{"$f":"IF(OR($E42=\"Choose one\",OR($E42=$D$81,OR($E42=$D$82,$E42=$D$83))),I42,0)","v":0},{"$f":"IF(OR($E42=\"Choose one\",OR($E42=$D$81,OR($E42=$D$82,$E42=$D$83))),J42,0)","v":0},{"$f":"IF(OR($E42=\"Choose one\",OR($E42=$D$81,OR($E42=$D$82,$E42=$D$83))),K42,0)","v":0},{"$f":"IF(OR($E42=\"Choose one\",OR($E42=$D$81,OR($E42=$D$82,$E42=$D$83))),L42,0)","v":0},{"$f":"IF(OR($E42=\"Choose one\",OR($E42=$D$81,OR($E42=$D$82,$E42=$D$83))),M42,0)","v":0},{"$f":"IF(OR($E42=\"Choose one\",OR($E42=$D$81,OR($E42=$D$82,$E42=$D$83))),N42,0)","v":0},{"$f":"IF(OR($E42=\"Choose one\",OR($E42=$D$81,OR($E42=$D$82,$E42=$D$83))),O42,0)","v":0},{"$f":"IF(OR($E42=\"Choose one\",OR($E42=$D$81,OR($E42=$D$82,$E42=$D$83))),P42,0)","v":0},{"$f":"IF(OR($E42=\"Choose one\",OR($E42=$D$81,OR($E42=$D$82,$E42=$D$83))),Q42,0)","v":0},{"$f":"IF(OR($E42=\"Choose one\",OR($E42=$D$81,OR($E42=$D$82,$E42=$D$83))),R42,0)","v":0},{"$f":"IF(OR($E42=\"Choose one\",OR($E42=$D$81,OR($E42=$D$82,$E42=$D$83))),S42,0)","v":0},{"$f":"IF(OR($E42=\"Choose one\",OR($E42=$D$81,OR($E42=$D$82,$E42=$D$83))),T42,0)","v":0},{"$f":"IF(OR($E42=\"Choose one\",OR($E42=$D$81,OR($E42=$D$82,$E42=$D$83))),U42,0)","v":0},{"$f":"IF(OR($E42=\"Choose one\",OR($E42=$D$81,OR($E42=$D$82,$E42=$D$83))),V42,0)","v":0},{"$f":"IF(OR($E42=\"Choose one\",OR($E42=$D$81,OR($E42=$D$82,$E42=$D$83))),W42,0)","v":0},{"$f":"IF(OR($E42=\"Choose one\",OR($E42=$D$81,OR($E42=$D$82,$E42=$D$83))),X42,0)","v":0},{"$f":"IF(OR($E42=\"Choose one\",OR($E42=$D$81,OR($E42=$D$82,$E42=$D$83))),Y42,0)","v":0}]
[34,0,0,0,0,0,0,0,0,0,0,0,0,0,0,0,0,0,0]
[35,0,0,0,0,0,0,0,0,0,0,0,0,0,0,0,0,0,0]
[36,0,0,0,0,0,0,0,0,0,0,0,0,0,0,0,0,0,0]
[37,0,0,0,0,0,0,0,0,0,0,0,0,0,0,0,0,0,0]
[38,0,0,0,0,0,0,0,0,0,0,0,0,0,0,0,0,0,0]
[39,0,0,0,0,0,0,0,0,0,0,0,0,0,0,0,0,0,0]
[40,0,0,0,0,0,0,0,0,0,0,0,0,0,0,0,0,0,0]
[41,0,0,0,0,0,0,0,0,0,0,0,0,0,0,0,0,0,0]
[42,0,0,0,0,0,0,0,0,0,0,0,0,0,0,0,0,0,0]
[43,0,0,0,0,0,0,0,0,0,0,0,0,0,0,0,0,0,0]
[44,0,0,0,0,0,0,0,0,0,0,0,0,0,0,0,0,0,0]
[45,0,0,0,0,0,0,0,0,0,0,0,0,0,0,0,0,0,0]
[46,0,0,0,0,0,0,0,0,0,0,0,0,0,0,0,0,0,0]
[47,0,0,0,0,0,0,0,0,0,0,0,0,0,0,0,0,0,0]
[48,0,0,0,0,0,0,0,0,0,0,0,0,0,0,0,0,0,0]
[49,0,0,0,0,0,0,0,0,0,0,0,0,0,0,0,0,0,0]
[50,0,0,0,0,0,0,0,0,0,0,0,0,0,0,0,0,0,0]
[51,0,0,0,0,0,0,0,0,0,0,0,0,0,0,0,0,0,0]
[52,0,0,0,0,0,0,0,0,0,0,0,0,0,0,0,0,0,0]
[53,0,0,0,0,0,0,0,0,0,0,0,0,0,0,0,0,0,0]
[54,0,0,0,0,0,0,0,0,0,0,0,0,0,0,0,0,0,0]
[55,0,0,0,0,0,0,0,0,0,0,0,0,0,0,0,0,0,0]
[56,0,0,0,0,0,0,0,0,0,0,0,0,0,0,0,0,0,0]
[57,0,0,0,0,0,0,0,0,0,0,0,0,0,0,0,0,0,0]
[58,0,0,0,0,0,0,0,0,0,0,0,0,0,0,0,0,0,0]
[59,0,0,0,0,0,0,0,0,0,0,0,0,0,0,0,0,0,0]
[60,0,0,0,0,0,0,0,0,0,0,0,0,0,0,0,0,0,0]
[61,0,0,0,0,0,0,0,0,0,0,0,0,0,0,0,0,0,0]
[62,0,0,0,0,0,0,0,0,0,0,0,0,0,0,0,0,0,0]
[63,0,0,0,0,0,0,0,0,0,0,0,0,0,0,0,0,0,0]
[64,0,0,0,0,0,0,0,0,0,0,0,0,0,0,0,0,0,0]
[{"$f":"A74","v":65},{"$f":"IF(OR($E74=\"Choose one\",OR($E74=$D$81,OR($E74=$D$82,$E74=$D$83))),H74,0)","v":0},{"$f":"IF(OR($E74=\"Choose one\",OR($E74=$D$81,OR($E74=$D$82,$E74=$D$83))),I74,0)","v":0},{"$f":"IF(OR($E74=\"Choose one\",OR($E74=$D$81,OR($E74=$D$82,$E74=$D$83))),J74,0)","v":0},{"$f":"IF(OR($E74=\"Choose one\",OR($E74=$D$81,OR($E74=$D$82,$E74=$D$83))),K74,0)","v":0},{"$f":"IF(OR($E74=\"Choose one\",OR($E74=$D$81,OR($E74=$D$82,$E74=$D$83))),L74,0)","v":0},{"$f":"IF(OR($E74=\"Choose one\",OR($E74=$D$81,OR($E74=$D$82,$E74=$D$83))),M74,0)","v":0},{"$f":"IF(OR($E74=\"Choose one\",OR($E74=$D$81,OR($E74=$D$82,$E74=$D$83))),N74,0)","v":0},{"$f":"IF(OR($E74=\"Choose one\",OR($E74=$D$81,OR($E74=$D$82,$E74=$D$83))),O74,0)","v":0},{"$f":"IF(OR($E74=\"Choose one\",OR($E74=$D$81,OR($E74=$D$82,$E74=$D$83))),P74,0)","v":0},{"$f":"IF(OR($E74=\"Choose one\",OR($E74=$D$81,OR($E74=$D$82,$E74=$D$83))),Q74,0)","v":0},{"$f":"IF(OR($E74=\"Choose one\",OR($E74=$D$81,OR($E74=$D$82,$E74=$D$83))),R74,0)","v":0},{"$f":"IF(OR($E74=\"Choose one\",OR($E74=$D$81,OR($E74=$D$82,$E74=$D$83))),S74,0)","v":0},{"$f":"IF(OR($E74=\"Choose one\",OR($E74=$D$81,OR($E74=$D$82,$E74=$D$83))),T74,0)","v":0},{"$f":"IF(OR($E74=\"Choose one\",OR($E74=$D$81,OR($E74=$D$82,$E74=$D$83))),U74,0)","v":0},{"$f":"IF(OR($E74=\"Choose one\",OR($E74=$D$81,OR($E74=$D$82,$E74=$D$83))),V74,0)","v":0},{"$f":"IF(OR($E74=\"Choose one\",OR($E74=$D$81,OR($E74=$D$82,$E74=$D$83))),W74,0)","v":0},{"$f":"IF(OR($E74=\"Choose one\",OR($E74=$D$81,OR($E74=$D$82,$E74=$D$83))),X74,0)","v":0},{"$f":"IF(OR($E74=\"Choose one\",OR($E74=$D$81,OR($E74=$D$82,$E74=$D$83))),Y74,0)","v":0}]
[]
[]
[]
["Actual annual emissions",null,null,null,null,null,"Actual annual emissions"]
["When user enters product use annually",null,null,null,null,null,"When user enters product use monthly"]
[null,{"$f":"'Step 3 Product data'!Y$18","v":2019},{"$f":"'Step 3 Product data'!Z$18","v":2020},{"$f":"'Step 3 Product data'!AA$18","v":2021},{"$f":"'Step 3 Product data'!AB$18","v":2022},{"$f":"'Step 3 Product data'!AC$18","v":2023},{"$f":"'Step 3 Product data'!Y$18","v":2019},{"$f":"'Step 3 Product data'!Z$18","v":2020},{"$f":"'Step 3 Product data'!AA$18","v":2021},{"$f":"'Step 3 Product data'!AB$18","v":2022},{"$f":"'Step 3 Product data'!AC$18","v":2023}]
[]
[]
[]
[null,"Jan-Dec","Jan-Dec","Jan-Dec","Jan-Dec","Jan-Dec","Jan-Dec","Jan-Dec","Jan-Dec","Jan-Dec","Jan-Dec"]
[null,"(ton/yr)","(ton/yr)","(ton/yr)","(ton/yr)","(ton/yr)","(ton/yr)","(ton/yr)","(ton/yr)","(ton/yr)","(ton/yr)"]
["PM",{"$f":"SUMPRODUCT('Emission Calculations'!Z$10:Z$74,'Emission Calculations'!$I$10:$I$74)/2000*(1-'Step 5 Actual annual emissions'!$G$6)","v":0},{"$f":"SUMPRODUCT('Emission Calculations'!AA$10:AA$74,'Emission Calculations'!$I$10:$I$74)/2000*(1-'Step 5 Actual annual emissions'!$G$6)","v":0},{"$f":"SUMPRODUCT('Emission Calculations'!AB$10:AB$74,'Emission Calculations'!$I$10:$I$74)/2000*(1-'Step 5 Actual annual emissions'!$G$6)","v":0},{"$f":"SUMPRODUCT('Emission Calculations'!AC$10:AC$74,'Emission Calculations'!$I$10:$I$74)/2000*(1-'Step 5 Actual annual emissions'!$G$6)","v":0},{"$f":"SUMPRODUCT('Emission Calculations'!AD$10:AD$74,'Emission Calculations'!$I$10:$I$74)/2000*(1-'Step 5 Actual annual emissions'!$G$6)","v":0},{"$f":"SUMPRODUCT('Emission Calculations'!CN$10:CN$74,'Emission Calculations'!$I$10:$I$74)/2000*(1-'Step 5 Actual annual emissions'!$G$6)","v":0},{"$f":"SUMPRODUCT('Emission Calculations'!CO$10:CO$74,'Emission Calculations'!$I$10:$I$74)/2000*(1-'Step 5 Actual annual emissions'!$G$6)","v":0},{"$f":"SUMPRODUCT('Emission Calculations'!CP$10:CP$74,'Emission Calculations'!$I$10:$I$74)/2000*(1-'Step 5 Actual annual emissions'!$G$6)","v":0},{"$f":"SUMPRODUCT('Emission Calculations'!CQ$10:CQ$74,'Emission Calculations'!$I$10:$I$74)/2000*(1-'Step 5 Actual annual emissions'!$G$6)","v":0},{"$f":"SUMPRODUCT('Emission Calculations'!CR$10:CR$74,'Emission Calculations'!$I$10:$I$74)/2000*(1-'Step 5 Actual annual emissions'!$G$6)","v":0}]
["PM10",{"$f":"B264","v":0},0,0,0,0,0,0,0,0,0]
[{"$f":"'Step 3 Product data'!G17","v":"VOC"},{"$f":"SUMPRODUCT('Emission Calculations'!Z$10:Z$74,'Emission Calculations'!$H$10:$H$74)/2000","v":0},{"$f":"SUMPRODUCT('Emission Calculations'!AA$10:AA$74,'Emission Calculations'!$H$10:$H$74)/2000","v":0},{"$f":"SUMPRODUCT('Emission Calculations'!AB$10:AB$74,'Emission Calculations'!$H$10:$H$74)/2000","v":0},{"$f":"SUMPRODUCT('Emission Calculations'!AC$10:AC$74,'Emission Calculations'!$H$10:$H$74)/2000","v":0},{"$f":"SUMPRODUCT('Emission Calculations'!AD$10:AD$74,'Emission Calculations'!$H$10:$H$74)/2000","v":0},{"$f":"SUMPRODUCT('Emission Calculations'!CN$10:CN$74,'Emission Calculations'!$H$10:$H$74)/2000","v":0},{"$f":"SUMPRODUCT('Emission Calculations'!CO$10:CO$74,'Emission Calculations'!$H$10:$H$74)/2000","v":0},{"$f":"SUMPRODUCT('Emission Calculations'!CP$10:CP$74,'Emission Calculations'!$H$10:$H$74)/2000","v":0},{"$f":"SUMPRODUCT('Emission Calculations'!CQ$10:CQ$74,'Emission Calculations'!$H$10:$H$74)/2000","v":0},{"$f":"SUMPRODUCT('Emission Calculations'!CR$10:CR$74,'Emission Calculations'!$H$10:$H$74)/2000","v":0}]
[{"$f":"'Step 3 Product data'!I$17","v":"HAP Name"},{"$f":"IF('Emission Calculations'!$J$7=TRUE,(SUMPRODUCT('Emission Calculations'!Z$10:Z$74,'Emission Calculations'!$J$10:$J$74)/2000*(1-'Step 5 Actual annual emissions'!$G$6)),(SUMPRODUCT('Emission Calculations'!Z$10:Z$74,'Emission Calculations'!$J$10:$J$74)/2000))","v":0},{"$f":"IF('Emission Calculations'!$J$7=TRUE,(SUMPRODUCT('Emission Calculations'!AA$10:AA$74,'Emission Calculations'!$J$10:$J$74)/2000*(1-'Step 5 Actual annual emissions'!$G$6)),(SUMPRODUCT('Emission Calculations'!AA$10:AA$74,'Emission Calculations'!$J$10:$J$74)/2000))","v":0},{"$f":"IF('Emission Calculations'!$J$7=TRUE,(SUMPRODUCT('Emission Calculations'!AB$10:AB$74,'Emission Calculations'!$J$10:$J$74)/2000*(1-'Step 5 Actual annual emissions'!$G$6)),(SUMPRODUCT('Emission Calculations'!AB$10:AB$74,'Emission Calculations'!$J$10:$J$74)/2000))","v":0},{"$f":"IF('Emission Calculations'!$J$7=TRUE,(SUMPRODUCT('Emission Calculations'!AC$10:AC$74,'Emission Calculations'!$J$10:$J$74)/2000*(1-'Step 5 Actual annual emissions'!$G$6)),(SUMPRODUCT('Emission Calculations'!AC$10:AC$74,'Emission Calculations'!$J$10:$J$74)/2000))","v":0},{"$f":"IF('Emission Calculations'!$J$7=TRUE,(SUMPRODUCT('Emission Calculations'!AD$10:AD$74,'Emission Calculations'!$J$10:$J$74)/2000*(1-'Step 5 Actual annual emissions'!$G$6)),(SUMPRODUCT('Emission Calculations'!AD$10:AD$74,'Emission Calculations'!$J$10:$J$74)/2000))","v":0},{"$f":"IF('Emission Calculations'!$J$7=TRUE,(SUMPRODUCT('Emission Calculations'!CN$10:CN$74,'Emission Calculations'!$J$10:$J$74)/2000*(1-'Step 5 Actual annual emissions'!$G$6)),(SUMPRODUCT('Emission Calculations'!CN$10:CN$74,'Emission Calculations'!$J$10:$J$74)/2000))","v":0},{"$f":"IF('Emission Calculations'!$J$7=TRUE,(SUMPRODUCT('Emission Calculations'!CO$10:CO$74,'Emission Calculations'!$J$10:$J$74)/2000*(1-'Step 5 Actual annual emissions'!$G$6)),(SUMPRODUCT('Emission Calculations'!CO$10:CO$74,'Emission Calculations'!$J$10:$J$74)/2000))","v":0},{"$f":"IF('Emission Calculations'!$J$7=TRUE,(SUMPRODUCT('Emission Calculations'!CP$10:CP$74,'Emission Calculations'!$J$10:$J$74)/2000*(1-'Step 5 Actual annual emissions'!$G$6)),(SUMPRODUCT('Emission Calculations'!CP$10:CP$74,'Emission Calculations'!$J$10:$J$74)/2000))","v":0},{"$f":"IF('Emission Calculations'!$J$7=TRUE,(SUMPRODUCT('Emission Calculations'!CQ$10:CQ$74,'Emission Calculations'!$J$10:$J$74)/2000*(1-'Step 5 Actual annual emissions'!$G$6)),(SUMPRODUCT('Emission Calculations'!CQ$10:CQ$74,'Emission Calculations'!$J$10:$J$74)/2000))","v":0},{"$f":"IF('Emission Calculations'!$J$7=TRUE,(SUMPRODUCT('Emission Calculations'!CR$10:CR$74,'Emission Calculations'!$J$10:$J$74)/2000*(1-'Step 5 Actual annual emissions'!$G$6)),(SUMPRODUCT('Emission Calculations'!CR$10:CR$74,'Emission Calculations'!$J$10:$J$74)/2000))","v":0}]
[{"$f":"'Step 3 Product data'!J$17","v":"HAP Name"},{"$f":"IF('Emission Calculations'!$K$7=TRUE,(SUMPRODUCT('Emission Calculations'!Z$10:Z$74,'Emission Calculations'!$K$10:$K$74)/2000*(1-'Step 5 Actual annual emissions'!$G$6)),(SUMPRODUCT('Emission Calculations'!Z$10:Z$74,'Emission Calculations'!$K$10:$K$74)/2000))","v":0},{"$f":"IF('Emission Calculations'!$K$7=TRUE,(SUMPRODUCT('Emission Calculations'!AA$10:AA$74,'Emission Calculations'!$K$10:$K$74)/2000*(1-'Step 5 Actual annual emissions'!$G$6)),(SUMPRODUCT('Emission Calculations'!AA$10:AA$74,'Emission Calculations'!$K$10:$K$74)/2000))","v":0},{"$f":"IF('Emission Calculations'!$K$7=TRUE,(SUMPRODUCT('Emission Calculations'!AB$10:AB$74,'Emission Calculations'!$K$10:$K$74)/2000*(1-'Step 5 Actual annual emissions'!$G$6)),(SUMPRODUCT('Emission Calculations'!AB$10:AB$74,'Emission Calculations'!$K$10:$K$74)/2000))","v":0},{"$f":"IF('Emission Calculations'!$K$7=TRUE,(SUMPRODUCT('Emission Calculations'!AC$10:AC$74,'Emission Calculations'!$K$10:$K$74)/2000*(1-'Step 5 Actual annual emissions'!$G$6)),(SUMPRODUCT('Emission Calculations'!AC$10:AC$74,'Emission Calculations'!$K$10:$K$74)/2000))","v":0},{"$f":"IF('Emission Calculations'!$K$7=TRUE,(SUMPRODUCT('Emission Calculations'!AD$10:AD$74,'Emission Calculations'!$K$10:$K$74)/2000*(1-'Step 5 Actual annual emissions'!$G$6)),(SUMPRODUCT('Emission Calculations'!AD$10:AD$74,'Emission Calculations'!$K$10:$K$74)/2000))","v":0},{"$f":"IF('Emission Calculations'!$K$7=TRUE,(SUMPRODUCT('Emission Calculations'!CN$10:CN$74,'Emission Calculations'!$K$10:$K$74)/2000*(1-'Step 5 Actual annual emissions'!$G$6)),(SUMPRODUCT('Emission Calculations'!CN$10:CN$74,'Emission Calculations'!$K$10:$K$74)/2000))","v":0},{"$f":"IF('Emission Calculations'!$K$7=TRUE,(SUMPRODUCT('Emission Calculations'!CO$10:CO$74,'Emission Calculations'!$K$10:$K$74)/2000*(1-'Step 5 Actual annual emissions'!$G$6)),(SUMPRODUCT('Emission Calculations'!CO$10:CO$74,'Emission Calculations'!$K$10:$K$74)/2000))","v":0},{"$f":"IF('Emission Calculations'!$K$7=TRUE,(SUMPRODUCT('Emission Calculations'!CP$10:CP$74,'Emission Calculations'!$K$10:$K$74)/2000*(1-'Step 5 Actual annual emissions'!$G$6)),(SUMPRODUCT('Emission Calculations'!CP$10:CP$74,'Emission Calculations'!$K$10:$K$74)/2000))","v":0},{"$f":"IF('Emission Calculations'!$K$7=TRUE,(SUMPRODUCT('Emission Calculations'!CQ$10:CQ$74,'Emission Calculations'!$K$10:$K$74)/2000*(1-'Step 5 Actual annual emissions'!$G$6)),(SUMPRODUCT('Emission Calculations'!CQ$10:CQ$74,'Emission Calculations'!$K$10:$K$74)/2000))","v":0},{"$f":"IF('Emission Calculations'!$K$7=TRUE,(SUMPRODUCT('Emission Calculations'!CR$10:CR$74,'Emission Calculations'!$K$10:$K$74)/2000*(1-'Step 5 Actual annual emissions'!$G$6)),(SUMPRODUCT('Emission Calculations'!CR$10:CR$74,'Emission Calculations'!$K$10:$K$74)/2000))","v":0}]
[{"$f":"'Step 3 Product data'!K$17","v":"HAP Name"},{"$f":"IF('Emission Calculations'!$L$7=TRUE,(SUMPRODUCT('Emission Calculations'!Z$10:Z$74,'Emission Calculations'!$L$10:$L$74)/2000*(1-'Step 5 Actual annual emissions'!$G$6)),(SUMPRODUCT('Emission Calculations'!Z$10:Z$74,'Emission Calculations'!$L$10:$L$74)/2000))","v":0},{"$f":"IF('Emission Calculations'!$L$7=TRUE,(SUMPRODUCT('Emission Calculations'!AA$10:AA$74,'Emission Calculations'!$L$10:$L$74)/2000*(1-'Step 5 Actual annual emissions'!$G$6)),(SUMPRODUCT('Emission Calculations'!AA$10:AA$74,'Emission Calculations'!$L$10:$L$74)/2000))","v":0},{"$f":"IF('Emission Calculations'!$L$7=TRUE,(SUMPRODUCT('Emission Calculations'!AB$10:AB$74,'Emission Calculations'!$L$10:$L$74)/2000*(1-'Step 5 Actual annual emissions'!$G$6)),(SUMPRODUCT('Emission Calculations'!AB$10:AB$74,'Emission Calculations'!$L$10:$L$74)/2000))","v":0},{"$f":"IF('Emission Calculations'!$L$7=TRUE,(SUMPRODUCT('Emission Calculations'!AC$10:AC$74,'Emission Calculations'!$L$10:$L$74)/2000*(1-'Step 5 Actual annual emissions'!$G$6)),(SUMPRODUCT('Emission Calculations'!AC$10:AC$74,'Emission Calculations'!$L$10:$L$74)/2000))","v":0},{"$f":"IF('Emission Calculations'!$L$7=TRUE,(SUMPRODUCT('Emission Calculations'!AD$10:AD$74,'Emission Calculations'!$L$10:$L$74)/2000*(1-'Step 5 Actual annual emissions'!$G$6)),(SUMPRODUCT('Emission Calculations'!AD$10:AD$74,'Emission Calculations'!$L$10:$L$74)/2000))","v":0},{"$f":"IF('Emission Calculations'!$L$7=TRUE,(SUMPRODUCT('Emission Calculations'!CN$10:CN$74,'Emission Calculations'!$L$10:$L$74)/2000*(1-'Step 5 Actual annual emissions'!$G$6)),(SUMPRODUCT('Emission Calculations'!CN$10:CN$74,'Emission Calculations'!$L$10:$L$74)/2000))","v":0},{"$f":"IF('Emission Calculations'!$L$7=TRUE,(SUMPRODUCT('Emission Calculations'!CO$10:CO$74,'Emission Calculations'!$L$10:$L$74)/2000*(1-'Step 5 Actual annual emissions'!$G$6)),(SUMPRODUCT('Emission Calculations'!CO$10:CO$74,'Emission Calculations'!$L$10:$L$74)/2000))","v":0},{"$f":"IF('Emission Calculations'!$L$7=TRUE,(SUMPRODUCT('Emission Calculations'!CP$10:CP$74,'Emission Calculations'!$L$10:$L$74)/2000*(1-'Step 5 Actual annual emissions'!$G$6)),(SUMPRODUCT('Emission Calculations'!CP$10:CP$74,'Emission Calculations'!$L$10:$L$74)/2000))","v":0},{"$f":"IF('Emission Calculations'!$L$7=TRUE,(SUMPRODUCT('Emission Calculations'!CQ$10:CQ$74,'Emission Calculations'!$L$10:$L$74)/2000*(1-'Step 5 Actual annual emissions'!$G$6)),(SUMPRODUCT('Emission Calculations'!CQ$10:CQ$74,'Emission Calculations'!$L$10:$L$74)/2000))","v":0},{"$f":"IF('Emission Calculations'!$L$7=TRUE,(SUMPRODUCT('Emission Calculations'!CR$10:CR$74,'Emission Calculations'!$L$10:$L$74)/2000*(1-'Step 5 Actual annual emissions'!$G$6)),(SUMPRODUCT('Emission Calculations'!CR$10:CR$74,'Emission Calculations'!$L$10:$L$74)/2000))","v":0}]
[{"$f":"'Step 3 Product data'!L$17","v":"HAP Name"},{"$f":"IF('Emission Calculations'!$M$7=TRUE,(SUMPRODUCT('Emission Calculations'!Z$10:Z$74,'Emission Calculations'!$M$10:$M$74)/2000*(1-'Step 5 Actual annual emissions'!$G$6)),(SUMPRODUCT('Emission Calculations'!Z$10:Z$74,'Emission Calculations'!$M$10:$M$74)/2000))","v":0},{"$f":"IF('Emission Calculations'!$M$7=TRUE,(SUMPRODUCT('Emission Calculations'!AA$10:AA$74,'Emission Calculations'!$M$10:$M$74)/2000*(1-'Step 5 Actual annual emissions'!$G$6)),(SUMPRODUCT('Emission Calculations'!AA$10:AA$74,'Emission Calculations'!$M$10:$M$74)/2000))","v":0},{"$f":"IF('Emission Calculations'!$M$7=TRUE,(SUMPRODUCT('Emission Calculations'!AB$10:AB$74,'Emission Calculations'!$M$10:$M$74)/2000*(1-'Step 5 Actual annual emissions'!$G$6)),(SUMPRODUCT('Emission Calculations'!AB$10:AB$74,'Emission Calculations'!$M$10:$M$74)/2000))","v":0},{"$f":"IF('Emission Calculations'!$M$7=TRUE,(SUMPRODUCT('Emission Calculations'!AC$10:AC$74,'Emission Calculations'!$M$10:$M$74)/2000*(1-'Step 5 Actual annual emissions'!$G$6)),(SUMPRODUCT('Emission Calculations'!AC$10:AC$74,'Emission Calculations'!$M$10:$M$74)/2000))","v":0},{"$f":"IF('Emission Calculations'!$M$7=TRUE,(SUMPRODUCT('Emission Calculations'!AD$10:AD$74,'Emission Calculations'!$M$10:$M$74)/2000*(1-'Step 5 Actual annual emissions'!$G$6)),(SUMPRODUCT('Emission Calculations'!AD$10:AD$74,'Emission Calculations'!$M$10:$M$74)/2000))","v":0},{"$f":"IF('Emission Calculations'!$M$7=TRUE,(SUMPRODUCT('Emission Calculations'!CN$10:CN$74,'Emission Calculations'!$M$10:$M$74)/2000*(1-'Step 5 Actual annual emissions'!$G$6)),(SUMPRODUCT('Emission Calculations'!CN$10:CN$74,'Emission Calculations'!$M$10:$M$74)/2000))","v":0},{"$f":"IF('Emission Calculations'!$M$7=TRUE,(SUMPRODUCT('Emission Calculations'!CO$10:CO$74,'Emission Calculations'!$M$10:$M$74)/2000*(1-'Step 5 Actual annual emissions'!$G$6)),(SUMPRODUCT('Emission Calculations'!CO$10:CO$74,'Emission Calculations'!$M$10:$M$74)/2000))","v":0},{"$f":"IF('Emission Calculations'!$M$7=TRUE,(SUMPRODUCT('Emission Calculations'!CP$10:CP$74,'Emission Calculations'!$M$10:$M$74)/2000*(1-'Step 5 Actual annual emissions'!$G$6)),(SUMPRODUCT('Emission Calculations'!CP$10:CP$74,'Emission Calculations'!$M$10:$M$74)/2000))","v":0},{"$f":"IF('Emission Calculations'!$M$7=TRUE,(SUMPRODUCT('Emission Calculations'!CQ$10:CQ$74,'Emission Calculations'!$M$10:$M$74)/2000*(1-'Step 5 Actual annual emissions'!$G$6)),(SUMPRODUCT('Emission Calculations'!CQ$10:CQ$74,'Emission Calculations'!$M$10:$M$74)/2000))","v":0},{"$f":"IF('Emission Calculations'!$M$7=TRUE,(SUMPRODUCT('Emission Calculations'!CR$10:CR$74,'Emission Calculations'!$M$10:$M$74)/2000*(1-'Step 5 Actual annual emissions'!$G$6)),(SUMPRODUCT('Emission Calculations'!CR$10:CR$74,'Emission Calculations'!$M$10:$M$74)/2000))","v":0}]
[{"$f":"'Step 3 Product data'!M$17","v":"HAP Name"},{"$f":"IF('Emission Calculations'!$N$7=TRUE,(SUMPRODUCT('Emission Calculations'!Z$10:Z$74,'Emission Calculations'!$N$10:$N$74)/2000*(1-'Step 5 Actual annual emissions'!$G$6)),(SUMPRODUCT('Emission Calculations'!Z$10:Z$74,'Emission Calculations'!$N$10:$N$74)/2000))","v":0},{"$f":"IF('Emission Calculations'!$N$7=TRUE,(SUMPRODUCT('Emission Calculations'!AA$10:AA$74,'Emission Calculations'!$N$10:$N$74)/2000*(1-'Step 5 Actual annual emissions'!$G$6)),(SUMPRODUCT('Emission Calculations'!AA$10:AA$74,'Emission Calculations'!$N$10:$N$74)/2000))","v":0},{"$f":"IF('Emission Calculations'!$N$7=TRUE,(SUMPRODUCT('Emission Calculations'!AB$10:AB$74,'Emission Calculations'!$N$10:$N$74)/2000*(1-'Step 5 Actual annual emissions'!$G$6)),(SUMPRODUCT('Emission Calculations'!AB$10:AB$74,'Emission Calculations'!$N$10:$N$74)/2000))","v":0},{"$f":"IF('Emission Calculations'!$N$7=TRUE,(SUMPRODUCT('Emission Calculations'!AC$10:AC$74,'Emission Calculations'!$N$10:$N$74)/2000*(1-'Step 5 Actual annual emissions'!$G$6)),(SUMPRODUCT('Emission Calculations'!AC$10:AC$74,'Emission Calculations'!$N$10:$N$74)/2000))","v":0},{"$f":"IF('Emission Calculations'!$N$7=TRUE,(SUMPRODUCT('Emission Calculations'!AD$10:AD$74,'Emission Calculations'!$N$10:$N$74)/2000*(1-'Step 5 Actual annual emissions'!$G$6)),(SUMPRODUCT('Emission Calculations'!AD$10:AD$74,'Emission Calculations'!$N$10:$N$74)/2000))","v":0},{"$f":"IF('Emission Calculations'!$N$7=TRUE,(SUMPRODUCT('Emission Calculations'!CN$10:CN$74,'Emission Calculations'!$N$10:$N$74)/2000*(1-'Step 5 Actual annual emissions'!$G$6)),(SUMPRODUCT('Emission Calculations'!CN$10:CN$74,'Emission Calculations'!$N$10:$N$74)/2000))","v":0},{"$f":"IF('Emission Calculations'!$N$7=TRUE,(SUMPRODUCT('Emission Calculations'!CO$10:CO$74,'Emission Calculations'!$N$10:$N$74)/2000*(1-'Step 5 Actual annual emissions'!$G$6)),(SUMPRODUCT('Emission Calculations'!CO$10:CO$74,'Emission Calculations'!$N$10:$N$74)/2000))","v":0},{"$f":"IF('Emission Calculations'!$N$7=TRUE,(SUMPRODUCT('Emission Calculations'!CP$10:CP$74,'Emission Calculations'!$N$10:$N$74)/2000*(1-'Step 5 Actual annual emissions'!$G$6)),(SUMPRODUCT('Emission Calculations'!CP$10:CP$74,'Emission Calculations'!$N$10:$N$74)/2000))","v":0},{"$f":"IF('Emission Calculations'!$N$7=TRUE,(SUMPRODUCT('Emission Calculations'!CQ$10:CQ$74,'Emission Calculations'!$N$10:$N$74)/2000*(1-'Step 5 Actual annual emissions'!$G$6)),(SUMPRODUCT('Emission Calculations'!CQ$10:CQ$74,'Emission Calculations'!$N$10:$N$74)/2000))","v":0},{"$f":"IF('Emission Calculations'!$N$7=TRUE,(SUMPRODUCT('Emission Calculations'!CR$10:CR$74,'Emission Calculations'!$N$10:$N$74)/2000*(1-'Step 5 Actual annual emissions'!$G$6)),(SUMPRODUCT('Emission Calculations'!CR$10:CR$74,'Emission Calculations'!$N$10:$N$74)/2000))","v":0}]
[{"$f":"'Step 3 Product data'!N$17","v":"HAP Name"},{"$f":"IF('Emission Calculations'!$O$7=TRUE,(SUMPRODUCT('Emission Calculations'!Z$10:Z$74,'Emission Calculations'!$O$10:$O$74)/2000*(1-'Step 5 Actual annual emissions'!$G$6)),(SUMPRODUCT('Emission Calculations'!Z$10:Z$74,'Emission Calculations'!$O$10:$O$74)/2000))","v":0},{"$f":"IF('Emission Calculations'!$O$7=TRUE,(SUMPRODUCT('Emission Calculations'!AA$10:AA$74,'Emission Calculations'!$O$10:$O$74)/2000*(1-'Step 5 Actual annual emissions'!$G$6)),(SUMPRODUCT('Emission Calculations'!AA$10:AA$74,'Emission Calculations'!$O$10:$O$74)/2000))","v":0},{"$f":"IF('Emission Calculations'!$O$7=TRUE,(SUMPRODUCT('Emission Calculations'!AB$10:AB$74,'Emission Calculations'!$O$10:$O$74)/2000*(1-'Step 5 Actual annual emissions'!$G$6)),(SUMPRODUCT('Emission Calculations'!AB$10:AB$74,'Emission Calculations'!$O$10:$O$74)/2000))","v":0},{"$f":"IF('Emission Calculations'!$O$7=TRUE,(SUMPRODUCT('Emission Calculations'!AC$10:AC$74,'Emission Calculations'!$O$10:$O$74)/2000*(1-'Step 5 Actual annual emissions'!$G$6)),(SUMPRODUCT('Emission Calculations'!AC$10:AC$74,'Emission Calculations'!$O$10:$O$74)/2000))","v":0},{"$f":"IF('Emission Calculations'!$O$7=TRUE,(SUMPRODUCT('Emission Calculations'!AD$10:AD$74,'Emission Calculations'!$O$10:$O$74)/2000*(1-'Step 5 Actual annual emissions'!$G$6)),(SUMPRODUCT('Emission Calculations'!AD$10:AD$74,'Emission Calculations'!$O$10:$O$74)/2000))","v":0},{"$f":"IF('Emission Calculations'!$O$7=TRUE,(SUMPRODUCT('Emission Calculations'!CN$10:CN$74,'Emission Calculations'!$O$10:$O$74)/2000*(1-'Step 5 Actual annual emissions'!$G$6)),(SUMPRODUCT('Emission Calculations'!CN$10:CN$74,'Emission Calculations'!$O$10:$O$74)/2000))","v":0},{"$f":"IF('Emission Calculations'!$O$7=TRUE,(SUMPRODUCT('Emission Calculations'!CO$10:CO$74,'Emission Calculations'!$O$10:$O$74)/2000*(1-'Step 5 Actual annual emissions'!$G$6)),(SUMPRODUCT('Emission Calculations'!CO$10:CO$74,'Emission Calculations'!$O$10:$O$74)/2000))","v":0},{"$f":"IF('Emission Calculations'!$O$7=TRUE,(SUMPRODUCT('Emission Calculations'!CP$10:CP$74,'Emission Calculations'!$O$10:$O$74)/2000*(1-'Step 5 Actual annual emissions'!$G$6)),(SUMPRODUCT('Emission Calculations'!CP$10:CP$74,'Emission Calculations'!$O$10:$O$74)/2000))","v":0},{"$f":"IF('Emission Calculations'!$O$7=TRUE,(SUMPRODUCT('Emission Calculations'!CQ$10:CQ$74,'Emission Calculations'!$O$10:$O$74)/2000*(1-'Step 5 Actual annual emissions'!$G$6)),(SUMPRODUCT('Emission Calculations'!CQ$10:CQ$74,'Emission Calculations'!$O$10:$O$74)/2000))","v":0},{"$f":"IF('Emission Calculations'!$O$7=TRUE,(SUMPRODUCT('Emission Calculations'!CR$10:CR$74,'Emission Calculations'!$O$10:$O$74)/2000*(1-'Step 5 Actual annual emissions'!$G$6)),(SUMPRODUCT('Emission Calculations'!CR$10:CR$74,'Emission Calculations'!$O$10:$O$74)/2000))","v":0}]
[{"$f":"'Step 3 Product data'!O$17","v":"HAP Name"},{"$f":"IF('Emission Calculations'!$P$7=TRUE,(SUMPRODUCT('Emission Calculations'!Z$10:Z$74,'Emission Calculations'!$P$10:$P$74)/2000*(1-'Step 5 Actual annual emissions'!$G$6)),(SUMPRODUCT('Emission Calculations'!Z$10:Z$74,'Emission Calculations'!$P$10:$P$74)/2000))","v":0},{"$f":"IF('Emission Calculations'!$P$7=TRUE,(SUMPRODUCT('Emission Calculations'!AA$10:AA$74,'Emission Calculations'!$P$10:$P$74)/2000*(1-'Step 5 Actual annual emissions'!$G$6)),(SUMPRODUCT('Emission Calculations'!AA$10:AA$74,'Emission Calculations'!$P$10:$P$74)/2000))","v":0},{"$f":"IF('Emission Calculations'!$P$7=TRUE,(SUMPRODUCT('Emission Calculations'!AB$10:AB$74,'Emission Calculations'!$P$10:$P$74)/2000*(1-'Step 5 Actual annual emissions'!$G$6)),(SUMPRODUCT('Emission Calculations'!AB$10:AB$74,'Emission Calculations'!$P$10:$P$74)/2000))","v":0},{"$f":"IF('Emission Calculations'!$P$7=TRUE,(SUMPRODUCT('Emission Calculations'!AC$10:AC$74,'Emission Calculations'!$P$10:$P$74)/2000*(1-'Step 5 Actual annual emissions'!$G$6)),(SUMPRODUCT('Emission Calculations'!AC$10:AC$74,'Emission Calculations'!$P$10:$P$74)/2000))","v":0},{"$f":"IF('Emission Calculations'!$P$7=TRUE,(SUMPRODUCT('Emission Calculations'!AD$10:AD$74,'Emission Calculations'!$P$10:$P$74)/2000*(1-'Step 5 Actual annual emissions'!$G$6)),(SUMPRODUCT('Emission Calculations'!AD$10:AD$74,'Emission Calculations'!$P$10:$P$74)/2000))","v":0},{"$f":"IF('Emission Calculations'!$P$7=TRUE,(SUMPRODUCT('Emission Calculations'!CN$10:CN$74,'Emission Calculations'!$P$10:$P$74)/2000*(1-'Step 5 Actual annual emissions'!$G$6)),(SUMPRODUCT('Emission Calculations'!CN$10:CN$74,'Emission Calculations'!$P$10:$P$74)/2000))","v":0},{"$f":"IF('Emission Calculations'!$P$7=TRUE,(SUMPRODUCT('Emission Calculations'!CO$10:CO$74,'Emission Calculations'!$P$10:$P$74)/2000*(1-'Step 5 Actual annual emissions'!$G$6)),(SUMPRODUCT('Emission Calculations'!CO$10:CO$74,'Emission Calculations'!$P$10:$P$74)/2000))","v":0},{"$f":"IF('Emission Calculations'!$P$7=TRUE,(SUMPRODUCT('Emission Calculations'!CP$10:CP$74,'Emission Calculations'!$P$10:$P$74)/2000*(1-'Step 5 Actual annual emissions'!$G$6)),(SUMPRODUCT('Emission Calculations'!CP$10:CP$74,'Emission Calculations'!$P$10:$P$74)/2000))","v":0},{"$f":"IF('Emission Calculations'!$P$7=TRUE,(SUMPRODUCT('Emission Calculations'!CQ$10:CQ$74,'Emission Calculations'!$P$10:$P$74)/2000*(1-'Step 5 Actual annual emissions'!$G$6)),(SUMPRODUCT('Emission Calculations'!CQ$10:CQ$74,'Emission Calculations'!$P$10:$P$74)/2000))","v":0},{"$f":"IF('Emission Calculations'!$P$7=TRUE,(SUMPRODUCT('Emission Calculations'!CR$10:CR$74,'Emission Calculations'!$P$10:$P$74)/2000*(1-'Step 5 Actual annual emissions'!$G$6)),(SUMPRODUCT('Emission Calculations'!CR$10:CR$74,'Emission Calculations'!$P$10:$P$74)/2000))","v":0}]
[{"$f":"'Step 3 Product data'!P$17","v":"HAP Name"},{"$f":"IF('Emission Calculations'!$Q$7=TRUE,(SUMPRODUCT('Emission Calculations'!Z$10:Z$74,'Emission Calculations'!$Q$10:$Q$74)/2000*(1-'Step 5 Actual annual emissions'!$G$6)),(SUMPRODUCT('Emission Calculations'!Z$10:Z$74,'Emission Calculations'!$Q$10:$Q$74)/2000))","v":0},{"$f":"IF('Emission Calculations'!$Q$7=TRUE,(SUMPRODUCT('Emission Calculations'!AA$10:AA$74,'Emission Calculations'!$Q$10:$Q$74)/2000*(1-'Step 5 Actual annual emissions'!$G$6)),(SUMPRODUCT('Emission Calculations'!AA$10:AA$74,'Emission Calculations'!$Q$10:$Q$74)/2000))","v":0},{"$f":"IF('Emission Calculations'!$Q$7=TRUE,(SUMPRODUCT('Emission Calculations'!AB$10:AB$74,'Emission Calculations'!$Q$10:$Q$74)/2000*(1-'Step 5 Actual annual emissions'!$G$6)),(SUMPRODUCT('Emission Calculations'!AB$10:AB$74,'Emission Calculations'!$Q$10:$Q$74)/2000))","v":0},{"$f":"IF('Emission Calculations'!$Q$7=TRUE,(SUMPRODUCT('Emission Calculations'!AC$10:AC$74,'Emission Calculations'!$Q$10:$Q$74)/2000*(1-'Step 5 Actual annual emissions'!$G$6)),(SUMPRODUCT('Emission Calculations'!AC$10:AC$74,'Emission Calculations'!$Q$10:$Q$74)/2000))","v":0},{"$f":"IF('Emission Calculations'!$Q$7=TRUE,(SUMPRODUCT('Emission Calculations'!AD$10:AD$74,'Emission Calculations'!$Q$10:$Q$74)/2000*(1-'Step 5 Actual annual emissions'!$G$6)),(SUMPRODUCT('Emission Calculations'!AD$10:AD$74,'Emission Calculations'!$Q$10:$Q$74)/2000))","v":0},{"$f":"IF('Emission Calculations'!$Q$7=TRUE,(SUMPRODUCT('Emission Calculations'!CN$10:CN$74,'Emission Calculations'!$Q$10:$Q$74)/2000*(1-'Step 5 Actual annual emissions'!$G$6)),(SUMPRODUCT('Emission Calculations'!CN$10:CN$74,'Emission Calculations'!$Q$10:$Q$74)/2000))","v":0},{"$f":"IF('Emission Calculations'!$Q$7=TRUE,(SUMPRODUCT('Emission Calculations'!CO$10:CO$74,'Emission Calculations'!$Q$10:$Q$74)/2000*(1-'Step 5 Actual annual emissions'!$G$6)),(SUMPRODUCT('Emission Calculations'!CO$10:CO$74,'Emission Calculations'!$Q$10:$Q$74)/2000))","v":0},{"$f":"IF('Emission Calculations'!$Q$7=TRUE,(SUMPRODUCT('Emission Calculations'!CP$10:CP$74,'Emission Calculations'!$Q$10:$Q$74)/2000*(1-'Step 5 Actual annual emissions'!$G$6)),(SUMPRODUCT('Emission Calculations'!CP$10:CP$74,'Emission Calculations'!$Q$10:$Q$74)/2000))","v":0},{"$f":"IF('Emission Calculations'!$Q$7=TRUE,(SUMPRODUCT('Emission Calculations'!CQ$10:CQ$74,'Emission Calculations'!$Q$10:$Q$74)/2000*(1-'Step 5 Actual annual emissions'!$G$6)),(SUMPRODUCT('Emission Calculations'!CQ$10:CQ$74,'Emission Calculations'!$Q$10:$Q$74)/2000))","v":0},{"$f":"IF('Emission Calculations'!$Q$7=TRUE,(SUMPRODUCT('Emission Calculations'!CR$10:CR$74,'Emission Calculations'!$Q$10:$Q$74)/2000*(1-'Step 5 Actual annual emissions'!$G$6)),(SUMPRODUCT('Emission Calculations'!CR$10:CR$74,'Emission Calculations'!$Q$10:$Q$74)/2000))","v":0}]
[{"$f":"'Step 3 Product data'!Q$17","v":"HAP Name"},{"$f":"IF('Emission Calculations'!$R$7=TRUE,(SUMPRODUCT('Emission Calculations'!Z$10:Z$74,'Emission Calculations'!$R$10:$R$74)/2000*(1-'Step 5 Actual annual emissions'!$G$6)),(SUMPRODUCT('Emission Calculations'!Z$10:Z$74,'Emission Calculations'!$R$10:$R$74)/2000))","v":0},{"$f":"IF('Emission Calculations'!$R$7=TRUE,(SUMPRODUCT('Emission Calculations'!AA$10:AA$74,'Emission Calculations'!$R$10:$R$74)/2000*(1-'Step 5 Actual annual emissions'!$G$6)),(SUMPRODUCT('Emission Calculations'!AA$10:AA$74,'Emission Calculations'!$R$10:$R$74)/2000))","v":0},{"$f":"IF('Emission Calculations'!$R$7=TRUE,(SUMPRODUCT('Emission Calculations'!AB$10:AB$74,'Emission Calculations'!$R$10:$R$74)/2000*(1-'Step 5 Actual annual emissions'!$G$6)),(SUMPRODUCT('Emission Calculations'!AB$10:AB$74,'Emission Calculations'!$R$10:$R$74)/2000))","v":0},{"$f":"IF('Emission Calculations'!$R$7=TRUE,(SUMPRODUCT('Emission Calculations'!AC$10:AC$74,'Emission Calculations'!$R$10:$R$74)/2000*(1-'Step 5 Actual annual emissions'!$G$6)),(SUMPRODUCT('Emission Calculations'!AC$10:AC$74,'Emission Calculations'!$R$10:$R$74)/2000))","v":0},{"$f":"IF('Emission Calculations'!$R$7=TRUE,(SUMPRODUCT('Emission Calculations'!AD$10:AD$74,'Emission Calculations'!$R$10:$R$74)/2000*(1-'Step 5 Actual annual emissions'!$G$6)),(SUMPRODUCT('Emission Calculations'!AD$10:AD$74,'Emission Calculations'!$R$10:$R$74)/2000))","v":0},{"$f":"IF('Emission Calculations'!$R$7=TRUE,(SUMPRODUCT('Emission Calculations'!CN$10:CN$74,'Emission Calculations'!$R$10:$R$74)/2000*(1-'Step 5 Actual annual emissions'!$G$6)),(SUMPRODUCT('Emission Calculations'!CN$10:CN$74,'Emission Calculations'!$R$10:$R$74)/2000))","v":0},{"$f":"IF('Emission Calculations'!$R$7=TRUE,(SUMPRODUCT('Emission Calculations'!CO$10:CO$74,'Emission Calculations'!$R$10:$R$74)/2000*(1-'Step 5 Actual annual emissions'!$G$6)),(SUMPRODUCT('Emission Calculations'!CO$10:CO$74,'Emission Calculations'!$R$10:$R$74)/2000))","v":0},{"$f":"IF('Emission Calculations'!$R$7=TRUE,(SUMPRODUCT('Emission Calculations'!CP$10:CP$74,'Emission Calculations'!$R$10:$R$74)/2000*(1-'Step 5 Actual annual emissions'!$G$6)),(SUMPRODUCT('Emission Calculations'!CP$10:CP$74,'Emission Calculations'!$R$10:$R$74)/2000))","v":0},{"$f":"IF('Emission Calculations'!$R$7=TRUE,(SUMPRODUCT('Emission Calculations'!CQ$10:CQ$74,'Emission Calculations'!$R$10:$R$74)/2000*(1-'Step 5 Actual annual emissions'!$G$6)),(SUMPRODUCT('Emission Calculations'!CQ$10:CQ$74,'Emission Calculations'!$R$10:$R$74)/2000))","v":0},{"$f":"IF('Emission Calculations'!$R$7=TRUE,(SUMPRODUCT('Emission Calculations'!CR$10:CR$74,'Emission Calculations'!$R$10:$R$74)/2000*(1-'Step 5 Actual annual emissions'!$G$6)),(SUMPRODUCT('Emission Calculations'!CR$10:CR$74,'Emission Calculations'!$R$10:$R$74)/2000))","v":0}]
[{"$f":"'Step 3 Product data'!R$17","v":"HAP Name"},{"$f":"IF('Emission Calculations'!$S$7=TRUE,(SUMPRODUCT('Emission Calculations'!Z$10:Z$74,'Emission Calculations'!$S$10:$S$74)/2000*(1-'Step 5 Actual annual emissions'!$G$6)),(SUMPRODUCT('Emission Calculations'!Z$10:Z$74,'Emission Calculations'!$S$10:$S$74)/2000))","v":0},{"$f":"IF('Emission Calculations'!$S$7=TRUE,(SUMPRODUCT('Emission Calculations'!AA$10:AA$74,'Emission Calculations'!$S$10:$S$74)/2000*(1-'Step 5 Actual annual emissions'!$G$6)),(SUMPRODUCT('Emission Calculations'!AA$10:AA$74,'Emission Calculations'!$S$10:$S$74)/2000))","v":0},{"$f":"IF('Emission Calculations'!$S$7=TRUE,(SUMPRODUCT('Emission Calculations'!AB$10:AB$74,'Emission Calculations'!$S$10:$S$74)/2000*(1-'Step 5 Actual annual emissions'!$G$6)),(SUMPRODUCT('Emission Calculations'!AB$10:AB$74,'Emission Calculations'!$S$10:$S$74)/2000))","v":0},{"$f":"IF('Emission Calculations'!$S$7=TRUE,(SUMPRODUCT('Emission Calculations'!AC$10:AC$74,'Emission Calculations'!$S$10:$S$74)/2000*(1-'Step 5 Actual annual emissions'!$G$6)),(SUMPRODUCT('Emission Calculations'!AC$10:AC$74,'Emission Calculations'!$S$10:$S$74)/2000))","v":0},{"$f":"IF('Emission Calculations'!$S$7=TRUE,(SUMPRODUCT('Emission Calculations'!AD$10:AD$74,'Emission Calculations'!$S$10:$S$74)/2000*(1-'Step 5 Actual annual emissions'!$G$6)),(SUMPRODUCT('Emission Calculations'!AD$10:AD$74,'Emission Calculations'!$S$10:$S$74)/2000))","v":0},{"$f":"IF('Emission Calculations'!$S$7=TRUE,(SUMPRODUCT('Emission Calculations'!CN$10:CN$74,'Emission Calculations'!$S$10:$S$74)/2000*(1-'Step 5 Actual annual emissions'!$G$6)),(SUMPRODUCT('Emission Calculations'!CN$10:CN$74,'Emission Calculations'!$S$10:$S$74)/2000))","v":0},{"$f":"IF('Emission Calculations'!$S$7=TRUE,(SUMPRODUCT('Emission Calculations'!CO$10:CO$74,'Emission Calculations'!$S$10:$S$74)/2000*(1-'Step 5 Actual annual emissions'!$G$6)),(SUMPRODUCT('Emission Calculations'!CO$10:CO$74,'Emission Calculations'!$S$10:$S$74)/2000))","v":0},{"$f":"IF('Emission Calculations'!$S$7=TRUE,(SUMPRODUCT('Emission Calculations'!CP$10:CP$74,'Emission Calculations'!$S$10:$S$74)/2000*(1-'Step 5 Actual annual emissions'!$G$6)),(SUMPRODUCT('Emission Calculations'!CP$10:CP$74,'Emission Calculations'!$S$10:$S$74)/2000))","v":0},{"$f":"IF('Emission Calculations'!$S$7=TRUE,(SUMPRODUCT('Emission Calculations'!CQ$10:CQ$74,'Emission Calculations'!$S$10:$S$74)/2000*(1-'Step 5 Actual annual emissions'!$G$6)),(SUMPRODUCT('Emission Calculations'!CQ$10:CQ$74,'Emission Calculations'!$S$10:$S$74)/2000))","v":0},{"$f":"IF('Emission Calculations'!$S$7=TRUE,(SUMPRODUCT('Emission Calculations'!CR$10:CR$74,'Emission Calculations'!$S$10:$S$74)/2000*(1-'Step 5 Actual annual emissions'!$G$6)),(SUMPRODUCT('Emission Calculations'!CR$10:CR$74,'Emission Calculations'!$S$10:$S$74)/2000))","v":0}]
[{"$f":"'Step 3 Product data'!S$17","v":"HAP Name"},{"$f":"IF('Emission Calculations'!$T$7=TRUE,(SUMPRODUCT('Emission Calculations'!Z$10:Z$74,'Emission Calculations'!$T$10:$T$74)/2000*(1-'Step 5 Actual annual emissions'!$G$6)),(SUMPRODUCT('Emission Calculations'!Z$10:Z$74,'Emission Calculations'!$T$10:$T$74)/2000))","v":0},{"$f":"IF('Emission Calculations'!$T$7=TRUE,(SUMPRODUCT('Emission Calculations'!AA$10:AA$74,'Emission Calculations'!$T$10:$T$74)/2000*(1-'Step 5 Actual annual emissions'!$G$6)),(SUMPRODUCT('Emission Calculations'!AA$10:AA$74,'Emission Calculations'!$T$10:$T$74)/2000))","v":0},{"$f":"IF('Emission Calculations'!$T$7=TRUE,(SUMPRODUCT('Emission Calculations'!AB$10:AB$74,'Emission Calculations'!$T$10:$T$74)/2000*(1-'Step 5 Actual annual emissions'!$G$6)),(SUMPRODUCT('Emission Calculations'!AB$10:AB$74,'Emission Calculations'!$T$10:$T$74)/2000))","v":0},{"$f":"IF('Emission Calculations'!$T$7=TRUE,(SUMPRODUCT('Emission Calculations'!AC$10:AC$74,'Emission Calculations'!$T$10:$T$74)/2000*(1-'Step 5 Actual annual emissions'!$G$6)),(SUMPRODUCT('Emission Calculations'!AC$10:AC$74,'Emission Calculations'!$T$10:$T$74)/2000))","v":0},{"$f":"IF('Emission Calculations'!$T$7=TRUE,(SUMPRODUCT('Emission Calculations'!AD$10:AD$74,'Emission Calculations'!$T$10:$T$74)/2000*(1-'Step 5 Actual annual emissions'!$G$6)),(SUMPRODUCT('Emission Calculations'!AD$10:AD$74,'Emission Calculations'!$T$10:$T$74)/2000))","v":0},{"$f":"IF('Emission Calculations'!$T$7=TRUE,(SUMPRODUCT('Emission Calculations'!CN$10:CN$74,'Emission Calculations'!$T$10:$T$74)/2000*(1-'Step 5 Actual annual emissions'!$G$6)),(SUMPRODUCT('Emission Calculations'!CN$10:CN$74,'Emission Calculations'!$T$10:$T$74)/2000))","v":0},{"$f":"IF('Emission Calculations'!$T$7=TRUE,(SUMPRODUCT('Emission Calculations'!CO$10:CO$74,'Emission Calculations'!$T$10:$T$74)/2000*(1-'Step 5 Actual annual emissions'!$G$6)),(SUMPRODUCT('Emission Calculations'!CO$10:CO$74,'Emission Calculations'!$T$10:$T$74)/2000))","v":0},{"$f":"IF('Emission Calculations'!$T$7=TRUE,(SUMPRODUCT('Emission Calculations'!CP$10:CP$74,'Emission Calculations'!$T$10:$T$74)/2000*(1-'Step 5 Actual annual emissions'!$G$6)),(SUMPRODUCT('Emission Calculations'!CP$10:CP$74,'Emission Calculations'!$T$10:$T$74)/2000))","v":0},{"$f":"IF('Emission Calculations'!$T$7=TRUE,(SUMPRODUCT('Emission Calculations'!CQ$10:CQ$74,'Emission Calculations'!$T$10:$T$74)/2000*(1-'Step 5 Actual annual emissions'!$G$6)),(SUMPRODUCT('Emission Calculations'!CQ$10:CQ$74,'Emission Calculations'!$T$10:$T$74)/2000))","v":0},{"$f":"IF('Emission Calculations'!$T$7=TRUE,(SUMPRODUCT('Emission Calculations'!CR$10:CR$74,'Emission Calculations'!$T$10:$T$74)/2000*(1-'Step 5 Actual annual emissions'!$G$6)),(SUMPRODUCT('Emission Calculations'!CR$10:CR$74,'Emission Calculations'!$T$10:$T$74)/2000))","v":0}]
[{"$f":"'Step 3 Product data'!T$17","v":"HAP Name"},{"$f":"IF('Emission Calculations'!$U$7=TRUE,(SUMPRODUCT('Emission Calculations'!Z$10:Z$74,'Emission Calculations'!$U$10:$U$74)/2000*(1-'Step 5 Actual annual emissions'!$G$6)),(SUMPRODUCT('Emission Calculations'!Z$10:Z$74,'Emission Calculations'!$U$10:$U$74)/2000))","v":0},{"$f":"IF('Emission Calculations'!$U$7=TRUE,(SUMPRODUCT('Emission Calculations'!AA$10:AA$74,'Emission Calculations'!$U$10:$U$74)/2000*(1-'Step 5 Actual annual emissions'!$G$6)),(SUMPRODUCT('Emission Calculations'!AA$10:AA$74,'Emission Calculations'!$U$10:$U$74)/2000))","v":0},{"$f":"IF('Emission Calculations'!$U$7=TRUE,(SUMPRODUCT('Emission Calculations'!AB$10:AB$74,'Emission Calculations'!$U$10:$U$74)/2000*(1-'Step 5 Actual annual emissions'!$G$6)),(SUMPRODUCT('Emission Calculations'!AB$10:AB$74,'Emission Calculations'!$U$10:$U$74)/2000))","v":0},{"$f":"IF('Emission Calculations'!$U$7=TRUE,(SUMPRODUCT('Emission Calculations'!AC$10:AC$74,'Emission Calculations'!$U$10:$U$74)/2000*(1-'Step 5 Actual annual emissions'!$G$6)),(SUMPRODUCT('Emission Calculations'!AC$10:AC$74,'Emission Calculations'!$U$10:$U$74)/2000))","v":0},{"$f":"IF('Emission Calculations'!$U$7=TRUE,(SUMPRODUCT('Emission Calculations'!AD$10:AD$74,'Emission Calculations'!$U$10:$U$74)/2000*(1-'Step 5 Actual annual emissions'!$G$6)),(SUMPRODUCT('Emission Calculations'!AD$10:AD$74,'Emission Calculations'!$U$10:$U$74)/2000))","v":0},{"$f":"IF('Emission Calculations'!$U$7=TRUE,(SUMPRODUCT('Emission Calculations'!CN$10:CN$74,'Emission Calculations'!$U$10:$U$74)/2000*(1-'Step 5 Actual annual emissions'!$G$6)),(SUMPRODUCT('Emission Calculations'!CN$10:CN$74,'Emission Calculations'!$U$10:$U$74)/2000))","v":0},{"$f":"IF('Emission Calculations'!$U$7=TRUE,(SUMPRODUCT('Emission Calculations'!CO$10:CO$74,'Emission Calculations'!$U$10:$U$74)/2000*(1-'Step 5 Actual annual emissions'!$G$6)),(SUMPRODUCT('Emission Calculations'!CO$10:CO$74,'Emission Calculations'!$U$10:$U$74)/2000))","v":0},{"$f":"IF('Emission Calculations'!$U$7=TRUE,(SUMPRODUCT('Emission Calculations'!CP$10:CP$74,'Emission Calculations'!$U$10:$U$74)/2000*(1-'Step 5 Actual annual emissions'!$G$6)),(SUMPRODUCT('Emission Calculations'!CP$10:CP$74,'Emission Calculations'!$U$10:$U$74)/2000))","v":0},{"$f":"IF('Emission Calculations'!$U$7=TRUE,(SUMPRODUCT('Emission Calculations'!CQ$10:CQ$74,'Emission Calculations'!$U$10:$U$74)/2000*(1-'Step 5 Actual annual emissions'!$G$6)),(SUMPRODUCT('Emission Calculations'!CQ$10:CQ$74,'Emission Calculations'!$U$10:$U$74)/2000))","v":0},{"$f":"IF('Emission Calculations'!$U$7=TRUE,(SUMPRODUCT('Emission Calculations'!CR$10:CR$74,'Emission Calculations'!$U$10:$U$74)/2000*(1-'Step 5 Actual annual emissions'!$G$6)),(SUMPRODUCT('Emission Calculations'!CR$10:CR$74,'Emission Calculations'!$U$10:$U$74)/2000))","v":0}]
[{"$f":"'Step 3 Product data'!U$17","v":"HAP Name"},{"$f":"IF('Emission Calculations'!$V$7=TRUE,(SUMPRODUCT('Emission Calculations'!Z$10:Z$74,'Emission Calculations'!$V$10:$V$74)/2000*(1-'Step 5 Actual annual emissions'!$G$6)),(SUMPRODUCT('Emission Calculations'!Z$10:Z$74,'Emission Calculations'!$V$10:$V$74)/2000))","v":0},{"$f":"IF('Emission Calculations'!$V$7=TRUE,(SUMPRODUCT('Emission Calculations'!AA$10:AA$74,'Emission Calculations'!$V$10:$V$74)/2000*(1-'Step 5 Actual annual emissions'!$G$6)),(SUMPRODUCT('Emission Calculations'!AA$10:AA$74,'Emission Calculations'!$V$10:$V$74)/2000))","v":0},{"$f":"IF('Emission Calculations'!$V$7=TRUE,(SUMPRODUCT('Emission Calculations'!AB$10:AB$74,'Emission Calculations'!$V$10:$V$74)/2000*(1-'Step 5 Actual annual emissions'!$G$6)),(SUMPRODUCT('Emission Calculations'!AB$10:AB$74,'Emission Calculations'!$V$10:$V$74)/2000))","v":0},{"$f":"IF('Emission Calculations'!$V$7=TRUE,(SUMPRODUCT('Emission Calculations'!AC$10:AC$74,'Emission Calculations'!$V$10:$V$74)/2000*(1-'Step 5 Actual annual emissions'!$G$6)),(SUMPRODUCT('Emission Calculations'!AC$10:AC$74,'Emission Calculations'!$V$10:$V$74)/2000))","v":0},{"$f":"IF('Emission Calculations'!$V$7=TRUE,(SUMPRODUCT('Emission Calculations'!AD$10:AD$74,'Emission Calculations'!$V$10:$V$74)/2000*(1-'Step 5 Actual annual emissions'!$G$6)),(SUMPRODUCT('Emission Calculations'!AD$10:AD$74,'Emission Calculations'!$V$10:$V$74)/2000))","v":0},{"$f":"IF('Emission Calculations'!$V$7=TRUE,(SUMPRODUCT('Emission Calculations'!CN$10:CN$74,'Emission Calculations'!$V$10:$V$74)/2000*(1-'Step 5 Actual annual emissions'!$G$6)),(SUMPRODUCT('Emission Calculations'!CN$10:CN$74,'Emission Calculations'!$V$10:$V$74)/2000))","v":0},{"$f":"IF('Emission Calculations'!$V$7=TRUE,(SUMPRODUCT('Emission Calculations'!CO$10:CO$74,'Emission Calculations'!$V$10:$V$74)/2000*(1-'Step 5 Actual annual emissions'!$G$6)),(SUMPRODUCT('Emission Calculations'!CO$10:CO$74,'Emission Calculations'!$V$10:$V$74)/2000))","v":0},{"$f":"IF('Emission Calculations'!$V$7=TRUE,(SUMPRODUCT('Emission Calculations'!CP$10:CP$74,'Emission Calculations'!$V$10:$V$74)/2000*(1-'Step 5 Actual annual emissions'!$G$6)),(SUMPRODUCT('Emission Calculations'!CP$10:CP$74,'Emission Calculations'!$V$10:$V$74)/2000))","v":0},{"$f":"IF('Emission Calculations'!$V$7=TRUE,(SUMPRODUCT('Emission Calculations'!CQ$10:CQ$74,'Emission Calculations'!$V$10:$V$74)/2000*(1-'Step 5 Actual annual emissions'!$G$6)),(SUMPRODUCT('Emission Calculations'!CQ$10:CQ$74,'Emission Calculations'!$V$10:$V$74)/2000))","v":0},{"$f":"IF('Emission Calculations'!$V$7=TRUE,(SUMPRODUCT('Emission Calculations'!CR$10:CR$74,'Emission Calculations'!$V$10:$V$74)/2000*(1-'Step 5 Actual annual emissions'!$G$6)),(SUMPRODUCT('Emission Calculations'!CR$10:CR$74,'Emission Calculations'!$V$10:$V$74)/2000))","v":0}]
[{"$f":"'Step 3 Product data'!V$17","v":"HAP Name"},{"$f":"IF('Emission Calculations'!$W$7=TRUE,(SUMPRODUCT('Emission Calculations'!Z$10:Z$74,'Emission Calculations'!$W$10:$W$74)/2000*(1-'Step 5 Actual annual emissions'!$G$6)),(SUMPRODUCT('Emission Calculations'!Z$10:Z$74,'Emission Calculations'!$W$10:$W$74)/2000))","v":0},{"$f":"IF('Emission Calculations'!$W$7=TRUE,(SUMPRODUCT('Emission Calculations'!AA$10:AA$74,'Emission Calculations'!$W$10:$W$74)/2000*(1-'Step 5 Actual annual emissions'!$G$6)),(SUMPRODUCT('Emission Calculations'!AA$10:AA$74,'Emission Calculations'!$W$10:$W$74)/2000))","v":0},{"$f":"IF('Emission Calculations'!$W$7=TRUE,(SUMPRODUCT('Emission Calculations'!AB$10:AB$74,'Emission Calculations'!$W$10:$W$74)/2000*(1-'Step 5 Actual annual emissions'!$G$6)),(SUMPRODUCT('Emission Calculations'!AB$10:AB$74,'Emission Calculations'!$W$10:$W$74)/2000))","v":0},{"$f":"IF('Emission Calculations'!$W$7=TRUE,(SUMPRODUCT('Emission Calculations'!AC$10:AC$74,'Emission Calculations'!$W$10:$W$74)/2000*(1-'Step 5 Actual annual emissions'!$G$6)),(SUMPRODUCT('Emission Calculations'!AC$10:AC$74,'Emission Calculations'!$W$10:$W$74)/2000))","v":0},{"$f":"IF('Emission Calculations'!$W$7=TRUE,(SUMPRODUCT('Emission Calculations'!AD$10:AD$74,'Emission Calculations'!$W$10:$W$74)/2000*(1-'Step 5 Actual annual emissions'!$G$6)),(SUMPRODUCT('Emission Calculations'!AD$10:AD$74,'Emission Calculations'!$W$10:$W$74)/2000))","v":0},{"$f":"IF('Emission Calculations'!$W$7=TRUE,(SUMPRODUCT('Emission Calculations'!CN$10:CN$74,'Emission Calculations'!$W$10:$W$74)/2000*(1-'Step 5 Actual annual emissions'!$G$6)),(SUMPRODUCT('Emission Calculations'!CN$10:CN$74,'Emission Calculations'!$W$10:$W$74)/2000))","v":0},{"$f":"IF('Emission Calculations'!$W$7=TRUE,(SUMPRODUCT('Emission Calculations'!CO$10:CO$74,'Emission Calculations'!$W$10:$W$74)/2000*(1-'Step 5 Actual annual emissions'!$G$6)),(SUMPRODUCT('Emission Calculations'!CO$10:CO$74,'Emission Calculations'!$W$10:$W$74)/2000))","v":0},{"$f":"IF('Emission Calculations'!$W$7=TRUE,(SUMPRODUCT('Emission Calculations'!CP$10:CP$74,'Emission Calculations'!$W$10:$W$74)/2000*(1-'Step 5 Actual annual emissions'!$G$6)),(SUMPRODUCT('Emission Calculations'!CP$10:CP$74,'Emission Calculations'!$W$10:$W$74)/2000))","v":0},{"$f":"IF('Emission Calculations'!$W$7=TRUE,(SUMPRODUCT('Emission Calculations'!CQ$10:CQ$74,'Emission Calculations'!$W$10:$W$74)/2000*(1-'Step 5 Actual annual emissions'!$G$6)),(SUMPRODUCT('Emission Calculations'!CQ$10:CQ$74,'Emission Calculations'!$W$10:$W$74)/2000))","v":0},{"$f":"IF('Emission Calculations'!$W$7=TRUE,(SUMPRODUCT('Emission Calculations'!CR$10:CR$74,'Emission Calculations'!$W$10:$W$74)/2000*(1-'Step 5 Actual annual emissions'!$G$6)),(SUMPRODUCT('Emission Calculations'!CR$10:CR$74,'Emission Calculations'!$W$10:$W$74)/2000))","v":0}]
[{"$f":"'Step 3 Product data'!W$17","v":"HAP Name"},{"$f":"IF('Emission Calculations'!$X$7=TRUE,(SUMPRODUCT('Emission Calculations'!Z$10:Z$74,'Emission Calculations'!$X$10:$X$74)/2000*(1-'Step 5 Actual annual emissions'!$G$6)),(SUMPRODUCT('Emission Calculations'!Z$10:Z$74,'Emission Calculations'!$X$10:$X$74)/2000))","v":0},{"$f":"IF('Emission Calculations'!$X$7=TRUE,(SUMPRODUCT('Emission Calculations'!AA$10:AA$74,'Emission Calculations'!$X$10:$X$74)/2000*(1-'Step 5 Actual annual emissions'!$G$6)),(SUMPRODUCT('Emission Calculations'!AA$10:AA$74,'Emission Calculations'!$X$10:$X$74)/2000))","v":0},{"$f":"IF('Emission Calculations'!$X$7=TRUE,(SUMPRODUCT('Emission Calculations'!AB$10:AB$74,'Emission Calculations'!$X$10:$X$74)/2000*(1-'Step 5 Actual annual emissions'!$G$6)),(SUMPRODUCT('Emission Calculations'!AB$10:AB$74,'Emission Calculations'!$X$10:$X$74)/2000))","v":0},{"$f":"IF('Emission Calculations'!$X$7=TRUE,(SUMPRODUCT('Emission Calculations'!AC$10:AC$74,'Emission Calculations'!$X$10:$X$74)/2000*(1-'Step 5 Actual annual emissions'!$G$6)),(SUMPRODUCT('Emission Calculations'!AC$10:AC$74,'Emission Calculations'!$X$10:$X$74)/2000))","v":0},{"$f":"IF('Emission Calculations'!$X$7=TRUE,(SUMPRODUCT('Emission Calculations'!AD$10:AD$74,'Emission Calculations'!$X$10:$X$74)/2000*(1-'Step 5 Actual annual emissions'!$G$6)),(SUMPRODUCT('Emission Calculations'!AD$10:AD$74,'Emission Calculations'!$X$10:$X$74)/2000))","v":0},{"$f":"IF('Emission Calculations'!$X$7=TRUE,(SUMPRODUCT('Emission Calculations'!CN$10:CN$74,'Emission Calculations'!$X$10:$X$74)/2000*(1-'Step 5 Actual annual emissions'!$G$6)),(SUMPRODUCT('Emission Calculations'!CN$10:CN$74,'Emission Calculations'!$X$10:$X$74)/2000))","v":0},{"$f":"IF('Emission Calculations'!$X$7=TRUE,(SUMPRODUCT('Emission Calculations'!CO$10:CO$74,'Emission Calculations'!$X$10:$X$74)/2000*(1-'Step 5 Actual annual emissions'!$G$6)),(SUMPRODUCT('Emission Calculations'!CO$10:CO$74,'Emission Calculations'!$X$10:$X$74)/2000))","v":0},{"$f":"IF('Emission Calculations'!$X$7=TRUE,(SUMPRODUCT('Emission Calculations'!CP$10:CP$74,'Emission Calculations'!$X$10:$X$74)/2000*(1-'Step 5 Actual annual emissions'!$G$6)),(SUMPRODUCT('Emission Calculations'!CP$10:CP$74,'Emission Calculations'!$X$10:$X$74)/2000))","v":0},{"$f":"IF('Emission Calculations'!$X$7=TRUE,(SUMPRODUCT('Emission Calculations'!CQ$10:CQ$74,'Emission Calculations'!$X$10:$X$74)/2000*(1-'Step 5 Actual annual emissions'!$G$6)),(SUMPRODUCT('Emission Calculations'!CQ$10:CQ$74,'Emission Calculations'!$X$10:$X$74)/2000))","v":0},{"$f":"IF('Emission Calculations'!$X$7=TRUE,(SUMPRODUCT('Emission Calculations'!CR$10:CR$74,'Emission Calculations'!$X$10:$X$74)/2000*(1-'Step 5 Actual annual emissions'!$G$6)),(SUMPRODUCT('Emission Calculations'!CR$10:CR$74,'Emission Calculations'!$X$10:$X$74)/2000))","v":0}]
[{"$f":"'Step 3 Product data'!X$17","v":"HAP Name"},{"$f":"IF('Emission Calculations'!$Y$7=TRUE,(SUMPRODUCT('Emission Calculations'!Z$10:Z$74,'Emission Calculations'!$Y$10:$Y$74)/2000*(1-'Step 5 Actual annual emissions'!$G$6)),(SUMPRODUCT('Emission Calculations'!Z$10:Z$74,'Emission Calculations'!$Y$10:$Y$74)/2000))","v":0},{"$f":"IF('Emission Calculations'!$Y$7=TRUE,(SUMPRODUCT('Emission Calculations'!AA$10:AA$74,'Emission Calculations'!$Y$10:$Y$74)/2000*(1-'Step 5 Actual annual emissions'!$G$6)),(SUMPRODUCT('Emission Calculations'!AA$10:AA$74,'Emission Calculations'!$Y$10:$Y$74)/2000))","v":0},{"$f":"IF('Emission Calculations'!$Y$7=TRUE,(SUMPRODUCT('Emission Calculations'!AB$10:AB$74,'Emission Calculations'!$Y$10:$Y$74)/2000*(1-'Step 5 Actual annual emissions'!$G$6)),(SUMPRODUCT('Emission Calculations'!AB$10:AB$74,'Emission Calculations'!$Y$10:$Y$74)/2000))","v":0},{"$f":"IF('Emission Calculations'!$Y$7=TRUE,(SUMPRODUCT('Emission Calculations'!AC$10:AC$74,'Emission Calculations'!$Y$10:$Y$74)/2000*(1-'Step 5 Actual annual emissions'!$G$6)),(SUMPRODUCT('Emission Calculations'!AC$10:AC$74,'Emission Calculations'!$Y$10:$Y$74)/2000))","v":0},{"$f":"IF('Emission Calculations'!$Y$7=TRUE,(SUMPRODUCT('Emission Calculations'!AD$10:AD$74,'Emission Calculations'!$Y$10:$Y$74)/2000*(1-'Step 5 Actual annual emissions'!$G$6)),(SUMPRODUCT('Emission Calculations'!AD$10:AD$74,'Emission Calculations'!$Y$10:$Y$74)/2000))","v":0},{"$f":"IF('Emission Calculations'!$Y$7=TRUE,(SUMPRODUCT('Emission Calculations'!CN$10:CN$74,'Emission Calculations'!$Y$10:$Y$74)/2000*(1-'Step 5 Actual annual emissions'!$G$6)),(SUMPRODUCT('Emission Calculations'!CN$10:CN$74,'Emission Calculations'!$Y$10:$Y$74)/2000))","v":0},{"$f":"IF('Emission Calculations'!$Y$7=TRUE,(SUMPRODUCT('Emission Calculations'!CO$10:CO$74,'Emission Calculations'!$Y$10:$Y$74)/2000*(1-'Step 5 Actual annual emissions'!$G$6)),(SUMPRODUCT('Emission Calculations'!CO$10:CO$74,'Emission Calculations'!$Y$10:$Y$74)/2000))","v":0},{"$f":"IF('Emission Calculations'!$Y$7=TRUE,(SUMPRODUCT('Emission Calculations'!CP$10:CP$74,'Emission Calculations'!$Y$10:$Y$74)/2000*(1-'Step 5 Actual annual emissions'!$G$6)),(SUMPRODUCT('Emission Calculations'!CP$10:CP$74,'Emission Calculations'!$Y$10:$Y$74)/2000))","v":0},{"$f":"IF('Emission Calculations'!$Y$7=TRUE,(SUMPRODUCT('Emission Calculations'!CQ$10:CQ$74,'Emission Calculations'!$Y$10:$Y$74)/2000*(1-'Step 5 Actual annual emissions'!$G$6)),(SUMPRODUCT('Emission Calculations'!CQ$10:CQ$74,'Emission Calculations'!$Y$10:$Y$74)/2000))","v":0},{"$f":"IF('Emission Calculations'!$Y$7=TRUE,(SUMPRODUCT('Emission Calculations'!CR$10:CR$74,'Emission Calculations'!$Y$10:$Y$74)/2000*(1-'Step 5 Actual annual emissions'!$G$6)),(SUMPRODUCT('Emission Calculations'!CR$10:CR$74,'Emission Calculations'!$Y$10:$Y$74)/2000))","v":0}]
["HAP Individual Max",{"$f":"MAX(B267:B282)","v":0},0,0,0,0,0,0,0,0,0]
["HAP Total",{"$f":"SUM(B267:B282)","v":0},0,0,0,0,0,0,0,0,0]
["Total Gallons Used",{"$f":"SUM('Emission Calculations'!Z$10:Z$74)","v":0},{"$f":"SUM('Emission Calculations'!AA$10:AA$74)","v":0},{"$f":"SUM('Emission Calculations'!AB$10:AB$74)","v":0},{"$f":"SUM('Emission Calculations'!AC$10:AC$74)","v":0},{"$f":"SUM('Emission Calculations'!AD$10:AD$74)","v":0},{"$f":"SUM('Emission Calculations'!CN$10:CN$74)","v":0},{"$f":"SUM('Emission Calculations'!CO$10:CO$74)","v":0},{"$f":"SUM('Emission Calculations'!CP$10:CP$74)","v":0},{"$f":"SUM('Emission Calculations'!CQ$10:CQ$74)","v":0},{"$f":"SUM('Emission Calculations'!CR$10:CR$74)","v":0}]

{"sheet":"HAP List Formulas","index":13,"n_rows":224,"n_cols":40,"rows_kept":224,"cut":false,"hidden":true,"merged":[[1,3,1,4]]}
[null,null,null,null,null,null,null,"Helper1","HAP1","HAP1","HAP2","HAP2","HAP3","HAP3","HAP4","HAP4","HAP5","HAP5","HAP6","HAP6","HAP7","HAP7","HAP8","HAP8","HAP9","HAP9","HAP10","HAP10","HA11","HAP11","HAP12","HAP12","HAP13","HAP13","HAP14","HAP14","HAP15","HAP15","HAP16","HAP16"]
["HAP Name","CAS#",null,"VOC & HAP Sheet",null,"Helper Name",null,{"$f":"ROWS($A$2:A2)","v":1},{"$f":"IF('Step 3 Product data'!I$17=$A2,$H2,\"\")","v":1},{"$f":"IFERROR(SMALL($I$2:$I$224,ROWS($I$2:I2)),\"\")","v":1},{"$f":"IF('Step 3 Product data'!J$17=$A2,$H2,\"\")","v":1},{"$f":"IFERROR(SMALL(K$2:K$224,ROWS(K$2:K2)),\"\")","v":1},{"$f":"IF('Step 3 Product data'!K$17=$A2,$H2,\"\")","v":1},{"$f":"IFERROR(SMALL(M$2:M$224,ROWS(M$2:M2)),\"\")","v":1},{"$f":"IF('Step 3 Product data'!L$17=$A2,$H2,\"\")","v":1},{"$f":"IFERROR(SMALL(O$2:O$224,ROWS(O$2:O2)),\"\")","v":1},{"$f":"IF('Step 3 Product data'!M$17=$A2,$H2,\"\")","v":1},{"$f":"IFERROR(SMALL(Q$2:Q$224,ROWS(Q$2:Q2)),\"\")","v":1},{"$f":"IF('Step 3 Product data'!N$17=$A2,$H2,\"\")","v":1},{"$f":"IFERROR(SMALL(S$2:S$224,ROWS(S$2:S2)),\"\")","v":1},{"$f":"IF('Step 3 Product data'!O$17=$A2,$H2,\"\")","v":1},{"$f":"IFERROR(SMALL(U$2:U$224,ROWS(U$2:U2)),\"\")","v":1},{"$f":"IF('Step 3 Product data'!P$17=$A2,$H2,\"\")","v":1},{"$f":"IFERROR(SMALL(W$2:W$224,ROWS(W$2:W2)),\"\")","v":1},{"$f":"IF('Step 3 Product data'!Q$17=$A2,$H2,\"\")","v":1},{"$f":"IFERROR(SMALL(Y$2:Y$224,ROWS(Y$2:Y2)),\"\")","v":1},{"$f":"IF('Step 3 Product data'!R$17=$A2,$H2,\"\")","v":1},{"$f":"IFERROR(SMALL(AA$2:AA$224,ROWS(AA$2:AA2)),\"\")","v":1},{"$f":"IF('Step 3 Product data'!S$17=$A2,$H2,\"\")","v":1},{"$f":"IFERROR(SMALL(AC$2:AC$224,ROWS(AC$2:AC2)),\"\")","v":1},{"$f":"IF('Step 3 Product data'!T$17=$A2,$H2,\"\")","v":1},{"$f":"IFERROR(SMALL(AE$2:AE$224,ROWS(AE$2:AE2)),\"\")","v":1},{"$f":"IF('Step 3 Product data'!U$17=$A2,$H2,\"\")","v":1},{"$f":"IFERROR(SMALL(AG$2:AG$224,ROWS(AG$2:AG2)),\"\")","v":1},{"$f":"IF('Step 3 Product data'!V$17=$A2,$H2,\"\")","v":1},{"$f":"IFERROR(SMALL(AI$2:AI$224,ROWS(AI$2:AI2)),\"\")","v":1},{"$f":"IF('Step 3 Product data'!W$17=$A2,$H2,\"\")","v":1},{"$f":"IFERROR(SMALL(AK$2:AK$224,ROWS(AK$2:AK2)),\"\")","v":1},{"$f":"IF('Step 3 Product data'!X$17=$A2,$H2,\"\")","v":1},{"$f":"IFERROR(SMALL(AM$2:AM$224,ROWS(AM$2:AM2)),\"\")","v":1}]
["COMMON HAPS","Choose one",null,{"$f":"IFERROR(INDEX(HAPs[#All],$J2,COLUMNS($C2:C3)),\"\")","v":"HAP Name"},{"$f":"IFERROR(INDEX(HAPs[#All],$J2,COLUMNS($C$3:D3)),\"\")","v":"CAS#"},"HAP1",null,{"$f":"ROWS($A$2:A3)","v":2},{"$f":"IF('Step 3 Product data'!I$17=$A3,$H3,\"\")","v":""},{"$f":"IFERROR(SMALL($I$2:$I$224,ROWS($I$2:I3)),\"\")","v":""},{"$f":"IF('Step 3 Product data'!J$17=$A3,$H3,\"\")","v":""},{"$f":"IFERROR(SMALL(K$2:K$224,ROWS(K$2:K3)),\"\")","v":""},{"$f":"IF('Step 3 Product data'!K$17=$A3,$H3,\"\")","v":""},{"$f":"IFERROR(SMALL(M$2:M$224,ROWS(M$2:M3)),\"\")","v":""},{"$f":"IF('Step 3 Product data'!L$17=$A3,$H3,\"\")","v":""},{"$f":"IFERROR(SMALL(O$2:O$224,ROWS(O$2:O3)),\"\")","v":""},{"$f":"IF('Step 3 Product data'!M$17=$A3,$H3,\"\")","v":""},{"$f":"IFERROR(SMALL(Q$2:Q$224,ROWS(Q$2:Q3)),\"\")","v":""},{"$f":"IF('Step 3 Product data'!N$17=$A3,$H3,\"\")","v":""},{"$f":"IFERROR(SMALL(S$2:S$224,ROWS(S$2:S3)),\"\")","v":""},{"$f":"IF('Step 3 Product data'!O$17=$A3,$H3,\"\")","v":""},{"$f":"IFERROR(SMALL(U$2:U$224,ROWS(U$2:U3)),\"\")","v":""},{"$f":"IF('Step 3 Product data'!P$17=$A3,$H3,\"\")","v":""},{"$f":"IFERROR(SMALL(W$2:W$224,ROWS(W$2:W3)),\"\")","v":""},{"$f":"IF('Step 3 Product data'!Q$17=$A3,$H3,\"\")","v":""},{"$f":"IFERROR(SMALL(Y$2:Y$224,ROWS(Y$2:Y3)),\"\")","v":""},{"$f":"IF('Step 3 Product data'!R$17=$A3,$H3,\"\")","v":""},{"$f":"IFERROR(SMALL(AA$2:AA$224,ROWS(AA$2:AA3)),\"\")","v":""},{"$f":"IF('Step 3 Product data'!S$17=$A3,$H3,\"\")","v":""},{"$f":"IFERROR(SMALL(AC$2:AC$224,ROWS(AC$2:AC3)),\"\")","v":""},{"$f":"IF('Step 3 Product data'!T$17=$A3,$H3,\"\")","v":""},{"$f":"IFERROR(SMALL(AE$2:AE$224,ROWS(AE$2:AE3)),\"\")","v":""},{"$f":"IF('Step 3 Product data'!U$17=$A3,$H3,\"\")","v":""},{"$f":"IFERROR(SMALL(AG$2:AG$224,ROWS(AG$2:AG3)),\"\")","v":""},{"$f":"IF('Step 3 Product data'!V$17=$A3,$H3,\"\")","v":""},{"$f":"IFERROR(SMALL(AI$2:AI$224,ROWS(AI$2:AI3)),\"\")","v":""},{"$f":"IF('Step 3 Product data'!W$17=$A3,$H3,\"\")","v":""},{"$f":"IFERROR(SMALL(AK$2:AK$224,ROWS(AK$2:AK3)),\"\")","v":""},{"$f":"IF('Step 3 Product data'!X$17=$A3,$H3,\"\")","v":""},{"$f":"IFERROR(SMALL(AM$2:AM$224,ROWS(AM$2:AM3)),\"\")","v":""}]
["Benzene","CAS# 71432",null,{"$f":"IFERROR(INDEX(HAPs[#All],$L2,COLUMNS($C3:C4)),\"\")","v":"HAP Name"},{"$f":"IFERROR(INDEX(HAPs[#All],$L2,COLUMNS($C3:D4)),\"\")","v":"CAS#"},"HAP2",null,{"$f":"ROWS($A$2:A4)","v":3},{"$f":"IF('Step 3 Product data'!I$17=$A4,$H4,\"\")","v":""},{"$f":"IFERROR(SMALL($I$2:$I$224,ROWS($I$2:I4)),\"\")","v":""},{"$f":"IF('Step 3 Product data'!J$17=$A4,$H4,\"\")","v":""},{"$f":"IFERROR(SMALL(K$2:K$224,ROWS(K$2:K4)),\"\")","v":""},{"$f":"IF('Step 3 Product data'!K$17=$A4,$H4,\"\")","v":""},{"$f":"IFERROR(SMALL(M$2:M$224,ROWS(M$2:M4)),\"\")","v":""},{"$f":"IF('Step 3 Product data'!L$17=$A4,$H4,\"\")","v":""},{"$f":"IFERROR(SMALL(O$2:O$224,ROWS(O$2:O4)),\"\")","v":""},{"$f":"IF('Step 3 Product data'!M$17=$A4,$H4,\"\")","v":""},{"$f":"IFERROR(SMALL(Q$2:Q$224,ROWS(Q$2:Q4)),\"\")","v":""},{"$f":"IF('Step 3 Product data'!N$17=$A4,$H4,\"\")","v":""},{"$f":"IFERROR(SMALL(S$2:S$224,ROWS(S$2:S4)),\"\")","v":""},{"$f":"IF('Step 3 Product data'!O$17=$A4,$H4,\"\")","v":""},{"$f":"IFERROR(SMALL(U$2:U$224,ROWS(U$2:U4)),\"\")","v":""},{"$f":"IF('Step 3 Product data'!P$17=$A4,$H4,\"\")","v":""},{"$f":"IFERROR(SMALL(W$2:W$224,ROWS(W$2:W4)),\"\")","v":""},{"$f":"IF('Step 3 Product data'!Q$17=$A4,$H4,\"\")","v":""},{"$f":"IFERROR(SMALL(Y$2:Y$224,ROWS(Y$2:Y4)),\"\")","v":""},{"$f":"IF('Step 3 Product data'!R$17=$A4,$H4,\"\")","v":""},{"$f":"IFERROR(SMALL(AA$2:AA$224,ROWS(AA$2:AA4)),\"\")","v":""},{"$f":"IF('Step 3 Product data'!S$17=$A4,$H4,\"\")","v":""},{"$f":"IFERROR(SMALL(AC$2:AC$224,ROWS(AC$2:AC4)),\"\")","v":""},{"$f":"IF('Step 3 Product data'!T$17=$A4,$H4,\"\")","v":""},{"$f":"IFERROR(SMALL(AE$2:AE$224,ROWS(AE$2:AE4)),\"\")","v":""},{"$f":"IF('Step 3 Product data'!U$17=$A4,$H4,\"\")","v":""},{"$f":"IFERROR(SMALL(AG$2:AG$224,ROWS(AG$2:AG4)),\"\")","v":""},{"$f":"IF('Step 3 Product data'!V$17=$A4,$H4,\"\")","v":""},{"$f":"IFERROR(SMALL(AI$2:AI$224,ROWS(AI$2:AI4)),\"\")","v":""},{"$f":"IF('Step 3 Product data'!W$17=$A4,$H4,\"\")","v":""},{"$f":"IFERROR(SMALL(AK$2:AK$224,ROWS(AK$2:AK4)),\"\")","v":""},{"$f":"IF('Step 3 Product data'!X$17=$A4,$H4,\"\")","v":""},{"$f":"IFERROR(SMALL(AM$2:AM$224,ROWS(AM$2:AM4)),\"\")","v":""}]
["Toluene","CAS# 108883",null,{"$f":"IFERROR(INDEX(HAPs[#All],$N2,COLUMNS($C$3:C5)),\"\")","v":"HAP Name"},{"$f":"IFERROR(INDEX(HAPs[#All],$N2,COLUMNS($C$3:D5)),\"\")","v":"CAS#"},"HAP3",null,{"$f":"ROWS($A$2:A5)","v":4},{"$f":"IF('Step 3 Product data'!I$17=$A5,$H5,\"\")","v":""},{"$f":"IFERROR(SMALL($I$2:$I$224,ROWS($I$2:I5)),\"\")","v":""},{"$f":"IF('Step 3 Product data'!J$17=$A5,$H5,\"\")","v":""},{"$f":"IFERROR(SMALL(K$2:K$224,ROWS(K$2:K5)),\"\")","v":""},{"$f":"IF('Step 3 Product data'!K$17=$A5,$H5,\"\")","v":""},{"$f":"IFERROR(SMALL(M$2:M$224,ROWS(M$2:M5)),\"\")","v":""},{"$f":"IF('Step 3 Product data'!L$17=$A5,$H5,\"\")","v":""},{"$f":"IFERROR(SMALL(O$2:O$224,ROWS(O$2:O5)),\"\")","v":""},{"$f":"IF('Step 3 Product data'!M$17=$A5,$H5,\"\")","v":""},{"$f":"IFERROR(SMALL(Q$2:Q$224,ROWS(Q$2:Q5)),\"\")","v":""},{"$f":"IF('Step 3 Product data'!N$17=$A5,$H5,\"\")","v":""},{"$f":"IFERROR(SMALL(S$2:S$224,ROWS(S$2:S5)),\"\")","v":""},{"$f":"IF('Step 3 Product data'!O$17=$A5,$H5,\"\")","v":""},{"$f":"IFERROR(SMALL(U$2:U$224,ROWS(U$2:U5)),\"\")","v":""},{"$f":"IF('Step 3 Product data'!P$17=$A5,$H5,\"\")","v":""},{"$f":"IFERROR(SMALL(W$2:W$224,ROWS(W$2:W5)),\"\")","v":""},{"$f":"IF('Step 3 Product data'!Q$17=$A5,$H5,\"\")","v":""},{"$f":"IFERROR(SMALL(Y$2:Y$224,ROWS(Y$2:Y5)),\"\")","v":""},{"$f":"IF('Step 3 Product data'!R$17=$A5,$H5,\"\")","v":""},{"$f":"IFERROR(SMALL(AA$2:AA$224,ROWS(AA$2:AA5)),\"\")","v":""},{"$f":"IF('Step 3 Product data'!S$17=$A5,$H5,\"\")","v":""},{"$f":"IFERROR(SMALL(AC$2:AC$224,ROWS(AC$2:AC5)),\"\")","v":""},{"$f":"IF('Step 3 Product data'!T$17=$A5,$H5,\"\")","v":""},{"$f":"IFERROR(SMALL(AE$2:AE$224,ROWS(AE$2:AE5)),\"\")","v":""},{"$f":"IF('Step 3 Product data'!U$17=$A5,$H5,\"\")","v":""},{"$f":"IFERROR(SMALL(AG$2:AG$224,ROWS(AG$2:AG5)),\"\")","v":""},{"$f":"IF('Step 3 Product data'!V$17=$A5,$H5,\"\")","v":""},{"$f":"IFERROR(SMALL(AI$2:AI$224,ROWS(AI$2:AI5)),\"\")","v":""},{"$f":"IF('Step 3 Product data'!W$17=$A5,$H5,\"\")","v":""},{"$f":"IFERROR(SMALL(AK$2:AK$224,ROWS(AK$2:AK5)),\"\")","v":""},{"$f":"IF('Step 3 Product data'!X$17=$A5,$H5,\"\")","v":""},{"$f":"IFERROR(SMALL(AM$2:AM$224,ROWS(AM$2:AM5)),\"\")","v":""}]
["Ethyl benzene","CAS# 100414",null,{"$f":"IFERROR(INDEX(HAPs[#All],$P2,COLUMNS($C$3:C6)),\"\")","v":"HAP Name"},{"$f":"IFERROR(INDEX(HAPs[#All],$P2,COLUMNS($C$3:D6)),\"\")","v":"CAS#"},"HAP4",null,{"$f":"ROWS($A$2:A6)","v":5},{"$f":"IF('Step 3 Product data'!I$17=$A6,$H6,\"\")","v":""},{"$f":"IFERROR(SMALL($I$2:$I$224,ROWS($I$2:I6)),\"\")","v":""},{"$f":"IF('Step 3 Product data'!J$17=$A6,$H6,\"\")","v":""},{"$f":"IFERROR(SMALL(K$2:K$224,ROWS(K$2:K6)),\"\")","v":""},{"$f":"IF('Step 3 Product data'!K$17=$A6,$H6,\"\")","v":""},{"$f":"IFERROR(SMALL(M$2:M$224,ROWS(M$2:M6)),\"\")","v":""},{"$f":"IF('Step 3 Product data'!L$17=$A6,$H6,\"\")","v":""},{"$f":"IFERROR(SMALL(O$2:O$224,ROWS(O$2:O6)),\"\")","v":""},{"$f":"IF('Step 3 Product data'!M$17=$A6,$H6,\"\")","v":""},{"$f":"IFERROR(SMALL(Q$2:Q$224,ROWS(Q$2:Q6)),\"\")","v":""},{"$f":"IF('Step 3 Product data'!N$17=$A6,$H6,\"\")","v":""},{"$f":"IFERROR(SMALL(S$2:S$224,ROWS(S$2:S6)),\"\")","v":""},{"$f":"IF('Step 3 Product data'!O$17=$A6,$H6,\"\")","v":""},{"$f":"IFERROR(SMALL(U$2:U$224,ROWS(U$2:U6)),\"\")","v":""},{"$f":"IF('Step 3 Product data'!P$17=$A6,$H6,\"\")","v":""},{"$f":"IFERROR(SMALL(W$2:W$224,ROWS(W$2:W6)),\"\")","v":""},{"$f":"IF('Step 3 Product data'!Q$17=$A6,$H6,\"\")","v":""},{"$f":"IFERROR(SMALL(Y$2:Y$224,ROWS(Y$2:Y6)),\"\")","v":""},{"$f":"IF('Step 3 Product data'!R$17=$A6,$H6,\"\")","v":""},{"$f":"IFERROR(SMALL(AA$2:AA$224,ROWS(AA$2:AA6)),\"\")","v":""},{"$f":"IF('Step 3 Product data'!S$17=$A6,$H6,\"\")","v":""},{"$f":"IFERROR(SMALL(AC$2:AC$224,ROWS(AC$2:AC6)),\"\")","v":""},{"$f":"IF('Step 3 Product data'!T$17=$A6,$H6,\"\")","v":""},{"$f":"IFERROR(SMALL(AE$2:AE$224,ROWS(AE$2:AE6)),\"\")","v":""},{"$f":"IF('Step 3 Product data'!U$17=$A6,$H6,\"\")","v":""},{"$f":"IFERROR(SMALL(AG$2:AG$224,ROWS(AG$2:AG6)),\"\")","v":""},{"$f":"IF('Step 3 Product data'!V$17=$A6,$H6,\"\")","v":""},{"$f":"IFERROR(SMALL(AI$2:AI$224,ROWS(AI$2:AI6)),\"\")","v":""},{"$f":"IF('Step 3 Product data'!W$17=$A6,$H6,\"\")","v":""},{"$f":"IFERROR(SMALL(AK$2:AK$224,ROWS(AK$2:AK6)),\"\")","v":""},{"$f":"IF('Step 3 Product data'!X$17=$A6,$H6,\"\")","v":""},{"$f":"IFERROR(SMALL(AM$2:AM$224,ROWS(AM$2:AM6)),\"\")","v":""}]
["Xylenes (isomers and mixtures)","CAS# 1330207",null,{"$f":"IFERROR(INDEX(HAPs[#All],$R2,COLUMNS($C$3:C7)),\"\")","v":"HAP Name"},{"$f":"IFERROR(INDEX(HAPs[#All],$R2,COLUMNS($C$3:D7)),\"\")","v":"CAS#"},"HAP5",null,{"$f":"ROWS($A$2:A7)","v":6},{"$f":"IF('Step 3 Product data'!I$17=$A7,$H7,\"\")","v":""},{"$f":"IFERROR(SMALL($I$2:$I$224,ROWS($I$2:I7)),\"\")","v":""},{"$f":"IF('Step 3 Product data'!J$17=$A7,$H7,\"\")","v":""},{"$f":"IFERROR(SMALL(K$2:K$224,ROWS(K$2:K7)),\"\")","v":""},{"$f":"IF('Step 3 Product data'!K$17=$A7,$H7,\"\")","v":""},{"$f":"IFERROR(SMALL(M$2:M$224,ROWS(M$2:M7)),\"\")","v":""},{"$f":"IF('Step 3 Product data'!L$17=$A7,$H7,\"\")","v":""},{"$f":"IFERROR(SMALL(O$2:O$224,ROWS(O$2:O7)),\"\")","v":""},{"$f":"IF('Step 3 Product data'!M$17=$A7,$H7,\"\")","v":""},{"$f":"IFERROR(SMALL(Q$2:Q$224,ROWS(Q$2:Q7)),\"\")","v":""},{"$f":"IF('Step 3 Product data'!N$17=$A7,$H7,\"\")","v":""},{"$f":"IFERROR(SMALL(S$2:S$224,ROWS(S$2:S7)),\"\")","v":""},{"$f":"IF('Step 3 Product data'!O$17=$A7,$H7,\"\")","v":""},{"$f":"IFERROR(SMALL(U$2:U$224,ROWS(U$2:U7)),\"\")","v":""},{"$f":"IF('Step 3 Product data'!P$17=$A7,$H7,\"\")","v":""},{"$f":"IFERROR(SMALL(W$2:W$224,ROWS(W$2:W7)),\"\")","v":""},{"$f":"IF('Step 3 Product data'!Q$17=$A7,$H7,\"\")","v":""},{"$f":"IFERROR(SMALL(Y$2:Y$224,ROWS(Y$2:Y7)),\"\")","v":""},{"$f":"IF('Step 3 Product data'!R$17=$A7,$H7,\"\")","v":""},{"$f":"IFERROR(SMALL(AA$2:AA$224,ROWS(AA$2:AA7)),\"\")","v":""},{"$f":"IF('Step 3 Product data'!S$17=$A7,$H7,\"\")","v":""},{"$f":"IFERROR(SMALL(AC$2:AC$224,ROWS(AC$2:AC7)),\"\")","v":""},{"$f":"IF('Step 3 Product data'!T$17=$A7,$H7,\"\")","v":""},{"$f":"IFERROR(SMALL(AE$2:AE$224,ROWS(AE$2:AE7)),\"\")","v":""},{"$f":"IF('Step 3 Product data'!U$17=$A7,$H7,\"\")","v":""},{"$f":"IFERROR(SMALL(AG$2:AG$224,ROWS(AG$2:AG7)),\"\")","v":""},{"$f":"IF('Step 3 Product data'!V$17=$A7,$H7,\"\")","v":""},{"$f":"IFERROR(SMALL(AI$2:AI$224,ROWS(AI$2:AI7)),\"\")","v":""},{"$f":"IF('Step 3 Product data'!W$17=$A7,$H7,\"\")","v":""},{"$f":"IFERROR(SMALL(AK$2:AK$224,ROWS(AK$2:AK7)),\"\")","v":""},{"$f":"IF('Step 3 Product data'!X$17=$A7,$H7,\"\")","v":""},{"$f":"IFERROR(SMALL(AM$2:AM$224,ROWS(AM$2:AM7)),\"\")","v":""}]
["Naphthalene","CAS# 91203",null,{"$f":"IFERROR(INDEX(HAPs[#All],$T2,COLUMNS($C$3:C8)),\"\")","v":"HAP Name"},{"$f":"IFERROR(INDEX(HAPs[#All],$T2,COLUMNS($C$3:D8)),\"\")","v":"CAS#"},"HAP6",null,{"$f":"ROWS($A$2:A8)","v":7},{"$f":"IF('Step 3 Product data'!I$17=$A8,$H8,\"\")","v":""},{"$f":"IFERROR(SMALL($I$2:$I$224,ROWS($I$2:I8)),\"\")","v":""},{"$f":"IF('Step 3 Product data'!J$17=$A8,$H8,\"\")","v":""},{"$f":"IFERROR(SMALL(K$2:K$224,ROWS(K$2:K8)),\"\")","v":""},{"$f":"IF('Step 3 Product data'!K$17=$A8,$H8,\"\")","v":""},{"$f":"IFERROR(SMALL(M$2:M$224,ROWS(M$2:M8)),\"\")","v":""},{"$f":"IF('Step 3 Product data'!L$17=$A8,$H8,\"\")","v":""},{"$f":"IFERROR(SMALL(O$2:O$224,ROWS(O$2:O8)),\"\")","v":""},{"$f":"IF('Step 3 Product data'!M$17=$A8,$H8,\"\")","v":""},{"$f":"IFERROR(SMALL(Q$2:Q$224,ROWS(Q$2:Q8)),\"\")","v":""},{"$f":"IF('Step 3 Product data'!N$17=$A8,$H8,\"\")","v":""},{"$f":"IFERROR(SMALL(S$2:S$224,ROWS(S$2:S8)),\"\")","v":""},{"$f":"IF('Step 3 Product data'!O$17=$A8,$H8,\"\")","v":""},{"$f":"IFERROR(SMALL(U$2:U$224,ROWS(U$2:U8)),\"\")","v":""},{"$f":"IF('Step 3 Product data'!P$17=$A8,$H8,\"\")","v":""},{"$f":"IFERROR(SMALL(W$2:W$224,ROWS(W$2:W8)),\"\")","v":""},{"$f":"IF('Step 3 Product data'!Q$17=$A8,$H8,\"\")","v":""},{"$f":"IFERROR(SMALL(Y$2:Y$224,ROWS(Y$2:Y8)),\"\")","v":""},{"$f":"IF('Step 3 Product data'!R$17=$A8,$H8,\"\")","v":""},{"$f":"IFERROR(SMALL(AA$2:AA$224,ROWS(AA$2:AA8)),\"\")","v":""},{"$f":"IF('Step 3 Product data'!S$17=$A8,$H8,\"\")","v":""},{"$f":"IFERROR(SMALL(AC$2:AC$224,ROWS(AC$2:AC8)),\"\")","v":""},{"$f":"IF('Step 3 Product data'!T$17=$A8,$H8,\"\")","v":""},{"$f":"IFERROR(SMALL(AE$2:AE$224,ROWS(AE$2:AE8)),\"\")","v":""},{"$f":"IF('Step 3 Product data'!U$17=$A8,$H8,\"\")","v":""},{"$f":"IFERROR(SMALL(AG$2:AG$224,ROWS(AG$2:AG8)),\"\")","v":""},{"$f":"IF('Step 3 Product data'!V$17=$A8,$H8,\"\")","v":""},{"$f":"IFERROR(SMALL(AI$2:AI$224,ROWS(AI$2:AI8)),\"\")","v":""},{"$f":"IF('Step 3 Product data'!W$17=$A8,$H8,\"\")","v":""},{"$f":"IFERROR(SMALL(AK$2:AK$224,ROWS(AK$2:AK8)),\"\")","v":""},{"$f":"IF('Step 3 Product data'!X$17=$A8,$H8,\"\")","v":""},{"$f":"IFERROR(SMALL(AM$2:AM$224,ROWS(AM$2:AM8)),\"\")","v":""}]
["Formaldehyde","CAS# 50000",null,{"$f":"IFERROR(INDEX(HAPs[#All],$V2,COLUMNS($C$3:C9)),\"\")","v":"HAP Name"},{"$f":"IFERROR(INDEX(HAPs[#All],$V2,COLUMNS($C$3:D9)),\"\")","v":"CAS#"},"HAP7",null,{"$f":"ROWS($A$2:A9)","v":8},{"$f":"IF('Step 3 Product data'!I$17=$A9,$H9,\"\")","v":""},{"$f":"IFERROR(SMALL($I$2:$I$224,ROWS($I$2:I9)),\"\")","v":""},{"$f":"IF('Step 3 Product data'!J$17=$A9,$H9,\"\")","v":""},{"$f":"IFERROR(SMALL(K$2:K$224,ROWS(K$2:K9)),\"\")","v":""},{"$f":"IF('Step 3 Product data'!K$17=$A9,$H9,\"\")","v":""},{"$f":"IFERROR(SMALL(M$2:M$224,ROWS(M$2:M9)),\"\")","v":""},{"$f":"IF('Step 3 Product data'!L$17=$A9,$H9,\"\")","v":""},{"$f":"IFERROR(SMALL(O$2:O$224,ROWS(O$2:O9)),\"\")","v":""},{"$f":"IF('Step 3 Product data'!M$17=$A9,$H9,\"\")","v":""},{"$f":"IFERROR(SMALL(Q$2:Q$224,ROWS(Q$2:Q9)),\"\")","v":""},{"$f":"IF('Step 3 Product data'!N$17=$A9,$H9,\"\")","v":""},{"$f":"IFERROR(SMALL(S$2:S$224,ROWS(S$2:S9)),\"\")","v":""},{"$f":"IF('Step 3 Product data'!O$17=$A9,$H9,\"\")","v":""},{"$f":"IFERROR(SMALL(U$2:U$224,ROWS(U$2:U9)),\"\")","v":""},{"$f":"IF('Step 3 Product data'!P$17=$A9,$H9,\"\")","v":""},{"$f":"IFERROR(SMALL(W$2:W$224,ROWS(W$2:W9)),\"\")","v":""},{"$f":"IF('Step 3 Product data'!Q$17=$A9,$H9,\"\")","v":""},{"$f":"IFERROR(SMALL(Y$2:Y$224,ROWS(Y$2:Y9)),\"\")","v":""},{"$f":"IF('Step 3 Product data'!R$17=$A9,$H9,\"\")","v":""},{"$f":"IFERROR(SMALL(AA$2:AA$224,ROWS(AA$2:AA9)),\"\")","v":""},{"$f":"IF('Step 3 Product data'!S$17=$A9,$H9,\"\")","v":""},{"$f":"IFERROR(SMALL(AC$2:AC$224,ROWS(AC$2:AC9)),\"\")","v":""},{"$f":"IF('Step 3 Product data'!T$17=$A9,$H9,\"\")","v":""},{"$f":"IFERROR(SMALL(AE$2:AE$224,ROWS(AE$2:AE9)),\"\")","v":""},{"$f":"IF('Step 3 Product data'!U$17=$A9,$H9,\"\")","v":""},{"$f":"IFERROR(SMALL(AG$2:AG$224,ROWS(AG$2:AG9)),\"\")","v":""},{"$f":"IF('Step 3 Product data'!V$17=$A9,$H9,\"\")","v":""},{"$f":"IFERROR(SMALL(AI$2:AI$224,ROWS(AI$2:AI9)),\"\")","v":""},{"$f":"IF('Step 3 Product data'!W$17=$A9,$H9,\"\")","v":""},{"$f":"IFERROR(SMALL(AK$2:AK$224,ROWS(AK$2:AK9)),\"\")","v":""},{"$f":"IF('Step 3 Product data'!X$17=$A9,$H9,\"\")","v":""},{"$f":"IFERROR(SMALL(AM$2:AM$224,ROWS(AM$2:AM9)),\"\")","v":""}]
["Chloroform","CAS# 67663",null,{"$f":"IFERROR(INDEX(HAPs[#All],$X2,COLUMNS($C$3:C10)),\"\")","v":"HAP Name"},{"$f":"IFERROR(INDEX(HAPs[#All],$X2,COLUMNS($C$3:D10)),\"\")","v":"CAS#"},"HAP8",null,{"$f":"ROWS($A$2:A10)","v":9},{"$f":"IF('Step 3 Product data'!I$17=$A10,$H10,\"\")","v":""},{"$f":"IFERROR(SMALL($I$2:$I$224,ROWS($I$2:I10)),\"\")","v":""},{"$f":"IF('Step 3 Product data'!J$17=$A10,$H10,\"\")","v":""},{"$f":"IFERROR(SMALL(K$2:K$224,ROWS(K$2:K10)),\"\")","v":""},{"$f":"IF('Step 3 Product data'!K$17=$A10,$H10,\"\")","v":""},{"$f":"IFERROR(SMALL(M$2:M$224,ROWS(M$2:M10)),\"\")","v":""},{"$f":"IF('Step 3 Product data'!L$17=$A10,$H10,\"\")","v":""},{"$f":"IFERROR(SMALL(O$2:O$224,ROWS(O$2:O10)),\"\")","v":""},{"$f":"IF('Step 3 Product data'!M$17=$A10,$H10,\"\")","v":""},{"$f":"IFERROR(SMALL(Q$2:Q$224,ROWS(Q$2:Q10)),\"\")","v":""},{"$f":"IF('Step 3 Product data'!N$17=$A10,$H10,\"\")","v":""},{"$f":"IFERROR(SMALL(S$2:S$224,ROWS(S$2:S10)),\"\")","v":""},{"$f":"IF('Step 3 Product data'!O$17=$A10,$H10,\"\")","v":""},{"$f":"IFERROR(SMALL(U$2:U$224,ROWS(U$2:U10)),\"\")","v":""},{"$f":"IF('Step 3 Product data'!P$17=$A10,$H10,\"\")","v":""},{"$f":"IFERROR(SMALL(W$2:W$224,ROWS(W$2:W10)),\"\")","v":""},{"$f":"IF('Step 3 Product data'!Q$17=$A10,$H10,\"\")","v":""},{"$f":"IFERROR(SMALL(Y$2:Y$224,ROWS(Y$2:Y10)),\"\")","v":""},{"$f":"IF('Step 3 Product data'!R$17=$A10,$H10,\"\")","v":""},{"$f":"IFERROR(SMALL(AA$2:AA$224,ROWS(AA$2:AA10)),\"\")","v":""},{"$f":"IF('Step 3 Product data'!S$17=$A10,$H10,\"\")","v":""},{"$f":"IFERROR(SMALL(AC$2:AC$224,ROWS(AC$2:AC10)),\"\")","v":""},{"$f":"IF('Step 3 Product data'!T$17=$A10,$H10,\"\")","v":""},{"$f":"IFERROR(SMALL(AE$2:AE$224,ROWS(AE$2:AE10)),\"\")","v":""},{"$f":"IF('Step 3 Product data'!U$17=$A10,$H10,\"\")","v":""},{"$f":"IFERROR(SMALL(AG$2:AG$224,ROWS(AG$2:AG10)),\"\")","v":""},{"$f":"IF('Step 3 Product data'!V$17=$A10,$H10,\"\")","v":""},{"$f":"IFERROR(SMALL(AI$2:AI$224,ROWS(AI$2:AI10)),\"\")","v":""},{"$f":"IF('Step 3 Product data'!W$17=$A10,$H10,\"\")","v":""},{"$f":"IFERROR(SMALL(AK$2:AK$224,ROWS(AK$2:AK10)),\"\")","v":""},{"$f":"IF('Step 3 Product data'!X$17=$A10,$H10,\"\")","v":""},{"$f":"IFERROR(SMALL(AM$2:AM$224,ROWS(AM$2:AM10)),\"\")","v":""}]
["Hexane","CAS# 110543",null,{"$f":"IFERROR(INDEX(HAPs[#All],$Z2,COLUMNS($C$3:C11)),\"\")","v":"HAP Name"},{"$f":"IFERROR(INDEX(HAPs[#All],$Z2,COLUMNS($C$3:D11)),\"\")","v":"CAS#"},"HAP9",null,{"$f":"ROWS($A$2:A11)","v":10},{"$f":"IF('Step 3 Product data'!I$17=$A11,$H11,\"\")","v":""},{"$f":"IFERROR(SMALL($I$2:$I$224,ROWS($I$2:I11)),\"\")","v":""},{"$f":"IF('Step 3 Product data'!J$17=$A11,$H11,\"\")","v":""},{"$f":"IFERROR(SMALL(K$2:K$224,ROWS(K$2:K11)),\"\")","v":""},{"$f":"IF('Step 3 Product data'!K$17=$A11,$H11,\"\")","v":""},{"$f":"IFERROR(SMALL(M$2:M$224,ROWS(M$2:M11)),\"\")","v":""},{"$f":"IF('Step 3 Product data'!L$17=$A11,$H11,\"\")","v":""},{"$f":"IFERROR(SMALL(O$2:O$224,ROWS(O$2:O11)),\"\")","v":""},{"$f":"IF('Step 3 Product data'!M$17=$A11,$H11,\"\")","v":""},{"$f":"IFERROR(SMALL(Q$2:Q$224,ROWS(Q$2:Q11)),\"\")","v":""},{"$f":"IF('Step 3 Product data'!N$17=$A11,$H11,\"\")","v":""},{"$f":"IFERROR(SMALL(S$2:S$224,ROWS(S$2:S11)),\"\")","v":""},{"$f":"IF('Step 3 Product data'!O$17=$A11,$H11,\"\")","v":""},{"$f":"IFERROR(SMALL(U$2:U$224,ROWS(U$2:U11)),\"\")","v":""},{"$f":"IF('Step 3 Product data'!P$17=$A11,$H11,\"\")","v":""},{"$f":"IFERROR(SMALL(W$2:W$224,ROWS(W$2:W11)),\"\")","v":""},{"$f":"IF('Step 3 Product data'!Q$17=$A11,$H11,\"\")","v":""},{"$f":"IFERROR(SMALL(Y$2:Y$224,ROWS(Y$2:Y11)),\"\")","v":""},{"$f":"IF('Step 3 Product data'!R$17=$A11,$H11,\"\")","v":""},{"$f":"IFERROR(SMALL(AA$2:AA$224,ROWS(AA$2:AA11)),\"\")","v":""},{"$f":"IF('Step 3 Product data'!S$17=$A11,$H11,\"\")","v":""},{"$f":"IFERROR(SMALL(AC$2:AC$224,ROWS(AC$2:AC11)),\"\")","v":""},{"$f":"IF('Step 3 Product data'!T$17=$A11,$H11,\"\")","v":""},{"$f":"IFERROR(SMALL(AE$2:AE$224,ROWS(AE$2:AE11)),\"\")","v":""},{"$f":"IF('Step 3 Product data'!U$17=$A11,$H11,\"\")","v":""},{"$f":"IFERROR(SMALL(AG$2:AG$224,ROWS(AG$2:AG11)),\"\")","v":""},{"$f":"IF('Step 3 Product data'!V$17=$A11,$H11,\"\")","v":""},{"$f":"IFERROR(SMALL(AI$2:AI$224,ROWS(AI$2:AI11)),\"\")","v":""},{"$f":"IF('Step 3 Product data'!W$17=$A11,$H11,\"\")","v":""},{"$f":"IFERROR(SMALL(AK$2:AK$224,ROWS(AK$2:AK11)),\"\")","v":""},{"$f":"IF('Step 3 Product data'!X$17=$A11,$H11,\"\")","v":""},{"$f":"IFERROR(SMALL(AM$2:AM$224,ROWS(AM$2:AM11)),\"\")","v":""}]
["Acetaldehyde","CAS# 75070",null,{"$f":"IFERROR(INDEX(HAPs[#All],$AB2,COLUMNS($C$3:C12)),\"\")","v":"HAP Name"},{"$f":"IFERROR(INDEX(HAPs[#All],$AB2,COLUMNS($C$3:D12)),\"\")","v":"CAS#"},"HAP10",null,{"$f":"ROWS($A$2:A12)","v":11},{"$f":"IF('Step 3 Product data'!I$17=$A12,$H12,\"\")","v":""},{"$f":"IFERROR(SMALL($I$2:$I$224,ROWS($I$2:I12)),\"\")","v":""},{"$f":"IF('Step 3 Product data'!J$17=$A12,$H12,\"\")","v":""},{"$f":"IFERROR(SMALL(K$2:K$224,ROWS(K$2:K12)),\"\")","v":""},{"$f":"IF('Step 3 Product data'!K$17=$A12,$H12,\"\")","v":""},{"$f":"IFERROR(SMALL(M$2:M$224,ROWS(M$2:M12)),\"\")","v":""},{"$f":"IF('Step 3 Product data'!L$17=$A12,$H12,\"\")","v":""},{"$f":"IFERROR(SMALL(O$2:O$224,ROWS(O$2:O12)),\"\")","v":""},{"$f":"IF('Step 3 Product data'!M$17=$A12,$H12,\"\")","v":""},{"$f":"IFERROR(SMALL(Q$2:Q$224,ROWS(Q$2:Q12)),\"\")","v":""},{"$f":"IF('Step 3 Product data'!N$17=$A12,$H12,\"\")","v":""},{"$f":"IFERROR(SMALL(S$2:S$224,ROWS(S$2:S12)),\"\")","v":""},{"$f":"IF('Step 3 Product data'!O$17=$A12,$H12,\"\")","v":""},{"$f":"IFERROR(SMALL(U$2:U$224,ROWS(U$2:U12)),\"\")","v":""},{"$f":"IF('Step 3 Product data'!P$17=$A12,$H12,\"\")","v":""},{"$f":"IFERROR(SMALL(W$2:W$224,ROWS(W$2:W12)),\"\")","v":""},{"$f":"IF('Step 3 Product data'!Q$17=$A12,$H12,\"\")","v":""},{"$f":"IFERROR(SMALL(Y$2:Y$224,ROWS(Y$2:Y12)),\"\")","v":""},{"$f":"IF('Step 3 Product data'!R$17=$A12,$H12,\"\")","v":""},{"$f":"IFERROR(SMALL(AA$2:AA$224,ROWS(AA$2:AA12)),\"\")","v":""},{"$f":"IF('Step 3 Product data'!S$17=$A12,$H12,\"\")","v":""},{"$f":"IFERROR(SMALL(AC$2:AC$224,ROWS(AC$2:AC12)),\"\")","v":""},{"$f":"IF('Step 3 Product data'!T$17=$A12,$H12,\"\")","v":""},{"$f":"IFERROR(SMALL(AE$2:AE$224,ROWS(AE$2:AE12)),\"\")","v":""},{"$f":"IF('Step 3 Product data'!U$17=$A12,$H12,\"\")","v":""},{"$f":"IFERROR(SMALL(AG$2:AG$224,ROWS(AG$2:AG12)),\"\")","v":""},{"$f":"IF('Step 3 Product data'!V$17=$A12,$H12,\"\")","v":""},{"$f":"IFERROR(SMALL(AI$2:AI$224,ROWS(AI$2:AI12)),\"\")","v":""},{"$f":"IF('Step 3 Product data'!W$17=$A12,$H12,\"\")","v":""},{"$f":"IFERROR(SMALL(AK$2:AK$224,ROWS(AK$2:AK12)),\"\")","v":""},{"$f":"IF('Step 3 Product data'!X$17=$A12,$H12,\"\")","v":""},{"$f":"IFERROR(SMALL(AM$2:AM$224,ROWS(AM$2:AM12)),\"\")","v":""}]
["Carbon tetrachloride","CAS# 56235",null,{"$f":"IFERROR(INDEX(HAPs[#All],AD$2,COLUMNS($C$3:C13)),\"\")","v":"HAP Name"},{"$f":"IFERROR(INDEX(HAPs[#All],AD$2,COLUMNS($C$3:D13)),\"\")","v":"CAS#"},"HAP11",null,{"$f":"ROWS($A$2:A13)","v":12},{"$f":"IF('Step 3 Product data'!I$17=$A13,$H13,\"\")","v":""},{"$f":"IFERROR(SMALL($I$2:$I$224,ROWS($I$2:I13)),\"\")","v":""},{"$f":"IF('Step 3 Product data'!J$17=$A13,$H13,\"\")","v":""},{"$f":"IFERROR(SMALL(K$2:K$224,ROWS(K$2:K13)),\"\")","v":""},{"$f":"IF('Step 3 Product data'!K$17=$A13,$H13,\"\")","v":""},{"$f":"IFERROR(SMALL(M$2:M$224,ROWS(M$2:M13)),\"\")","v":""},{"$f":"IF('Step 3 Product data'!L$17=$A13,$H13,\"\")","v":""},{"$f":"IFERROR(SMALL(O$2:O$224,ROWS(O$2:O13)),\"\")","v":""},{"$f":"IF('Step 3 Product data'!M$17=$A13,$H13,\"\")","v":""},{"$f":"IFERROR(SMALL(Q$2:Q$224,ROWS(Q$2:Q13)),\"\")","v":""},{"$f":"IF('Step 3 Product data'!N$17=$A13,$H13,\"\")","v":""},{"$f":"IFERROR(SMALL(S$2:S$224,ROWS(S$2:S13)),\"\")","v":""},{"$f":"IF('Step 3 Product data'!O$17=$A13,$H13,\"\")","v":""},{"$f":"IFERROR(SMALL(U$2:U$224,ROWS(U$2:U13)),\"\")","v":""},{"$f":"IF('Step 3 Product data'!P$17=$A13,$H13,\"\")","v":""},{"$f":"IFERROR(SMALL(W$2:W$224,ROWS(W$2:W13)),\"\")","v":""},{"$f":"IF('Step 3 Product data'!Q$17=$A13,$H13,\"\")","v":""},{"$f":"IFERROR(SMALL(Y$2:Y$224,ROWS(Y$2:Y13)),\"\")","v":""},{"$f":"IF('Step 3 Product data'!R$17=$A13,$H13,\"\")","v":""},{"$f":"IFERROR(SMALL(AA$2:AA$224,ROWS(AA$2:AA13)),\"\")","v":""},{"$f":"IF('Step 3 Product data'!S$17=$A13,$H13,\"\")","v":""},{"$f":"IFERROR(SMALL(AC$2:AC$224,ROWS(AC$2:AC13)),\"\")","v":""},{"$f":"IF('Step 3 Product data'!T$17=$A13,$H13,\"\")","v":""},{"$f":"IFERROR(SMALL(AE$2:AE$224,ROWS(AE$2:AE13)),\"\")","v":""},{"$f":"IF('Step 3 Product data'!U$17=$A13,$H13,\"\")","v":""},{"$f":"IFERROR(SMALL(AG$2:AG$224,ROWS(AG$2:AG13)),\"\")","v":""},{"$f":"IF('Step 3 Product data'!V$17=$A13,$H13,\"\")","v":""},{"$f":"IFERROR(SMALL(AI$2:AI$224,ROWS(AI$2:AI13)),\"\")","v":""},{"$f":"IF('Step 3 Product data'!W$17=$A13,$H13,\"\")","v":""},{"$f":"IFERROR(SMALL(AK$2:AK$224,ROWS(AK$2:AK13)),\"\")","v":""},{"$f":"IF('Step 3 Product data'!X$17=$A13,$H13,\"\")","v":""},{"$f":"IFERROR(SMALL(AM$2:AM$224,ROWS(AM$2:AM13)),\"\")","v":""}]
["Cumene","CAS# 98828",null,{"$f":"IFERROR(INDEX(HAPs[#All],AF$2,COLUMNS($C$3:C14)),\"\")","v":"HAP Name"},{"$f":"IFERROR(INDEX(HAPs[#All],AF$2,COLUMNS($C$3:D14)),\"\")","v":"CAS#"},"HAP12",null,{"$f":"ROWS($A$2:A14)","v":13},{"$f":"IF('Step 3 Product data'!I$17=$A14,$H14,\"\")","v":""},{"$f":"IFERROR(SMALL($I$2:$I$224,ROWS($I$2:I14)),\"\")","v":""},{"$f":"IF('Step 3 Product data'!J$17=$A14,$H14,\"\")","v":""},{"$f":"IFERROR(SMALL(K$2:K$224,ROWS(K$2:K14)),\"\")","v":""},{"$f":"IF('Step 3 Product data'!K$17=$A14,$H14,\"\")","v":""},{"$f":"IFERROR(SMALL(M$2:M$224,ROWS(M$2:M14)),\"\")","v":""},{"$f":"IF('Step 3 Product data'!L$17=$A14,$H14,\"\")","v":""},{"$f":"IFERROR(SMALL(O$2:O$224,ROWS(O$2:O14)),\"\")","v":""},{"$f":"IF('Step 3 Product data'!M$17=$A14,$H14,\"\")","v":""},{"$f":"IFERROR(SMALL(Q$2:Q$224,ROWS(Q$2:Q14)),\"\")","v":""},{"$f":"IF('Step 3 Product data'!N$17=$A14,$H14,\"\")","v":""},{"$f":"IFERROR(SMALL(S$2:S$224,ROWS(S$2:S14)),\"\")","v":""},{"$f":"IF('Step 3 Product data'!O$17=$A14,$H14,\"\")","v":""},{"$f":"IFERROR(SMALL(U$2:U$224,ROWS(U$2:U14)),\"\")","v":""},{"$f":"IF('Step 3 Product data'!P$17=$A14,$H14,\"\")","v":""},{"$f":"IFERROR(SMALL(W$2:W$224,ROWS(W$2:W14)),\"\")","v":""},{"$f":"IF('Step 3 Product data'!Q$17=$A14,$H14,\"\")","v":""},{"$f":"IFERROR(SMALL(Y$2:Y$224,ROWS(Y$2:Y14)),\"\")","v":""},{"$f":"IF('Step 3 Product data'!R$17=$A14,$H14,\"\")","v":""},{"$f":"IFERROR(SMALL(AA$2:AA$224,ROWS(AA$2:AA14)),\"\")","v":""},{"$f":"IF('Step 3 Product data'!S$17=$A14,$H14,\"\")","v":""},{"$f":"IFERROR(SMALL(AC$2:AC$224,ROWS(AC$2:AC14)),\"\")","v":""},{"$f":"IF('Step 3 Product data'!T$17=$A14,$H14,\"\")","v":""},{"$f":"IFERROR(SMALL(AE$2:AE$224,ROWS(AE$2:AE14)),\"\")","v":""},{"$f":"IF('Step 3 Product data'!U$17=$A14,$H14,\"\")","v":""},{"$f":"IFERROR(SMALL(AG$2:AG$224,ROWS(AG$2:AG14)),\"\")","v":""},{"$f":"IF('Step 3 Product data'!V$17=$A14,$H14,\"\")","v":""},{"$f":"IFERROR(SMALL(AI$2:AI$224,ROWS(AI$2:AI14)),\"\")","v":""},{"$f":"IF('Step 3 Product data'!W$17=$A14,$H14,\"\")","v":""},{"$f":"IFERROR(SMALL(AK$2:AK$224,ROWS(AK$2:AK14)),\"\")","v":""},{"$f":"IF('Step 3 Product data'!X$17=$A14,$H14,\"\")","v":""},{"$f":"IFERROR(SMALL(AM$2:AM$224,ROWS(AM$2:AM14)),\"\")","v":""}]
["Ethylene glycol","CAS# 107211",null,{"$f":"IFERROR(INDEX(HAPs[#All],AH$2,COLUMNS($C$3:C15)),\"\")","v":"HAP Name"},{"$f":"IFERROR(INDEX(HAPs[#All],AH$2,COLUMNS($C$3:D15)),\"\")","v":"CAS#"},"HAP13",null,{"$f":"ROWS($A$2:A15)","v":14},{"$f":"IF('Step 3 Product data'!I$17=$A15,$H15,\"\")","v":""},{"$f":"IFERROR(SMALL($I$2:$I$224,ROWS($I$2:I15)),\"\")","v":""},{"$f":"IF('Step 3 Product data'!J$17=$A15,$H15,\"\")","v":""},{"$f":"IFERROR(SMALL(K$2:K$224,ROWS(K$2:K15)),\"\")","v":""},{"$f":"IF('Step 3 Product data'!K$17=$A15,$H15,\"\")","v":""},{"$f":"IFERROR(SMALL(M$2:M$224,ROWS(M$2:M15)),\"\")","v":""},{"$f":"IF('Step 3 Product data'!L$17=$A15,$H15,\"\")","v":""},{"$f":"IFERROR(SMALL(O$2:O$224,ROWS(O$2:O15)),\"\")","v":""},{"$f":"IF('Step 3 Product data'!M$17=$A15,$H15,\"\")","v":""},{"$f":"IFERROR(SMALL(Q$2:Q$224,ROWS(Q$2:Q15)),\"\")","v":""},{"$f":"IF('Step 3 Product data'!N$17=$A15,$H15,\"\")","v":""},{"$f":"IFERROR(SMALL(S$2:S$224,ROWS(S$2:S15)),\"\")","v":""},{"$f":"IF('Step 3 Product data'!O$17=$A15,$H15,\"\")","v":""},{"$f":"IFERROR(SMALL(U$2:U$224,ROWS(U$2:U15)),\"\")","v":""},{"$f":"IF('Step 3 Product data'!P$17=$A15,$H15,\"\")","v":""},{"$f":"IFERROR(SMALL(W$2:W$224,ROWS(W$2:W15)),\"\")","v":""},{"$f":"IF('Step 3 Product data'!Q$17=$A15,$H15,\"\")","v":""},{"$f":"IFERROR(SMALL(Y$2:Y$224,ROWS(Y$2:Y15)),\"\")","v":""},{"$f":"IF('Step 3 Product data'!R$17=$A15,$H15,\"\")","v":""},{"$f":"IFERROR(SMALL(AA$2:AA$224,ROWS(AA$2:AA15)),\"\")","v":""},{"$f":"IF('Step 3 Product data'!S$17=$A15,$H15,\"\")","v":""},{"$f":"IFERROR(SMALL(AC$2:AC$224,ROWS(AC$2:AC15)),\"\")","v":""},{"$f":"IF('Step 3 Product data'!T$17=$A15,$H15,\"\")","v":""},{"$f":"IFERROR(SMALL(AE$2:AE$224,ROWS(AE$2:AE15)),\"\")","v":""},{"$f":"IF('Step 3 Product data'!U$17=$A15,$H15,\"\")","v":""},{"$f":"IFERROR(SMALL(AG$2:AG$224,ROWS(AG$2:AG15)),\"\")","v":""},{"$f":"IF('Step 3 Product data'!V$17=$A15,$H15,\"\")","v":""},{"$f":"IFERROR(SMALL(AI$2:AI$224,ROWS(AI$2:AI15)),\"\")","v":""},{"$f":"IF('Step 3 Product data'!W$17=$A15,$H15,\"\")","v":""},{"$f":"IFERROR(SMALL(AK$2:AK$224,ROWS(AK$2:AK15)),\"\")","v":""},{"$f":"IF('Step 3 Product data'!X$17=$A15,$H15,\"\")","v":""},{"$f":"IFERROR(SMALL(AM$2:AM$224,ROWS(AM$2:AM15)),\"\")","v":""}]
["Methyl isobutyl ketone (Hexone)","CAS# 108101",null,{"$f":"IFERROR(INDEX(HAPs[#All],AJ$2,COLUMNS($C$3:C15)),\"\")","v":"HAP Name"},{"$f":"IFERROR(INDEX(HAPs[#All],AJ$2,COLUMNS($C$3:D15)),\"\")","v":"CAS#"},"HAP14",null,{"$f":"ROWS($A$2:A16)","v":15},{"$f":"IF('Step 3 Product data'!I$17=$A16,$H16,\"\")","v":""},{"$f":"IFERROR(SMALL($I$2:$I$224,ROWS($I$2:I16)),\"\")","v":""},{"$f":"IF('Step 3 Product data'!J$17=$A16,$H16,\"\")","v":""},{"$f":"IFERROR(SMALL(K$2:K$224,ROWS(K$2:K16)),\"\")","v":""},{"$f":"IF('Step 3 Product data'!K$17=$A16,$H16,\"\")","v":""},{"$f":"IFERROR(SMALL(M$2:M$224,ROWS(M$2:M16)),\"\")","v":""},{"$f":"IF('Step 3 Product data'!L$17=$A16,$H16,\"\")","v":""},{"$f":"IFERROR(SMALL(O$2:O$224,ROWS(O$2:O16)),\"\")","v":""},{"$f":"IF('Step 3 Product data'!M$17=$A16,$H16,\"\")","v":""},{"$f":"IFERROR(SMALL(Q$2:Q$224,ROWS(Q$2:Q16)),\"\")","v":""},{"$f":"IF('Step 3 Product data'!N$17=$A16,$H16,\"\")","v":""},{"$f":"IFERROR(SMALL(S$2:S$224,ROWS(S$2:S16)),\"\")","v":""},{"$f":"IF('Step 3 Product data'!O$17=$A16,$H16,\"\")","v":""},{"$f":"IFERROR(SMALL(U$2:U$224,ROWS(U$2:U16)),\"\")","v":""},{"$f":"IF('Step 3 Product data'!P$17=$A16,$H16,\"\")","v":""},{"$f":"IFERROR(SMALL(W$2:W$224,ROWS(W$2:W16)),\"\")","v":""},{"$f":"IF('Step 3 Product data'!Q$17=$A16,$H16,\"\")","v":""},{"$f":"IFERROR(SMALL(Y$2:Y$224,ROWS(Y$2:Y16)),\"\")","v":""},{"$f":"IF('Step 3 Product data'!R$17=$A16,$H16,\"\")","v":""},{"$f":"IFERROR(SMALL(AA$2:AA$224,ROWS(AA$2:AA16)),\"\")","v":""},{"$f":"IF('Step 3 Product data'!S$17=$A16,$H16,\"\")","v":""},{"$f":"IFERROR(SMALL(AC$2:AC$224,ROWS(AC$2:AC16)),\"\")","v":""},{"$f":"IF('Step 3 Product data'!T$17=$A16,$H16,\"\")","v":""},{"$f":"IFERROR(SMALL(AE$2:AE$224,ROWS(AE$2:AE16)),\"\")","v":""},{"$f":"IF('Step 3 Product data'!U$17=$A16,$H16,\"\")","v":""},{"$f":"IFERROR(SMALL(AG$2:AG$224,ROWS(AG$2:AG16)),\"\")","v":""},{"$f":"IF('Step 3 Product data'!V$17=$A16,$H16,\"\")","v":""},{"$f":"IFERROR(SMALL(AI$2:AI$224,ROWS(AI$2:AI16)),\"\")","v":""},{"$f":"IF('Step 3 Product data'!W$17=$A16,$H16,\"\")","v":""},{"$f":"IFERROR(SMALL(AK$2:AK$224,ROWS(AK$2:AK16)),\"\")","v":""},{"$f":"IF('Step 3 Product data'!X$17=$A16,$H16,\"\")","v":""},{"$f":"IFERROR(SMALL(AM$2:AM$224,ROWS(AM$2:AM16)),\"\")","v":""}]
[null,"Choose HAP above",null,{"$f":"IFERROR(INDEX(HAPs[#All],AL$2,COLUMNS($C$3:C16)),\"\")","v":"HAP Name"},{"$f":"IFERROR(INDEX(HAPs[#All],AL$2,COLUMNS($C$3:D16)),\"\")","v":"CAS#"},"HAP15",null,{"$f":"ROWS($A$2:A17)","v":16},{"$f":"IF('Step 3 Product data'!I$17=$A17,$H17,\"\")","v":""},{"$f":"IFERROR(SMALL($I$2:$I$224,ROWS($I$2:I17)),\"\")","v":""},{"$f":"IF('Step 3 Product data'!J$17=$A17,$H17,\"\")","v":""},{"$f":"IFERROR(SMALL(K$2:K$224,ROWS(K$2:K17)),\"\")","v":""},{"$f":"IF('Step 3 Product data'!K$17=$A17,$H17,\"\")","v":""},{"$f":"IFERROR(SMALL(M$2:M$224,ROWS(M$2:M17)),\"\")","v":""},{"$f":"IF('Step 3 Product data'!L$17=$A17,$H17,\"\")","v":""},{"$f":"IFERROR(SMALL(O$2:O$224,ROWS(O$2:O17)),\"\")","v":""},{"$f":"IF('Step 3 Product data'!M$17=$A17,$H17,\"\")","v":""},{"$f":"IFERROR(SMALL(Q$2:Q$224,ROWS(Q$2:Q17)),\"\")","v":""},{"$f":"IF('Step 3 Product data'!N$17=$A17,$H17,\"\")","v":""},{"$f":"IFERROR(SMALL(S$2:S$224,ROWS(S$2:S17)),\"\")","v":""},{"$f":"IF('Step 3 Product data'!O$17=$A17,$H17,\"\")","v":""},{"$f":"IFERROR(SMALL(U$2:U$224,ROWS(U$2:U17)),\"\")","v":""},{"$f":"IF('Step 3 Product data'!P$17=$A17,$H17,\"\")","v":""},{"$f":"IFERROR(SMALL(W$2:W$224,ROWS(W$2:W17)),\"\")","v":""},{"$f":"IF('Step 3 Product data'!Q$17=$A17,$H17,\"\")","v":""},{"$f":"IFERROR(SMALL(Y$2:Y$224,ROWS(Y$2:Y17)),\"\")","v":""},{"$f":"IF('Step 3 Product data'!R$17=$A17,$H17,\"\")","v":""},{"$f":"IFERROR(SMALL(AA$2:AA$224,ROWS(AA$2:AA17)),\"\")","v":""},{"$f":"IF('Step 3 Product data'!S$17=$A17,$H17,\"\")","v":""},{"$f":"IFERROR(SMALL(AC$2:AC$224,ROWS(AC$2:AC17)),\"\")","v":""},{"$f":"IF('Step 3 Product data'!T$17=$A17,$H17,\"\")","v":""},{"$f":"IFERROR(SMALL(AE$2:AE$224,ROWS(AE$2:AE17)),\"\")","v":""},{"$f":"IF('Step 3 Product data'!U$17=$A17,$H17,\"\")","v":""},{"$f":"IFERROR(SMALL(AG$2:AG$224,ROWS(AG$2:AG17)),\"\")","v":""},{"$f":"IF('Step 3 Product data'!V$17=$A17,$H17,\"\")","v":""},{"$f":"IFERROR(SMALL(AI$2:AI$224,ROWS(AI$2:AI17)),\"\")","v":""},{"$f":"IF('Step 3 Product data'!W$17=$A17,$H17,\"\")","v":""},{"$f":"IFERROR(SMALL(AK$2:AK$224,ROWS(AK$2:AK17)),\"\")","v":""},{"$f":"IF('Step 3 Product data'!X$17=$A17,$H17,\"\")","v":""},{"$f":"IFERROR(SMALL(AM$2:AM$224,ROWS(AM$2:AM17)),\"\")","v":""}]
["METAL and MISC (no CAS#)","Choose one",null,{"$f":"IFERROR(INDEX(HAPs[#All],AN$2,COLUMNS($C$3:C17)),\"\")","v":"HAP Name"},{"$f":"IFERROR(INDEX(HAPs[#All],AN$2,COLUMNS($C$3:D17)),\"\")","v":"CAS#"},"HAP16",null,{"$f":"ROWS($A$2:A18)","v":17},{"$f":"IF('Step 3 Product data'!I$17=$A18,$H18,\"\")","v":""},{"$f":"IFERROR(SMALL($I$2:$I$224,ROWS($I$2:I18)),\"\")","v":""},{"$f":"IF('Step 3 Product data'!J$17=$A18,$H18,\"\")","v":""},{"$f":"IFERROR(SMALL(K$2:K$224,ROWS(K$2:K18)),\"\")","v":""},{"$f":"IF('Step 3 Product data'!K$17=$A18,$H18,\"\")","v":""},{"$f":"IFERROR(SMALL(M$2:M$224,ROWS(M$2:M18)),\"\")","v":""},{"$f":"IF('Step 3 Product data'!L$17=$A18,$H18,\"\")","v":""},{"$f":"IFERROR(SMALL(O$2:O$224,ROWS(O$2:O18)),\"\")","v":""},{"$f":"IF('Step 3 Product data'!M$17=$A18,$H18,\"\")","v":""},{"$f":"IFERROR(SMALL(Q$2:Q$224,ROWS(Q$2:Q18)),\"\")","v":""},{"$f":"IF('Step 3 Product data'!N$17=$A18,$H18,\"\")","v":""},{"$f":"IFERROR(SMALL(S$2:S$224,ROWS(S$2:S18)),\"\")","v":""},{"$f":"IF('Step 3 Product data'!O$17=$A18,$H18,\"\")","v":""},{"$f":"IFERROR(SMALL(U$2:U$224,ROWS(U$2:U18)),\"\")","v":""},{"$f":"IF('Step 3 Product data'!P$17=$A18,$H18,\"\")","v":""},{"$f":"IFERROR(SMALL(W$2:W$224,ROWS(W$2:W18)),\"\")","v":""},{"$f":"IF('Step 3 Product data'!Q$17=$A18,$H18,\"\")","v":""},{"$f":"IFERROR(SMALL(Y$2:Y$224,ROWS(Y$2:Y18)),\"\")","v":""},{"$f":"IF('Step 3 Product data'!R$17=$A18,$H18,\"\")","v":""},{"$f":"IFERROR(SMALL(AA$2:AA$224,ROWS(AA$2:AA18)),\"\")","v":""},{"$f":"IF('Step 3 Product data'!S$17=$A18,$H18,\"\")","v":""},{"$f":"IFERROR(SMALL(AC$2:AC$224,ROWS(AC$2:AC18)),\"\")","v":""},{"$f":"IF('Step 3 Product data'!T$17=$A18,$H18,\"\")","v":""},{"$f":"IFERROR(SMALL(AE$2:AE$224,ROWS(AE$2:AE18)),\"\")","v":""},{"$f":"IF('Step 3 Product data'!U$17=$A18,$H18,\"\")","v":""},{"$f":"IFERROR(SMALL(AG$2:AG$224,ROWS(AG$2:AG18)),\"\")","v":""},{"$f":"IF('Step 3 Product data'!V$17=$A18,$H18,\"\")","v":""},{"$f":"IFERROR(SMALL(AI$2:AI$224,ROWS(AI$2:AI18)),\"\")","v":""},{"$f":"IF('Step 3 Product data'!W$17=$A18,$H18,\"\")","v":""},{"$f":"IFERROR(SMALL(AK$2:AK$224,ROWS(AK$2:AK18)),\"\")","v":""},{"$f":"IF('Step 3 Product data'!X$17=$A18,$H18,\"\")","v":""},{"$f":"IFERROR(SMALL(AM$2:AM$224,ROWS(AM$2:AM18)),\"\")","v":""}]
["Antimony compounds","No CAS#",null,null,null,null,null,{"$f":"ROWS($A$2:A19)","v":18},{"$f":"IF('Step 3 Product data'!I$17=$A19,$H19,\"\")","v":""},{"$f":"IFERROR(SMALL($I$2:$I$224,ROWS($I$2:I19)),\"\")","v":""},{"$f":"IF('Step 3 Product data'!J$17=$A19,$H19,\"\")","v":""},{"$f":"IFERROR(SMALL(K$2:K$224,ROWS(K$2:K19)),\"\")","v":""},{"$f":"IF('Step 3 Product data'!K$17=$A19,$H19,\"\")","v":""},{"$f":"IFERROR(SMALL(M$2:M$224,ROWS(M$2:M19)),\"\")","v":""},{"$f":"IF('Step 3 Product data'!L$17=$A19,$H19,\"\")","v":""},{"$f":"IFERROR(SMALL(O$2:O$224,ROWS(O$2:O19)),\"\")","v":""},{"$f":"IF('Step 3 Product data'!M$17=$A19,$H19,\"\")","v":""},{"$f":"IFERROR(SMALL(Q$2:Q$224,ROWS(Q$2:Q19)),\"\")","v":""},{"$f":"IF('Step 3 Product data'!N$17=$A19,$H19,\"\")","v":""},{"$f":"IFERROR(SMALL(S$2:S$224,ROWS(S$2:S19)),\"\")","v":""},{"$f":"IF('Step 3 Product data'!O$17=$A19,$H19,\"\")","v":""},{"$f":"IFERROR(SMALL(U$2:U$224,ROWS(U$2:U19)),\"\")","v":""},{"$f":"IF('Step 3 Product data'!P$17=$A19,$H19,\"\")","v":""},{"$f":"IFERROR(SMALL(W$2:W$224,ROWS(W$2:W19)),\"\")","v":""},{"$f":"IF('Step 3 Product data'!Q$17=$A19,$H19,\"\")","v":""},{"$f":"IFERROR(SMALL(Y$2:Y$224,ROWS(Y$2:Y19)),\"\")","v":""},{"$f":"IF('Step 3 Product data'!R$17=$A19,$H19,\"\")","v":""},{"$f":"IFERROR(SMALL(AA$2:AA$224,ROWS(AA$2:AA19)),\"\")","v":""},{"$f":"IF('Step 3 Product data'!S$17=$A19,$H19,\"\")","v":""},{"$f":"IFERROR(SMALL(AC$2:AC$224,ROWS(AC$2:AC19)),\"\")","v":""},{"$f":"IF('Step 3 Product data'!T$17=$A19,$H19,\"\")","v":""},{"$f":"IFERROR(SMALL(AE$2:AE$224,ROWS(AE$2:AE19)),\"\")","v":""},{"$f":"IF('Step 3 Product data'!U$17=$A19,$H19,\"\")","v":""},{"$f":"IFERROR(SMALL(AG$2:AG$224,ROWS(AG$2:AG19)),\"\")","v":""},{"$f":"IF('Step 3 Product data'!V$17=$A19,$H19,\"\")","v":""},{"$f":"IFERROR(SMALL(AI$2:AI$224,ROWS(AI$2:AI19)),\"\")","v":""},{"$f":"IF('Step 3 Product data'!W$17=$A19,$H19,\"\")","v":""},{"$f":"IFERROR(SMALL(AK$2:AK$224,ROWS(AK$2:AK19)),\"\")","v":""},{"$f":"IF('Step 3 Product data'!X$17=$A19,$H19,\"\")","v":""},{"$f":"IFERROR(SMALL(AM$2:AM$224,ROWS(AM$2:AM19)),\"\")","v":""}]
["Arsenic compounds (inorganic including arsine)","No CAS#",null,null,null,null,null,{"$f":"ROWS($A$2:A20)","v":19},{"$f":"IF('Step 3 Product data'!I$17=$A20,$H20,\"\")","v":""},{"$f":"IFERROR(SMALL($I$2:$I$224,ROWS($I$2:I20)),\"\")","v":""},{"$f":"IF('Step 3 Product data'!J$17=$A20,$H20,\"\")","v":""},{"$f":"IFERROR(SMALL(K$2:K$224,ROWS(K$2:K20)),\"\")","v":""},{"$f":"IF('Step 3 Product data'!K$17=$A20,$H20,\"\")","v":""},{"$f":"IFERROR(SMALL(M$2:M$224,ROWS(M$2:M20)),\"\")","v":""},{"$f":"IF('Step 3 Product data'!L$17=$A20,$H20,\"\")","v":""},{"$f":"IFERROR(SMALL(O$2:O$224,ROWS(O$2:O20)),\"\")","v":""},{"$f":"IF('Step 3 Product data'!M$17=$A20,$H20,\"\")","v":""},{"$f":"IFERROR(SMALL(Q$2:Q$224,ROWS(Q$2:Q20)),\"\")","v":""},{"$f":"IF('Step 3 Product data'!N$17=$A20,$H20,\"\")","v":""},{"$f":"IFERROR(SMALL(S$2:S$224,ROWS(S$2:S20)),\"\")","v":""},{"$f":"IF('Step 3 Product data'!O$17=$A20,$H20,\"\")","v":""},{"$f":"IFERROR(SMALL(U$2:U$224,ROWS(U$2:U20)),\"\")","v":""},{"$f":"IF('Step 3 Product data'!P$17=$A20,$H20,\"\")","v":""},{"$f":"IFERROR(SMALL(W$2:W$224,ROWS(W$2:W20)),\"\")","v":""},{"$f":"IF('Step 3 Product data'!Q$17=$A20,$H20,\"\")","v":""},{"$f":"IFERROR(SMALL(Y$2:Y$224,ROWS(Y$2:Y20)),\"\")","v":""},{"$f":"IF('Step 3 Product data'!R$17=$A20,$H20,\"\")","v":""},{"$f":"IFERROR(SMALL(AA$2:AA$224,ROWS(AA$2:AA20)),\"\")","v":""},{"$f":"IF('Step 3 Product data'!S$17=$A20,$H20,\"\")","v":""},{"$f":"IFERROR(SMALL(AC$2:AC$224,ROWS(AC$2:AC20)),\"\")","v":""},{"$f":"IF('Step 3 Product data'!T$17=$A20,$H20,\"\")","v":""},{"$f":"IFERROR(SMALL(AE$2:AE$224,ROWS(AE$2:AE20)),\"\")","v":""},{"$f":"IF('Step 3 Product data'!U$17=$A20,$H20,\"\")","v":""},{"$f":"IFERROR(SMALL(AG$2:AG$224,ROWS(AG$2:AG20)),\"\")","v":""},{"$f":"IF('Step 3 Product data'!V$17=$A20,$H20,\"\")","v":""},{"$f":"IFERROR(SMALL(AI$2:AI$224,ROWS(AI$2:AI20)),\"\")","v":""},{"$f":"IF('Step 3 Product data'!W$17=$A20,$H20,\"\")","v":""},{"$f":"IFERROR(SMALL(AK$2:AK$224,ROWS(AK$2:AK20)),\"\")","v":""},{"$f":"IF('Step 3 Product data'!X$17=$A20,$H20,\"\")","v":""},{"$f":"IFERROR(SMALL(AM$2:AM$224,ROWS(AM$2:AM20)),\"\")","v":""}]
["Beryllium compounds","No CAS#",null,null,null,null,null,{"$f":"ROWS($A$2:A21)","v":20},{"$f":"IF('Step 3 Product data'!I$17=$A21,$H21,\"\")","v":""},{"$f":"IFERROR(SMALL($I$2:$I$224,ROWS($I$2:I21)),\"\")","v":""},{"$f":"IF('Step 3 Product data'!J$17=$A21,$H21,\"\")","v":""},{"$f":"IFERROR(SMALL(K$2:K$224,ROWS(K$2:K21)),\"\")","v":""},{"$f":"IF('Step 3 Product data'!K$17=$A21,$H21,\"\")","v":""},{"$f":"IFERROR(SMALL(M$2:M$224,ROWS(M$2:M21)),\"\")","v":""},{"$f":"IF('Step 3 Product data'!L$17=$A21,$H21,\"\")","v":""},{"$f":"IFERROR(SMALL(O$2:O$224,ROWS(O$2:O21)),\"\")","v":""},{"$f":"IF('Step 3 Product data'!M$17=$A21,$H21,\"\")","v":""},{"$f":"IFERROR(SMALL(Q$2:Q$224,ROWS(Q$2:Q21)),\"\")","v":""},{"$f":"IF('Step 3 Product data'!N$17=$A21,$H21,\"\")","v":""},{"$f":"IFERROR(SMALL(S$2:S$224,ROWS(S$2:S21)),\"\")","v":""},{"$f":"IF('Step 3 Product data'!O$17=$A21,$H21,\"\")","v":""},{"$f":"IFERROR(SMALL(U$2:U$224,ROWS(U$2:U21)),\"\")","v":""},{"$f":"IF('Step 3 Product data'!P$17=$A21,$H21,\"\")","v":""},{"$f":"IFERROR(SMALL(W$2:W$224,ROWS(W$2:W21)),\"\")","v":""},{"$f":"IF('Step 3 Product data'!Q$17=$A21,$H21,\"\")","v":""},{"$f":"IFERROR(SMALL(Y$2:Y$224,ROWS(Y$2:Y21)),\"\")","v":""},{"$f":"IF('Step 3 Product data'!R$17=$A21,$H21,\"\")","v":""},{"$f":"IFERROR(SMALL(AA$2:AA$224,ROWS(AA$2:AA21)),\"\")","v":""},{"$f":"IF('Step 3 Product data'!S$17=$A21,$H21,\"\")","v":""},{"$f":"IFERROR(SMALL(AC$2:AC$224,ROWS(AC$2:AC21)),\"\")","v":""},{"$f":"IF('Step 3 Product data'!T$17=$A21,$H21,\"\")","v":""},{"$f":"IFERROR(SMALL(AE$2:AE$224,ROWS(AE$2:AE21)),\"\")","v":""},{"$f":"IF('Step 3 Product data'!U$17=$A21,$H21,\"\")","v":""},{"$f":"IFERROR(SMALL(AG$2:AG$224,ROWS(AG$2:AG21)),\"\")","v":""},{"$f":"IF('Step 3 Product data'!V$17=$A21,$H21,\"\")","v":""},{"$f":"IFERROR(SMALL(AI$2:AI$224,ROWS(AI$2:AI21)),\"\")","v":""},{"$f":"IF('Step 3 Product data'!W$17=$A21,$H21,\"\")","v":""},{"$f":"IFERROR(SMALL(AK$2:AK$224,ROWS(AK$2:AK21)),\"\")","v":""},{"$f":"IF('Step 3 Product data'!X$17=$A21,$H21,\"\")","v":""},{"$f":"IFERROR(SMALL(AM$2:AM$224,ROWS(AM$2:AM21)),\"\")","v":""}]
["Cadmium compounds","No CAS#",null,null,null,null,null,{"$f":"ROWS($A$2:A22)","v":21},{"$f":"IF('Step 3 Product data'!I$17=$A22,$H22,\"\")","v":""},{"$f":"IFERROR(SMALL($I$2:$I$224,ROWS($I$2:I22)),\"\")","v":""},{"$f":"IF('Step 3 Product data'!J$17=$A22,$H22,\"\")","v":""},{"$f":"IFERROR(SMALL(K$2:K$224,ROWS(K$2:K22)),\"\")","v":""},{"$f":"IF('Step 3 Product data'!K$17=$A22,$H22,\"\")","v":""},{"$f":"IFERROR(SMALL(M$2:M$224,ROWS(M$2:M22)),\"\")","v":""},{"$f":"IF('Step 3 Product data'!L$17=$A22,$H22,\"\")","v":""},{"$f":"IFERROR(SMALL(O$2:O$224,ROWS(O$2:O22)),\"\")","v":""},{"$f":"IF('Step 3 Product data'!M$17=$A22,$H22,\"\")","v":""},{"$f":"IFERROR(SMALL(Q$2:Q$224,ROWS(Q$2:Q22)),\"\")","v":""},{"$f":"IF('Step 3 Product data'!N$17=$A22,$H22,\"\")","v":""},{"$f":"IFERROR(SMALL(S$2:S$224,ROWS(S$2:S22)),\"\")","v":""},{"$f":"IF('Step 3 Product data'!O$17=$A22,$H22,\"\")","v":""},{"$f":"IFERROR(SMALL(U$2:U$224,ROWS(U$2:U22)),\"\")","v":""},{"$f":"IF('Step 3 Product data'!P$17=$A22,$H22,\"\")","v":""},{"$f":"IFERROR(SMALL(W$2:W$224,ROWS(W$2:W22)),\"\")","v":""},{"$f":"IF('Step 3 Product data'!Q$17=$A22,$H22,\"\")","v":""},{"$f":"IFERROR(SMALL(Y$2:Y$224,ROWS(Y$2:Y22)),\"\")","v":""},{"$f":"IF('Step 3 Product data'!R$17=$A22,$H22,\"\")","v":""},{"$f":"IFERROR(SMALL(AA$2:AA$224,ROWS(AA$2:AA22)),\"\")","v":""},{"$f":"IF('Step 3 Product data'!S$17=$A22,$H22,\"\")","v":""},{"$f":"IFERROR(SMALL(AC$2:AC$224,ROWS(AC$2:AC22)),\"\")","v":""},{"$f":"IF('Step 3 Product data'!T$17=$A22,$H22,\"\")","v":""},{"$f":"IFERROR(SMALL(AE$2:AE$224,ROWS(AE$2:AE22)),\"\")","v":""},{"$f":"IF('Step 3 Product data'!U$17=$A22,$H22,\"\")","v":""},{"$f":"IFERROR(SMALL(AG$2:AG$224,ROWS(AG$2:AG22)),\"\")","v":""},{"$f":"IF('Step 3 Product data'!V$17=$A22,$H22,\"\")","v":""},{"$f":"IFERROR(SMALL(AI$2:AI$224,ROWS(AI$2:AI22)),\"\")","v":""},{"$f":"IF('Step 3 Product data'!W$17=$A22,$H22,\"\")","v":""},{"$f":"IFERROR(SMALL(AK$2:AK$224,ROWS(AK$2:AK22)),\"\")","v":""},{"$f":"IF('Step 3 Product data'!X$17=$A22,$H22,\"\")","v":""},{"$f":"IFERROR(SMALL(AM$2:AM$224,ROWS(AM$2:AM22)),\"\")","v":""}]
["Chromium compounds","No CAS#",null,null,null,null,null,{"$f":"ROWS($A$2:A23)","v":22},{"$f":"IF('Step 3 Product data'!I$17=$A23,$H23,\"\")","v":""},{"$f":"IFERROR(SMALL($I$2:$I$224,ROWS($I$2:I23)),\"\")","v":""},{"$f":"IF('Step 3 Product data'!J$17=$A23,$H23,\"\")","v":""},{"$f":"IFERROR(SMALL(K$2:K$224,ROWS(K$2:K23)),\"\")","v":""},{"$f":"IF('Step 3 Product data'!K$17=$A23,$H23,\"\")","v":""},{"$f":"IFERROR(SMALL(M$2:M$224,ROWS(M$2:M23)),\"\")","v":""},{"$f":"IF('Step 3 Product data'!L$17=$A23,$H23,\"\")","v":""},{"$f":"IFERROR(SMALL(O$2:O$224,ROWS(O$2:O23)),\"\")","v":""},{"$f":"IF('Step 3 Product data'!M$17=$A23,$H23,\"\")","v":""},{"$f":"IFERROR(SMALL(Q$2:Q$224,ROWS(Q$2:Q23)),\"\")","v":""},{"$f":"IF('Step 3 Product data'!N$17=$A23,$H23,\"\")","v":""},{"$f":"IFERROR(SMALL(S$2:S$224,ROWS(S$2:S23)),\"\")","v":""},{"$f":"IF('Step 3 Product data'!O$17=$A23,$H23,\"\")","v":""},{"$f":"IFERROR(SMALL(U$2:U$224,ROWS(U$2:U23)),\"\")","v":""},{"$f":"IF('Step 3 Product data'!P$17=$A23,$H23,\"\")","v":""},{"$f":"IFERROR(SMALL(W$2:W$224,ROWS(W$2:W23)),\"\")","v":""},{"$f":"IF('Step 3 Product data'!Q$17=$A23,$H23,\"\")","v":""},{"$f":"IFERROR(SMALL(Y$2:Y$224,ROWS(Y$2:Y23)),\"\")","v":""},{"$f":"IF('Step 3 Product data'!R$17=$A23,$H23,\"\")","v":""},{"$f":"IFERROR(SMALL(AA$2:AA$224,ROWS(AA$2:AA23)),\"\")","v":""},{"$f":"IF('Step 3 Product data'!S$17=$A23,$H23,\"\")","v":""},{"$f":"IFERROR(SMALL(AC$2:AC$224,ROWS(AC$2:AC23)),\"\")","v":""},{"$f":"IF('Step 3 Product data'!T$17=$A23,$H23,\"\")","v":""},{"$f":"IFERROR(SMALL(AE$2:AE$224,ROWS(AE$2:AE23)),\"\")","v":""},{"$f":"IF('Step 3 Product data'!U$17=$A23,$H23,\"\")","v":""},{"$f":"IFERROR(SMALL(AG$2:AG$224,ROWS(AG$2:AG23)),\"\")","v":""},{"$f":"IF('Step 3 Product data'!V$17=$A23,$H23,\"\")","v":""},{"$f":"IFERROR(SMALL(AI$2:AI$224,ROWS(AI$2:AI23)),\"\")","v":""},{"$f":"IF('Step 3 Product data'!W$17=$A23,$H23,\"\")","v":""},{"$f":"IFERROR(SMALL(AK$2:AK$224,ROWS(AK$2:AK23)),\"\")","v":""},{"$f":"IF('Step 3 Product data'!X$17=$A23,$H23,\"\")","v":""},{"$f":"IFERROR(SMALL(AM$2:AM$224,ROWS(AM$2:AM23)),\"\")","v":""}]
["Cobalt compounds","No CAS#",null,null,null,null,null,{"$f":"ROWS($A$2:A24)","v":23},{"$f":"IF('Step 3 Product data'!I$17=$A24,$H24,\"\")","v":""},{"$f":"IFERROR(SMALL($I$2:$I$224,ROWS($I$2:I24)),\"\")","v":""},{"$f":"IF('Step 3 Product data'!J$17=$A24,$H24,\"\")","v":""},{"$f":"IFERROR(SMALL(K$2:K$224,ROWS(K$2:K24)),\"\")","v":""},{"$f":"IF('Step 3 Product data'!K$17=$A24,$H24,\"\")","v":""},{"$f":"IFERROR(SMALL(M$2:M$224,ROWS(M$2:M24)),\"\")","v":""},{"$f":"IF('Step 3 Product data'!L$17=$A24,$H24,\"\")","v":""},{"$f":"IFERROR(SMALL(O$2:O$224,ROWS(O$2:O24)),\"\")","v":""},{"$f":"IF('Step 3 Product data'!M$17=$A24,$H24,\"\")","v":""},{"$f":"IFERROR(SMALL(Q$2:Q$224,ROWS(Q$2:Q24)),\"\")","v":""},{"$f":"IF('Step 3 Product data'!N$17=$A24,$H24,\"\")","v":""},{"$f":"IFERROR(SMALL(S$2:S$224,ROWS(S$2:S24)),\"\")","v":""},{"$f":"IF('Step 3 Product data'!O$17=$A24,$H24,\"\")","v":""},{"$f":"IFERROR(SMALL(U$2:U$224,ROWS(U$2:U24)),\"\")","v":""},{"$f":"IF('Step 3 Product data'!P$17=$A24,$H24,\"\")","v":""},{"$f":"IFERROR(SMALL(W$2:W$224,ROWS(W$2:W24)),\"\")","v":""},{"$f":"IF('Step 3 Product data'!Q$17=$A24,$H24,\"\")","v":""},{"$f":"IFERROR(SMALL(Y$2:Y$224,ROWS(Y$2:Y24)),\"\")","v":""},{"$f":"IF('Step 3 Product data'!R$17=$A24,$H24,\"\")","v":""},{"$f":"IFERROR(SMALL(AA$2:AA$224,ROWS(AA$2:AA24)),\"\")","v":""},{"$f":"IF('Step 3 Product data'!S$17=$A24,$H24,\"\")","v":""},{"$f":"IFERROR(SMALL(AC$2:AC$224,ROWS(AC$2:AC24)),\"\")","v":""},{"$f":"IF('Step 3 Product data'!T$17=$A24,$H24,\"\")","v":""},{"$f":"IFERROR(SMALL(AE$2:AE$224,ROWS(AE$2:AE24)),\"\")","v":""},{"$f":"IF('Step 3 Product data'!U$17=$A24,$H24,\"\")","v":""},{"$f":"IFERROR(SMALL(AG$2:AG$224,ROWS(AG$2:AG24)),\"\")","v":""},{"$f":"IF('Step 3 Product data'!V$17=$A24,$H24,\"\")","v":""},{"$f":"IFERROR(SMALL(AI$2:AI$224,ROWS(AI$2:AI24)),\"\")","v":""},{"$f":"IF('Step 3 Product data'!W$17=$A24,$H24,\"\")","v":""},{"$f":"IFERROR(SMALL(AK$2:AK$224,ROWS(AK$2:AK24)),\"\")","v":""},{"$f":"IF('Step 3 Product data'!X$17=$A24,$H24,\"\")","v":""},{"$f":"IFERROR(SMALL(AM$2:AM$224,ROWS(AM$2:AM24)),\"\")","v":""}]
["Coke oven emissions","No CAS#",null,null,null,null,null,{"$f":"ROWS($A$2:A25)","v":24},{"$f":"IF('Step 3 Product data'!I$17=$A25,$H25,\"\")","v":""},{"$f":"IFERROR(SMALL($I$2:$I$224,ROWS($I$2:I25)),\"\")","v":""},{"$f":"IF('Step 3 Product data'!J$17=$A25,$H25,\"\")","v":""},{"$f":"IFERROR(SMALL(K$2:K$224,ROWS(K$2:K25)),\"\")","v":""},{"$f":"IF('Step 3 Product data'!K$17=$A25,$H25,\"\")","v":""},{"$f":"IFERROR(SMALL(M$2:M$224,ROWS(M$2:M25)),\"\")","v":""},{"$f":"IF('Step 3 Product data'!L$17=$A25,$H25,\"\")","v":""},{"$f":"IFERROR(SMALL(O$2:O$224,ROWS(O$2:O25)),\"\")","v":""},{"$f":"IF('Step 3 Product data'!M$17=$A25,$H25,\"\")","v":""},{"$f":"IFERROR(SMALL(Q$2:Q$224,ROWS(Q$2:Q25)),\"\")","v":""},{"$f":"IF('Step 3 Product data'!N$17=$A25,$H25,\"\")","v":""},{"$f":"IFERROR(SMALL(S$2:S$224,ROWS(S$2:S25)),\"\")","v":""},{"$f":"IF('Step 3 Product data'!O$17=$A25,$H25,\"\")","v":""},{"$f":"IFERROR(SMALL(U$2:U$224,ROWS(U$2:U25)),\"\")","v":""},{"$f":"IF('Step 3 Product data'!P$17=$A25,$H25,\"\")","v":""},{"$f":"IFERROR(SMALL(W$2:W$224,ROWS(W$2:W25)),\"\")","v":""},{"$f":"IF('Step 3 Product data'!Q$17=$A25,$H25,\"\")","v":""},{"$f":"IFERROR(SMALL(Y$2:Y$224,ROWS(Y$2:Y25)),\"\")","v":""},{"$f":"IF('Step 3 Product data'!R$17=$A25,$H25,\"\")","v":""},{"$f":"IFERROR(SMALL(AA$2:AA$224,ROWS(AA$2:AA25)),\"\")","v":""},{"$f":"IF('Step 3 Product data'!S$17=$A25,$H25,\"\")","v":""},{"$f":"IFERROR(SMALL(AC$2:AC$224,ROWS(AC$2:AC25)),\"\")","v":""},{"$f":"IF('Step 3 Product data'!T$17=$A25,$H25,\"\")","v":""},{"$f":"IFERROR(SMALL(AE$2:AE$224,ROWS(AE$2:AE25)),\"\")","v":""},{"$f":"IF('Step 3 Product data'!U$17=$A25,$H25,\"\")","v":""},{"$f":"IFERROR(SMALL(AG$2:AG$224,ROWS(AG$2:AG25)),\"\")","v":""},{"$f":"IF('Step 3 Product data'!V$17=$A25,$H25,\"\")","v":""},{"$f":"IFERROR(SMALL(AI$2:AI$224,ROWS(AI$2:AI25)),\"\")","v":""},{"$f":"IF('Step 3 Product data'!W$17=$A25,$H25,\"\")","v":""},{"$f":"IFERROR(SMALL(AK$2:AK$224,ROWS(AK$2:AK25)),\"\")","v":""},{"$f":"IF('Step 3 Product data'!X$17=$A25,$H25,\"\")","v":""},{"$f":"IFERROR(SMALL(AM$2:AM$224,ROWS(AM$2:AM25)),\"\")","v":""}]
["Cyanide compounds","No CAS#",null,null,null,null,null,{"$f":"ROWS($A$2:A26)","v":25},{"$f":"IF('Step 3 Product data'!I$17=$A26,$H26,\"\")","v":""},{"$f":"IFERROR(SMALL($I$2:$I$224,ROWS($I$2:I26)),\"\")","v":""},{"$f":"IF('Step 3 Product data'!J$17=$A26,$H26,\"\")","v":""},{"$f":"IFERROR(SMALL(K$2:K$224,ROWS(K$2:K26)),\"\")","v":""},{"$f":"IF('Step 3 Product data'!K$17=$A26,$H26,\"\")","v":""},{"$f":"IFERROR(SMALL(M$2:M$224,ROWS(M$2:M26)),\"\")","v":""},{"$f":"IF('Step 3 Product data'!L$17=$A26,$H26,\"\")","v":""},{"$f":"IFERROR(SMALL(O$2:O$224,ROWS(O$2:O26)),\"\")","v":""},{"$f":"IF('Step 3 Product data'!M$17=$A26,$H26,\"\")","v":""},{"$f":"IFERROR(SMALL(Q$2:Q$224,ROWS(Q$2:Q26)),\"\")","v":""},{"$f":"IF('Step 3 Product data'!N$17=$A26,$H26,\"\")","v":""},{"$f":"IFERROR(SMALL(S$2:S$224,ROWS(S$2:S26)),\"\")","v":""},{"$f":"IF('Step 3 Product data'!O$17=$A26,$H26,\"\")","v":""},{"$f":"IFERROR(SMALL(U$2:U$224,ROWS(U$2:U26)),\"\")","v":""},{"$f":"IF('Step 3 Product data'!P$17=$A26,$H26,\"\")","v":""},{"$f":"IFERROR(SMALL(W$2:W$224,ROWS(W$2:W26)),\"\")","v":""},{"$f":"IF('Step 3 Product data'!Q$17=$A26,$H26,\"\")","v":""},{"$f":"IFERROR(SMALL(Y$2:Y$224,ROWS(Y$2:Y26)),\"\")","v":""},{"$f":"IF('Step 3 Product data'!R$17=$A26,$H26,\"\")","v":""},{"$f":"IFERROR(SMALL(AA$2:AA$224,ROWS(AA$2:AA26)),\"\")","v":""},{"$f":"IF('Step 3 Product data'!S$17=$A26,$H26,\"\")","v":""},{"$f":"IFERROR(SMALL(AC$2:AC$224,ROWS(AC$2:AC26)),\"\")","v":""},{"$f":"IF('Step 3 Product data'!T$17=$A26,$H26,\"\")","v":""},{"$f":"IFERROR(SMALL(AE$2:AE$224,ROWS(AE$2:AE26)),\"\")","v":""},{"$f":"IF('Step 3 Product data'!U$17=$A26,$H26,\"\")","v":""},{"$f":"IFERROR(SMALL(AG$2:AG$224,ROWS(AG$2:AG26)),\"\")","v":""},{"$f":"IF('Step 3 Product data'!V$17=$A26,$H26,\"\")","v":""},{"$f":"IFERROR(SMALL(AI$2:AI$224,ROWS(AI$2:AI26)),\"\")","v":""},{"$f":"IF('Step 3 Product data'!W$17=$A26,$H26,\"\")","v":""},{"$f":"IFERROR(SMALL(AK$2:AK$224,ROWS(AK$2:AK26)),\"\")","v":""},{"$f":"IF('Step 3 Product data'!X$17=$A26,$H26,\"\")","v":""},{"$f":"IFERROR(SMALL(AM$2:AM$224,ROWS(AM$2:AM26)),\"\")","v":""}]
["Glycol ethers","No CAS#",null,null,null,null,null,{"$f":"ROWS($A$2:A27)","v":26},{"$f":"IF('Step 3 Product data'!I$17=$A27,$H27,\"\")","v":""},{"$f":"IFERROR(SMALL($I$2:$I$224,ROWS($I$2:I27)),\"\")","v":""},{"$f":"IF('Step 3 Product data'!J$17=$A27,$H27,\"\")","v":""},{"$f":"IFERROR(SMALL(K$2:K$224,ROWS(K$2:K27)),\"\")","v":""},{"$f":"IF('Step 3 Product data'!K$17=$A27,$H27,\"\")","v":""},{"$f":"IFERROR(SMALL(M$2:M$224,ROWS(M$2:M27)),\"\")","v":""},{"$f":"IF('Step 3 Product data'!L$17=$A27,$H27,\"\")","v":""},{"$f":"IFERROR(SMALL(O$2:O$224,ROWS(O$2:O27)),\"\")","v":""},{"$f":"IF('Step 3 Product data'!M$17=$A27,$H27,\"\")","v":""},{"$f":"IFERROR(SMALL(Q$2:Q$224,ROWS(Q$2:Q27)),\"\")","v":""},{"$f":"IF('Step 3 Product data'!N$17=$A27,$H27,\"\")","v":""},{"$f":"IFERROR(SMALL(S$2:S$224,ROWS(S$2:S27)),\"\")","v":""},{"$f":"IF('Step 3 Product data'!O$17=$A27,$H27,\"\")","v":""},{"$f":"IFERROR(SMALL(U$2:U$224,ROWS(U$2:U27)),\"\")","v":""},{"$f":"IF('Step 3 Product data'!P$17=$A27,$H27,\"\")","v":""},{"$f":"IFERROR(SMALL(W$2:W$224,ROWS(W$2:W27)),\"\")","v":""},{"$f":"IF('Step 3 Product data'!Q$17=$A27,$H27,\"\")","v":""},{"$f":"IFERROR(SMALL(Y$2:Y$224,ROWS(Y$2:Y27)),\"\")","v":""},{"$f":"IF('Step 3 Product data'!R$17=$A27,$H27,\"\")","v":""},{"$f":"IFERROR(SMALL(AA$2:AA$224,ROWS(AA$2:AA27)),\"\")","v":""},{"$f":"IF('Step 3 Product data'!S$17=$A27,$H27,\"\")","v":""},{"$f":"IFERROR(SMALL(AC$2:AC$224,ROWS(AC$2:AC27)),\"\")","v":""},{"$f":"IF('Step 3 Product data'!T$17=$A27,$H27,\"\")","v":""},{"$f":"IFERROR(SMALL(AE$2:AE$224,ROWS(AE$2:AE27)),\"\")","v":""},{"$f":"IF('Step 3 Product data'!U$17=$A27,$H27,\"\")","v":""},{"$f":"IFERROR(SMALL(AG$2:AG$224,ROWS(AG$2:AG27)),\"\")","v":""},{"$f":"IF('Step 3 Product data'!V$17=$A27,$H27,\"\")","v":""},{"$f":"IFERROR(SMALL(AI$2:AI$224,ROWS(AI$2:AI27)),\"\")","v":""},{"$f":"IF('Step 3 Product data'!W$17=$A27,$H27,\"\")","v":""},{"$f":"IFERROR(SMALL(AK$2:AK$224,ROWS(AK$2:AK27)),\"\")","v":""},{"$f":"IF('Step 3 Product data'!X$17=$A27,$H27,\"\")","v":""},{"$f":"IFERROR(SMALL(AM$2:AM$224,ROWS(AM$2:AM27)),\"\")","v":""}]
["Lead compounds","No CAS#",null,null,null,null,null,{"$f":"ROWS($A$2:A28)","v":27},{"$f":"IF('Step 3 Product data'!I$17=$A28,$H28,\"\")","v":""},{"$f":"IFERROR(SMALL($I$2:$I$224,ROWS($I$2:I28)),\"\")","v":""},{"$f":"IF('Step 3 Product data'!J$17=$A28,$H28,\"\")","v":""},{"$f":"IFERROR(SMALL(K$2:K$224,ROWS(K$2:K28)),\"\")","v":""},{"$f":"IF('Step 3 Product data'!K$17=$A28,$H28,\"\")","v":""},{"$f":"IFERROR(SMALL(M$2:M$224,ROWS(M$2:M28)),\"\")","v":""},{"$f":"IF('Step 3 Product data'!L$17=$A28,$H28,\"\")","v":""},{"$f":"IFERROR(SMALL(O$2:O$224,ROWS(O$2:O28)),\"\")","v":""},{"$f":"IF('Step 3 Product data'!M$17=$A28,$H28,\"\")","v":""},{"$f":"IFERROR(SMALL(Q$2:Q$224,ROWS(Q$2:Q28)),\"\")","v":""},{"$f":"IF('Step 3 Product data'!N$17=$A28,$H28,\"\")","v":""},{"$f":"IFERROR(SMALL(S$2:S$224,ROWS(S$2:S28)),\"\")","v":""},{"$f":"IF('Step 3 Product data'!O$17=$A28,$H28,\"\")","v":""},{"$f":"IFERROR(SMALL(U$2:U$224,ROWS(U$2:U28)),\"\")","v":""},{"$f":"IF('Step 3 Product data'!P$17=$A28,$H28,\"\")","v":""},{"$f":"IFERROR(SMALL(W$2:W$224,ROWS(W$2:W28)),\"\")","v":""},{"$f":"IF('Step 3 Product data'!Q$17=$A28,$H28,\"\")","v":""},{"$f":"IFERROR(SMALL(Y$2:Y$224,ROWS(Y$2:Y28)),\"\")","v":""},{"$f":"IF('Step 3 Product data'!R$17=$A28,$H28,\"\")","v":""},{"$f":"IFERROR(SMALL(AA$2:AA$224,ROWS(AA$2:AA28)),\"\")","v":""},{"$f":"IF('Step 3 Product data'!S$17=$A28,$H28,\"\")","v":""},{"$f":"IFERROR(SMALL(AC$2:AC$224,ROWS(AC$2:AC28)),\"\")","v":""},{"$f":"IF('Step 3 Product data'!T$17=$A28,$H28,\"\")","v":""},{"$f":"IFERROR(SMALL(AE$2:AE$224,ROWS(AE$2:AE28)),\"\")","v":""},{"$f":"IF('Step 3 Product data'!U$17=$A28,$H28,\"\")","v":""},{"$f":"IFERROR(SMALL(AG$2:AG$224,ROWS(AG$2:AG28)),\"\")","v":""},{"$f":"IF('Step 3 Product data'!V$17=$A28,$H28,\"\")","v":""},{"$f":"IFERROR(SMALL(AI$2:AI$224,ROWS(AI$2:AI28)),\"\")","v":""},{"$f":"IF('Step 3 Product data'!W$17=$A28,$H28,\"\")","v":""},{"$f":"IFERROR(SMALL(AK$2:AK$224,ROWS(AK$2:AK28)),\"\")","v":""},{"$f":"IF('Step 3 Product data'!X$17=$A28,$H28,\"\")","v":""},{"$f":"IFERROR(SMALL(AM$2:AM$224,ROWS(AM$2:AM28)),\"\")","v":""}]
["Manganese compounds","No CAS#",null,null,null,null,null,{"$f":"ROWS($A$2:A29)","v":28},{"$f":"IF('Step 3 Product data'!I$17=$A29,$H29,\"\")","v":""},{"$f":"IFERROR(SMALL($I$2:$I$224,ROWS($I$2:I29)),\"\")","v":""},{"$f":"IF('Step 3 Product data'!J$17=$A29,$H29,\"\")","v":""},{"$f":"IFERROR(SMALL(K$2:K$224,ROWS(K$2:K29)),\"\")","v":""},{"$f":"IF('Step 3 Product data'!K$17=$A29,$H29,\"\")","v":""},{"$f":"IFERROR(SMALL(M$2:M$224,ROWS(M$2:M29)),\"\")","v":""},{"$f":"IF('Step 3 Product data'!L$17=$A29,$H29,\"\")","v":""},{"$f":"IFERROR(SMALL(O$2:O$224,ROWS(O$2:O29)),\"\")","v":""},{"$f":"IF('Step 3 Product data'!M$17=$A29,$H29,\"\")","v":""},{"$f":"IFERROR(SMALL(Q$2:Q$224,ROWS(Q$2:Q29)),\"\")","v":""},{"$f":"IF('Step 3 Product data'!N$17=$A29,$H29,\"\")","v":""},{"$f":"IFERROR(SMALL(S$2:S$224,ROWS(S$2:S29)),\"\")","v":""},{"$f":"IF('Step 3 Product data'!O$17=$A29,$H29,\"\")","v":""},{"$f":"IFERROR(SMALL(U$2:U$224,ROWS(U$2:U29)),\"\")","v":""},{"$f":"IF('Step 3 Product data'!P$17=$A29,$H29,\"\")","v":""},{"$f":"IFERROR(SMALL(W$2:W$224,ROWS(W$2:W29)),\"\")","v":""},{"$f":"IF('Step 3 Product data'!Q$17=$A29,$H29,\"\")","v":""},{"$f":"IFERROR(SMALL(Y$2:Y$224,ROWS(Y$2:Y29)),\"\")","v":""},{"$f":"IF('Step 3 Product data'!R$17=$A29,$H29,\"\")","v":""},{"$f":"IFERROR(SMALL(AA$2:AA$224,ROWS(AA$2:AA29)),\"\")","v":""},{"$f":"IF('Step 3 Product data'!S$17=$A29,$H29,\"\")","v":""},{"$f":"IFERROR(SMALL(AC$2:AC$224,ROWS(AC$2:AC29)),\"\")","v":""},{"$f":"IF('Step 3 Product data'!T$17=$A29,$H29,\"\")","v":""},{"$f":"IFERROR(SMALL(AE$2:AE$224,ROWS(AE$2:AE29)),\"\")","v":""},{"$f":"IF('Step 3 Product data'!U$17=$A29,$H29,\"\")","v":""},{"$f":"IFERROR(SMALL(AG$2:AG$224,ROWS(AG$2:AG29)),\"\")","v":""},{"$f":"IF('Step 3 Product data'!V$17=$A29,$H29,\"\")","v":""},{"$f":"IFERROR(SMALL(AI$2:AI$224,ROWS(AI$2:AI29)),\"\")","v":""},{"$f":"IF('Step 3 Product data'!W$17=$A29,$H29,\"\")","v":""},{"$f":"IFERROR(SMALL(AK$2:AK$224,ROWS(AK$2:AK29)),\"\")","v":""},{"$f":"IF('Step 3 Product data'!X$17=$A29,$H29,\"\")","v":""},{"$f":"IFERROR(SMALL(AM$2:AM$224,ROWS(AM$2:AM29)),\"\")","v":""}]
["Mercury compounds","No CAS#",null,null,null,null,null,{"$f":"ROWS($A$2:A30)","v":29},{"$f":"IF('Step 3 Product data'!I$17=$A30,$H30,\"\")","v":""},{"$f":"IFERROR(SMALL($I$2:$I$224,ROWS($I$2:I30)),\"\")","v":""},{"$f":"IF('Step 3 Product data'!J$17=$A30,$H30,\"\")","v":""},{"$f":"IFERROR(SMALL(K$2:K$224,ROWS(K$2:K30)),\"\")","v":""},{"$f":"IF('Step 3 Product data'!K$17=$A30,$H30,\"\")","v":""},{"$f":"IFERROR(SMALL(M$2:M$224,ROWS(M$2:M30)),\"\")","v":""},{"$f":"IF('Step 3 Product data'!L$17=$A30,$H30,\"\")","v":""},{"$f":"IFERROR(SMALL(O$2:O$224,ROWS(O$2:O30)),\"\")","v":""},{"$f":"IF('Step 3 Product data'!M$17=$A30,$H30,\"\")","v":""},{"$f":"IFERROR(SMALL(Q$2:Q$224,ROWS(Q$2:Q30)),\"\")","v":""},{"$f":"IF('Step 3 Product data'!N$17=$A30,$H30,\"\")","v":""},{"$f":"IFERROR(SMALL(S$2:S$224,ROWS(S$2:S30)),\"\")","v":""},{"$f":"IF('Step 3 Product data'!O$17=$A30,$H30,\"\")","v":""},{"$f":"IFERROR(SMALL(U$2:U$224,ROWS(U$2:U30)),\"\")","v":""},{"$f":"IF('Step 3 Product data'!P$17=$A30,$H30,\"\")","v":""},{"$f":"IFERROR(SMALL(W$2:W$224,ROWS(W$2:W30)),\"\")","v":""},{"$f":"IF('Step 3 Product data'!Q$17=$A30,$H30,\"\")","v":""},{"$f":"IFERROR(SMALL(Y$2:Y$224,ROWS(Y$2:Y30)),\"\")","v":""},{"$f":"IF('Step 3 Product data'!R$17=$A30,$H30,\"\")","v":""},{"$f":"IFERROR(SMALL(AA$2:AA$224,ROWS(AA$2:AA30)),\"\")","v":""},{"$f":"IF('Step 3 Product data'!S$17=$A30,$H30,\"\")","v":""},{"$f":"IFERROR(SMALL(AC$2:AC$224,ROWS(AC$2:AC30)),\"\")","v":""},{"$f":"IF('Step 3 Product data'!T$17=$A30,$H30,\"\")","v":""},{"$f":"IFERROR(SMALL(AE$2:AE$224,ROWS(AE$2:AE30)),\"\")","v":""},{"$f":"IF('Step 3 Product data'!U$17=$A30,$H30,\"\")","v":""},{"$f":"IFERROR(SMALL(AG$2:AG$224,ROWS(AG$2:AG30)),\"\")","v":""},{"$f":"IF('Step 3 Product data'!V$17=$A30,$H30,\"\")","v":""},{"$f":"IFERROR(SMALL(AI$2:AI$224,ROWS(AI$2:AI30)),\"\")","v":""},{"$f":"IF('Step 3 Product data'!W$17=$A30,$H30,\"\")","v":""},{"$f":"IFERROR(SMALL(AK$2:AK$224,ROWS(AK$2:AK30)),\"\")","v":""},{"$f":"IF('Step 3 Product data'!X$17=$A30,$H30,\"\")","v":""},{"$f":"IFERROR(SMALL(AM$2:AM$224,ROWS(AM$2:AM30)),\"\")","v":""}]
["Mineral fibers","No CAS#",null,null,null,null,null,{"$f":"ROWS($A$2:A31)","v":30},{"$f":"IF('Step 3 Product data'!I$17=$A31,$H31,\"\")","v":""},{"$f":"IFERROR(SMALL($I$2:$I$224,ROWS($I$2:I31)),\"\")","v":""},{"$f":"IF('Step 3 Product data'!J$17=$A31,$H31,\"\")","v":""},{"$f":"IFERROR(SMALL(K$2:K$224,ROWS(K$2:K31)),\"\")","v":""},{"$f":"IF('Step 3 Product data'!K$17=$A31,$H31,\"\")","v":""},{"$f":"IFERROR(SMALL(M$2:M$224,ROWS(M$2:M31)),\"\")","v":""},{"$f":"IF('Step 3 Product data'!L$17=$A31,$H31,\"\")","v":""},{"$f":"IFERROR(SMALL(O$2:O$224,ROWS(O$2:O31)),\"\")","v":""},{"$f":"IF('Step 3 Product data'!M$17=$A31,$H31,\"\")","v":""},{"$f":"IFERROR(SMALL(Q$2:Q$224,ROWS(Q$2:Q31)),\"\")","v":""},{"$f":"IF('Step 3 Product data'!N$17=$A31,$H31,\"\")","v":""},{"$f":"IFERROR(SMALL(S$2:S$224,ROWS(S$2:S31)),\"\")","v":""},{"$f":"IF('Step 3 Product data'!O$17=$A31,$H31,\"\")","v":""},{"$f":"IFERROR(SMALL(U$2:U$224,ROWS(U$2:U31)),\"\")","v":""},{"$f":"IF('Step 3 Product data'!P$17=$A31,$H31,\"\")","v":""},{"$f":"IFERROR(SMALL(W$2:W$224,ROWS(W$2:W31)),\"\")","v":""},{"$f":"IF('Step 3 Product data'!Q$17=$A31,$H31,\"\")","v":""},{"$f":"IFERROR(SMALL(Y$2:Y$224,ROWS(Y$2:Y31)),\"\")","v":""},{"$f":"IF('Step 3 Product data'!R$17=$A31,$H31,\"\")","v":""},{"$f":"IFERROR(SMALL(AA$2:AA$224,ROWS(AA$2:AA31)),\"\")","v":""},{"$f":"IF('Step 3 Product data'!S$17=$A31,$H31,\"\")","v":""},{"$f":"IFERROR(SMALL(AC$2:AC$224,ROWS(AC$2:AC31)),\"\")","v":""},{"$f":"IF('Step 3 Product data'!T$17=$A31,$H31,\"\")","v":""},{"$f":"IFERROR(SMALL(AE$2:AE$224,ROWS(AE$2:AE31)),\"\")","v":""},{"$f":"IF('Step 3 Product data'!U$17=$A31,$H31,\"\")","v":""},{"$f":"IFERROR(SMALL(AG$2:AG$224,ROWS(AG$2:AG31)),\"\")","v":""},{"$f":"IF('Step 3 Product data'!V$17=$A31,$H31,\"\")","v":""},{"$f":"IFERROR(SMALL(AI$2:AI$224,ROWS(AI$2:AI31)),\"\")","v":""},{"$f":"IF('Step 3 Product data'!W$17=$A31,$H31,\"\")","v":""},{"$f":"IFERROR(SMALL(AK$2:AK$224,ROWS(AK$2:AK31)),\"\")","v":""},{"$f":"IF('Step 3 Product data'!X$17=$A31,$H31,\"\")","v":""},{"$f":"IFERROR(SMALL(AM$2:AM$224,ROWS(AM$2:AM31)),\"\")","v":""}]
["Nickel compounds","No CAS#",null,null,null,null,null,{"$f":"ROWS($A$2:A32)","v":31},{"$f":"IF('Step 3 Product data'!I$17=$A32,$H32,\"\")","v":""},{"$f":"IFERROR(SMALL($I$2:$I$224,ROWS($I$2:I32)),\"\")","v":""},{"$f":"IF('Step 3 Product data'!J$17=$A32,$H32,\"\")","v":""},{"$f":"IFERROR(SMALL(K$2:K$224,ROWS(K$2:K32)),\"\")","v":""},{"$f":"IF('Step 3 Product data'!K$17=$A32,$H32,\"\")","v":""},{"$f":"IFERROR(SMALL(M$2:M$224,ROWS(M$2:M32)),\"\")","v":""},{"$f":"IF('Step 3 Product data'!L$17=$A32,$H32,\"\")","v":""},{"$f":"IFERROR(SMALL(O$2:O$224,ROWS(O$2:O32)),\"\")","v":""},{"$f":"IF('Step 3 Product data'!M$17=$A32,$H32,\"\")","v":""},{"$f":"IFERROR(SMALL(Q$2:Q$224,ROWS(Q$2:Q32)),\"\")","v":""},{"$f":"IF('Step 3 Product data'!N$17=$A32,$H32,\"\")","v":""},{"$f":"IFERROR(SMALL(S$2:S$224,ROWS(S$2:S32)),\"\")","v":""},{"$f":"IF('Step 3 Product data'!O$17=$A32,$H32,\"\")","v":""},{"$f":"IFERROR(SMALL(U$2:U$224,ROWS(U$2:U32)),\"\")","v":""},{"$f":"IF('Step 3 Product data'!P$17=$A32,$H32,\"\")","v":""},{"$f":"IFERROR(SMALL(W$2:W$224,ROWS(W$2:W32)),\"\")","v":""},{"$f":"IF('Step 3 Product data'!Q$17=$A32,$H32,\"\")","v":""},{"$f":"IFERROR(SMALL(Y$2:Y$224,ROWS(Y$2:Y32)),\"\")","v":""},{"$f":"IF('Step 3 Product data'!R$17=$A32,$H32,\"\")","v":""},{"$f":"IFERROR(SMALL(AA$2:AA$224,ROWS(AA$2:AA32)),\"\")","v":""},{"$f":"IF('Step 3 Product data'!S$17=$A32,$H32,\"\")","v":""},{"$f":"IFERROR(SMALL(AC$2:AC$224,ROWS(AC$2:AC32)),\"\")","v":""},{"$f":"IF('Step 3 Product data'!T$17=$A32,$H32,\"\")","v":""},{"$f":"IFERROR(SMALL(AE$2:AE$224,ROWS(AE$2:AE32)),\"\")","v":""},{"$f":"IF('Step 3 Product data'!U$17=$A32,$H32,\"\")","v":""},{"$f":"IFERROR(SMALL(AG$2:AG$224,ROWS(AG$2:AG32)),\"\")","v":""},{"$f":"IF('Step 3 Product data'!V$17=$A32,$H32,\"\")","v":""},{"$f":"IFERROR(SMALL(AI$2:AI$224,ROWS(AI$2:AI32)),\"\")","v":""},{"$f":"IF('Step 3 Product data'!W$17=$A32,$H32,\"\")","v":""},{"$f":"IFERROR(SMALL(AK$2:AK$224,ROWS(AK$2:AK32)),\"\")","v":""},{"$f":"IF('Step 3 Product data'!X$17=$A32,$H32,\"\")","v":""},{"$f":"IFERROR(SMALL(AM$2:AM$224,ROWS(AM$2:AM32)),\"\")","v":""}]
["Polycyclic organic matter","No CAS#",null,null,null,null,null,{"$f":"ROWS($A$2:A33)","v":32},{"$f":"IF('Step 3 Product data'!I$17=$A33,$H33,\"\")","v":""},{"$f":"IFERROR(SMALL($I$2:$I$224,ROWS($I$2:I33)),\"\")","v":""},{"$f":"IF('Step 3 Product data'!J$17=$A33,$H33,\"\")","v":""},{"$f":"IFERROR(SMALL(K$2:K$224,ROWS(K$2:K33)),\"\")","v":""},{"$f":"IF('Step 3 Product data'!K$17=$A33,$H33,\"\")","v":""},{"$f":"IFERROR(SMALL(M$2:M$224,ROWS(M$2:M33)),\"\")","v":""},{"$f":"IF('Step 3 Product data'!L$17=$A33,$H33,\"\")","v":""},{"$f":"IFERROR(SMALL(O$2:O$224,ROWS(O$2:O33)),\"\")","v":""},{"$f":"IF('Step 3 Product data'!M$17=$A33,$H33,\"\")","v":""},{"$f":"IFERROR(SMALL(Q$2:Q$224,ROWS(Q$2:Q33)),\"\")","v":""},{"$f":"IF('Step 3 Product data'!N$17=$A33,$H33,\"\")","v":""},{"$f":"IFERROR(SMALL(S$2:S$224,ROWS(S$2:S33)),\"\")","v":""},{"$f":"IF('Step 3 Product data'!O$17=$A33,$H33,\"\")","v":""},{"$f":"IFERROR(SMALL(U$2:U$224,ROWS(U$2:U33)),\"\")","v":""},{"$f":"IF('Step 3 Product data'!P$17=$A33,$H33,\"\")","v":""},{"$f":"IFERROR(SMALL(W$2:W$224,ROWS(W$2:W33)),\"\")","v":""},{"$f":"IF('Step 3 Product data'!Q$17=$A33,$H33,\"\")","v":""},{"$f":"IFERROR(SMALL(Y$2:Y$224,ROWS(Y$2:Y33)),\"\")","v":""},{"$f":"IF('Step 3 Product data'!R$17=$A33,$H33,\"\")","v":""},{"$f":"IFERROR(SMALL(AA$2:AA$224,ROWS(AA$2:AA33)),\"\")","v":""},{"$f":"IF('Step 3 Product data'!S$17=$A33,$H33,\"\")","v":""},{"$f":"IFERROR(SMALL(AC$2:AC$224,ROWS(AC$2:AC33)),\"\")","v":""},{"$f":"IF('Step 3 Product data'!T$17=$A33,$H33,\"\")","v":""},{"$f":"IFERROR(SMALL(AE$2:AE$224,ROWS(AE$2:AE33)),\"\")","v":""},{"$f":"IF('Step 3 Product data'!U$17=$A33,$H33,\"\")","v":""},{"$f":"IFERROR(SMALL(AG$2:AG$224,ROWS(AG$2:AG33)),\"\")","v":""},{"$f":"IF('Step 3 Product data'!V$17=$A33,$H33,\"\")","v":""},{"$f":"IFERROR(SMALL(AI$2:AI$224,ROWS(AI$2:AI33)),\"\")","v":""},{"$f":"IF('Step 3 Product data'!W$17=$A33,$H33,\"\")","v":""},{"$f":"IFERROR(SMALL(AK$2:AK$224,ROWS(AK$2:AK33)),\"\")","v":""},{"$f":"IF('Step 3 Product data'!X$17=$A33,$H33,\"\")","v":""},{"$f":"IFERROR(SMALL(AM$2:AM$224,ROWS(AM$2:AM33)),\"\")","v":""}]
["Radionuclides","No CAS#",null,null,null,null,null,{"$f":"ROWS($A$2:A34)","v":33},{"$f":"IF('Step 3 Product data'!I$17=$A34,$H34,\"\")","v":""},{"$f":"IFERROR(SMALL($I$2:$I$224,ROWS($I$2:I34)),\"\")","v":""},{"$f":"IF('Step 3 Product data'!J$17=$A34,$H34,\"\")","v":""},{"$f":"IFERROR(SMALL(K$2:K$224,ROWS(K$2:K34)),\"\")","v":""},{"$f":"IF('Step 3 Product data'!K$17=$A34,$H34,\"\")","v":""},{"$f":"IFERROR(SMALL(M$2:M$224,ROWS(M$2:M34)),\"\")","v":""},{"$f":"IF('Step 3 Product data'!L$17=$A34,$H34,\"\")","v":""},{"$f":"IFERROR(SMALL(O$2:O$224,ROWS(O$2:O34)),\"\")","v":""},{"$f":"IF('Step 3 Product data'!M$17=$A34,$H34,\"\")","v":""},{"$f":"IFERROR(SMALL(Q$2:Q$224,ROWS(Q$2:Q34)),\"\")","v":""},{"$f":"IF('Step 3 Product data'!N$17=$A34,$H34,\"\")","v":""},{"$f":"IFERROR(SMALL(S$2:S$224,ROWS(S$2:S34)),\"\")","v":""},{"$f":"IF('Step 3 Product data'!O$17=$A34,$H34,\"\")","v":""},{"$f":"IFERROR(SMALL(U$2:U$224,ROWS(U$2:U34)),\"\")","v":""},{"$f":"IF('Step 3 Product data'!P$17=$A34,$H34,\"\")","v":""},{"$f":"IFERROR(SMALL(W$2:W$224,ROWS(W$2:W34)),\"\")","v":""},{"$f":"IF('Step 3 Product data'!Q$17=$A34,$H34,\"\")","v":""},{"$f":"IFERROR(SMALL(Y$2:Y$224,ROWS(Y$2:Y34)),\"\")","v":""},{"$f":"IF('Step 3 Product data'!R$17=$A34,$H34,\"\")","v":""},{"$f":"IFERROR(SMALL(AA$2:AA$224,ROWS(AA$2:AA34)),\"\")","v":""},{"$f":"IF('Step 3 Product data'!S$17=$A34,$H34,\"\")","v":""},{"$f":"IFERROR(SMALL(AC$2:AC$224,ROWS(AC$2:AC34)),\"\")","v":""},{"$f":"IF('Step 3 Product data'!T$17=$A34,$H34,\"\")","v":""},{"$f":"IFERROR(SMALL(AE$2:AE$224,ROWS(AE$2:AE34)),\"\")","v":""},{"$f":"IF('Step 3 Product data'!U$17=$A34,$H34,\"\")","v":""},{"$f":"IFERROR(SMALL(AG$2:AG$224,ROWS(AG$2:AG34)),\"\")","v":""},{"$f":"IF('Step 3 Product data'!V$17=$A34,$H34,\"\")","v":""},{"$f":"IFERROR(SMALL(AI$2:AI$224,ROWS(AI$2:AI34)),\"\")","v":""},{"$f":"IF('Step 3 Product data'!W$17=$A34,$H34,\"\")","v":""},{"$f":"IFERROR(SMALL(AK$2:AK$224,ROWS(AK$2:AK34)),\"\")","v":""},{"$f":"IF('Step 3 Product data'!X$17=$A34,$H34,\"\")","v":""},{"$f":"IFERROR(SMALL(AM$2:AM$224,ROWS(AM$2:AM34)),\"\")","v":""}]
["Selenium compounds","No CAS#",null,null,null,null,null,{"$f":"ROWS($A$2:A35)","v":34},{"$f":"IF('Step 3 Product data'!I$17=$A35,$H35,\"\")","v":""},{"$f":"IFERROR(SMALL($I$2:$I$224,ROWS($I$2:I35)),\"\")","v":""},{"$f":"IF('Step 3 Product data'!J$17=$A35,$H35,\"\")","v":""},{"$f":"IFERROR(SMALL(K$2:K$224,ROWS(K$2:K35)),\"\")","v":""},{"$f":"IF('Step 3 Product data'!K$17=$A35,$H35,\"\")","v":""},{"$f":"IFERROR(SMALL(M$2:M$224,ROWS(M$2:M35)),\"\")","v":""},{"$f":"IF('Step 3 Product data'!L$17=$A35,$H35,\"\")","v":""},{"$f":"IFERROR(SMALL(O$2:O$224,ROWS(O$2:O35)),\"\")","v":""},{"$f":"IF('Step 3 Product data'!M$17=$A35,$H35,\"\")","v":""},{"$f":"IFERROR(SMALL(Q$2:Q$224,ROWS(Q$2:Q35)),\"\")","v":""},{"$f":"IF('Step 3 Product data'!N$17=$A35,$H35,\"\")","v":""},{"$f":"IFERROR(SMALL(S$2:S$224,ROWS(S$2:S35)),\"\")","v":""},{"$f":"IF('Step 3 Product data'!O$17=$A35,$H35,\"\")","v":""},{"$f":"IFERROR(SMALL(U$2:U$224,ROWS(U$2:U35)),\"\")","v":""},{"$f":"IF('Step 3 Product data'!P$17=$A35,$H35,\"\")","v":""},{"$f":"IFERROR(SMALL(W$2:W$224,ROWS(W$2:W35)),\"\")","v":""},{"$f":"IF('Step 3 Product data'!Q$17=$A35,$H35,\"\")","v":""},{"$f":"IFERROR(SMALL(Y$2:Y$224,ROWS(Y$2:Y35)),\"\")","v":""},{"$f":"IF('Step 3 Product data'!R$17=$A35,$H35,\"\")","v":""},{"$f":"IFERROR(SMALL(AA$2:AA$224,ROWS(AA$2:AA35)),\"\")","v":""},{"$f":"IF('Step 3 Product data'!S$17=$A35,$H35,\"\")","v":""},{"$f":"IFERROR(SMALL(AC$2:AC$224,ROWS(AC$2:AC35)),\"\")","v":""},{"$f":"IF('Step 3 Product data'!T$17=$A35,$H35,\"\")","v":""},{"$f":"IFERROR(SMALL(AE$2:AE$224,ROWS(AE$2:AE35)),\"\")","v":""},{"$f":"IF('Step 3 Product data'!U$17=$A35,$H35,\"\")","v":""},{"$f":"IFERROR(SMALL(AG$2:AG$224,ROWS(AG$2:AG35)),\"\")","v":""},{"$f":"IF('Step 3 Product data'!V$17=$A35,$H35,\"\")","v":""},{"$f":"IFERROR(SMALL(AI$2:AI$224,ROWS(AI$2:AI35)),\"\")","v":""},{"$f":"IF('Step 3 Product data'!W$17=$A35,$H35,\"\")","v":""},{"$f":"IFERROR(SMALL(AK$2:AK$224,ROWS(AK$2:AK35)),\"\")","v":""},{"$f":"IF('Step 3 Product data'!X$17=$A35,$H35,\"\")","v":""},{"$f":"IFERROR(SMALL(AM$2:AM$224,ROWS(AM$2:AM35)),\"\")","v":""}]
[null,"Choose HAP above",null,null,null,null,null,{"$f":"ROWS($A$2:A36)","v":35},{"$f":"IF('Step 3 Product data'!I$17=$A36,$H36,\"\")","v":""},{"$f":"IFERROR(SMALL($I$2:$I$224,ROWS($I$2:I36)),\"\")","v":""},{"$f":"IF('Step 3 Product data'!J$17=$A36,$H36,\"\")","v":""},{"$f":"IFERROR(SMALL(K$2:K$224,ROWS(K$2:K36)),\"\")","v":""},{"$f":"IF('Step 3 Product data'!K$17=$A36,$H36,\"\")","v":""},{"$f":"IFERROR(SMALL(M$2:M$224,ROWS(M$2:M36)),\"\")","v":""},{"$f":"IF('Step 3 Product data'!L$17=$A36,$H36,\"\")","v":""},{"$f":"IFERROR(SMALL(O$2:O$224,ROWS(O$2:O36)),\"\")","v":""},{"$f":"IF('Step 3 Product data'!M$17=$A36,$H36,\"\")","v":""},{"$f":"IFERROR(SMALL(Q$2:Q$224,ROWS(Q$2:Q36)),\"\")","v":""},{"$f":"IF('Step 3 Product data'!N$17=$A36,$H36,\"\")","v":""},{"$f":"IFERROR(SMALL(S$2:S$224,ROWS(S$2:S36)),\"\")","v":""},{"$f":"IF('Step 3 Product data'!O$17=$A36,$H36,\"\")","v":""},{"$f":"IFERROR(SMALL(U$2:U$224,ROWS(U$2:U36)),\"\")","v":""},{"$f":"IF('Step 3 Product data'!P$17=$A36,$H36,\"\")","v":""},{"$f":"IFERROR(SMALL(W$2:W$224,ROWS(W$2:W36)),\"\")","v":""},{"$f":"IF('Step 3 Product data'!Q$17=$A36,$H36,\"\")","v":""},{"$f":"IFERROR(SMALL(Y$2:Y$224,ROWS(Y$2:Y36)),\"\")","v":""},{"$f":"IF('Step 3 Product data'!R$17=$A36,$H36,\"\")","v":""},{"$f":"IFERROR(SMALL(AA$2:AA$224,ROWS(AA$2:AA36)),\"\")","v":""},{"$f":"IF('Step 3 Product data'!S$17=$A36,$H36,\"\")","v":""},{"$f":"IFERROR(SMALL(AC$2:AC$224,ROWS(AC$2:AC36)),\"\")","v":""},{"$f":"IF('Step 3 Product data'!T$17=$A36,$H36,\"\")","v":""},{"$f":"IFERROR(SMALL(AE$2:AE$224,ROWS(AE$2:AE36)),\"\")","v":""},{"$f":"IF('Step 3 Product data'!U$17=$A36,$H36,\"\")","v":""},{"$f":"IFERROR(SMALL(AG$2:AG$224,ROWS(AG$2:AG36)),\"\")","v":""},{"$f":"IF('Step 3 Product data'!V$17=$A36,$H36,\"\")","v":""},{"$f":"IFERROR(SMALL(AI$2:AI$224,ROWS(AI$2:AI36)),\"\")","v":""},{"$f":"IF('Step 3 Product data'!W$17=$A36,$H36,\"\")","v":""},{"$f":"IFERROR(SMALL(AK$2:AK$224,ROWS(AK$2:AK36)),\"\")","v":""},{"$f":"IF('Step 3 Product data'!X$17=$A36,$H36,\"\")","v":""},{"$f":"IFERROR(SMALL(AM$2:AM$224,ROWS(AM$2:AM36)),\"\")","v":""}]
["FULL HAP LIST","Choose one",null,null,null,null,null,{"$f":"ROWS($A$2:A37)","v":36},{"$f":"IF('Step 3 Product data'!I$17=$A37,$H37,\"\")","v":""},{"$f":"IFERROR(SMALL($I$2:$I$224,ROWS($I$2:I37)),\"\")","v":""},{"$f":"IF('Step 3 Product data'!J$17=$A37,$H37,\"\")","v":""},{"$f":"IFERROR(SMALL(K$2:K$224,ROWS(K$2:K37)),\"\")","v":""},{"$f":"IF('Step 3 Product data'!K$17=$A37,$H37,\"\")","v":""},{"$f":"IFERROR(SMALL(M$2:M$224,ROWS(M$2:M37)),\"\")","v":""},{"$f":"IF('Step 3 Product data'!L$17=$A37,$H37,\"\")","v":""},{"$f":"IFERROR(SMALL(O$2:O$224,ROWS(O$2:O37)),\"\")","v":""},{"$f":"IF('Step 3 Product data'!M$17=$A37,$H37,\"\")","v":""},{"$f":"IFERROR(SMALL(Q$2:Q$224,ROWS(Q$2:Q37)),\"\")","v":""},{"$f":"IF('Step 3 Product data'!N$17=$A37,$H37,\"\")","v":""},{"$f":"IFERROR(SMALL(S$2:S$224,ROWS(S$2:S37)),\"\")","v":""},{"$f":"IF('Step 3 Product data'!O$17=$A37,$H37,\"\")","v":""},{"$f":"IFERROR(SMALL(U$2:U$224,ROWS(U$2:U37)),\"\")","v":""},{"$f":"IF('Step 3 Product data'!P$17=$A37,$H37,\"\")","v":""},{"$f":"IFERROR(SMALL(W$2:W$224,ROWS(W$2:W37)),\"\")","v":""},{"$f":"IF('Step 3 Product data'!Q$17=$A37,$H37,\"\")","v":""},{"$f":"IFERROR(SMALL(Y$2:Y$224,ROWS(Y$2:Y37)),\"\")","v":""},{"$f":"IF('Step 3 Product data'!R$17=$A37,$H37,\"\")","v":""},{"$f":"IFERROR(SMALL(AA$2:AA$224,ROWS(AA$2:AA37)),\"\")","v":""},{"$f":"IF('Step 3 Product data'!S$17=$A37,$H37,\"\")","v":""},{"$f":"IFERROR(SMALL(AC$2:AC$224,ROWS(AC$2:AC37)),\"\")","v":""},{"$f":"IF('Step 3 Product data'!T$17=$A37,$H37,\"\")","v":""},{"$f":"IFERROR(SMALL(AE$2:AE$224,ROWS(AE$2:AE37)),\"\")","v":""},{"$f":"IF('Step 3 Product data'!U$17=$A37,$H37,\"\")","v":""},{"$f":"IFERROR(SMALL(AG$2:AG$224,ROWS(AG$2:AG37)),\"\")","v":""},{"$f":"IF('Step 3 Product data'!V$17=$A37,$H37,\"\")","v":""},{"$f":"IFERROR(SMALL(AI$2:AI$224,ROWS(AI$2:AI37)),\"\")","v":""},{"$f":"IF('Step 3 Product data'!W$17=$A37,$H37,\"\")","v":""},{"$f":"IFERROR(SMALL(AK$2:AK$224,ROWS(AK$2:AK37)),\"\")","v":""},{"$f":"IF('Step 3 Product data'!X$17=$A37,$H37,\"\")","v":""},{"$f":"IFERROR(SMALL(AM$2:AM$224,ROWS(AM$2:AM37)),\"\")","v":""}]
["1,1 Dimethyl hydrazine","CAS# 57147",null,null,null,null,null,{"$f":"ROWS($A$2:A38)","v":37},{"$f":"IF('Step 3 Product data'!I$17=$A38,$H38,\"\")","v":""},{"$f":"IFERROR(SMALL($I$2:$I$224,ROWS($I$2:I38)),\"\")","v":""},{"$f":"IF('Step 3 Product data'!J$17=$A38,$H38,\"\")","v":""},{"$f":"IFERROR(SMALL(K$2:K$224,ROWS(K$2:K38)),\"\")","v":""},{"$f":"IF('Step 3 Product data'!K$17=$A38,$H38,\"\")","v":""},{"$f":"IFERROR(SMALL(M$2:M$224,ROWS(M$2:M38)),\"\")","v":""},{"$f":"IF('Step 3 Product data'!L$17=$A38,$H38,\"\")","v":""},{"$f":"IFERROR(SMALL(O$2:O$224,ROWS(O$2:O38)),\"\")","v":""},{"$f":"IF('Step 3 Product data'!M$17=$A38,$H38,\"\")","v":""},{"$f":"IFERROR(SMALL(Q$2:Q$224,ROWS(Q$2:Q38)),\"\")","v":""},{"$f":"IF('Step 3 Product data'!N$17=$A38,$H38,\"\")","v":""},{"$f":"IFERROR(SMALL(S$2:S$224,ROWS(S$2:S38)),\"\")","v":""},{"$f":"IF('Step 3 Product data'!O$17=$A38,$H38,\"\")","v":""},{"$f":"IFERROR(SMALL(U$2:U$224,ROWS(U$2:U38)),\"\")","v":""},{"$f":"IF('Step 3 Product data'!P$17=$A38,$H38,\"\")","v":""},{"$f":"IFERROR(SMALL(W$2:W$224,ROWS(W$2:W38)),\"\")","v":""},{"$f":"IF('Step 3 Product data'!Q$17=$A38,$H38,\"\")","v":""},{"$f":"IFERROR(SMALL(Y$2:Y$224,ROWS(Y$2:Y38)),\"\")","v":""},{"$f":"IF('Step 3 Product data'!R$17=$A38,$H38,\"\")","v":""},{"$f":"IFERROR(SMALL(AA$2:AA$224,ROWS(AA$2:AA38)),\"\")","v":""},{"$f":"IF('Step 3 Product data'!S$17=$A38,$H38,\"\")","v":""},{"$f":"IFERROR(SMALL(AC$2:AC$224,ROWS(AC$2:AC38)),\"\")","v":""},{"$f":"IF('Step 3 Product data'!T$17=$A38,$H38,\"\")","v":""},{"$f":"IFERROR(SMALL(AE$2:AE$224,ROWS(AE$2:AE38)),\"\")","v":""},{"$f":"IF('Step 3 Product data'!U$17=$A38,$H38,\"\")","v":""},{"$f":"IFERROR(SMALL(AG$2:AG$224,ROWS(AG$2:AG38)),\"\")","v":""},{"$f":"IF('Step 3 Product data'!V$17=$A38,$H38,\"\")","v":""},{"$f":"IFERROR(SMALL(AI$2:AI$224,ROWS(AI$2:AI38)),\"\")","v":""},{"$f":"IF('Step 3 Product data'!W$17=$A38,$H38,\"\")","v":""},{"$f":"IFERROR(SMALL(AK$2:AK$224,ROWS(AK$2:AK38)),\"\")","v":""},{"$f":"IF('Step 3 Product data'!X$17=$A38,$H38,\"\")","v":""},{"$f":"IFERROR(SMALL(AM$2:AM$224,ROWS(AM$2:AM38)),\"\")","v":""}]
["1,1,2,2,-Tetrachloroethane","CAS# 79345",null,null,null,null,null,{"$f":"ROWS($A$2:A39)","v":38},{"$f":"IF('Step 3 Product data'!I$17=$A39,$H39,\"\")","v":""},{"$f":"IFERROR(SMALL($I$2:$I$224,ROWS($I$2:I39)),\"\")","v":""},{"$f":"IF('Step 3 Product data'!J$17=$A39,$H39,\"\")","v":""},{"$f":"IFERROR(SMALL(K$2:K$224,ROWS(K$2:K39)),\"\")","v":""},{"$f":"IF('Step 3 Product data'!K$17=$A39,$H39,\"\")","v":""},{"$f":"IFERROR(SMALL(M$2:M$224,ROWS(M$2:M39)),\"\")","v":""},{"$f":"IF('Step 3 Product data'!L$17=$A39,$H39,\"\")","v":""},{"$f":"IFERROR(SMALL(O$2:O$224,ROWS(O$2:O39)),\"\")","v":""},{"$f":"IF('Step 3 Product data'!M$17=$A39,$H39,\"\")","v":""},{"$f":"IFERROR(SMALL(Q$2:Q$224,ROWS(Q$2:Q39)),\"\")","v":""},{"$f":"IF('Step 3 Product data'!N$17=$A39,$H39,\"\")","v":""},{"$f":"IFERROR(SMALL(S$2:S$224,ROWS(S$2:S39)),\"\")","v":""},{"$f":"IF('Step 3 Product data'!O$17=$A39,$H39,\"\")","v":""},{"$f":"IFERROR(SMALL(U$2:U$224,ROWS(U$2:U39)),\"\")","v":""},{"$f":"IF('Step 3 Product data'!P$17=$A39,$H39,\"\")","v":""},{"$f":"IFERROR(SMALL(W$2:W$224,ROWS(W$2:W39)),\"\")","v":""},{"$f":"IF('Step 3 Product data'!Q$17=$A39,$H39,\"\")","v":""},{"$f":"IFERROR(SMALL(Y$2:Y$224,ROWS(Y$2:Y39)),\"\")","v":""},{"$f":"IF('Step 3 Product data'!R$17=$A39,$H39,\"\")","v":""},{"$f":"IFERROR(SMALL(AA$2:AA$224,ROWS(AA$2:AA39)),\"\")","v":""},{"$f":"IF('Step 3 Product data'!S$17=$A39,$H39,\"\")","v":""},{"$f":"IFERROR(SMALL(AC$2:AC$224,ROWS(AC$2:AC39)),\"\")","v":""},{"$f":"IF('Step 3 Product data'!T$17=$A39,$H39,\"\")","v":""},{"$f":"IFERROR(SMALL(AE$2:AE$224,ROWS(AE$2:AE39)),\"\")","v":""},{"$f":"IF('Step 3 Product data'!U$17=$A39,$H39,\"\")","v":""},{"$f":"IFERROR(SMALL(AG$2:AG$224,ROWS(AG$2:AG39)),\"\")","v":""},{"$f":"IF('Step 3 Product data'!V$17=$A39,$H39,\"\")","v":""},{"$f":"IFERROR(SMALL(AI$2:AI$224,ROWS(AI$2:AI39)),\"\")","v":""},{"$f":"IF('Step 3 Product data'!W$17=$A39,$H39,\"\")","v":""},{"$f":"IFERROR(SMALL(AK$2:AK$224,ROWS(AK$2:AK39)),\"\")","v":""},{"$f":"IF('Step 3 Product data'!X$17=$A39,$H39,\"\")","v":""},{"$f":"IFERROR(SMALL(AM$2:AM$224,ROWS(AM$2:AM39)),\"\")","v":""}]
["1,1,2-Trichloroethane","CAS# 79005",null,null,null,null,null,{"$f":"ROWS($A$2:A40)","v":39},{"$f":"IF('Step 3 Product data'!I$17=$A40,$H40,\"\")","v":""},{"$f":"IFERROR(SMALL($I$2:$I$224,ROWS($I$2:I40)),\"\")","v":""},{"$f":"IF('Step 3 Product data'!J$17=$A40,$H40,\"\")","v":""},{"$f":"IFERROR(SMALL(K$2:K$224,ROWS(K$2:K40)),\"\")","v":""},{"$f":"IF('Step 3 Product data'!K$17=$A40,$H40,\"\")","v":""},{"$f":"IFERROR(SMALL(M$2:M$224,ROWS(M$2:M40)),\"\")","v":""},{"$f":"IF('Step 3 Product data'!L$17=$A40,$H40,\"\")","v":""},{"$f":"IFERROR(SMALL(O$2:O$224,ROWS(O$2:O40)),\"\")","v":""},{"$f":"IF('Step 3 Product data'!M$17=$A40,$H40,\"\")","v":""},{"$f":"IFERROR(SMALL(Q$2:Q$224,ROWS(Q$2:Q40)),\"\")","v":""},{"$f":"IF('Step 3 Product data'!N$17=$A40,$H40,\"\")","v":""},{"$f":"IFERROR(SMALL(S$2:S$224,ROWS(S$2:S40)),\"\")","v":""},{"$f":"IF('Step 3 Product data'!O$17=$A40,$H40,\"\")","v":""},{"$f":"IFERROR(SMALL(U$2:U$224,ROWS(U$2:U40)),\"\")","v":""},{"$f":"IF('Step 3 Product data'!P$17=$A40,$H40,\"\")","v":""},{"$f":"IFERROR(SMALL(W$2:W$224,ROWS(W$2:W40)),\"\")","v":""},{"$f":"IF('Step 3 Product data'!Q$17=$A40,$H40,\"\")","v":""},{"$f":"IFERROR(SMALL(Y$2:Y$224,ROWS(Y$2:Y40)),\"\")","v":""},{"$f":"IF('Step 3 Product data'!R$17=$A40,$H40,\"\")","v":""},{"$f":"IFERROR(SMALL(AA$2:AA$224,ROWS(AA$2:AA40)),\"\")","v":""},{"$f":"IF('Step 3 Product data'!S$17=$A40,$H40,\"\")","v":""},{"$f":"IFERROR(SMALL(AC$2:AC$224,ROWS(AC$2:AC40)),\"\")","v":""},{"$f":"IF('Step 3 Product data'!T$17=$A40,$H40,\"\")","v":""},{"$f":"IFERROR(SMALL(AE$2:AE$224,ROWS(AE$2:AE40)),\"\")","v":""},{"$f":"IF('Step 3 Product data'!U$17=$A40,$H40,\"\")","v":""},{"$f":"IFERROR(SMALL(AG$2:AG$224,ROWS(AG$2:AG40)),\"\")","v":""},{"$f":"IF('Step 3 Product data'!V$17=$A40,$H40,\"\")","v":""},{"$f":"IFERROR(SMALL(AI$2:AI$224,ROWS(AI$2:AI40)),\"\")","v":""},{"$f":"IF('Step 3 Product data'!W$17=$A40,$H40,\"\")","v":""},{"$f":"IFERROR(SMALL(AK$2:AK$224,ROWS(AK$2:AK40)),\"\")","v":""},{"$f":"IF('Step 3 Product data'!X$17=$A40,$H40,\"\")","v":""},{"$f":"IFERROR(SMALL(AM$2:AM$224,ROWS(AM$2:AM40)),\"\")","v":""}]
["1,2,4-Trichlorobenzene","CAS# 120821",null,null,null,null,null,{"$f":"ROWS($A$2:A41)","v":40},{"$f":"IF('Step 3 Product data'!I$17=$A41,$H41,\"\")","v":""},{"$f":"IFERROR(SMALL($I$2:$I$224,ROWS($I$2:I41)),\"\")","v":""},{"$f":"IF('Step 3 Product data'!J$17=$A41,$H41,\"\")","v":""},{"$f":"IFERROR(SMALL(K$2:K$224,ROWS(K$2:K41)),\"\")","v":""},{"$f":"IF('Step 3 Product data'!K$17=$A41,$H41,\"\")","v":""},{"$f":"IFERROR(SMALL(M$2:M$224,ROWS(M$2:M41)),\"\")","v":""},{"$f":"IF('Step 3 Product data'!L$17=$A41,$H41,\"\")","v":""},{"$f":"IFERROR(SMALL(O$2:O$224,ROWS(O$2:O41)),\"\")","v":""},{"$f":"IF('Step 3 Product data'!M$17=$A41,$H41,\"\")","v":""},{"$f":"IFERROR(SMALL(Q$2:Q$224,ROWS(Q$2:Q41)),\"\")","v":""},{"$f":"IF('Step 3 Product data'!N$17=$A41,$H41,\"\")","v":""},{"$f":"IFERROR(SMALL(S$2:S$224,ROWS(S$2:S41)),\"\")","v":""},{"$f":"IF('Step 3 Product data'!O$17=$A41,$H41,\"\")","v":""},{"$f":"IFERROR(SMALL(U$2:U$224,ROWS(U$2:U41)),\"\")","v":""},{"$f":"IF('Step 3 Product data'!P$17=$A41,$H41,\"\")","v":""},{"$f":"IFERROR(SMALL(W$2:W$224,ROWS(W$2:W41)),\"\")","v":""},{"$f":"IF('Step 3 Product data'!Q$17=$A41,$H41,\"\")","v":""},{"$f":"IFERROR(SMALL(Y$2:Y$224,ROWS(Y$2:Y41)),\"\")","v":""},{"$f":"IF('Step 3 Product data'!R$17=$A41,$H41,\"\")","v":""},{"$f":"IFERROR(SMALL(AA$2:AA$224,ROWS(AA$2:AA41)),\"\")","v":""},{"$f":"IF('Step 3 Product data'!S$17=$A41,$H41,\"\")","v":""},{"$f":"IFERROR(SMALL(AC$2:AC$224,ROWS(AC$2:AC41)),\"\")","v":""},{"$f":"IF('Step 3 Product data'!T$17=$A41,$H41,\"\")","v":""},{"$f":"IFERROR(SMALL(AE$2:AE$224,ROWS(AE$2:AE41)),\"\")","v":""},{"$f":"IF('Step 3 Product data'!U$17=$A41,$H41,\"\")","v":""},{"$f":"IFERROR(SMALL(AG$2:AG$224,ROWS(AG$2:AG41)),\"\")","v":""},{"$f":"IF('Step 3 Product data'!V$17=$A41,$H41,\"\")","v":""},{"$f":"IFERROR(SMALL(AI$2:AI$224,ROWS(AI$2:AI41)),\"\")","v":""},{"$f":"IF('Step 3 Product data'!W$17=$A41,$H41,\"\")","v":""},{"$f":"IFERROR(SMALL(AK$2:AK$224,ROWS(AK$2:AK41)),\"\")","v":""},{"$f":"IF('Step 3 Product data'!X$17=$A41,$H41,\"\")","v":""},{"$f":"IFERROR(SMALL(AM$2:AM$224,ROWS(AM$2:AM41)),\"\")","v":""}]
["1,2-Dibromo-3-chloropropane","CAS# 96128",null,null,null,null,null,{"$f":"ROWS($A$2:A42)","v":41},{"$f":"IF('Step 3 Product data'!I$17=$A42,$H42,\"\")","v":""},{"$f":"IFERROR(SMALL($I$2:$I$224,ROWS($I$2:I42)),\"\")","v":""},{"$f":"IF('Step 3 Product data'!J$17=$A42,$H42,\"\")","v":""},{"$f":"IFERROR(SMALL(K$2:K$224,ROWS(K$2:K42)),\"\")","v":""},{"$f":"IF('Step 3 Product data'!K$17=$A42,$H42,\"\")","v":""},{"$f":"IFERROR(SMALL(M$2:M$224,ROWS(M$2:M42)),\"\")","v":""},{"$f":"IF('Step 3 Product data'!L$17=$A42,$H42,\"\")","v":""},{"$f":"IFERROR(SMALL(O$2:O$224,ROWS(O$2:O42)),\"\")","v":""},{"$f":"IF('Step 3 Product data'!M$17=$A42,$H42,\"\")","v":""},{"$f":"IFERROR(SMALL(Q$2:Q$224,ROWS(Q$2:Q42)),\"\")","v":""},{"$f":"IF('Step 3 Product data'!N$17=$A42,$H42,\"\")","v":""},{"$f":"IFERROR(SMALL(S$2:S$224,ROWS(S$2:S42)),\"\")","v":""},{"$f":"IF('Step 3 Product data'!O$17=$A42,$H42,\"\")","v":""},{"$f":"IFERROR(SMALL(U$2:U$224,ROWS(U$2:U42)),\"\")","v":""},{"$f":"IF('Step 3 Product data'!P$17=$A42,$H42,\"\")","v":""},{"$f":"IFERROR(SMALL(W$2:W$224,ROWS(W$2:W42)),\"\")","v":""},{"$f":"IF('Step 3 Product data'!Q$17=$A42,$H42,\"\")","v":""},{"$f":"IFERROR(SMALL(Y$2:Y$224,ROWS(Y$2:Y42)),\"\")","v":""},{"$f":"IF('Step 3 Product data'!R$17=$A42,$H42,\"\")","v":""},{"$f":"IFERROR(SMALL(AA$2:AA$224,ROWS(AA$2:AA42)),\"\")","v":""},{"$f":"IF('Step 3 Product data'!S$17=$A42,$H42,\"\")","v":""},{"$f":"IFERROR(SMALL(AC$2:AC$224,ROWS(AC$2:AC42)),\"\")","v":""},{"$f":"IF('Step 3 Product data'!T$17=$A42,$H42,\"\")","v":""},{"$f":"IFERROR(SMALL(AE$2:AE$224,ROWS(AE$2:AE42)),\"\")","v":""},{"$f":"IF('Step 3 Product data'!U$17=$A42,$H42,\"\")","v":""},{"$f":"IFERROR(SMALL(AG$2:AG$224,ROWS(AG$2:AG42)),\"\")","v":""},{"$f":"IF('Step 3 Product data'!V$17=$A42,$H42,\"\")","v":""},{"$f":"IFERROR(SMALL(AI$2:AI$224,ROWS(AI$2:AI42)),\"\")","v":""},{"$f":"IF('Step 3 Product data'!W$17=$A42,$H42,\"\")","v":""},{"$f":"IFERROR(SMALL(AK$2:AK$224,ROWS(AK$2:AK42)),\"\")","v":""},{"$f":"IF('Step 3 Product data'!X$17=$A42,$H42,\"\")","v":""},{"$f":"IFERROR(SMALL(AM$2:AM$224,ROWS(AM$2:AM42)),\"\")","v":""}]
["1,2-Diphenylhydrazine","CAS# 122667",null,null,null,null,null,{"$f":"ROWS($A$2:A43)","v":42},{"$f":"IF('Step 3 Product data'!I$17=$A43,$H43,\"\")","v":""},{"$f":"IFERROR(SMALL($I$2:$I$224,ROWS($I$2:I43)),\"\")","v":""},{"$f":"IF('Step 3 Product data'!J$17=$A43,$H43,\"\")","v":""},{"$f":"IFERROR(SMALL(K$2:K$224,ROWS(K$2:K43)),\"\")","v":""},{"$f":"IF('Step 3 Product data'!K$17=$A43,$H43,\"\")","v":""},{"$f":"IFERROR(SMALL(M$2:M$224,ROWS(M$2:M43)),\"\")","v":""},{"$f":"IF('Step 3 Product data'!L$17=$A43,$H43,\"\")","v":""},{"$f":"IFERROR(SMALL(O$2:O$224,ROWS(O$2:O43)),\"\")","v":""},{"$f":"IF('Step 3 Product data'!M$17=$A43,$H43,\"\")","v":""},{"$f":"IFERROR(SMALL(Q$2:Q$224,ROWS(Q$2:Q43)),\"\")","v":""},{"$f":"IF('Step 3 Product data'!N$17=$A43,$H43,\"\")","v":""},{"$f":"IFERROR(SMALL(S$2:S$224,ROWS(S$2:S43)),\"\")","v":""},{"$f":"IF('Step 3 Product data'!O$17=$A43,$H43,\"\")","v":""},{"$f":"IFERROR(SMALL(U$2:U$224,ROWS(U$2:U43)),\"\")","v":""},{"$f":"IF('Step 3 Product data'!P$17=$A43,$H43,\"\")","v":""},{"$f":"IFERROR(SMALL(W$2:W$224,ROWS(W$2:W43)),\"\")","v":""},{"$f":"IF('Step 3 Product data'!Q$17=$A43,$H43,\"\")","v":""},{"$f":"IFERROR(SMALL(Y$2:Y$224,ROWS(Y$2:Y43)),\"\")","v":""},{"$f":"IF('Step 3 Product data'!R$17=$A43,$H43,\"\")","v":""},{"$f":"IFERROR(SMALL(AA$2:AA$224,ROWS(AA$2:AA43)),\"\")","v":""},{"$f":"IF('Step 3 Product data'!S$17=$A43,$H43,\"\")","v":""},{"$f":"IFERROR(SMALL(AC$2:AC$224,ROWS(AC$2:AC43)),\"\")","v":""},{"$f":"IF('Step 3 Product data'!T$17=$A43,$H43,\"\")","v":""},{"$f":"IFERROR(SMALL(AE$2:AE$224,ROWS(AE$2:AE43)),\"\")","v":""},{"$f":"IF('Step 3 Product data'!U$17=$A43,$H43,\"\")","v":""},{"$f":"IFERROR(SMALL(AG$2:AG$224,ROWS(AG$2:AG43)),\"\")","v":""},{"$f":"IF('Step 3 Product data'!V$17=$A43,$H43,\"\")","v":""},{"$f":"IFERROR(SMALL(AI$2:AI$224,ROWS(AI$2:AI43)),\"\")","v":""},{"$f":"IF('Step 3 Product data'!W$17=$A43,$H43,\"\")","v":""},{"$f":"IFERROR(SMALL(AK$2:AK$224,ROWS(AK$2:AK43)),\"\")","v":""},{"$f":"IF('Step 3 Product data'!X$17=$A43,$H43,\"\")","v":""},{"$f":"IFERROR(SMALL(AM$2:AM$224,ROWS(AM$2:AM43)),\"\")","v":""}]
["1,2-Epoxybutane","CAS# 106887",null,null,null,null,null,{"$f":"ROWS($A$2:A44)","v":43},{"$f":"IF('Step 3 Product data'!I$17=$A44,$H44,\"\")","v":""},{"$f":"IFERROR(SMALL($I$2:$I$224,ROWS($I$2:I44)),\"\")","v":""},{"$f":"IF('Step 3 Product data'!J$17=$A44,$H44,\"\")","v":""},{"$f":"IFERROR(SMALL(K$2:K$224,ROWS(K$2:K44)),\"\")","v":""},{"$f":"IF('Step 3 Product data'!K$17=$A44,$H44,\"\")","v":""},{"$f":"IFERROR(SMALL(M$2:M$224,ROWS(M$2:M44)),\"\")","v":""},{"$f":"IF('Step 3 Product data'!L$17=$A44,$H44,\"\")","v":""},{"$f":"IFERROR(SMALL(O$2:O$224,ROWS(O$2:O44)),\"\")","v":""},{"$f":"IF('Step 3 Product data'!M$17=$A44,$H44,\"\")","v":""},{"$f":"IFERROR(SMALL(Q$2:Q$224,ROWS(Q$2:Q44)),\"\")","v":""},{"$f":"IF('Step 3 Product data'!N$17=$A44,$H44,\"\")","v":""},{"$f":"IFERROR(SMALL(S$2:S$224,ROWS(S$2:S44)),\"\")","v":""},{"$f":"IF('Step 3 Product data'!O$17=$A44,$H44,\"\")","v":""},{"$f":"IFERROR(SMALL(U$2:U$224,ROWS(U$2:U44)),\"\")","v":""},{"$f":"IF('Step 3 Product data'!P$17=$A44,$H44,\"\")","v":""},{"$f":"IFERROR(SMALL(W$2:W$224,ROWS(W$2:W44)),\"\")","v":""},{"$f":"IF('Step 3 Product data'!Q$17=$A44,$H44,\"\")","v":""},{"$f":"IFERROR(SMALL(Y$2:Y$224,ROWS(Y$2:Y44)),\"\")","v":""},{"$f":"IF('Step 3 Product data'!R$17=$A44,$H44,\"\")","v":""},{"$f":"IFERROR(SMALL(AA$2:AA$224,ROWS(AA$2:AA44)),\"\")","v":""},{"$f":"IF('Step 3 Product data'!S$17=$A44,$H44,\"\")","v":""},{"$f":"IFERROR(SMALL(AC$2:AC$224,ROWS(AC$2:AC44)),\"\")","v":""},{"$f":"IF('Step 3 Product data'!T$17=$A44,$H44,\"\")","v":""},{"$f":"IFERROR(SMALL(AE$2:AE$224,ROWS(AE$2:AE44)),\"\")","v":""},{"$f":"IF('Step 3 Product data'!U$17=$A44,$H44,\"\")","v":""},{"$f":"IFERROR(SMALL(AG$2:AG$224,ROWS(AG$2:AG44)),\"\")","v":""},{"$f":"IF('Step 3 Product data'!V$17=$A44,$H44,\"\")","v":""},{"$f":"IFERROR(SMALL(AI$2:AI$224,ROWS(AI$2:AI44)),\"\")","v":""},{"$f":"IF('Step 3 Product data'!W$17=$A44,$H44,\"\")","v":""},{"$f":"IFERROR(SMALL(AK$2:AK$224,ROWS(AK$2:AK44)),\"\")","v":""},{"$f":"IF('Step 3 Product data'!X$17=$A44,$H44,\"\")","v":""},{"$f":"IFERROR(SMALL(AM$2:AM$224,ROWS(AM$2:AM44)),\"\")","v":""}]
["1,2-Propylenimine (2-Methyl aziridine)","CAS# 75558",null,null,null,null,null,{"$f":"ROWS($A$2:A45)","v":44},{"$f":"IF('Step 3 Product data'!I$17=$A45,$H45,\"\")","v":""},{"$f":"IFERROR(SMALL($I$2:$I$224,ROWS($I$2:I45)),\"\")","v":""},{"$f":"IF('Step 3 Product data'!J$17=$A45,$H45,\"\")","v":""},{"$f":"IFERROR(SMALL(K$2:K$224,ROWS(K$2:K45)),\"\")","v":""},{"$f":"IF('Step 3 Product data'!K$17=$A45,$H45,\"\")","v":""},{"$f":"IFERROR(SMALL(M$2:M$224,ROWS(M$2:M45)),\"\")","v":""},{"$f":"IF('Step 3 Product data'!L$17=$A45,$H45,\"\")","v":""},{"$f":"IFERROR(SMALL(O$2:O$224,ROWS(O$2:O45)),\"\")","v":""},{"$f":"IF('Step 3 Product data'!M$17=$A45,$H45,\"\")","v":""},{"$f":"IFERROR(SMALL(Q$2:Q$224,ROWS(Q$2:Q45)),\"\")","v":""},{"$f":"IF('Step 3 Product data'!N$17=$A45,$H45,\"\")","v":""},{"$f":"IFERROR(SMALL(S$2:S$224,ROWS(S$2:S45)),\"\")","v":""},{"$f":"IF('Step 3 Product data'!O$17=$A45,$H45,\"\")","v":""},{"$f":"IFERROR(SMALL(U$2:U$224,ROWS(U$2:U45)),\"\")","v":""},{"$f":"IF('Step 3 Product data'!P$17=$A45,$H45,\"\")","v":""},{"$f":"IFERROR(SMALL(W$2:W$224,ROWS(W$2:W45)),\"\")","v":""},{"$f":"IF('Step 3 Product data'!Q$17=$A45,$H45,\"\")","v":""},{"$f":"IFERROR(SMALL(Y$2:Y$224,ROWS(Y$2:Y45)),\"\")","v":""},{"$f":"IF('Step 3 Product data'!R$17=$A45,$H45,\"\")","v":""},{"$f":"IFERROR(SMALL(AA$2:AA$224,ROWS(AA$2:AA45)),\"\")","v":""},{"$f":"IF('Step 3 Product data'!S$17=$A45,$H45,\"\")","v":""},{"$f":"IFERROR(SMALL(AC$2:AC$224,ROWS(AC$2:AC45)),\"\")","v":""},{"$f":"IF('Step 3 Product data'!T$17=$A45,$H45,\"\")","v":""},{"$f":"IFERROR(SMALL(AE$2:AE$224,ROWS(AE$2:AE45)),\"\")","v":""},{"$f":"IF('Step 3 Product data'!U$17=$A45,$H45,\"\")","v":""},{"$f":"IFERROR(SMALL(AG$2:AG$224,ROWS(AG$2:AG45)),\"\")","v":""},{"$f":"IF('Step 3 Product data'!V$17=$A45,$H45,\"\")","v":""},{"$f":"IFERROR(SMALL(AI$2:AI$224,ROWS(AI$2:AI45)),\"\")","v":""},{"$f":"IF('Step 3 Product data'!W$17=$A45,$H45,\"\")","v":""},{"$f":"IFERROR(SMALL(AK$2:AK$224,ROWS(AK$2:AK45)),\"\")","v":""},{"$f":"IF('Step 3 Product data'!X$17=$A45,$H45,\"\")","v":""},{"$f":"IFERROR(SMALL(AM$2:AM$224,ROWS(AM$2:AM45)),\"\")","v":""}]
["1,3-Butadiene","CAS# 106990",null,null,null,null,null,{"$f":"ROWS($A$2:A46)","v":45},{"$f":"IF('Step 3 Product data'!I$17=$A46,$H46,\"\")","v":""},{"$f":"IFERROR(SMALL($I$2:$I$224,ROWS($I$2:I46)),\"\")","v":""},{"$f":"IF('Step 3 Product data'!J$17=$A46,$H46,\"\")","v":""},{"$f":"IFERROR(SMALL(K$2:K$224,ROWS(K$2:K46)),\"\")","v":""},{"$f":"IF('Step 3 Product data'!K$17=$A46,$H46,\"\")","v":""},{"$f":"IFERROR(SMALL(M$2:M$224,ROWS(M$2:M46)),\"\")","v":""},{"$f":"IF('Step 3 Product data'!L$17=$A46,$H46,\"\")","v":""},{"$f":"IFERROR(SMALL(O$2:O$224,ROWS(O$2:O46)),\"\")","v":""},{"$f":"IF('Step 3 Product data'!M$17=$A46,$H46,\"\")","v":""},{"$f":"IFERROR(SMALL(Q$2:Q$224,ROWS(Q$2:Q46)),\"\")","v":""},{"$f":"IF('Step 3 Product data'!N$17=$A46,$H46,\"\")","v":""},{"$f":"IFERROR(SMALL(S$2:S$224,ROWS(S$2:S46)),\"\")","v":""},{"$f":"IF('Step 3 Product data'!O$17=$A46,$H46,\"\")","v":""},{"$f":"IFERROR(SMALL(U$2:U$224,ROWS(U$2:U46)),\"\")","v":""},{"$f":"IF('Step 3 Product data'!P$17=$A46,$H46,\"\")","v":""},{"$f":"IFERROR(SMALL(W$2:W$224,ROWS(W$2:W46)),\"\")","v":""},{"$f":"IF('Step 3 Product data'!Q$17=$A46,$H46,\"\")","v":""},{"$f":"IFERROR(SMALL(Y$2:Y$224,ROWS(Y$2:Y46)),\"\")","v":""},{"$f":"IF('Step 3 Product data'!R$17=$A46,$H46,\"\")","v":""},{"$f":"IFERROR(SMALL(AA$2:AA$224,ROWS(AA$2:AA46)),\"\")","v":""},{"$f":"IF('Step 3 Product data'!S$17=$A46,$H46,\"\")","v":""},{"$f":"IFERROR(SMALL(AC$2:AC$224,ROWS(AC$2:AC46)),\"\")","v":""},{"$f":"IF('Step 3 Product data'!T$17=$A46,$H46,\"\")","v":""},{"$f":"IFERROR(SMALL(AE$2:AE$224,ROWS(AE$2:AE46)),\"\")","v":""},{"$f":"IF('Step 3 Product data'!U$17=$A46,$H46,\"\")","v":""},{"$f":"IFERROR(SMALL(AG$2:AG$224,ROWS(AG$2:AG46)),\"\")","v":""},{"$f":"IF('Step 3 Product data'!V$17=$A46,$H46,\"\")","v":""},{"$f":"IFERROR(SMALL(AI$2:AI$224,ROWS(AI$2:AI46)),\"\")","v":""},{"$f":"IF('Step 3 Product data'!W$17=$A46,$H46,\"\")","v":""},{"$f":"IFERROR(SMALL(AK$2:AK$224,ROWS(AK$2:AK46)),\"\")","v":""},{"$f":"IF('Step 3 Product data'!X$17=$A46,$H46,\"\")","v":""},{"$f":"IFERROR(SMALL(AM$2:AM$224,ROWS(AM$2:AM46)),\"\")","v":""}]
["1,3-Dichloropropene","CAS# 542756",null,null,null,null,null,{"$f":"ROWS($A$2:A47)","v":46},{"$f":"IF('Step 3 Product data'!I$17=$A47,$H47,\"\")","v":""},{"$f":"IFERROR(SMALL($I$2:$I$224,ROWS($I$2:I47)),\"\")","v":""},{"$f":"IF('Step 3 Product data'!J$17=$A47,$H47,\"\")","v":""},{"$f":"IFERROR(SMALL(K$2:K$224,ROWS(K$2:K47)),\"\")","v":""},{"$f":"IF('Step 3 Product data'!K$17=$A47,$H47,\"\")","v":""},{"$f":"IFERROR(SMALL(M$2:M$224,ROWS(M$2:M47)),\"\")","v":""},{"$f":"IF('Step 3 Product data'!L$17=$A47,$H47,\"\")","v":""},{"$f":"IFERROR(SMALL(O$2:O$224,ROWS(O$2:O47)),\"\")","v":""},{"$f":"IF('Step 3 Product data'!M$17=$A47,$H47,\"\")","v":""},{"$f":"IFERROR(SMALL(Q$2:Q$224,ROWS(Q$2:Q47)),\"\")","v":""},{"$f":"IF('Step 3 Product data'!N$17=$A47,$H47,\"\")","v":""},{"$f":"IFERROR(SMALL(S$2:S$224,ROWS(S$2:S47)),\"\")","v":""},{"$f":"IF('Step 3 Product data'!O$17=$A47,$H47,\"\")","v":""},{"$f":"IFERROR(SMALL(U$2:U$224,ROWS(U$2:U47)),\"\")","v":""},{"$f":"IF('Step 3 Product data'!P$17=$A47,$H47,\"\")","v":""},{"$f":"IFERROR(SMALL(W$2:W$224,ROWS(W$2:W47)),\"\")","v":""},{"$f":"IF('Step 3 Product data'!Q$17=$A47,$H47,\"\")","v":""},{"$f":"IFERROR(SMALL(Y$2:Y$224,ROWS(Y$2:Y47)),\"\")","v":""},{"$f":"IF('Step 3 Product data'!R$17=$A47,$H47,\"\")","v":""},{"$f":"IFERROR(SMALL(AA$2:AA$224,ROWS(AA$2:AA47)),\"\")","v":""},{"$f":"IF('Step 3 Product data'!S$17=$A47,$H47,\"\")","v":""},{"$f":"IFERROR(SMALL(AC$2:AC$224,ROWS(AC$2:AC47)),\"\")","v":""},{"$f":"IF('Step 3 Product data'!T$17=$A47,$H47,\"\")","v":""},{"$f":"IFERROR(SMALL(AE$2:AE$224,ROWS(AE$2:AE47)),\"\")","v":""},{"$f":"IF('Step 3 Product data'!U$17=$A47,$H47,\"\")","v":""},{"$f":"IFERROR(SMALL(AG$2:AG$224,ROWS(AG$2:AG47)),\"\")","v":""},{"$f":"IF('Step 3 Product data'!V$17=$A47,$H47,\"\")","v":""},{"$f":"IFERROR(SMALL(AI$2:AI$224,ROWS(AI$2:AI47)),\"\")","v":""},{"$f":"IF('Step 3 Product data'!W$17=$A47,$H47,\"\")","v":""},{"$f":"IFERROR(SMALL(AK$2:AK$224,ROWS(AK$2:AK47)),\"\")","v":""},{"$f":"IF('Step 3 Product data'!X$17=$A47,$H47,\"\")","v":""},{"$f":"IFERROR(SMALL(AM$2:AM$224,ROWS(AM$2:AM47)),\"\")","v":""}]
["1,3-Propane sultone","CAS# 1120714",null,null,null,null,null,{"$f":"ROWS($A$2:A48)","v":47},{"$f":"IF('Step 3 Product data'!I$17=$A48,$H48,\"\")","v":""},{"$f":"IFERROR(SMALL($I$2:$I$224,ROWS($I$2:I48)),\"\")","v":""},{"$f":"IF('Step 3 Product data'!J$17=$A48,$H48,\"\")","v":""},{"$f":"IFERROR(SMALL(K$2:K$224,ROWS(K$2:K48)),\"\")","v":""},{"$f":"IF('Step 3 Product data'!K$17=$A48,$H48,\"\")","v":""},{"$f":"IFERROR(SMALL(M$2:M$224,ROWS(M$2:M48)),\"\")","v":""},{"$f":"IF('Step 3 Product data'!L$17=$A48,$H48,\"\")","v":""},{"$f":"IFERROR(SMALL(O$2:O$224,ROWS(O$2:O48)),\"\")","v":""},{"$f":"IF('Step 3 Product data'!M$17=$A48,$H48,\"\")","v":""},{"$f":"IFERROR(SMALL(Q$2:Q$224,ROWS(Q$2:Q48)),\"\")","v":""},{"$f":"IF('Step 3 Product data'!N$17=$A48,$H48,\"\")","v":""},{"$f":"IFERROR(SMALL(S$2:S$224,ROWS(S$2:S48)),\"\")","v":""},{"$f":"IF('Step 3 Product data'!O$17=$A48,$H48,\"\")","v":""},{"$f":"IFERROR(SMALL(U$2:U$224,ROWS(U$2:U48)),\"\")","v":""},{"$f":"IF('Step 3 Product data'!P$17=$A48,$H48,\"\")","v":""},{"$f":"IFERROR(SMALL(W$2:W$224,ROWS(W$2:W48)),\"\")","v":""},{"$f":"IF('Step 3 Product data'!Q$17=$A48,$H48,\"\")","v":""},{"$f":"IFERROR(SMALL(Y$2:Y$224,ROWS(Y$2:Y48)),\"\")","v":""},{"$f":"IF('Step 3 Product data'!R$17=$A48,$H48,\"\")","v":""},{"$f":"IFERROR(SMALL(AA$2:AA$224,ROWS(AA$2:AA48)),\"\")","v":""},{"$f":"IF('Step 3 Product data'!S$17=$A48,$H48,\"\")","v":""},{"$f":"IFERROR(SMALL(AC$2:AC$224,ROWS(AC$2:AC48)),\"\")","v":""},{"$f":"IF('Step 3 Product data'!T$17=$A48,$H48,\"\")","v":""},{"$f":"IFERROR(SMALL(AE$2:AE$224,ROWS(AE$2:AE48)),\"\")","v":""},{"$f":"IF('Step 3 Product data'!U$17=$A48,$H48,\"\")","v":""},{"$f":"IFERROR(SMALL(AG$2:AG$224,ROWS(AG$2:AG48)),\"\")","v":""},{"$f":"IF('Step 3 Product data'!V$17=$A48,$H48,\"\")","v":""},{"$f":"IFERROR(SMALL(AI$2:AI$224,ROWS(AI$2:AI48)),\"\")","v":""},{"$f":"IF('Step 3 Product data'!W$17=$A48,$H48,\"\")","v":""},{"$f":"IFERROR(SMALL(AK$2:AK$224,ROWS(AK$2:AK48)),\"\")","v":""},{"$f":"IF('Step 3 Product data'!X$17=$A48,$H48,\"\")","v":""},{"$f":"IFERROR(SMALL(AM$2:AM$224,ROWS(AM$2:AM48)),\"\")","v":""}]
["1,4-Dichlorobenzene (p)","CAS# 106467",null,null,null,null,null,{"$f":"ROWS($A$2:A49)","v":48},{"$f":"IF('Step 3 Product data'!I$17=$A49,$H49,\"\")","v":""},{"$f":"IFERROR(SMALL($I$2:$I$224,ROWS($I$2:I49)),\"\")","v":""},{"$f":"IF('Step 3 Product data'!J$17=$A49,$H49,\"\")","v":""},{"$f":"IFERROR(SMALL(K$2:K$224,ROWS(K$2:K49)),\"\")","v":""},{"$f":"IF('Step 3 Product data'!K$17=$A49,$H49,\"\")","v":""},{"$f":"IFERROR(SMALL(M$2:M$224,ROWS(M$2:M49)),\"\")","v":""},{"$f":"IF('Step 3 Product data'!L$17=$A49,$H49,\"\")","v":""},{"$f":"IFERROR(SMALL(O$2:O$224,ROWS(O$2:O49)),\"\")","v":""},{"$f":"IF('Step 3 Product data'!M$17=$A49,$H49,\"\")","v":""},{"$f":"IFERROR(SMALL(Q$2:Q$224,ROWS(Q$2:Q49)),\"\")","v":""},{"$f":"IF('Step 3 Product data'!N$17=$A49,$H49,\"\")","v":""},{"$f":"IFERROR(SMALL(S$2:S$224,ROWS(S$2:S49)),\"\")","v":""},{"$f":"IF('Step 3 Product data'!O$17=$A49,$H49,\"\")","v":""},{"$f":"IFERROR(SMALL(U$2:U$224,ROWS(U$2:U49)),\"\")","v":""},{"$f":"IF('Step 3 Product data'!P$17=$A49,$H49,\"\")","v":""},{"$f":"IFERROR(SMALL(W$2:W$224,ROWS(W$2:W49)),\"\")","v":""},{"$f":"IF('Step 3 Product data'!Q$17=$A49,$H49,\"\")","v":""},{"$f":"IFERROR(SMALL(Y$2:Y$224,ROWS(Y$2:Y49)),\"\")","v":""},{"$f":"IF('Step 3 Product data'!R$17=$A49,$H49,\"\")","v":""},{"$f":"IFERROR(SMALL(AA$2:AA$224,ROWS(AA$2:AA49)),\"\")","v":""},{"$f":"IF('Step 3 Product data'!S$17=$A49,$H49,\"\")","v":""},{"$f":"IFERROR(SMALL(AC$2:AC$224,ROWS(AC$2:AC49)),\"\")","v":""},{"$f":"IF('Step 3 Product data'!T$17=$A49,$H49,\"\")","v":""},{"$f":"IFERROR(SMALL(AE$2:AE$224,ROWS(AE$2:AE49)),\"\")","v":""},{"$f":"IF('Step 3 Product data'!U$17=$A49,$H49,\"\")","v":""},{"$f":"IFERROR(SMALL(AG$2:AG$224,ROWS(AG$2:AG49)),\"\")","v":""},{"$f":"IF('Step 3 Product data'!V$17=$A49,$H49,\"\")","v":""},{"$f":"IFERROR(SMALL(AI$2:AI$224,ROWS(AI$2:AI49)),\"\")","v":""},{"$f":"IF('Step 3 Product data'!W$17=$A49,$H49,\"\")","v":""},{"$f":"IFERROR(SMALL(AK$2:AK$224,ROWS(AK$2:AK49)),\"\")","v":""},{"$f":"IF('Step 3 Product data'!X$17=$A49,$H49,\"\")","v":""},{"$f":"IFERROR(SMALL(AM$2:AM$224,ROWS(AM$2:AM49)),\"\")","v":""}]
["1,4-Dioxane (1,4-Diethyleneoxide)","CAS# 123911",null,null,null,null,null,{"$f":"ROWS($A$2:A50)","v":49},{"$f":"IF('Step 3 Product data'!I$17=$A50,$H50,\"\")","v":""},{"$f":"IFERROR(SMALL($I$2:$I$224,ROWS($I$2:I50)),\"\")","v":""},{"$f":"IF('Step 3 Product data'!J$17=$A50,$H50,\"\")","v":""},{"$f":"IFERROR(SMALL(K$2:K$224,ROWS(K$2:K50)),\"\")","v":""},{"$f":"IF('Step 3 Product data'!K$17=$A50,$H50,\"\")","v":""},{"$f":"IFERROR(SMALL(M$2:M$224,ROWS(M$2:M50)),\"\")","v":""},{"$f":"IF('Step 3 Product data'!L$17=$A50,$H50,\"\")","v":""},{"$f":"IFERROR(SMALL(O$2:O$224,ROWS(O$2:O50)),\"\")","v":""},{"$f":"IF('Step 3 Product data'!M$17=$A50,$H50,\"\")","v":""},{"$f":"IFERROR(SMALL(Q$2:Q$224,ROWS(Q$2:Q50)),\"\")","v":""},{"$f":"IF('Step 3 Product data'!N$17=$A50,$H50,\"\")","v":""},{"$f":"IFERROR(SMALL(S$2:S$224,ROWS(S$2:S50)),\"\")","v":""},{"$f":"IF('Step 3 Product data'!O$17=$A50,$H50,\"\")","v":""},{"$f":"IFERROR(SMALL(U$2:U$224,ROWS(U$2:U50)),\"\")","v":""},{"$f":"IF('Step 3 Product data'!P$17=$A50,$H50,\"\")","v":""},{"$f":"IFERROR(SMALL(W$2:W$224,ROWS(W$2:W50)),\"\")","v":""},{"$f":"IF('Step 3 Product data'!Q$17=$A50,$H50,\"\")","v":""},{"$f":"IFERROR(SMALL(Y$2:Y$224,ROWS(Y$2:Y50)),\"\")","v":""},{"$f":"IF('Step 3 Product data'!R$17=$A50,$H50,\"\")","v":""},{"$f":"IFERROR(SMALL(AA$2:AA$224,ROWS(AA$2:AA50)),\"\")","v":""},{"$f":"IF('Step 3 Product data'!S$17=$A50,$H50,\"\")","v":""},{"$f":"IFERROR(SMALL(AC$2:AC$224,ROWS(AC$2:AC50)),\"\")","v":""},{"$f":"IF('Step 3 Product data'!T$17=$A50,$H50,\"\")","v":""},{"$f":"IFERROR(SMALL(AE$2:AE$224,ROWS(AE$2:AE50)),\"\")","v":""},{"$f":"IF('Step 3 Product data'!U$17=$A50,$H50,\"\")","v":""},{"$f":"IFERROR(SMALL(AG$2:AG$224,ROWS(AG$2:AG50)),\"\")","v":""},{"$f":"IF('Step 3 Product data'!V$17=$A50,$H50,\"\")","v":""},{"$f":"IFERROR(SMALL(AI$2:AI$224,ROWS(AI$2:AI50)),\"\")","v":""},{"$f":"IF('Step 3 Product data'!W$17=$A50,$H50,\"\")","v":""},{"$f":"IFERROR(SMALL(AK$2:AK$224,ROWS(AK$2:AK50)),\"\")","v":""},{"$f":"IF('Step 3 Product data'!X$17=$A50,$H50,\"\")","v":""},{"$f":"IFERROR(SMALL(AM$2:AM$224,ROWS(AM$2:AM50)),\"\")","v":""}]
["2,2,4-Trimethylpentane","CAS# 540841",null,null,null,null,null,{"$f":"ROWS($A$2:A51)","v":50},{"$f":"IF('Step 3 Product data'!I$17=$A51,$H51,\"\")","v":""},{"$f":"IFERROR(SMALL($I$2:$I$224,ROWS($I$2:I51)),\"\")","v":""},{"$f":"IF('Step 3 Product data'!J$17=$A51,$H51,\"\")","v":""},{"$f":"IFERROR(SMALL(K$2:K$224,ROWS(K$2:K51)),\"\")","v":""},{"$f":"IF('Step 3 Product data'!K$17=$A51,$H51,\"\")","v":""},{"$f":"IFERROR(SMALL(M$2:M$224,ROWS(M$2:M51)),\"\")","v":""},{"$f":"IF('Step 3 Product data'!L$17=$A51,$H51,\"\")","v":""},{"$f":"IFERROR(SMALL(O$2:O$224,ROWS(O$2:O51)),\"\")","v":""},{"$f":"IF('Step 3 Product data'!M$17=$A51,$H51,\"\")","v":""},{"$f":"IFERROR(SMALL(Q$2:Q$224,ROWS(Q$2:Q51)),\"\")","v":""},{"$f":"IF('Step 3 Product data'!N$17=$A51,$H51,\"\")","v":""},{"$f":"IFERROR(SMALL(S$2:S$224,ROWS(S$2:S51)),\"\")","v":""},{"$f":"IF('Step 3 Product data'!O$17=$A51,$H51,\"\")","v":""},{"$f":"IFERROR(SMALL(U$2:U$224,ROWS(U$2:U51)),\"\")","v":""},{"$f":"IF('Step 3 Product data'!P$17=$A51,$H51,\"\")","v":""},{"$f":"IFERROR(SMALL(W$2:W$224,ROWS(W$2:W51)),\"\")","v":""},{"$f":"IF('Step 3 Product data'!Q$17=$A51,$H51,\"\")","v":""},{"$f":"IFERROR(SMALL(Y$2:Y$224,ROWS(Y$2:Y51)),\"\")","v":""},{"$f":"IF('Step 3 Product data'!R$17=$A51,$H51,\"\")","v":""},{"$f":"IFERROR(SMALL(AA$2:AA$224,ROWS(AA$2:AA51)),\"\")","v":""},{"$f":"IF('Step 3 Product data'!S$17=$A51,$H51,\"\")","v":""},{"$f":"IFERROR(SMALL(AC$2:AC$224,ROWS(AC$2:AC51)),\"\")","v":""},{"$f":"IF('Step 3 Product data'!T$17=$A51,$H51,\"\")","v":""},{"$f":"IFERROR(SMALL(AE$2:AE$224,ROWS(AE$2:AE51)),\"\")","v":""},{"$f":"IF('Step 3 Product data'!U$17=$A51,$H51,\"\")","v":""},{"$f":"IFERROR(SMALL(AG$2:AG$224,ROWS(AG$2:AG51)),\"\")","v":""},{"$f":"IF('Step 3 Product data'!V$17=$A51,$H51,\"\")","v":""},{"$f":"IFERROR(SMALL(AI$2:AI$224,ROWS(AI$2:AI51)),\"\")","v":""},{"$f":"IF('Step 3 Product data'!W$17=$A51,$H51,\"\")","v":""},{"$f":"IFERROR(SMALL(AK$2:AK$224,ROWS(AK$2:AK51)),\"\")","v":""},{"$f":"IF('Step 3 Product data'!X$17=$A51,$H51,\"\")","v":""},{"$f":"IFERROR(SMALL(AM$2:AM$224,ROWS(AM$2:AM51)),\"\")","v":""}]
["2,3,7,8-Tetrachlorodibenzo-p-dioxin","CAS# 1746016",null,null,null,null,null,{"$f":"ROWS($A$2:A52)","v":51},{"$f":"IF('Step 3 Product data'!I$17=$A52,$H52,\"\")","v":""},{"$f":"IFERROR(SMALL($I$2:$I$224,ROWS($I$2:I52)),\"\")","v":""},{"$f":"IF('Step 3 Product data'!J$17=$A52,$H52,\"\")","v":""},{"$f":"IFERROR(SMALL(K$2:K$224,ROWS(K$2:K52)),\"\")","v":""},{"$f":"IF('Step 3 Product data'!K$17=$A52,$H52,\"\")","v":""},{"$f":"IFERROR(SMALL(M$2:M$224,ROWS(M$2:M52)),\"\")","v":""},{"$f":"IF('Step 3 Product data'!L$17=$A52,$H52,\"\")","v":""},{"$f":"IFERROR(SMALL(O$2:O$224,ROWS(O$2:O52)),\"\")","v":""},{"$f":"IF('Step 3 Product data'!M$17=$A52,$H52,\"\")","v":""},{"$f":"IFERROR(SMALL(Q$2:Q$224,ROWS(Q$2:Q52)),\"\")","v":""},{"$f":"IF('Step 3 Product data'!N$17=$A52,$H52,\"\")","v":""},{"$f":"IFERROR(SMALL(S$2:S$224,ROWS(S$2:S52)),\"\")","v":""},{"$f":"IF('Step 3 Product data'!O$17=$A52,$H52,\"\")","v":""},{"$f":"IFERROR(SMALL(U$2:U$224,ROWS(U$2:U52)),\"\")","v":""},{"$f":"IF('Step 3 Product data'!P$17=$A52,$H52,\"\")","v":""},{"$f":"IFERROR(SMALL(W$2:W$224,ROWS(W$2:W52)),\"\")","v":""},{"$f":"IF('Step 3 Product data'!Q$17=$A52,$H52,\"\")","v":""},{"$f":"IFERROR(SMALL(Y$2:Y$224,ROWS(Y$2:Y52)),\"\")","v":""},{"$f":"IF('Step 3 Product data'!R$17=$A52,$H52,\"\")","v":""},{"$f":"IFERROR(SMALL(AA$2:AA$224,ROWS(AA$2:AA52)),\"\")","v":""},{"$f":"IF('Step 3 Product data'!S$17=$A52,$H52,\"\")","v":""},{"$f":"IFERROR(SMALL(AC$2:AC$224,ROWS(AC$2:AC52)),\"\")","v":""},{"$f":"IF('Step 3 Product data'!T$17=$A52,$H52,\"\")","v":""},{"$f":"IFERROR(SMALL(AE$2:AE$224,ROWS(AE$2:AE52)),\"\")","v":""},{"$f":"IF('Step 3 Product data'!U$17=$A52,$H52,\"\")","v":""},{"$f":"IFERROR(SMALL(AG$2:AG$224,ROWS(AG$2:AG52)),\"\")","v":""},{"$f":"IF('Step 3 Product data'!V$17=$A52,$H52,\"\")","v":""},{"$f":"IFERROR(SMALL(AI$2:AI$224,ROWS(AI$2:AI52)),\"\")","v":""},{"$f":"IF('Step 3 Product data'!W$17=$A52,$H52,\"\")","v":""},{"$f":"IFERROR(SMALL(AK$2:AK$224,ROWS(AK$2:AK52)),\"\")","v":""},{"$f":"IF('Step 3 Product data'!X$17=$A52,$H52,\"\")","v":""},{"$f":"IFERROR(SMALL(AM$2:AM$224,ROWS(AM$2:AM52)),\"\")","v":""}]
["2,4,5-Trichlorophenol","CAS# 95954",null,null,null,null,null,{"$f":"ROWS($A$2:A53)","v":52},{"$f":"IF('Step 3 Product data'!I$17=$A53,$H53,\"\")","v":""},{"$f":"IFERROR(SMALL($I$2:$I$224,ROWS($I$2:I53)),\"\")","v":""},{"$f":"IF('Step 3 Product data'!J$17=$A53,$H53,\"\")","v":""},{"$f":"IFERROR(SMALL(K$2:K$224,ROWS(K$2:K53)),\"\")","v":""},{"$f":"IF('Step 3 Product data'!K$17=$A53,$H53,\"\")","v":""},{"$f":"IFERROR(SMALL(M$2:M$224,ROWS(M$2:M53)),\"\")","v":""},{"$f":"IF('Step 3 Product data'!L$17=$A53,$H53,\"\")","v":""},{"$f":"IFERROR(SMALL(O$2:O$224,ROWS(O$2:O53)),\"\")","v":""},{"$f":"IF('Step 3 Product data'!M$17=$A53,$H53,\"\")","v":""},{"$f":"IFERROR(SMALL(Q$2:Q$224,ROWS(Q$2:Q53)),\"\")","v":""},{"$f":"IF('Step 3 Product data'!N$17=$A53,$H53,\"\")","v":""},{"$f":"IFERROR(SMALL(S$2:S$224,ROWS(S$2:S53)),\"\")","v":""},{"$f":"IF('Step 3 Product data'!O$17=$A53,$H53,\"\")","v":""},{"$f":"IFERROR(SMALL(U$2:U$224,ROWS(U$2:U53)),\"\")","v":""},{"$f":"IF('Step 3 Product data'!P$17=$A53,$H53,\"\")","v":""},{"$f":"IFERROR(SMALL(W$2:W$224,ROWS(W$2:W53)),\"\")","v":""},{"$f":"IF('Step 3 Product data'!Q$17=$A53,$H53,\"\")","v":""},{"$f":"IFERROR(SMALL(Y$2:Y$224,ROWS(Y$2:Y53)),\"\")","v":""},{"$f":"IF('Step 3 Product data'!R$17=$A53,$H53,\"\")","v":""},{"$f":"IFERROR(SMALL(AA$2:AA$224,ROWS(AA$2:AA53)),\"\")","v":""},{"$f":"IF('Step 3 Product data'!S$17=$A53,$H53,\"\")","v":""},{"$f":"IFERROR(SMALL(AC$2:AC$224,ROWS(AC$2:AC53)),\"\")","v":""},{"$f":"IF('Step 3 Product data'!T$17=$A53,$H53,\"\")","v":""},{"$f":"IFERROR(SMALL(AE$2:AE$224,ROWS(AE$2:AE53)),\"\")","v":""},{"$f":"IF('Step 3 Product data'!U$17=$A53,$H53,\"\")","v":""},{"$f":"IFERROR(SMALL(AG$2:AG$224,ROWS(AG$2:AG53)),\"\")","v":""},{"$f":"IF('Step 3 Product data'!V$17=$A53,$H53,\"\")","v":""},{"$f":"IFERROR(SMALL(AI$2:AI$224,ROWS(AI$2:AI53)),\"\")","v":""},{"$f":"IF('Step 3 Product data'!W$17=$A53,$H53,\"\")","v":""},{"$f":"IFERROR(SMALL(AK$2:AK$224,ROWS(AK$2:AK53)),\"\")","v":""},{"$f":"IF('Step 3 Product data'!X$17=$A53,$H53,\"\")","v":""},{"$f":"IFERROR(SMALL(AM$2:AM$224,ROWS(AM$2:AM53)),\"\")","v":""}]
["2,4,6-Trichlorophenol","CAS# 88062",null,null,null,null,null,{"$f":"ROWS($A$2:A54)","v":53},{"$f":"IF('Step 3 Product data'!I$17=$A54,$H54,\"\")","v":""},{"$f":"IFERROR(SMALL($I$2:$I$224,ROWS($I$2:I54)),\"\")","v":""},{"$f":"IF('Step 3 Product data'!J$17=$A54,$H54,\"\")","v":""},{"$f":"IFERROR(SMALL(K$2:K$224,ROWS(K$2:K54)),\"\")","v":""},{"$f":"IF('Step 3 Product data'!K$17=$A54,$H54,\"\")","v":""},{"$f":"IFERROR(SMALL(M$2:M$224,ROWS(M$2:M54)),\"\")","v":""},{"$f":"IF('Step 3 Product data'!L$17=$A54,$H54,\"\")","v":""},{"$f":"IFERROR(SMALL(O$2:O$224,ROWS(O$2:O54)),\"\")","v":""},{"$f":"IF('Step 3 Product data'!M$17=$A54,$H54,\"\")","v":""},{"$f":"IFERROR(SMALL(Q$2:Q$224,ROWS(Q$2:Q54)),\"\")","v":""},{"$f":"IF('Step 3 Product data'!N$17=$A54,$H54,\"\")","v":""},{"$f":"IFERROR(SMALL(S$2:S$224,ROWS(S$2:S54)),\"\")","v":""},{"$f":"IF('Step 3 Product data'!O$17=$A54,$H54,\"\")","v":""},{"$f":"IFERROR(SMALL(U$2:U$224,ROWS(U$2:U54)),\"\")","v":""},{"$f":"IF('Step 3 Product data'!P$17=$A54,$H54,\"\")","v":""},{"$f":"IFERROR(SMALL(W$2:W$224,ROWS(W$2:W54)),\"\")","v":""},{"$f":"IF('Step 3 Product data'!Q$17=$A54,$H54,\"\")","v":""},{"$f":"IFERROR(SMALL(Y$2:Y$224,ROWS(Y$2:Y54)),\"\")","v":""},{"$f":"IF('Step 3 Product data'!R$17=$A54,$H54,\"\")","v":""},{"$f":"IFERROR(SMALL(AA$2:AA$224,ROWS(AA$2:AA54)),\"\")","v":""},{"$f":"IF('Step 3 Product data'!S$17=$A54,$H54,\"\")","v":""},{"$f":"IFERROR(SMALL(AC$2:AC$224,ROWS(AC$2:AC54)),\"\")","v":""},{"$f":"IF('Step 3 Product data'!T$17=$A54,$H54,\"\")","v":""},{"$f":"IFERROR(SMALL(AE$2:AE$224,ROWS(AE$2:AE54)),\"\")","v":""},{"$f":"IF('Step 3 Product data'!U$17=$A54,$H54,\"\")","v":""},{"$f":"IFERROR(SMALL(AG$2:AG$224,ROWS(AG$2:AG54)),\"\")","v":""},{"$f":"IF('Step 3 Product data'!V$17=$A54,$H54,\"\")","v":""},{"$f":"IFERROR(SMALL(AI$2:AI$224,ROWS(AI$2:AI54)),\"\")","v":""},{"$f":"IF('Step 3 Product data'!W$17=$A54,$H54,\"\")","v":""},{"$f":"IFERROR(SMALL(AK$2:AK$224,ROWS(AK$2:AK54)),\"\")","v":""},{"$f":"IF('Step 3 Product data'!X$17=$A54,$H54,\"\")","v":""},{"$f":"IFERROR(SMALL(AM$2:AM$224,ROWS(AM$2:AM54)),\"\")","v":""}]
["2,4-D, salts and esters","CAS# 94757",null,null,null,null,null,{"$f":"ROWS($A$2:A55)","v":54},{"$f":"IF('Step 3 Product data'!I$17=$A55,$H55,\"\")","v":""},{"$f":"IFERROR(SMALL($I$2:$I$224,ROWS($I$2:I55)),\"\")","v":""},{"$f":"IF('Step 3 Product data'!J$17=$A55,$H55,\"\")","v":""},{"$f":"IFERROR(SMALL(K$2:K$224,ROWS(K$2:K55)),\"\")","v":""},{"$f":"IF('Step 3 Product data'!K$17=$A55,$H55,\"\")","v":""},{"$f":"IFERROR(SMALL(M$2:M$224,ROWS(M$2:M55)),\"\")","v":""},{"$f":"IF('Step 3 Product data'!L$17=$A55,$H55,\"\")","v":""},{"$f":"IFERROR(SMALL(O$2:O$224,ROWS(O$2:O55)),\"\")","v":""},{"$f":"IF('Step 3 Product data'!M$17=$A55,$H55,\"\")","v":""},{"$f":"IFERROR(SMALL(Q$2:Q$224,ROWS(Q$2:Q55)),\"\")","v":""},{"$f":"IF('Step 3 Product data'!N$17=$A55,$H55,\"\")","v":""},{"$f":"IFERROR(SMALL(S$2:S$224,ROWS(S$2:S55)),\"\")","v":""},{"$f":"IF('Step 3 Product data'!O$17=$A55,$H55,\"\")","v":""},{"$f":"IFERROR(SMALL(U$2:U$224,ROWS(U$2:U55)),\"\")","v":""},{"$f":"IF('Step 3 Product data'!P$17=$A55,$H55,\"\")","v":""},{"$f":"IFERROR(SMALL(W$2:W$224,ROWS(W$2:W55)),\"\")","v":""},{"$f":"IF('Step 3 Product data'!Q$17=$A55,$H55,\"\")","v":""},{"$f":"IFERROR(SMALL(Y$2:Y$224,ROWS(Y$2:Y55)),\"\")","v":""},{"$f":"IF('Step 3 Product data'!R$17=$A55,$H55,\"\")","v":""},{"$f":"IFERROR(SMALL(AA$2:AA$224,ROWS(AA$2:AA55)),\"\")","v":""},{"$f":"IF('Step 3 Product data'!S$17=$A55,$H55,\"\")","v":""},{"$f":"IFERROR(SMALL(AC$2:AC$224,ROWS(AC$2:AC55)),\"\")","v":""},{"$f":"IF('Step 3 Product data'!T$17=$A55,$H55,\"\")","v":""},{"$f":"IFERROR(SMALL(AE$2:AE$224,ROWS(AE$2:AE55)),\"\")","v":""},{"$f":"IF('Step 3 Product data'!U$17=$A55,$H55,\"\")","v":""},{"$f":"IFERROR(SMALL(AG$2:AG$224,ROWS(AG$2:AG55)),\"\")","v":""},{"$f":"IF('Step 3 Product data'!V$17=$A55,$H55,\"\")","v":""},{"$f":"IFERROR(SMALL(AI$2:AI$224,ROWS(AI$2:AI55)),\"\")","v":""},{"$f":"IF('Step 3 Product data'!W$17=$A55,$H55,\"\")","v":""},{"$f":"IFERROR(SMALL(AK$2:AK$224,ROWS(AK$2:AK55)),\"\")","v":""},{"$f":"IF('Step 3 Product data'!X$17=$A55,$H55,\"\")","v":""},{"$f":"IFERROR(SMALL(AM$2:AM$224,ROWS(AM$2:AM55)),\"\")","v":""}]
["2,4-Dinitrophenol","CAS# 51285",null,null,null,null,null,{"$f":"ROWS($A$2:A56)","v":55},{"$f":"IF('Step 3 Product data'!I$17=$A56,$H56,\"\")","v":""},{"$f":"IFERROR(SMALL($I$2:$I$224,ROWS($I$2:I56)),\"\")","v":""},{"$f":"IF('Step 3 Product data'!J$17=$A56,$H56,\"\")","v":""},{"$f":"IFERROR(SMALL(K$2:K$224,ROWS(K$2:K56)),\"\")","v":""},{"$f":"IF('Step 3 Product data'!K$17=$A56,$H56,\"\")","v":""},{"$f":"IFERROR(SMALL(M$2:M$224,ROWS(M$2:M56)),\"\")","v":""},{"$f":"IF('Step 3 Product data'!L$17=$A56,$H56,\"\")","v":""},{"$f":"IFERROR(SMALL(O$2:O$224,ROWS(O$2:O56)),\"\")","v":""},{"$f":"IF('Step 3 Product data'!M$17=$A56,$H56,\"\")","v":""},{"$f":"IFERROR(SMALL(Q$2:Q$224,ROWS(Q$2:Q56)),\"\")","v":""},{"$f":"IF('Step 3 Product data'!N$17=$A56,$H56,\"\")","v":""},{"$f":"IFERROR(SMALL(S$2:S$224,ROWS(S$2:S56)),\"\")","v":""},{"$f":"IF('Step 3 Product data'!O$17=$A56,$H56,\"\")","v":""},{"$f":"IFERROR(SMALL(U$2:U$224,ROWS(U$2:U56)),\"\")","v":""},{"$f":"IF('Step 3 Product data'!P$17=$A56,$H56,\"\")","v":""},{"$f":"IFERROR(SMALL(W$2:W$224,ROWS(W$2:W56)),\"\")","v":""},{"$f":"IF('Step 3 Product data'!Q$17=$A56,$H56,\"\")","v":""},{"$f":"IFERROR(SMALL(Y$2:Y$224,ROWS(Y$2:Y56)),\"\")","v":""},{"$f":"IF('Step 3 Product data'!R$17=$A56,$H56,\"\")","v":""},{"$f":"IFERROR(SMALL(AA$2:AA$224,ROWS(AA$2:AA56)),\"\")","v":""},{"$f":"IF('Step 3 Product data'!S$17=$A56,$H56,\"\")","v":""},{"$f":"IFERROR(SMALL(AC$2:AC$224,ROWS(AC$2:AC56)),\"\")","v":""},{"$f":"IF('Step 3 Product data'!T$17=$A56,$H56,\"\")","v":""},{"$f":"IFERROR(SMALL(AE$2:AE$224,ROWS(AE$2:AE56)),\"\")","v":""},{"$f":"IF('Step 3 Product data'!U$17=$A56,$H56,\"\")","v":""},{"$f":"IFERROR(SMALL(AG$2:AG$224,ROWS(AG$2:AG56)),\"\")","v":""},{"$f":"IF('Step 3 Product data'!V$17=$A56,$H56,\"\")","v":""},{"$f":"IFERROR(SMALL(AI$2:AI$224,ROWS(AI$2:AI56)),\"\")","v":""},{"$f":"IF('Step 3 Product data'!W$17=$A56,$H56,\"\")","v":""},{"$f":"IFERROR(SMALL(AK$2:AK$224,ROWS(AK$2:AK56)),\"\")","v":""},{"$f":"IF('Step 3 Product data'!X$17=$A56,$H56,\"\")","v":""},{"$f":"IFERROR(SMALL(AM$2:AM$224,ROWS(AM$2:AM56)),\"\")","v":""}]
["2,4-Dinitrotoluene","CAS# 121142",null,null,null,null,null,{"$f":"ROWS($A$2:A57)","v":56},{"$f":"IF('Step 3 Product data'!I$17=$A57,$H57,\"\")","v":""},{"$f":"IFERROR(SMALL($I$2:$I$224,ROWS($I$2:I57)),\"\")","v":""},{"$f":"IF('Step 3 Product data'!J$17=$A57,$H57,\"\")","v":""},{"$f":"IFERROR(SMALL(K$2:K$224,ROWS(K$2:K57)),\"\")","v":""},{"$f":"IF('Step 3 Product data'!K$17=$A57,$H57,\"\")","v":""},{"$f":"IFERROR(SMALL(M$2:M$224,ROWS(M$2:M57)),\"\")","v":""},{"$f":"IF('Step 3 Product data'!L$17=$A57,$H57,\"\")","v":""},{"$f":"IFERROR(SMALL(O$2:O$224,ROWS(O$2:O57)),\"\")","v":""},{"$f":"IF('Step 3 Product data'!M$17=$A57,$H57,\"\")","v":""},{"$f":"IFERROR(SMALL(Q$2:Q$224,ROWS(Q$2:Q57)),\"\")","v":""},{"$f":"IF('Step 3 Product data'!N$17=$A57,$H57,\"\")","v":""},{"$f":"IFERROR(SMALL(S$2:S$224,ROWS(S$2:S57)),\"\")","v":""},{"$f":"IF('Step 3 Product data'!O$17=$A57,$H57,\"\")","v":""},{"$f":"IFERROR(SMALL(U$2:U$224,ROWS(U$2:U57)),\"\")","v":""},{"$f":"IF('Step 3 Product data'!P$17=$A57,$H57,\"\")","v":""},{"$f":"IFERROR(SMALL(W$2:W$224,ROWS(W$2:W57)),\"\")","v":""},{"$f":"IF('Step 3 Product data'!Q$17=$A57,$H57,\"\")","v":""},{"$f":"IFERROR(SMALL(Y$2:Y$224,ROWS(Y$2:Y57)),\"\")","v":""},{"$f":"IF('Step 3 Product data'!R$17=$A57,$H57,\"\")","v":""},{"$f":"IFERROR(SMALL(AA$2:AA$224,ROWS(AA$2:AA57)),\"\")","v":""},{"$f":"IF('Step 3 Product data'!S$17=$A57,$H57,\"\")","v":""},{"$f":"IFERROR(SMALL(AC$2:AC$224,ROWS(AC$2:AC57)),\"\")","v":""},{"$f":"IF('Step 3 Product data'!T$17=$A57,$H57,\"\")","v":""},{"$f":"IFERROR(SMALL(AE$2:AE$224,ROWS(AE$2:AE57)),\"\")","v":""},{"$f":"IF('Step 3 Product data'!U$17=$A57,$H57,\"\")","v":""},{"$f":"IFERROR(SMALL(AG$2:AG$224,ROWS(AG$2:AG57)),\"\")","v":""},{"$f":"IF('Step 3 Product data'!V$17=$A57,$H57,\"\")","v":""},{"$f":"IFERROR(SMALL(AI$2:AI$224,ROWS(AI$2:AI57)),\"\")","v":""},{"$f":"IF('Step 3 Product data'!W$17=$A57,$H57,\"\")","v":""},{"$f":"IFERROR(SMALL(AK$2:AK$224,ROWS(AK$2:AK57)),\"\")","v":""},{"$f":"IF('Step 3 Product data'!X$17=$A57,$H57,\"\")","v":""},{"$f":"IFERROR(SMALL(AM$2:AM$224,ROWS(AM$2:AM57)),\"\")","v":""}]
["2,4-Toluene diamine","CAS# 95807",null,null,null,null,null,{"$f":"ROWS($A$2:A58)","v":57},{"$f":"IF('Step 3 Product data'!I$17=$A58,$H58,\"\")","v":""},{"$f":"IFERROR(SMALL($I$2:$I$224,ROWS($I$2:I58)),\"\")","v":""},{"$f":"IF('Step 3 Product data'!J$17=$A58,$H58,\"\")","v":""},{"$f":"IFERROR(SMALL(K$2:K$224,ROWS(K$2:K58)),\"\")","v":""},{"$f":"IF('Step 3 Product data'!K$17=$A58,$H58,\"\")","v":""},{"$f":"IFERROR(SMALL(M$2:M$224,ROWS(M$2:M58)),\"\")","v":""},{"$f":"IF('Step 3 Product data'!L$17=$A58,$H58,\"\")","v":""},{"$f":"IFERROR(SMALL(O$2:O$224,ROWS(O$2:O58)),\"\")","v":""},{"$f":"IF('Step 3 Product data'!M$17=$A58,$H58,\"\")","v":""},{"$f":"IFERROR(SMALL(Q$2:Q$224,ROWS(Q$2:Q58)),\"\")","v":""},{"$f":"IF('Step 3 Product data'!N$17=$A58,$H58,\"\")","v":""},{"$f":"IFERROR(SMALL(S$2:S$224,ROWS(S$2:S58)),\"\")","v":""},{"$f":"IF('Step 3 Product data'!O$17=$A58,$H58,\"\")","v":""},{"$f":"IFERROR(SMALL(U$2:U$224,ROWS(U$2:U58)),\"\")","v":""},{"$f":"IF('Step 3 Product data'!P$17=$A58,$H58,\"\")","v":""},{"$f":"IFERROR(SMALL(W$2:W$224,ROWS(W$2:W58)),\"\")","v":""},{"$f":"IF('Step 3 Product data'!Q$17=$A58,$H58,\"\")","v":""},{"$f":"IFERROR(SMALL(Y$2:Y$224,ROWS(Y$2:Y58)),\"\")","v":""},{"$f":"IF('Step 3 Product data'!R$17=$A58,$H58,\"\")","v":""},{"$f":"IFERROR(SMALL(AA$2:AA$224,ROWS(AA$2:AA58)),\"\")","v":""},{"$f":"IF('Step 3 Product data'!S$17=$A58,$H58,\"\")","v":""},{"$f":"IFERROR(SMALL(AC$2:AC$224,ROWS(AC$2:AC58)),\"\")","v":""},{"$f":"IF('Step 3 Product data'!T$17=$A58,$H58,\"\")","v":""},{"$f":"IFERROR(SMALL(AE$2:AE$224,ROWS(AE$2:AE58)),\"\")","v":""},{"$f":"IF('Step 3 Product data'!U$17=$A58,$H58,\"\")","v":""},{"$f":"IFERROR(SMALL(AG$2:AG$224,ROWS(AG$2:AG58)),\"\")","v":""},{"$f":"IF('Step 3 Product data'!V$17=$A58,$H58,\"\")","v":""},{"$f":"IFERROR(SMALL(AI$2:AI$224,ROWS(AI$2:AI58)),\"\")","v":""},{"$f":"IF('Step 3 Product data'!W$17=$A58,$H58,\"\")","v":""},{"$f":"IFERROR(SMALL(AK$2:AK$224,ROWS(AK$2:AK58)),\"\")","v":""},{"$f":"IF('Step 3 Product data'!X$17=$A58,$H58,\"\")","v":""},{"$f":"IFERROR(SMALL(AM$2:AM$224,ROWS(AM$2:AM58)),\"\")","v":""}]
["2,4-Toluene diisocyanate","CAS# 584849",null,null,null,null,null,{"$f":"ROWS($A$2:A59)","v":58},{"$f":"IF('Step 3 Product data'!I$17=$A59,$H59,\"\")","v":""},{"$f":"IFERROR(SMALL($I$2:$I$224,ROWS($I$2:I59)),\"\")","v":""},{"$f":"IF('Step 3 Product data'!J$17=$A59,$H59,\"\")","v":""},{"$f":"IFERROR(SMALL(K$2:K$224,ROWS(K$2:K59)),\"\")","v":""},{"$f":"IF('Step 3 Product data'!K$17=$A59,$H59,\"\")","v":""},{"$f":"IFERROR(SMALL(M$2:M$224,ROWS(M$2:M59)),\"\")","v":""},{"$f":"IF('Step 3 Product data'!L$17=$A59,$H59,\"\")","v":""},{"$f":"IFERROR(SMALL(O$2:O$224,ROWS(O$2:O59)),\"\")","v":""},{"$f":"IF('Step 3 Product data'!M$17=$A59,$H59,\"\")","v":""},{"$f":"IFERROR(SMALL(Q$2:Q$224,ROWS(Q$2:Q59)),\"\")","v":""},{"$f":"IF('Step 3 Product data'!N$17=$A59,$H59,\"\")","v":""},{"$f":"IFERROR(SMALL(S$2:S$224,ROWS(S$2:S59)),\"\")","v":""},{"$f":"IF('Step 3 Product data'!O$17=$A59,$H59,\"\")","v":""},{"$f":"IFERROR(SMALL(U$2:U$224,ROWS(U$2:U59)),\"\")","v":""},{"$f":"IF('Step 3 Product data'!P$17=$A59,$H59,\"\")","v":""},{"$f":"IFERROR(SMALL(W$2:W$224,ROWS(W$2:W59)),\"\")","v":""},{"$f":"IF('Step 3 Product data'!Q$17=$A59,$H59,\"\")","v":""},{"$f":"IFERROR(SMALL(Y$2:Y$224,ROWS(Y$2:Y59)),\"\")","v":""},{"$f":"IF('Step 3 Product data'!R$17=$A59,$H59,\"\")","v":""},{"$f":"IFERROR(SMALL(AA$2:AA$224,ROWS(AA$2:AA59)),\"\")","v":""},{"$f":"IF('Step 3 Product data'!S$17=$A59,$H59,\"\")","v":""},{"$f":"IFERROR(SMALL(AC$2:AC$224,ROWS(AC$2:AC59)),\"\")","v":""},{"$f":"IF('Step 3 Product data'!T$17=$A59,$H59,\"\")","v":""},{"$f":"IFERROR(SMALL(AE$2:AE$224,ROWS(AE$2:AE59)),\"\")","v":""},{"$f":"IF('Step 3 Product data'!U$17=$A59,$H59,\"\")","v":""},{"$f":"IFERROR(SMALL(AG$2:AG$224,ROWS(AG$2:AG59)),\"\")","v":""},{"$f":"IF('Step 3 Product data'!V$17=$A59,$H59,\"\")","v":""},{"$f":"IFERROR(SMALL(AI$2:AI$224,ROWS(AI$2:AI59)),\"\")","v":""},{"$f":"IF('Step 3 Product data'!W$17=$A59,$H59,\"\")","v":""},{"$f":"IFERROR(SMALL(AK$2:AK$224,ROWS(AK$2:AK59)),\"\")","v":""},{"$f":"IF('Step 3 Product data'!X$17=$A59,$H59,\"\")","v":""},{"$f":"IFERROR(SMALL(AM$2:AM$224,ROWS(AM$2:AM59)),\"\")","v":""}]
["2-Acetylaminofluorene","CAS# 53963",null,null,null,null,null,{"$f":"ROWS($A$2:A60)","v":59},{"$f":"IF('Step 3 Product data'!I$17=$A60,$H60,\"\")","v":""},{"$f":"IFERROR(SMALL($I$2:$I$224,ROWS($I$2:I60)),\"\")","v":""},{"$f":"IF('Step 3 Product data'!J$17=$A60,$H60,\"\")","v":""},{"$f":"IFERROR(SMALL(K$2:K$224,ROWS(K$2:K60)),\"\")","v":""},{"$f":"IF('Step 3 Product data'!K$17=$A60,$H60,\"\")","v":""},{"$f":"IFERROR(SMALL(M$2:M$224,ROWS(M$2:M60)),\"\")","v":""},{"$f":"IF('Step 3 Product data'!L$17=$A60,$H60,\"\")","v":""},{"$f":"IFERROR(SMALL(O$2:O$224,ROWS(O$2:O60)),\"\")","v":""},{"$f":"IF('Step 3 Product data'!M$17=$A60,$H60,\"\")","v":""},{"$f":"IFERROR(SMALL(Q$2:Q$224,ROWS(Q$2:Q60)),\"\")","v":""},{"$f":"IF('Step 3 Product data'!N$17=$A60,$H60,\"\")","v":""},{"$f":"IFERROR(SMALL(S$2:S$224,ROWS(S$2:S60)),\"\")","v":""},{"$f":"IF('Step 3 Product data'!O$17=$A60,$H60,\"\")","v":""},{"$f":"IFERROR(SMALL(U$2:U$224,ROWS(U$2:U60)),\"\")","v":""},{"$f":"IF('Step 3 Product data'!P$17=$A60,$H60,\"\")","v":""},{"$f":"IFERROR(SMALL(W$2:W$224,ROWS(W$2:W60)),\"\")","v":""},{"$f":"IF('Step 3 Product data'!Q$17=$A60,$H60,\"\")","v":""},{"$f":"IFERROR(SMALL(Y$2:Y$224,ROWS(Y$2:Y60)),\"\")","v":""},{"$f":"IF('Step 3 Product data'!R$17=$A60,$H60,\"\")","v":""},{"$f":"IFERROR(SMALL(AA$2:AA$224,ROWS(AA$2:AA60)),\"\")","v":""},{"$f":"IF('Step 3 Product data'!S$17=$A60,$H60,\"\")","v":""},{"$f":"IFERROR(SMALL(AC$2:AC$224,ROWS(AC$2:AC60)),\"\")","v":""},{"$f":"IF('Step 3 Product data'!T$17=$A60,$H60,\"\")","v":""},{"$f":"IFERROR(SMALL(AE$2:AE$224,ROWS(AE$2:AE60)),\"\")","v":""},{"$f":"IF('Step 3 Product data'!U$17=$A60,$H60,\"\")","v":""},{"$f":"IFERROR(SMALL(AG$2:AG$224,ROWS(AG$2:AG60)),\"\")","v":""},{"$f":"IF('Step 3 Product data'!V$17=$A60,$H60,\"\")","v":""},{"$f":"IFERROR(SMALL(AI$2:AI$224,ROWS(AI$2:AI60)),\"\")","v":""},{"$f":"IF('Step 3 Product data'!W$17=$A60,$H60,\"\")","v":""},{"$f":"IFERROR(SMALL(AK$2:AK$224,ROWS(AK$2:AK60)),\"\")","v":""},{"$f":"IF('Step 3 Product data'!X$17=$A60,$H60,\"\")","v":""},{"$f":"IFERROR(SMALL(AM$2:AM$224,ROWS(AM$2:AM60)),\"\")","v":""}]
["2-Chloroacetophenone","CAS# 532274",null,null,null,null,null,{"$f":"ROWS($A$2:A61)","v":60},{"$f":"IF('Step 3 Product data'!I$17=$A61,$H61,\"\")","v":""},{"$f":"IFERROR(SMALL($I$2:$I$224,ROWS($I$2:I61)),\"\")","v":""},{"$f":"IF('Step 3 Product data'!J$17=$A61,$H61,\"\")","v":""},{"$f":"IFERROR(SMALL(K$2:K$224,ROWS(K$2:K61)),\"\")","v":""},{"$f":"IF('Step 3 Product data'!K$17=$A61,$H61,\"\")","v":""},{"$f":"IFERROR(SMALL(M$2:M$224,ROWS(M$2:M61)),\"\")","v":""},{"$f":"IF('Step 3 Product data'!L$17=$A61,$H61,\"\")","v":""},{"$f":"IFERROR(SMALL(O$2:O$224,ROWS(O$2:O61)),\"\")","v":""},{"$f":"IF('Step 3 Product data'!M$17=$A61,$H61,\"\")","v":""},{"$f":"IFERROR(SMALL(Q$2:Q$224,ROWS(Q$2:Q61)),\"\")","v":""},{"$f":"IF('Step 3 Product data'!N$17=$A61,$H61,\"\")","v":""},{"$f":"IFERROR(SMALL(S$2:S$224,ROWS(S$2:S61)),\"\")","v":""},{"$f":"IF('Step 3 Product data'!O$17=$A61,$H61,\"\")","v":""},{"$f":"IFERROR(SMALL(U$2:U$224,ROWS(U$2:U61)),\"\")","v":""},{"$f":"IF('Step 3 Product data'!P$17=$A61,$H61,\"\")","v":""},{"$f":"IFERROR(SMALL(W$2:W$224,ROWS(W$2:W61)),\"\")","v":""},{"$f":"IF('Step 3 Product data'!Q$17=$A61,$H61,\"\")","v":""},{"$f":"IFERROR(SMALL(Y$2:Y$224,ROWS(Y$2:Y61)),\"\")","v":""},{"$f":"IF('Step 3 Product data'!R$17=$A61,$H61,\"\")","v":""},{"$f":"IFERROR(SMALL(AA$2:AA$224,ROWS(AA$2:AA61)),\"\")","v":""},{"$f":"IF('Step 3 Product data'!S$17=$A61,$H61,\"\")","v":""},{"$f":"IFERROR(SMALL(AC$2:AC$224,ROWS(AC$2:AC61)),\"\")","v":""},{"$f":"IF('Step 3 Product data'!T$17=$A61,$H61,\"\")","v":""},{"$f":"IFERROR(SMALL(AE$2:AE$224,ROWS(AE$2:AE61)),\"\")","v":""},{"$f":"IF('Step 3 Product data'!U$17=$A61,$H61,\"\")","v":""},{"$f":"IFERROR(SMALL(AG$2:AG$224,ROWS(AG$2:AG61)),\"\")","v":""},{"$f":"IF('Step 3 Product data'!V$17=$A61,$H61,\"\")","v":""},{"$f":"IFERROR(SMALL(AI$2:AI$224,ROWS(AI$2:AI61)),\"\")","v":""},{"$f":"IF('Step 3 Product data'!W$17=$A61,$H61,\"\")","v":""},{"$f":"IFERROR(SMALL(AK$2:AK$224,ROWS(AK$2:AK61)),\"\")","v":""},{"$f":"IF('Step 3 Product data'!X$17=$A61,$H61,\"\")","v":""},{"$f":"IFERROR(SMALL(AM$2:AM$224,ROWS(AM$2:AM61)),\"\")","v":""}]
["2-Nitropropane","CAS# 79469",null,null,null,null,null,{"$f":"ROWS($A$2:A62)","v":61},{"$f":"IF('Step 3 Product data'!I$17=$A62,$H62,\"\")","v":""},{"$f":"IFERROR(SMALL($I$2:$I$224,ROWS($I$2:I62)),\"\")","v":""},{"$f":"IF('Step 3 Product data'!J$17=$A62,$H62,\"\")","v":""},{"$f":"IFERROR(SMALL(K$2:K$224,ROWS(K$2:K62)),\"\")","v":""},{"$f":"IF('Step 3 Product data'!K$17=$A62,$H62,\"\")","v":""},{"$f":"IFERROR(SMALL(M$2:M$224,ROWS(M$2:M62)),\"\")","v":""},{"$f":"IF('Step 3 Product data'!L$17=$A62,$H62,\"\")","v":""},{"$f":"IFERROR(SMALL(O$2:O$224,ROWS(O$2:O62)),\"\")","v":""},{"$f":"IF('Step 3 Product data'!M$17=$A62,$H62,\"\")","v":""},{"$f":"IFERROR(SMALL(Q$2:Q$224,ROWS(Q$2:Q62)),\"\")","v":""},{"$f":"IF('Step 3 Product data'!N$17=$A62,$H62,\"\")","v":""},{"$f":"IFERROR(SMALL(S$2:S$224,ROWS(S$2:S62)),\"\")","v":""},{"$f":"IF('Step 3 Product data'!O$17=$A62,$H62,\"\")","v":""},{"$f":"IFERROR(SMALL(U$2:U$224,ROWS(U$2:U62)),\"\")","v":""},{"$f":"IF('Step 3 Product data'!P$17=$A62,$H62,\"\")","v":""},{"$f":"IFERROR(SMALL(W$2:W$224,ROWS(W$2:W62)),\"\")","v":""},{"$f":"IF('Step 3 Product data'!Q$17=$A62,$H62,\"\")","v":""},{"$f":"IFERROR(SMALL(Y$2:Y$224,ROWS(Y$2:Y62)),\"\")","v":""},{"$f":"IF('Step 3 Product data'!R$17=$A62,$H62,\"\")","v":""},{"$f":"IFERROR(SMALL(AA$2:AA$224,ROWS(AA$2:AA62)),\"\")","v":""},{"$f":"IF('Step 3 Product data'!S$17=$A62,$H62,\"\")","v":""},{"$f":"IFERROR(SMALL(AC$2:AC$224,ROWS(AC$2:AC62)),\"\")","v":""},{"$f":"IF('Step 3 Product data'!T$17=$A62,$H62,\"\")","v":""},{"$f":"IFERROR(SMALL(AE$2:AE$224,ROWS(AE$2:AE62)),\"\")","v":""},{"$f":"IF('Step 3 Product data'!U$17=$A62,$H62,\"\")","v":""},{"$f":"IFERROR(SMALL(AG$2:AG$224,ROWS(AG$2:AG62)),\"\")","v":""},{"$f":"IF('Step 3 Product data'!V$17=$A62,$H62,\"\")","v":""},{"$f":"IFERROR(SMALL(AI$2:AI$224,ROWS(AI$2:AI62)),\"\")","v":""},{"$f":"IF('Step 3 Product data'!W$17=$A62,$H62,\"\")","v":""},{"$f":"IFERROR(SMALL(AK$2:AK$224,ROWS(AK$2:AK62)),\"\")","v":""},{"$f":"IF('Step 3 Product data'!X$17=$A62,$H62,\"\")","v":""},{"$f":"IFERROR(SMALL(AM$2:AM$224,ROWS(AM$2:AM62)),\"\")","v":""}]
["3,3-Dichlorobenzidene","CAS# 91941",null,null,null,null,null,{"$f":"ROWS($A$2:A63)","v":62},{"$f":"IF('Step 3 Product data'!I$17=$A63,$H63,\"\")","v":""},{"$f":"IFERROR(SMALL($I$2:$I$224,ROWS($I$2:I63)),\"\")","v":""},{"$f":"IF('Step 3 Product data'!J$17=$A63,$H63,\"\")","v":""},{"$f":"IFERROR(SMALL(K$2:K$224,ROWS(K$2:K63)),\"\")","v":""},{"$f":"IF('Step 3 Product data'!K$17=$A63,$H63,\"\")","v":""},{"$f":"IFERROR(SMALL(M$2:M$224,ROWS(M$2:M63)),\"\")","v":""},{"$f":"IF('Step 3 Product data'!L$17=$A63,$H63,\"\")","v":""},{"$f":"IFERROR(SMALL(O$2:O$224,ROWS(O$2:O63)),\"\")","v":""},{"$f":"IF('Step 3 Product data'!M$17=$A63,$H63,\"\")","v":""},{"$f":"IFERROR(SMALL(Q$2:Q$224,ROWS(Q$2:Q63)),\"\")","v":""},{"$f":"IF('Step 3 Product data'!N$17=$A63,$H63,\"\")","v":""},{"$f":"IFERROR(SMALL(S$2:S$224,ROWS(S$2:S63)),\"\")","v":""},{"$f":"IF('Step 3 Product data'!O$17=$A63,$H63,\"\")","v":""},{"$f":"IFERROR(SMALL(U$2:U$224,ROWS(U$2:U63)),\"\")","v":""},{"$f":"IF('Step 3 Product data'!P$17=$A63,$H63,\"\")","v":""},{"$f":"IFERROR(SMALL(W$2:W$224,ROWS(W$2:W63)),\"\")","v":""},{"$f":"IF('Step 3 Product data'!Q$17=$A63,$H63,\"\")","v":""},{"$f":"IFERROR(SMALL(Y$2:Y$224,ROWS(Y$2:Y63)),\"\")","v":""},{"$f":"IF('Step 3 Product data'!R$17=$A63,$H63,\"\")","v":""},{"$f":"IFERROR(SMALL(AA$2:AA$224,ROWS(AA$2:AA63)),\"\")","v":""},{"$f":"IF('Step 3 Product data'!S$17=$A63,$H63,\"\")","v":""},{"$f":"IFERROR(SMALL(AC$2:AC$224,ROWS(AC$2:AC63)),\"\")","v":""},{"$f":"IF('Step 3 Product data'!T$17=$A63,$H63,\"\")","v":""},{"$f":"IFERROR(SMALL(AE$2:AE$224,ROWS(AE$2:AE63)),\"\")","v":""},{"$f":"IF('Step 3 Product data'!U$17=$A63,$H63,\"\")","v":""},{"$f":"IFERROR(SMALL(AG$2:AG$224,ROWS(AG$2:AG63)),\"\")","v":""},{"$f":"IF('Step 3 Product data'!V$17=$A63,$H63,\"\")","v":""},{"$f":"IFERROR(SMALL(AI$2:AI$224,ROWS(AI$2:AI63)),\"\")","v":""},{"$f":"IF('Step 3 Product data'!W$17=$A63,$H63,\"\")","v":""},{"$f":"IFERROR(SMALL(AK$2:AK$224,ROWS(AK$2:AK63)),\"\")","v":""},{"$f":"IF('Step 3 Product data'!X$17=$A63,$H63,\"\")","v":""},{"$f":"IFERROR(SMALL(AM$2:AM$224,ROWS(AM$2:AM63)),\"\")","v":""}]
["3,3-Dimethoxybenzidine","CAS# 119904",null,null,null,null,null,{"$f":"ROWS($A$2:A64)","v":63},{"$f":"IF('Step 3 Product data'!I$17=$A64,$H64,\"\")","v":""},{"$f":"IFERROR(SMALL($I$2:$I$224,ROWS($I$2:I64)),\"\")","v":""},{"$f":"IF('Step 3 Product data'!J$17=$A64,$H64,\"\")","v":""},{"$f":"IFERROR(SMALL(K$2:K$224,ROWS(K$2:K64)),\"\")","v":""},{"$f":"IF('Step 3 Product data'!K$17=$A64,$H64,\"\")","v":""},{"$f":"IFERROR(SMALL(M$2:M$224,ROWS(M$2:M64)),\"\")","v":""},{"$f":"IF('Step 3 Product data'!L$17=$A64,$H64,\"\")","v":""},{"$f":"IFERROR(SMALL(O$2:O$224,ROWS(O$2:O64)),\"\")","v":""},{"$f":"IF('Step 3 Product data'!M$17=$A64,$H64,\"\")","v":""},{"$f":"IFERROR(SMALL(Q$2:Q$224,ROWS(Q$2:Q64)),\"\")","v":""},{"$f":"IF('Step 3 Product data'!N$17=$A64,$H64,\"\")","v":""},{"$f":"IFERROR(SMALL(S$2:S$224,ROWS(S$2:S64)),\"\")","v":""},{"$f":"IF('Step 3 Product data'!O$17=$A64,$H64,\"\")","v":""},{"$f":"IFERROR(SMALL(U$2:U$224,ROWS(U$2:U64)),\"\")","v":""},{"$f":"IF('Step 3 Product data'!P$17=$A64,$H64,\"\")","v":""},{"$f":"IFERROR(SMALL(W$2:W$224,ROWS(W$2:W64)),\"\")","v":""},{"$f":"IF('Step 3 Product data'!Q$17=$A64,$H64,\"\")","v":""},{"$f":"IFERROR(SMALL(Y$2:Y$224,ROWS(Y$2:Y64)),\"\")","v":""},{"$f":"IF('Step 3 Product data'!R$17=$A64,$H64,\"\")","v":""},{"$f":"IFERROR(SMALL(AA$2:AA$224,ROWS(AA$2:AA64)),\"\")","v":""},{"$f":"IF('Step 3 Product data'!S$17=$A64,$H64,\"\")","v":""},{"$f":"IFERROR(SMALL(AC$2:AC$224,ROWS(AC$2:AC64)),\"\")","v":""},{"$f":"IF('Step 3 Product data'!T$17=$A64,$H64,\"\")","v":""},{"$f":"IFERROR(SMALL(AE$2:AE$224,ROWS(AE$2:AE64)),\"\")","v":""},{"$f":"IF('Step 3 Product data'!U$17=$A64,$H64,\"\")","v":""},{"$f":"IFERROR(SMALL(AG$2:AG$224,ROWS(AG$2:AG64)),\"\")","v":""},{"$f":"IF('Step 3 Product data'!V$17=$A64,$H64,\"\")","v":""},{"$f":"IFERROR(SMALL(AI$2:AI$224,ROWS(AI$2:AI64)),\"\")","v":""},{"$f":"IF('Step 3 Product data'!W$17=$A64,$H64,\"\")","v":""},{"$f":"IFERROR(SMALL(AK$2:AK$224,ROWS(AK$2:AK64)),\"\")","v":""},{"$f":"IF('Step 3 Product data'!X$17=$A64,$H64,\"\")","v":""},{"$f":"IFERROR(SMALL(AM$2:AM$224,ROWS(AM$2:AM64)),\"\")","v":""}]
["3,3-Dimethyl benzidine","CAS# 119937",null,null,null,null,null,{"$f":"ROWS($A$2:A65)","v":64},{"$f":"IF('Step 3 Product data'!I$17=$A65,$H65,\"\")","v":""},{"$f":"IFERROR(SMALL($I$2:$I$224,ROWS($I$2:I65)),\"\")","v":""},{"$f":"IF('Step 3 Product data'!J$17=$A65,$H65,\"\")","v":""},{"$f":"IFERROR(SMALL(K$2:K$224,ROWS(K$2:K65)),\"\")","v":""},{"$f":"IF('Step 3 Product data'!K$17=$A65,$H65,\"\")","v":""},{"$f":"IFERROR(SMALL(M$2:M$224,ROWS(M$2:M65)),\"\")","v":""},{"$f":"IF('Step 3 Product data'!L$17=$A65,$H65,\"\")","v":""},{"$f":"IFERROR(SMALL(O$2:O$224,ROWS(O$2:O65)),\"\")","v":""},{"$f":"IF('Step 3 Product data'!M$17=$A65,$H65,\"\")","v":""},{"$f":"IFERROR(SMALL(Q$2:Q$224,ROWS(Q$2:Q65)),\"\")","v":""},{"$f":"IF('Step 3 Product data'!N$17=$A65,$H65,\"\")","v":""},{"$f":"IFERROR(SMALL(S$2:S$224,ROWS(S$2:S65)),\"\")","v":""},{"$f":"IF('Step 3 Product data'!O$17=$A65,$H65,\"\")","v":""},{"$f":"IFERROR(SMALL(U$2:U$224,ROWS(U$2:U65)),\"\")","v":""},{"$f":"IF('Step 3 Product data'!P$17=$A65,$H65,\"\")","v":""},{"$f":"IFERROR(SMALL(W$2:W$224,ROWS(W$2:W65)),\"\")","v":""},{"$f":"IF('Step 3 Product data'!Q$17=$A65,$H65,\"\")","v":""},{"$f":"IFERROR(SMALL(Y$2:Y$224,ROWS(Y$2:Y65)),\"\")","v":""},{"$f":"IF('Step 3 Product data'!R$17=$A65,$H65,\"\")","v":""},{"$f":"IFERROR(SMALL(AA$2:AA$224,ROWS(AA$2:AA65)),\"\")","v":""},{"$f":"IF('Step 3 Product data'!S$17=$A65,$H65,\"\")","v":""},{"$f":"IFERROR(SMALL(AC$2:AC$224,ROWS(AC$2:AC65)),\"\")","v":""},{"$f":"IF('Step 3 Product data'!T$17=$A65,$H65,\"\")","v":""},{"$f":"IFERROR(SMALL(AE$2:AE$224,ROWS(AE$2:AE65)),\"\")","v":""},{"$f":"IF('Step 3 Product data'!U$17=$A65,$H65,\"\")","v":""},{"$f":"IFERROR(SMALL(AG$2:AG$224,ROWS(AG$2:AG65)),\"\")","v":""},{"$f":"IF('Step 3 Product data'!V$17=$A65,$H65,\"\")","v":""},{"$f":"IFERROR(SMALL(AI$2:AI$224,ROWS(AI$2:AI65)),\"\")","v":""},{"$f":"IF('Step 3 Product data'!W$17=$A65,$H65,\"\")","v":""},{"$f":"IFERROR(SMALL(AK$2:AK$224,ROWS(AK$2:AK65)),\"\")","v":""},{"$f":"IF('Step 3 Product data'!X$17=$A65,$H65,\"\")","v":""},{"$f":"IFERROR(SMALL(AM$2:AM$224,ROWS(AM$2:AM65)),\"\")","v":""}]
["4,4-Methylene bis (2-chloroaniline)","CAS# 101144",null,null,null,null,null,{"$f":"ROWS($A$2:A66)","v":65},{"$f":"IF('Step 3 Product data'!I$17=$A66,$H66,\"\")","v":""},{"$f":"IFERROR(SMALL($I$2:$I$224,ROWS($I$2:I66)),\"\")","v":""},{"$f":"IF('Step 3 Product data'!J$17=$A66,$H66,\"\")","v":""},{"$f":"IFERROR(SMALL(K$2:K$224,ROWS(K$2:K66)),\"\")","v":""},{"$f":"IF('Step 3 Product data'!K$17=$A66,$H66,\"\")","v":""},{"$f":"IFERROR(SMALL(M$2:M$224,ROWS(M$2:M66)),\"\")","v":""},{"$f":"IF('Step 3 Product data'!L$17=$A66,$H66,\"\")","v":""},{"$f":"IFERROR(SMALL(O$2:O$224,ROWS(O$2:O66)),\"\")","v":""},{"$f":"IF('Step 3 Product data'!M$17=$A66,$H66,\"\")","v":""},{"$f":"IFERROR(SMALL(Q$2:Q$224,ROWS(Q$2:Q66)),\"\")","v":""},{"$f":"IF('Step 3 Product data'!N$17=$A66,$H66,\"\")","v":""},{"$f":"IFERROR(SMALL(S$2:S$224,ROWS(S$2:S66)),\"\")","v":""},{"$f":"IF('Step 3 Product data'!O$17=$A66,$H66,\"\")","v":""},{"$f":"IFERROR(SMALL(U$2:U$224,ROWS(U$2:U66)),\"\")","v":""},{"$f":"IF('Step 3 Product data'!P$17=$A66,$H66,\"\")","v":""},{"$f":"IFERROR(SMALL(W$2:W$224,ROWS(W$2:W66)),\"\")","v":""},{"$f":"IF('Step 3 Product data'!Q$17=$A66,$H66,\"\")","v":""},{"$f":"IFERROR(SMALL(Y$2:Y$224,ROWS(Y$2:Y66)),\"\")","v":""},{"$f":"IF('Step 3 Product data'!R$17=$A66,$H66,\"\")","v":""},{"$f":"IFERROR(SMALL(AA$2:AA$224,ROWS(AA$2:AA66)),\"\")","v":""},{"$f":"IF('Step 3 Product data'!S$17=$A66,$H66,\"\")","v":""},{"$f":"IFERROR(SMALL(AC$2:AC$224,ROWS(AC$2:AC66)),\"\")","v":""},{"$f":"IF('Step 3 Product data'!T$17=$A66,$H66,\"\")","v":""},{"$f":"IFERROR(SMALL(AE$2:AE$224,ROWS(AE$2:AE66)),\"\")","v":""},{"$f":"IF('Step 3 Product data'!U$17=$A66,$H66,\"\")","v":""},{"$f":"IFERROR(SMALL(AG$2:AG$224,ROWS(AG$2:AG66)),\"\")","v":""},{"$f":"IF('Step 3 Product data'!V$17=$A66,$H66,\"\")","v":""},{"$f":"IFERROR(SMALL(AI$2:AI$224,ROWS(AI$2:AI66)),\"\")","v":""},{"$f":"IF('Step 3 Product data'!W$17=$A66,$H66,\"\")","v":""},{"$f":"IFERROR(SMALL(AK$2:AK$224,ROWS(AK$2:AK66)),\"\")","v":""},{"$f":"IF('Step 3 Product data'!X$17=$A66,$H66,\"\")","v":""},{"$f":"IFERROR(SMALL(AM$2:AM$224,ROWS(AM$2:AM66)),\"\")","v":""}]
["4,4-Methylenedianiline","CAS# 101779",null,null,null,null,null,{"$f":"ROWS($A$2:A67)","v":66},{"$f":"IF('Step 3 Product data'!I$17=$A67,$H67,\"\")","v":""},{"$f":"IFERROR(SMALL($I$2:$I$224,ROWS($I$2:I67)),\"\")","v":""},{"$f":"IF('Step 3 Product data'!J$17=$A67,$H67,\"\")","v":""},{"$f":"IFERROR(SMALL(K$2:K$224,ROWS(K$2:K67)),\"\")","v":""},{"$f":"IF('Step 3 Product data'!K$17=$A67,$H67,\"\")","v":""},{"$f":"IFERROR(SMALL(M$2:M$224,ROWS(M$2:M67)),\"\")","v":""},{"$f":"IF('Step 3 Product data'!L$17=$A67,$H67,\"\")","v":""},{"$f":"IFERROR(SMALL(O$2:O$224,ROWS(O$2:O67)),\"\")","v":""},{"$f":"IF('Step 3 Product data'!M$17=$A67,$H67,\"\")","v":""},{"$f":"IFERROR(SMALL(Q$2:Q$224,ROWS(Q$2:Q67)),\"\")","v":""},{"$f":"IF('Step 3 Product data'!N$17=$A67,$H67,\"\")","v":""},{"$f":"IFERROR(SMALL(S$2:S$224,ROWS(S$2:S67)),\"\")","v":""},{"$f":"IF('Step 3 Product data'!O$17=$A67,$H67,\"\")","v":""},{"$f":"IFERROR(SMALL(U$2:U$224,ROWS(U$2:U67)),\"\")","v":""},{"$f":"IF('Step 3 Product data'!P$17=$A67,$H67,\"\")","v":""},{"$f":"IFERROR(SMALL(W$2:W$224,ROWS(W$2:W67)),\"\")","v":""},{"$f":"IF('Step 3 Product data'!Q$17=$A67,$H67,\"\")","v":""},{"$f":"IFERROR(SMALL(Y$2:Y$224,ROWS(Y$2:Y67)),\"\")","v":""},{"$f":"IF('Step 3 Product data'!R$17=$A67,$H67,\"\")","v":""},{"$f":"IFERROR(SMALL(AA$2:AA$224,ROWS(AA$2:AA67)),\"\")","v":""},{"$f":"IF('Step 3 Product data'!S$17=$A67,$H67,\"\")","v":""},{"$f":"IFERROR(SMALL(AC$2:AC$224,ROWS(AC$2:AC67)),\"\")","v":""},{"$f":"IF('Step 3 Product data'!T$17=$A67,$H67,\"\")","v":""},{"$f":"IFERROR(SMALL(AE$2:AE$224,ROWS(AE$2:AE67)),\"\")","v":""},{"$f":"IF('Step 3 Product data'!U$17=$A67,$H67,\"\")","v":""},{"$f":"IFERROR(SMALL(AG$2:AG$224,ROWS(AG$2:AG67)),\"\")","v":""},{"$f":"IF('Step 3 Product data'!V$17=$A67,$H67,\"\")","v":""},{"$f":"IFERROR(SMALL(AI$2:AI$224,ROWS(AI$2:AI67)),\"\")","v":""},{"$f":"IF('Step 3 Product data'!W$17=$A67,$H67,\"\")","v":""},{"$f":"IFERROR(SMALL(AK$2:AK$224,ROWS(AK$2:AK67)),\"\")","v":""},{"$f":"IF('Step 3 Product data'!X$17=$A67,$H67,\"\")","v":""},{"$f":"IFERROR(SMALL(AM$2:AM$224,ROWS(AM$2:AM67)),\"\")","v":""}]
["4,6-Dinitro-o-cresol, and salts","CAS# 534521",null,null,null,null,null,{"$f":"ROWS($A$2:A68)","v":67},{"$f":"IF('Step 3 Product data'!I$17=$A68,$H68,\"\")","v":""},{"$f":"IFERROR(SMALL($I$2:$I$224,ROWS($I$2:I68)),\"\")","v":""},{"$f":"IF('Step 3 Product data'!J$17=$A68,$H68,\"\")","v":""},{"$f":"IFERROR(SMALL(K$2:K$224,ROWS(K$2:K68)),\"\")","v":""},{"$f":"IF('Step 3 Product data'!K$17=$A68,$H68,\"\")","v":""},{"$f":"IFERROR(SMALL(M$2:M$224,ROWS(M$2:M68)),\"\")","v":""},{"$f":"IF('Step 3 Product data'!L$17=$A68,$H68,\"\")","v":""},{"$f":"IFERROR(SMALL(O$2:O$224,ROWS(O$2:O68)),\"\")","v":""},{"$f":"IF('Step 3 Product data'!M$17=$A68,$H68,\"\")","v":""},{"$f":"IFERROR(SMALL(Q$2:Q$224,ROWS(Q$2:Q68)),\"\")","v":""},{"$f":"IF('Step 3 Product data'!N$17=$A68,$H68,\"\")","v":""},{"$f":"IFERROR(SMALL(S$2:S$224,ROWS(S$2:S68)),\"\")","v":""},{"$f":"IF('Step 3 Product data'!O$17=$A68,$H68,\"\")","v":""},{"$f":"IFERROR(SMALL(U$2:U$224,ROWS(U$2:U68)),\"\")","v":""},{"$f":"IF('Step 3 Product data'!P$17=$A68,$H68,\"\")","v":""},{"$f":"IFERROR(SMALL(W$2:W$224,ROWS(W$2:W68)),\"\")","v":""},{"$f":"IF('Step 3 Product data'!Q$17=$A68,$H68,\"\")","v":""},{"$f":"IFERROR(SMALL(Y$2:Y$224,ROWS(Y$2:Y68)),\"\")","v":""},{"$f":"IF('Step 3 Product data'!R$17=$A68,$H68,\"\")","v":""},{"$f":"IFERROR(SMALL(AA$2:AA$224,ROWS(AA$2:AA68)),\"\")","v":""},{"$f":"IF('Step 3 Product data'!S$17=$A68,$H68,\"\")","v":""},{"$f":"IFERROR(SMALL(AC$2:AC$224,ROWS(AC$2:AC68)),\"\")","v":""},{"$f":"IF('Step 3 Product data'!T$17=$A68,$H68,\"\")","v":""},{"$f":"IFERROR(SMALL(AE$2:AE$224,ROWS(AE$2:AE68)),\"\")","v":""},{"$f":"IF('Step 3 Product data'!U$17=$A68,$H68,\"\")","v":""},{"$f":"IFERROR(SMALL(AG$2:AG$224,ROWS(AG$2:AG68)),\"\")","v":""},{"$f":"IF('Step 3 Product data'!V$17=$A68,$H68,\"\")","v":""},{"$f":"IFERROR(SMALL(AI$2:AI$224,ROWS(AI$2:AI68)),\"\")","v":""},{"$f":"IF('Step 3 Product data'!W$17=$A68,$H68,\"\")","v":""},{"$f":"IFERROR(SMALL(AK$2:AK$224,ROWS(AK$2:AK68)),\"\")","v":""},{"$f":"IF('Step 3 Product data'!X$17=$A68,$H68,\"\")","v":""},{"$f":"IFERROR(SMALL(AM$2:AM$224,ROWS(AM$2:AM68)),\"\")","v":""}]
["4-Aminobiphenyl","CAS# 92671",null,null,null,null,null,{"$f":"ROWS($A$2:A69)","v":68},{"$f":"IF('Step 3 Product data'!I$17=$A69,$H69,\"\")","v":""},{"$f":"IFERROR(SMALL($I$2:$I$224,ROWS($I$2:I69)),\"\")","v":""},{"$f":"IF('Step 3 Product data'!J$17=$A69,$H69,\"\")","v":""},{"$f":"IFERROR(SMALL(K$2:K$224,ROWS(K$2:K69)),\"\")","v":""},{"$f":"IF('Step 3 Product data'!K$17=$A69,$H69,\"\")","v":""},{"$f":"IFERROR(SMALL(M$2:M$224,ROWS(M$2:M69)),\"\")","v":""},{"$f":"IF('Step 3 Product data'!L$17=$A69,$H69,\"\")","v":""},{"$f":"IFERROR(SMALL(O$2:O$224,ROWS(O$2:O69)),\"\")","v":""},{"$f":"IF('Step 3 Product data'!M$17=$A69,$H69,\"\")","v":""},{"$f":"IFERROR(SMALL(Q$2:Q$224,ROWS(Q$2:Q69)),\"\")","v":""},{"$f":"IF('Step 3 Product data'!N$17=$A69,$H69,\"\")","v":""},{"$f":"IFERROR(SMALL(S$2:S$224,ROWS(S$2:S69)),\"\")","v":""},{"$f":"IF('Step 3 Product data'!O$17=$A69,$H69,\"\")","v":""},{"$f":"IFERROR(SMALL(U$2:U$224,ROWS(U$2:U69)),\"\")","v":""},{"$f":"IF('Step 3 Product data'!P$17=$A69,$H69,\"\")","v":""},{"$f":"IFERROR(SMALL(W$2:W$224,ROWS(W$2:W69)),\"\")","v":""},{"$f":"IF('Step 3 Product data'!Q$17=$A69,$H69,\"\")","v":""},{"$f":"IFERROR(SMALL(Y$2:Y$224,ROWS(Y$2:Y69)),\"\")","v":""},{"$f":"IF('Step 3 Product data'!R$17=$A69,$H69,\"\")","v":""},{"$f":"IFERROR(SMALL(AA$2:AA$224,ROWS(AA$2:AA69)),\"\")","v":""},{"$f":"IF('Step 3 Product data'!S$17=$A69,$H69,\"\")","v":""},{"$f":"IFERROR(SMALL(AC$2:AC$224,ROWS(AC$2:AC69)),\"\")","v":""},{"$f":"IF('Step 3 Product data'!T$17=$A69,$H69,\"\")","v":""},{"$f":"IFERROR(SMALL(AE$2:AE$224,ROWS(AE$2:AE69)),\"\")","v":""},{"$f":"IF('Step 3 Product data'!U$17=$A69,$H69,\"\")","v":""},{"$f":"IFERROR(SMALL(AG$2:AG$224,ROWS(AG$2:AG69)),\"\")","v":""},{"$f":"IF('Step 3 Product data'!V$17=$A69,$H69,\"\")","v":""},{"$f":"IFERROR(SMALL(AI$2:AI$224,ROWS(AI$2:AI69)),\"\")","v":""},{"$f":"IF('Step 3 Product data'!W$17=$A69,$H69,\"\")","v":""},{"$f":"IFERROR(SMALL(AK$2:AK$224,ROWS(AK$2:AK69)),\"\")","v":""},{"$f":"IF('Step 3 Product data'!X$17=$A69,$H69,\"\")","v":""},{"$f":"IFERROR(SMALL(AM$2:AM$224,ROWS(AM$2:AM69)),\"\")","v":""}]
["4-Nitrobiphenyl","CAS# 92933",null,null,null,null,null,{"$f":"ROWS($A$2:A70)","v":69},{"$f":"IF('Step 3 Product data'!I$17=$A70,$H70,\"\")","v":""},{"$f":"IFERROR(SMALL($I$2:$I$224,ROWS($I$2:I70)),\"\")","v":""},{"$f":"IF('Step 3 Product data'!J$17=$A70,$H70,\"\")","v":""},{"$f":"IFERROR(SMALL(K$2:K$224,ROWS(K$2:K70)),\"\")","v":""},{"$f":"IF('Step 3 Product data'!K$17=$A70,$H70,\"\")","v":""},{"$f":"IFERROR(SMALL(M$2:M$224,ROWS(M$2:M70)),\"\")","v":""},{"$f":"IF('Step 3 Product data'!L$17=$A70,$H70,\"\")","v":""},{"$f":"IFERROR(SMALL(O$2:O$224,ROWS(O$2:O70)),\"\")","v":""},{"$f":"IF('Step 3 Product data'!M$17=$A70,$H70,\"\")","v":""},{"$f":"IFERROR(SMALL(Q$2:Q$224,ROWS(Q$2:Q70)),\"\")","v":""},{"$f":"IF('Step 3 Product data'!N$17=$A70,$H70,\"\")","v":""},{"$f":"IFERROR(SMALL(S$2:S$224,ROWS(S$2:S70)),\"\")","v":""},{"$f":"IF('Step 3 Product data'!O$17=$A70,$H70,\"\")","v":""},{"$f":"IFERROR(SMALL(U$2:U$224,ROWS(U$2:U70)),\"\")","v":""},{"$f":"IF('Step 3 Product data'!P$17=$A70,$H70,\"\")","v":""},{"$f":"IFERROR(SMALL(W$2:W$224,ROWS(W$2:W70)),\"\")","v":""},{"$f":"IF('Step 3 Product data'!Q$17=$A70,$H70,\"\")","v":""},{"$f":"IFERROR(SMALL(Y$2:Y$224,ROWS(Y$2:Y70)),\"\")","v":""},{"$f":"IF('Step 3 Product data'!R$17=$A70,$H70,\"\")","v":""},{"$f":"IFERROR(SMALL(AA$2:AA$224,ROWS(AA$2:AA70)),\"\")","v":""},{"$f":"IF('Step 3 Product data'!S$17=$A70,$H70,\"\")","v":""},{"$f":"IFERROR(SMALL(AC$2:AC$224,ROWS(AC$2:AC70)),\"\")","v":""},{"$f":"IF('Step 3 Product data'!T$17=$A70,$H70,\"\")","v":""},{"$f":"IFERROR(SMALL(AE$2:AE$224,ROWS(AE$2:AE70)),\"\")","v":""},{"$f":"IF('Step 3 Product data'!U$17=$A70,$H70,\"\")","v":""},{"$f":"IFERROR(SMALL(AG$2:AG$224,ROWS(AG$2:AG70)),\"\")","v":""},{"$f":"IF('Step 3 Product data'!V$17=$A70,$H70,\"\")","v":""},{"$f":"IFERROR(SMALL(AI$2:AI$224,ROWS(AI$2:AI70)),\"\")","v":""},{"$f":"IF('Step 3 Product data'!W$17=$A70,$H70,\"\")","v":""},{"$f":"IFERROR(SMALL(AK$2:AK$224,ROWS(AK$2:AK70)),\"\")","v":""},{"$f":"IF('Step 3 Product data'!X$17=$A70,$H70,\"\")","v":""},{"$f":"IFERROR(SMALL(AM$2:AM$224,ROWS(AM$2:AM70)),\"\")","v":""}]
["4-Nitrophenol","CAS# 100027",null,null,null,null,null,{"$f":"ROWS($A$2:A71)","v":70},{"$f":"IF('Step 3 Product data'!I$17=$A71,$H71,\"\")","v":""},{"$f":"IFERROR(SMALL($I$2:$I$224,ROWS($I$2:I71)),\"\")","v":""},{"$f":"IF('Step 3 Product data'!J$17=$A71,$H71,\"\")","v":""},{"$f":"IFERROR(SMALL(K$2:K$224,ROWS(K$2:K71)),\"\")","v":""},{"$f":"IF('Step 3 Product data'!K$17=$A71,$H71,\"\")","v":""},{"$f":"IFERROR(SMALL(M$2:M$224,ROWS(M$2:M71)),\"\")","v":""},{"$f":"IF('Step 3 Product data'!L$17=$A71,$H71,\"\")","v":""},{"$f":"IFERROR(SMALL(O$2:O$224,ROWS(O$2:O71)),\"\")","v":""},{"$f":"IF('Step 3 Product data'!M$17=$A71,$H71,\"\")","v":""},{"$f":"IFERROR(SMALL(Q$2:Q$224,ROWS(Q$2:Q71)),\"\")","v":""},{"$f":"IF('Step 3 Product data'!N$17=$A71,$H71,\"\")","v":""},{"$f":"IFERROR(SMALL(S$2:S$224,ROWS(S$2:S71)),\"\")","v":""},{"$f":"IF('Step 3 Product data'!O$17=$A71,$H71,\"\")","v":""},{"$f":"IFERROR(SMALL(U$2:U$224,ROWS(U$2:U71)),\"\")","v":""},{"$f":"IF('Step 3 Product data'!P$17=$A71,$H71,\"\")","v":""},{"$f":"IFERROR(SMALL(W$2:W$224,ROWS(W$2:W71)),\"\")","v":""},{"$f":"IF('Step 3 Product data'!Q$17=$A71,$H71,\"\")","v":""},{"$f":"IFERROR(SMALL(Y$2:Y$224,ROWS(Y$2:Y71)),\"\")","v":""},{"$f":"IF('Step 3 Product data'!R$17=$A71,$H71,\"\")","v":""},{"$f":"IFERROR(SMALL(AA$2:AA$224,ROWS(AA$2:AA71)),\"\")","v":""},{"$f":"IF('Step 3 Product data'!S$17=$A71,$H71,\"\")","v":""},{"$f":"IFERROR(SMALL(AC$2:AC$224,ROWS(AC$2:AC71)),\"\")","v":""},{"$f":"IF('Step 3 Product data'!T$17=$A71,$H71,\"\")","v":""},{"$f":"IFERROR(SMALL(AE$2:AE$224,ROWS(AE$2:AE71)),\"\")","v":""},{"$f":"IF('Step 3 Product data'!U$17=$A71,$H71,\"\")","v":""},{"$f":"IFERROR(SMALL(AG$2:AG$224,ROWS(AG$2:AG71)),\"\")","v":""},{"$f":"IF('Step 3 Product data'!V$17=$A71,$H71,\"\")","v":""},{"$f":"IFERROR(SMALL(AI$2:AI$224,ROWS(AI$2:AI71)),\"\")","v":""},{"$f":"IF('Step 3 Product data'!W$17=$A71,$H71,\"\")","v":""},{"$f":"IFERROR(SMALL(AK$2:AK$224,ROWS(AK$2:AK71)),\"\")","v":""},{"$f":"IF('Step 3 Product data'!X$17=$A71,$H71,\"\")","v":""},{"$f":"IFERROR(SMALL(AM$2:AM$224,ROWS(AM$2:AM71)),\"\")","v":""}]
["Acetaldehyde","CAS# 75070",null,null,null,null,null,{"$f":"ROWS($A$2:A72)","v":71},{"$f":"IF('Step 3 Product data'!I$17=$A72,$H72,\"\")","v":""},{"$f":"IFERROR(SMALL($I$2:$I$224,ROWS($I$2:I72)),\"\")","v":""},{"$f":"IF('Step 3 Product data'!J$17=$A72,$H72,\"\")","v":""},{"$f":"IFERROR(SMALL(K$2:K$224,ROWS(K$2:K72)),\"\")","v":""},{"$f":"IF('Step 3 Product data'!K$17=$A72,$H72,\"\")","v":""},{"$f":"IFERROR(SMALL(M$2:M$224,ROWS(M$2:M72)),\"\")","v":""},{"$f":"IF('Step 3 Product data'!L$17=$A72,$H72,\"\")","v":""},{"$f":"IFERROR(SMALL(O$2:O$224,ROWS(O$2:O72)),\"\")","v":""},{"$f":"IF('Step 3 Product data'!M$17=$A72,$H72,\"\")","v":""},{"$f":"IFERROR(SMALL(Q$2:Q$224,ROWS(Q$2:Q72)),\"\")","v":""},{"$f":"IF('Step 3 Product data'!N$17=$A72,$H72,\"\")","v":""},{"$f":"IFERROR(SMALL(S$2:S$224,ROWS(S$2:S72)),\"\")","v":""},{"$f":"IF('Step 3 Product data'!O$17=$A72,$H72,\"\")","v":""},{"$f":"IFERROR(SMALL(U$2:U$224,ROWS(U$2:U72)),\"\")","v":""},{"$f":"IF('Step 3 Product data'!P$17=$A72,$H72,\"\")","v":""},{"$f":"IFERROR(SMALL(W$2:W$224,ROWS(W$2:W72)),\"\")","v":""},{"$f":"IF('Step 3 Product data'!Q$17=$A72,$H72,\"\")","v":""},{"$f":"IFERROR(SMALL(Y$2:Y$224,ROWS(Y$2:Y72)),\"\")","v":""},{"$f":"IF('Step 3 Product data'!R$17=$A72,$H72,\"\")","v":""},{"$f":"IFERROR(SMALL(AA$2:AA$224,ROWS(AA$2:AA72)),\"\")","v":""},{"$f":"IF('Step 3 Product data'!S$17=$A72,$H72,\"\")","v":""},{"$f":"IFERROR(SMALL(AC$2:AC$224,ROWS(AC$2:AC72)),\"\")","v":""},{"$f":"IF('Step 3 Product data'!T$17=$A72,$H72,\"\")","v":""},{"$f":"IFERROR(SMALL(AE$2:AE$224,ROWS(AE$2:AE72)),\"\")","v":""},{"$f":"IF('Step 3 Product data'!U$17=$A72,$H72,\"\")","v":""},{"$f":"IFERROR(SMALL(AG$2:AG$224,ROWS(AG$2:AG72)),\"\")","v":""},{"$f":"IF('Step 3 Product data'!V$17=$A72,$H72,\"\")","v":""},{"$f":"IFERROR(SMALL(AI$2:AI$224,ROWS(AI$2:AI72)),\"\")","v":""},{"$f":"IF('Step 3 Product data'!W$17=$A72,$H72,\"\")","v":""},{"$f":"IFERROR(SMALL(AK$2:AK$224,ROWS(AK$2:AK72)),\"\")","v":""},{"$f":"IF('Step 3 Product data'!X$17=$A72,$H72,\"\")","v":""},{"$f":"IFERROR(SMALL(AM$2:AM$224,ROWS(AM$2:AM72)),\"\")","v":""}]
["Acetamide","CAS# 60355",null,null,null,null,null,{"$f":"ROWS($A$2:A73)","v":72},{"$f":"IF('Step 3 Product data'!I$17=$A73,$H73,\"\")","v":""},{"$f":"IFERROR(SMALL($I$2:$I$224,ROWS($I$2:I73)),\"\")","v":""},{"$f":"IF('Step 3 Product data'!J$17=$A73,$H73,\"\")","v":""},{"$f":"IFERROR(SMALL(K$2:K$224,ROWS(K$2:K73)),\"\")","v":""},{"$f":"IF('Step 3 Product data'!K$17=$A73,$H73,\"\")","v":""},{"$f":"IFERROR(SMALL(M$2:M$224,ROWS(M$2:M73)),\"\")","v":""},{"$f":"IF('Step 3 Product data'!L$17=$A73,$H73,\"\")","v":""},{"$f":"IFERROR(SMALL(O$2:O$224,ROWS(O$2:O73)),\"\")","v":""},{"$f":"IF('Step 3 Product data'!M$17=$A73,$H73,\"\")","v":""},{"$f":"IFERROR(SMALL(Q$2:Q$224,ROWS(Q$2:Q73)),\"\")","v":""},{"$f":"IF('Step 3 Product data'!N$17=$A73,$H73,\"\")","v":""},{"$f":"IFERROR(SMALL(S$2:S$224,ROWS(S$2:S73)),\"\")","v":""},{"$f":"IF('Step 3 Product data'!O$17=$A73,$H73,\"\")","v":""},{"$f":"IFERROR(SMALL(U$2:U$224,ROWS(U$2:U73)),\"\")","v":""},{"$f":"IF('Step 3 Product data'!P$17=$A73,$H73,\"\")","v":""},{"$f":"IFERROR(SMALL(W$2:W$224,ROWS(W$2:W73)),\"\")","v":""},{"$f":"IF('Step 3 Product data'!Q$17=$A73,$H73,\"\")","v":""},{"$f":"IFERROR(SMALL(Y$2:Y$224,ROWS(Y$2:Y73)),\"\")","v":""},{"$f":"IF('Step 3 Product data'!R$17=$A73,$H73,\"\")","v":""},{"$f":"IFERROR(SMALL(AA$2:AA$224,ROWS(AA$2:AA73)),\"\")","v":""},{"$f":"IF('Step 3 Product data'!S$17=$A73,$H73,\"\")","v":""},{"$f":"IFERROR(SMALL(AC$2:AC$224,ROWS(AC$2:AC73)),\"\")","v":""},{"$f":"IF('Step 3 Product data'!T$17=$A73,$H73,\"\")","v":""},{"$f":"IFERROR(SMALL(AE$2:AE$224,ROWS(AE$2:AE73)),\"\")","v":""},{"$f":"IF('Step 3 Product data'!U$17=$A73,$H73,\"\")","v":""},{"$f":"IFERROR(SMALL(AG$2:AG$224,ROWS(AG$2:AG73)),\"\")","v":""},{"$f":"IF('Step 3 Product data'!V$17=$A73,$H73,\"\")","v":""},{"$f":"IFERROR(SMALL(AI$2:AI$224,ROWS(AI$2:AI73)),\"\")","v":""},{"$f":"IF('Step 3 Product data'!W$17=$A73,$H73,\"\")","v":""},{"$f":"IFERROR(SMALL(AK$2:AK$224,ROWS(AK$2:AK73)),\"\")","v":""},{"$f":"IF('Step 3 Product data'!X$17=$A73,$H73,\"\")","v":""},{"$f":"IFERROR(SMALL(AM$2:AM$224,ROWS(AM$2:AM73)),\"\")","v":""}]
["Acetonitrile","CAS# 75058",null,null,null,null,null,{"$f":"ROWS($A$2:A74)","v":73},{"$f":"IF('Step 3 Product data'!I$17=$A74,$H74,\"\")","v":""},{"$f":"IFERROR(SMALL($I$2:$I$224,ROWS($I$2:I74)),\"\")","v":""},{"$f":"IF('Step 3 Product data'!J$17=$A74,$H74,\"\")","v":""},{"$f":"IFERROR(SMALL(K$2:K$224,ROWS(K$2:K74)),\"\")","v":""},{"$f":"IF('Step 3 Product data'!K$17=$A74,$H74,\"\")","v":""},{"$f":"IFERROR(SMALL(M$2:M$224,ROWS(M$2:M74)),\"\")","v":""},{"$f":"IF('Step 3 Product data'!L$17=$A74,$H74,\"\")","v":""},{"$f":"IFERROR(SMALL(O$2:O$224,ROWS(O$2:O74)),\"\")","v":""},{"$f":"IF('Step 3 Product data'!M$17=$A74,$H74,\"\")","v":""},{"$f":"IFERROR(SMALL(Q$2:Q$224,ROWS(Q$2:Q74)),\"\")","v":""},{"$f":"IF('Step 3 Product data'!N$17=$A74,$H74,\"\")","v":""},{"$f":"IFERROR(SMALL(S$2:S$224,ROWS(S$2:S74)),\"\")","v":""},{"$f":"IF('Step 3 Product data'!O$17=$A74,$H74,\"\")","v":""},{"$f":"IFERROR(SMALL(U$2:U$224,ROWS(U$2:U74)),\"\")","v":""},{"$f":"IF('Step 3 Product data'!P$17=$A74,$H74,\"\")","v":""},{"$f":"IFERROR(SMALL(W$2:W$224,ROWS(W$2:W74)),\"\")","v":""},{"$f":"IF('Step 3 Product data'!Q$17=$A74,$H74,\"\")","v":""},{"$f":"IFERROR(SMALL(Y$2:Y$224,ROWS(Y$2:Y74)),\"\")","v":""},{"$f":"IF('Step 3 Product data'!R$17=$A74,$H74,\"\")","v":""},{"$f":"IFERROR(SMALL(AA$2:AA$224,ROWS(AA$2:AA74)),\"\")","v":""},{"$f":"IF('Step 3 Product data'!S$17=$A74,$H74,\"\")","v":""},{"$f":"IFERROR(SMALL(AC$2:AC$224,ROWS(AC$2:AC74)),\"\")","v":""},{"$f":"IF('Step 3 Product data'!T$17=$A74,$H74,\"\")","v":""},{"$f":"IFERROR(SMALL(AE$2:AE$224,ROWS(AE$2:AE74)),\"\")","v":""},{"$f":"IF('Step 3 Product data'!U$17=$A74,$H74,\"\")","v":""},{"$f":"IFERROR(SMALL(AG$2:AG$224,ROWS(AG$2:AG74)),\"\")","v":""},{"$f":"IF('Step 3 Product data'!V$17=$A74,$H74,\"\")","v":""},{"$f":"IFERROR(SMALL(AI$2:AI$224,ROWS(AI$2:AI74)),\"\")","v":""},{"$f":"IF('Step 3 Product data'!W$17=$A74,$H74,\"\")","v":""},{"$f":"IFERROR(SMALL(AK$2:AK$224,ROWS(AK$2:AK74)),\"\")","v":""},{"$f":"IF('Step 3 Product data'!X$17=$A74,$H74,\"\")","v":""},{"$f":"IFERROR(SMALL(AM$2:AM$224,ROWS(AM$2:AM74)),\"\")","v":""}]
["Acetophenone","CAS# 98862",null,null,null,null,null,{"$f":"ROWS($A$2:A75)","v":74},{"$f":"IF('Step 3 Product data'!I$17=$A75,$H75,\"\")","v":""},{"$f":"IFERROR(SMALL($I$2:$I$224,ROWS($I$2:I75)),\"\")","v":""},{"$f":"IF('Step 3 Product data'!J$17=$A75,$H75,\"\")","v":""},{"$f":"IFERROR(SMALL(K$2:K$224,ROWS(K$2:K75)),\"\")","v":""},{"$f":"IF('Step 3 Product data'!K$17=$A75,$H75,\"\")","v":""},{"$f":"IFERROR(SMALL(M$2:M$224,ROWS(M$2:M75)),\"\")","v":""},{"$f":"IF('Step 3 Product data'!L$17=$A75,$H75,\"\")","v":""},{"$f":"IFERROR(SMALL(O$2:O$224,ROWS(O$2:O75)),\"\")","v":""},{"$f":"IF('Step 3 Product data'!M$17=$A75,$H75,\"\")","v":""},{"$f":"IFERROR(SMALL(Q$2:Q$224,ROWS(Q$2:Q75)),\"\")","v":""},{"$f":"IF('Step 3 Product data'!N$17=$A75,$H75,\"\")","v":""},{"$f":"IFERROR(SMALL(S$2:S$224,ROWS(S$2:S75)),\"\")","v":""},{"$f":"IF('Step 3 Product data'!O$17=$A75,$H75,\"\")","v":""},{"$f":"IFERROR(SMALL(U$2:U$224,ROWS(U$2:U75)),\"\")","v":""},{"$f":"IF('Step 3 Product data'!P$17=$A75,$H75,\"\")","v":""},{"$f":"IFERROR(SMALL(W$2:W$224,ROWS(W$2:W75)),\"\")","v":""},{"$f":"IF('Step 3 Product data'!Q$17=$A75,$H75,\"\")","v":""},{"$f":"IFERROR(SMALL(Y$2:Y$224,ROWS(Y$2:Y75)),\"\")","v":""},{"$f":"IF('Step 3 Product data'!R$17=$A75,$H75,\"\")","v":""},{"$f":"IFERROR(SMALL(AA$2:AA$224,ROWS(AA$2:AA75)),\"\")","v":""},{"$f":"IF('Step 3 Product data'!S$17=$A75,$H75,\"\")","v":""},{"$f":"IFERROR(SMALL(AC$2:AC$224,ROWS(AC$2:AC75)),\"\")","v":""},{"$f":"IF('Step 3 Product data'!T$17=$A75,$H75,\"\")","v":""},{"$f":"IFERROR(SMALL(AE$2:AE$224,ROWS(AE$2:AE75)),\"\")","v":""},{"$f":"IF('Step 3 Product data'!U$17=$A75,$H75,\"\")","v":""},{"$f":"IFERROR(SMALL(AG$2:AG$224,ROWS(AG$2:AG75)),\"\")","v":""},{"$f":"IF('Step 3 Product data'!V$17=$A75,$H75,\"\")","v":""},{"$f":"IFERROR(SMALL(AI$2:AI$224,ROWS(AI$2:AI75)),\"\")","v":""},{"$f":"IF('Step 3 Product data'!W$17=$A75,$H75,\"\")","v":""},{"$f":"IFERROR(SMALL(AK$2:AK$224,ROWS(AK$2:AK75)),\"\")","v":""},{"$f":"IF('Step 3 Product data'!X$17=$A75,$H75,\"\")","v":""},{"$f":"IFERROR(SMALL(AM$2:AM$224,ROWS(AM$2:AM75)),\"\")","v":""}]
["Acrolein","CAS# 107028",null,null,null,null,null,{"$f":"ROWS($A$2:A76)","v":75},{"$f":"IF('Step 3 Product data'!I$17=$A76,$H76,\"\")","v":""},{"$f":"IFERROR(SMALL($I$2:$I$224,ROWS($I$2:I76)),\"\")","v":""},{"$f":"IF('Step 3 Product data'!J$17=$A76,$H76,\"\")","v":""},{"$f":"IFERROR(SMALL(K$2:K$224,ROWS(K$2:K76)),\"\")","v":""},{"$f":"IF('Step 3 Product data'!K$17=$A76,$H76,\"\")","v":""},{"$f":"IFERROR(SMALL(M$2:M$224,ROWS(M$2:M76)),\"\")","v":""},{"$f":"IF('Step 3 Product data'!L$17=$A76,$H76,\"\")","v":""},{"$f":"IFERROR(SMALL(O$2:O$224,ROWS(O$2:O76)),\"\")","v":""},{"$f":"IF('Step 3 Product data'!M$17=$A76,$H76,\"\")","v":""},{"$f":"IFERROR(SMALL(Q$2:Q$224,ROWS(Q$2:Q76)),\"\")","v":""},{"$f":"IF('Step 3 Product data'!N$17=$A76,$H76,\"\")","v":""},{"$f":"IFERROR(SMALL(S$2:S$224,ROWS(S$2:S76)),\"\")","v":""},{"$f":"IF('Step 3 Product data'!O$17=$A76,$H76,\"\")","v":""},{"$f":"IFERROR(SMALL(U$2:U$224,ROWS(U$2:U76)),\"\")","v":""},{"$f":"IF('Step 3 Product data'!P$17=$A76,$H76,\"\")","v":""},{"$f":"IFERROR(SMALL(W$2:W$224,ROWS(W$2:W76)),\"\")","v":""},{"$f":"IF('Step 3 Product data'!Q$17=$A76,$H76,\"\")","v":""},{"$f":"IFERROR(SMALL(Y$2:Y$224,ROWS(Y$2:Y76)),\"\")","v":""},{"$f":"IF('Step 3 Product data'!R$17=$A76,$H76,\"\")","v":""},{"$f":"IFERROR(SMALL(AA$2:AA$224,ROWS(AA$2:AA76)),\"\")","v":""},{"$f":"IF('Step 3 Product data'!S$17=$A76,$H76,\"\")","v":""},{"$f":"IFERROR(SMALL(AC$2:AC$224,ROWS(AC$2:AC76)),\"\")","v":""},{"$f":"IF('Step 3 Product data'!T$17=$A76,$H76,\"\")","v":""},{"$f":"IFERROR(SMALL(AE$2:AE$224,ROWS(AE$2:AE76)),\"\")","v":""},{"$f":"IF('Step 3 Product data'!U$17=$A76,$H76,\"\")","v":""},{"$f":"IFERROR(SMALL(AG$2:AG$224,ROWS(AG$2:AG76)),\"\")","v":""},{"$f":"IF('Step 3 Product data'!V$17=$A76,$H76,\"\")","v":""},{"$f":"IFERROR(SMALL(AI$2:AI$224,ROWS(AI$2:AI76)),\"\")","v":""},{"$f":"IF('Step 3 Product data'!W$17=$A76,$H76,\"\")","v":""},{"$f":"IFERROR(SMALL(AK$2:AK$224,ROWS(AK$2:AK76)),\"\")","v":""},{"$f":"IF('Step 3 Product data'!X$17=$A76,$H76,\"\")","v":""},{"$f":"IFERROR(SMALL(AM$2:AM$224,ROWS(AM$2:AM76)),\"\")","v":""}]
["Acrylamide","CAS# 79061",null,null,null,null,null,{"$f":"ROWS($A$2:A77)","v":76},{"$f":"IF('Step 3 Product data'!I$17=$A77,$H77,\"\")","v":""},{"$f":"IFERROR(SMALL($I$2:$I$224,ROWS($I$2:I77)),\"\")","v":""},{"$f":"IF('Step 3 Product data'!J$17=$A77,$H77,\"\")","v":""},{"$f":"IFERROR(SMALL(K$2:K$224,ROWS(K$2:K77)),\"\")","v":""},{"$f":"IF('Step 3 Product data'!K$17=$A77,$H77,\"\")","v":""},{"$f":"IFERROR(SMALL(M$2:M$224,ROWS(M$2:M77)),\"\")","v":""},{"$f":"IF('Step 3 Product data'!L$17=$A77,$H77,\"\")","v":""},{"$f":"IFERROR(SMALL(O$2:O$224,ROWS(O$2:O77)),\"\")","v":""},{"$f":"IF('Step 3 Product data'!M$17=$A77,$H77,\"\")","v":""},{"$f":"IFERROR(SMALL(Q$2:Q$224,ROWS(Q$2:Q77)),\"\")","v":""},{"$f":"IF('Step 3 Product data'!N$17=$A77,$H77,\"\")","v":""},{"$f":"IFERROR(SMALL(S$2:S$224,ROWS(S$2:S77)),\"\")","v":""},{"$f":"IF('Step 3 Product data'!O$17=$A77,$H77,\"\")","v":""},{"$f":"IFERROR(SMALL(U$2:U$224,ROWS(U$2:U77)),\"\")","v":""},{"$f":"IF('Step 3 Product data'!P$17=$A77,$H77,\"\")","v":""},{"$f":"IFERROR(SMALL(W$2:W$224,ROWS(W$2:W77)),\"\")","v":""},{"$f":"IF('Step 3 Product data'!Q$17=$A77,$H77,\"\")","v":""},{"$f":"IFERROR(SMALL(Y$2:Y$224,ROWS(Y$2:Y77)),\"\")","v":""},{"$f":"IF('Step 3 Product data'!R$17=$A77,$H77,\"\")","v":""},{"$f":"IFERROR(SMALL(AA$2:AA$224,ROWS(AA$2:AA77)),\"\")","v":""},{"$f":"IF('Step 3 Product data'!S$17=$A77,$H77,\"\")","v":""},{"$f":"IFERROR(SMALL(AC$2:AC$224,ROWS(AC$2:AC77)),\"\")","v":""},{"$f":"IF('Step 3 Product data'!T$17=$A77,$H77,\"\")","v":""},{"$f":"IFERROR(SMALL(AE$2:AE$224,ROWS(AE$2:AE77)),\"\")","v":""},{"$f":"IF('Step 3 Product data'!U$17=$A77,$H77,\"\")","v":""},{"$f":"IFERROR(SMALL(AG$2:AG$224,ROWS(AG$2:AG77)),\"\")","v":""},{"$f":"IF('Step 3 Product data'!V$17=$A77,$H77,\"\")","v":""},{"$f":"IFERROR(SMALL(AI$2:AI$224,ROWS(AI$2:AI77)),\"\")","v":""},{"$f":"IF('Step 3 Product data'!W$17=$A77,$H77,\"\")","v":""},{"$f":"IFERROR(SMALL(AK$2:AK$224,ROWS(AK$2:AK77)),\"\")","v":""},{"$f":"IF('Step 3 Product data'!X$17=$A77,$H77,\"\")","v":""},{"$f":"IFERROR(SMALL(AM$2:AM$224,ROWS(AM$2:AM77)),\"\")","v":""}]
["Acrylic Acid","CAS# 79107",null,null,null,null,null,{"$f":"ROWS($A$2:A78)","v":77},{"$f":"IF('Step 3 Product data'!I$17=$A78,$H78,\"\")","v":""},{"$f":"IFERROR(SMALL($I$2:$I$224,ROWS($I$2:I78)),\"\")","v":""},{"$f":"IF('Step 3 Product data'!J$17=$A78,$H78,\"\")","v":""},{"$f":"IFERROR(SMALL(K$2:K$224,ROWS(K$2:K78)),\"\")","v":""},{"$f":"IF('Step 3 Product data'!K$17=$A78,$H78,\"\")","v":""},{"$f":"IFERROR(SMALL(M$2:M$224,ROWS(M$2:M78)),\"\")","v":""},{"$f":"IF('Step 3 Product data'!L$17=$A78,$H78,\"\")","v":""},{"$f":"IFERROR(SMALL(O$2:O$224,ROWS(O$2:O78)),\"\")","v":""},{"$f":"IF('Step 3 Product data'!M$17=$A78,$H78,\"\")","v":""},{"$f":"IFERROR(SMALL(Q$2:Q$224,ROWS(Q$2:Q78)),\"\")","v":""},{"$f":"IF('Step 3 Product data'!N$17=$A78,$H78,\"\")","v":""},{"$f":"IFERROR(SMALL(S$2:S$224,ROWS(S$2:S78)),\"\")","v":""},{"$f":"IF('Step 3 Product data'!O$17=$A78,$H78,\"\")","v":""},{"$f":"IFERROR(SMALL(U$2:U$224,ROWS(U$2:U78)),\"\")","v":""},{"$f":"IF('Step 3 Product data'!P$17=$A78,$H78,\"\")","v":""},{"$f":"IFERROR(SMALL(W$2:W$224,ROWS(W$2:W78)),\"\")","v":""},{"$f":"IF('Step 3 Product data'!Q$17=$A78,$H78,\"\")","v":""},{"$f":"IFERROR(SMALL(Y$2:Y$224,ROWS(Y$2:Y78)),\"\")","v":""},{"$f":"IF('Step 3 Product data'!R$17=$A78,$H78,\"\")","v":""},{"$f":"IFERROR(SMALL(AA$2:AA$224,ROWS(AA$2:AA78)),\"\")","v":""},{"$f":"IF('Step 3 Product data'!S$17=$A78,$H78,\"\")","v":""},{"$f":"IFERROR(SMALL(AC$2:AC$224,ROWS(AC$2:AC78)),\"\")","v":""},{"$f":"IF('Step 3 Product data'!T$17=$A78,$H78,\"\")","v":""},{"$f":"IFERROR(SMALL(AE$2:AE$224,ROWS(AE$2:AE78)),\"\")","v":""},{"$f":"IF('Step 3 Product data'!U$17=$A78,$H78,\"\")","v":""},{"$f":"IFERROR(SMALL(AG$2:AG$224,ROWS(AG$2:AG78)),\"\")","v":""},{"$f":"IF('Step 3 Product data'!V$17=$A78,$H78,\"\")","v":""},{"$f":"IFERROR(SMALL(AI$2:AI$224,ROWS(AI$2:AI78)),\"\")","v":""},{"$f":"IF('Step 3 Product data'!W$17=$A78,$H78,\"\")","v":""},{"$f":"IFERROR(SMALL(AK$2:AK$224,ROWS(AK$2:AK78)),\"\")","v":""},{"$f":"IF('Step 3 Product data'!X$17=$A78,$H78,\"\")","v":""},{"$f":"IFERROR(SMALL(AM$2:AM$224,ROWS(AM$2:AM78)),\"\")","v":""}]
["Acrylonitrile","CAS# 107131",null,null,null,null,null,{"$f":"ROWS($A$2:A79)","v":78},{"$f":"IF('Step 3 Product data'!I$17=$A79,$H79,\"\")","v":""},{"$f":"IFERROR(SMALL($I$2:$I$224,ROWS($I$2:I79)),\"\")","v":""},{"$f":"IF('Step 3 Product data'!J$17=$A79,$H79,\"\")","v":""},{"$f":"IFERROR(SMALL(K$2:K$224,ROWS(K$2:K79)),\"\")","v":""},{"$f":"IF('Step 3 Product data'!K$17=$A79,$H79,\"\")","v":""},{"$f":"IFERROR(SMALL(M$2:M$224,ROWS(M$2:M79)),\"\")","v":""},{"$f":"IF('Step 3 Product data'!L$17=$A79,$H79,\"\")","v":""},{"$f":"IFERROR(SMALL(O$2:O$224,ROWS(O$2:O79)),\"\")","v":""},{"$f":"IF('Step 3 Product data'!M$17=$A79,$H79,\"\")","v":""},{"$f":"IFERROR(SMALL(Q$2:Q$224,ROWS(Q$2:Q79)),\"\")","v":""},{"$f":"IF('Step 3 Product data'!N$17=$A79,$H79,\"\")","v":""},{"$f":"IFERROR(SMALL(S$2:S$224,ROWS(S$2:S79)),\"\")","v":""},{"$f":"IF('Step 3 Product data'!O$17=$A79,$H79,\"\")","v":""},{"$f":"IFERROR(SMALL(U$2:U$224,ROWS(U$2:U79)),\"\")","v":""},{"$f":"IF('Step 3 Product data'!P$17=$A79,$H79,\"\")","v":""},{"$f":"IFERROR(SMALL(W$2:W$224,ROWS(W$2:W79)),\"\")","v":""},{"$f":"IF('Step 3 Product data'!Q$17=$A79,$H79,\"\")","v":""},{"$f":"IFERROR(SMALL(Y$2:Y$224,ROWS(Y$2:Y79)),\"\")","v":""},{"$f":"IF('Step 3 Product data'!R$17=$A79,$H79,\"\")","v":""},{"$f":"IFERROR(SMALL(AA$2:AA$224,ROWS(AA$2:AA79)),\"\")","v":""},{"$f":"IF('Step 3 Product data'!S$17=$A79,$H79,\"\")","v":""},{"$f":"IFERROR(SMALL(AC$2:AC$224,ROWS(AC$2:AC79)),\"\")","v":""},{"$f":"IF('Step 3 Product data'!T$17=$A79,$H79,\"\")","v":""},{"$f":"IFERROR(SMALL(AE$2:AE$224,ROWS(AE$2:AE79)),\"\")","v":""},{"$f":"IF('Step 3 Product data'!U$17=$A79,$H79,\"\")","v":""},{"$f":"IFERROR(SMALL(AG$2:AG$224,ROWS(AG$2:AG79)),\"\")","v":""},{"$f":"IF('Step 3 Product data'!V$17=$A79,$H79,\"\")","v":""},{"$f":"IFERROR(SMALL(AI$2:AI$224,ROWS(AI$2:AI79)),\"\")","v":""},{"$f":"IF('Step 3 Product data'!W$17=$A79,$H79,\"\")","v":""},{"$f":"IFERROR(SMALL(AK$2:AK$224,ROWS(AK$2:AK79)),\"\")","v":""},{"$f":"IF('Step 3 Product data'!X$17=$A79,$H79,\"\")","v":""},{"$f":"IFERROR(SMALL(AM$2:AM$224,ROWS(AM$2:AM79)),\"\")","v":""}]
["Allyl chloride","CAS# 107051",null,null,null,null,null,{"$f":"ROWS($A$2:A80)","v":79},{"$f":"IF('Step 3 Product data'!I$17=$A80,$H80,\"\")","v":""},{"$f":"IFERROR(SMALL($I$2:$I$224,ROWS($I$2:I80)),\"\")","v":""},{"$f":"IF('Step 3 Product data'!J$17=$A80,$H80,\"\")","v":""},{"$f":"IFERROR(SMALL(K$2:K$224,ROWS(K$2:K80)),\"\")","v":""},{"$f":"IF('Step 3 Product data'!K$17=$A80,$H80,\"\")","v":""},{"$f":"IFERROR(SMALL(M$2:M$224,ROWS(M$2:M80)),\"\")","v":""},{"$f":"IF('Step 3 Product data'!L$17=$A80,$H80,\"\")","v":""},{"$f":"IFERROR(SMALL(O$2:O$224,ROWS(O$2:O80)),\"\")","v":""},{"$f":"IF('Step 3 Product data'!M$17=$A80,$H80,\"\")","v":""},{"$f":"IFERROR(SMALL(Q$2:Q$224,ROWS(Q$2:Q80)),\"\")","v":""},{"$f":"IF('Step 3 Product data'!N$17=$A80,$H80,\"\")","v":""},{"$f":"IFERROR(SMALL(S$2:S$224,ROWS(S$2:S80)),\"\")","v":""},{"$f":"IF('Step 3 Product data'!O$17=$A80,$H80,\"\")","v":""},{"$f":"IFERROR(SMALL(U$2:U$224,ROWS(U$2:U80)),\"\")","v":""},{"$f":"IF('Step 3 Product data'!P$17=$A80,$H80,\"\")","v":""},{"$f":"IFERROR(SMALL(W$2:W$224,ROWS(W$2:W80)),\"\")","v":""},{"$f":"IF('Step 3 Product data'!Q$17=$A80,$H80,\"\")","v":""},{"$f":"IFERROR(SMALL(Y$2:Y$224,ROWS(Y$2:Y80)),\"\")","v":""},{"$f":"IF('Step 3 Product data'!R$17=$A80,$H80,\"\")","v":""},{"$f":"IFERROR(SMALL(AA$2:AA$224,ROWS(AA$2:AA80)),\"\")","v":""},{"$f":"IF('Step 3 Product data'!S$17=$A80,$H80,\"\")","v":""},{"$f":"IFERROR(SMALL(AC$2:AC$224,ROWS(AC$2:AC80)),\"\")","v":""},{"$f":"IF('Step 3 Product data'!T$17=$A80,$H80,\"\")","v":""},{"$f":"IFERROR(SMALL(AE$2:AE$224,ROWS(AE$2:AE80)),\"\")","v":""},{"$f":"IF('Step 3 Product data'!U$17=$A80,$H80,\"\")","v":""},{"$f":"IFERROR(SMALL(AG$2:AG$224,ROWS(AG$2:AG80)),\"\")","v":""},{"$f":"IF('Step 3 Product data'!V$17=$A80,$H80,\"\")","v":""},{"$f":"IFERROR(SMALL(AI$2:AI$224,ROWS(AI$2:AI80)),\"\")","v":""},{"$f":"IF('Step 3 Product data'!W$17=$A80,$H80,\"\")","v":""},{"$f":"IFERROR(SMALL(AK$2:AK$224,ROWS(AK$2:AK80)),\"\")","v":""},{"$f":"IF('Step 3 Product data'!X$17=$A80,$H80,\"\")","v":""},{"$f":"IFERROR(SMALL(AM$2:AM$224,ROWS(AM$2:AM80)),\"\")","v":""}]
["Aniline","CAS# 62533",null,null,null,null,null,{"$f":"ROWS($A$2:A81)","v":80},{"$f":"IF('Step 3 Product data'!I$17=$A81,$H81,\"\")","v":""},{"$f":"IFERROR(SMALL($I$2:$I$224,ROWS($I$2:I81)),\"\")","v":""},{"$f":"IF('Step 3 Product data'!J$17=$A81,$H81,\"\")","v":""},{"$f":"IFERROR(SMALL(K$2:K$224,ROWS(K$2:K81)),\"\")","v":""},{"$f":"IF('Step 3 Product data'!K$17=$A81,$H81,\"\")","v":""},{"$f":"IFERROR(SMALL(M$2:M$224,ROWS(M$2:M81)),\"\")","v":""},{"$f":"IF('Step 3 Product data'!L$17=$A81,$H81,\"\")","v":""},{"$f":"IFERROR(SMALL(O$2:O$224,ROWS(O$2:O81)),\"\")","v":""},{"$f":"IF('Step 3 Product data'!M$17=$A81,$H81,\"\")","v":""},{"$f":"IFERROR(SMALL(Q$2:Q$224,ROWS(Q$2:Q81)),\"\")","v":""},{"$f":"IF('Step 3 Product data'!N$17=$A81,$H81,\"\")","v":""},{"$f":"IFERROR(SMALL(S$2:S$224,ROWS(S$2:S81)),\"\")","v":""},{"$f":"IF('Step 3 Product data'!O$17=$A81,$H81,\"\")","v":""},{"$f":"IFERROR(SMALL(U$2:U$224,ROWS(U$2:U81)),\"\")","v":""},{"$f":"IF('Step 3 Product data'!P$17=$A81,$H81,\"\")","v":""},{"$f":"IFERROR(SMALL(W$2:W$224,ROWS(W$2:W81)),\"\")","v":""},{"$f":"IF('Step 3 Product data'!Q$17=$A81,$H81,\"\")","v":""},{"$f":"IFERROR(SMALL(Y$2:Y$224,ROWS(Y$2:Y81)),\"\")","v":""},{"$f":"IF('Step 3 Product data'!R$17=$A81,$H81,\"\")","v":""},{"$f":"IFERROR(SMALL(AA$2:AA$224,ROWS(AA$2:AA81)),\"\")","v":""},{"$f":"IF('Step 3 Product data'!S$17=$A81,$H81,\"\")","v":""},{"$f":"IFERROR(SMALL(AC$2:AC$224,ROWS(AC$2:AC81)),\"\")","v":""},{"$f":"IF('Step 3 Product data'!T$17=$A81,$H81,\"\")","v":""},{"$f":"IFERROR(SMALL(AE$2:AE$224,ROWS(AE$2:AE81)),\"\")","v":""},{"$f":"IF('Step 3 Product data'!U$17=$A81,$H81,\"\")","v":""},{"$f":"IFERROR(SMALL(AG$2:AG$224,ROWS(AG$2:AG81)),\"\")","v":""},{"$f":"IF('Step 3 Product data'!V$17=$A81,$H81,\"\")","v":""},{"$f":"IFERROR(SMALL(AI$2:AI$224,ROWS(AI$2:AI81)),\"\")","v":""},{"$f":"IF('Step 3 Product data'!W$17=$A81,$H81,\"\")","v":""},{"$f":"IFERROR(SMALL(AK$2:AK$224,ROWS(AK$2:AK81)),\"\")","v":""},{"$f":"IF('Step 3 Product data'!X$17=$A81,$H81,\"\")","v":""},{"$f":"IFERROR(SMALL(AM$2:AM$224,ROWS(AM$2:AM81)),\"\")","v":""}]
["Asbestos","CAS# 1332214",null,null,null,null,null,{"$f":"ROWS($A$2:A82)","v":81},{"$f":"IF('Step 3 Product data'!I$17=$A82,$H82,\"\")","v":""},{"$f":"IFERROR(SMALL($I$2:$I$224,ROWS($I$2:I82)),\"\")","v":""},{"$f":"IF('Step 3 Product data'!J$17=$A82,$H82,\"\")","v":""},{"$f":"IFERROR(SMALL(K$2:K$224,ROWS(K$2:K82)),\"\")","v":""},{"$f":"IF('Step 3 Product data'!K$17=$A82,$H82,\"\")","v":""},{"$f":"IFERROR(SMALL(M$2:M$224,ROWS(M$2:M82)),\"\")","v":""},{"$f":"IF('Step 3 Product data'!L$17=$A82,$H82,\"\")","v":""},{"$f":"IFERROR(SMALL(O$2:O$224,ROWS(O$2:O82)),\"\")","v":""},{"$f":"IF('Step 3 Product data'!M$17=$A82,$H82,\"\")","v":""},{"$f":"IFERROR(SMALL(Q$2:Q$224,ROWS(Q$2:Q82)),\"\")","v":""},{"$f":"IF('Step 3 Product data'!N$17=$A82,$H82,\"\")","v":""},{"$f":"IFERROR(SMALL(S$2:S$224,ROWS(S$2:S82)),\"\")","v":""},{"$f":"IF('Step 3 Product data'!O$17=$A82,$H82,\"\")","v":""},{"$f":"IFERROR(SMALL(U$2:U$224,ROWS(U$2:U82)),\"\")","v":""},{"$f":"IF('Step 3 Product data'!P$17=$A82,$H82,\"\")","v":""},{"$f":"IFERROR(SMALL(W$2:W$224,ROWS(W$2:W82)),\"\")","v":""},{"$f":"IF('Step 3 Product data'!Q$17=$A82,$H82,\"\")","v":""},{"$f":"IFERROR(SMALL(Y$2:Y$224,ROWS(Y$2:Y82)),\"\")","v":""},{"$f":"IF('Step 3 Product data'!R$17=$A82,$H82,\"\")","v":""},{"$f":"IFERROR(SMALL(AA$2:AA$224,ROWS(AA$2:AA82)),\"\")","v":""},{"$f":"IF('Step 3 Product data'!S$17=$A82,$H82,\"\")","v":""},{"$f":"IFERROR(SMALL(AC$2:AC$224,ROWS(AC$2:AC82)),\"\")","v":""},{"$f":"IF('Step 3 Product data'!T$17=$A82,$H82,\"\")","v":""},{"$f":"IFERROR(SMALL(AE$2:AE$224,ROWS(AE$2:AE82)),\"\")","v":""},{"$f":"IF('Step 3 Product data'!U$17=$A82,$H82,\"\")","v":""},{"$f":"IFERROR(SMALL(AG$2:AG$224,ROWS(AG$2:AG82)),\"\")","v":""},{"$f":"IF('Step 3 Product data'!V$17=$A82,$H82,\"\")","v":""},{"$f":"IFERROR(SMALL(AI$2:AI$224,ROWS(AI$2:AI82)),\"\")","v":""},{"$f":"IF('Step 3 Product data'!W$17=$A82,$H82,\"\")","v":""},{"$f":"IFERROR(SMALL(AK$2:AK$224,ROWS(AK$2:AK82)),\"\")","v":""},{"$f":"IF('Step 3 Product data'!X$17=$A82,$H82,\"\")","v":""},{"$f":"IFERROR(SMALL(AM$2:AM$224,ROWS(AM$2:AM82)),\"\")","v":""}]
["Benzene","CAS# 71432",null,null,null,null,null,{"$f":"ROWS($A$2:A83)","v":82},{"$f":"IF('Step 3 Product data'!I$17=$A83,$H83,\"\")","v":""},{"$f":"IFERROR(SMALL($I$2:$I$224,ROWS($I$2:I83)),\"\")","v":""},{"$f":"IF('Step 3 Product data'!J$17=$A83,$H83,\"\")","v":""},{"$f":"IFERROR(SMALL(K$2:K$224,ROWS(K$2:K83)),\"\")","v":""},{"$f":"IF('Step 3 Product data'!K$17=$A83,$H83,\"\")","v":""},{"$f":"IFERROR(SMALL(M$2:M$224,ROWS(M$2:M83)),\"\")","v":""},{"$f":"IF('Step 3 Product data'!L$17=$A83,$H83,\"\")","v":""},{"$f":"IFERROR(SMALL(O$2:O$224,ROWS(O$2:O83)),\"\")","v":""},{"$f":"IF('Step 3 Product data'!M$17=$A83,$H83,\"\")","v":""},{"$f":"IFERROR(SMALL(Q$2:Q$224,ROWS(Q$2:Q83)),\"\")","v":""},{"$f":"IF('Step 3 Product data'!N$17=$A83,$H83,\"\")","v":""},{"$f":"IFERROR(SMALL(S$2:S$224,ROWS(S$2:S83)),\"\")","v":""},{"$f":"IF('Step 3 Product data'!O$17=$A83,$H83,\"\")","v":""},{"$f":"IFERROR(SMALL(U$2:U$224,ROWS(U$2:U83)),\"\")","v":""},{"$f":"IF('Step 3 Product data'!P$17=$A83,$H83,\"\")","v":""},{"$f":"IFERROR(SMALL(W$2:W$224,ROWS(W$2:W83)),\"\")","v":""},{"$f":"IF('Step 3 Product data'!Q$17=$A83,$H83,\"\")","v":""},{"$f":"IFERROR(SMALL(Y$2:Y$224,ROWS(Y$2:Y83)),\"\")","v":""},{"$f":"IF('Step 3 Product data'!R$17=$A83,$H83,\"\")","v":""},{"$f":"IFERROR(SMALL(AA$2:AA$224,ROWS(AA$2:AA83)),\"\")","v":""},{"$f":"IF('Step 3 Product data'!S$17=$A83,$H83,\"\")","v":""},{"$f":"IFERROR(SMALL(AC$2:AC$224,ROWS(AC$2:AC83)),\"\")","v":""},{"$f":"IF('Step 3 Product data'!T$17=$A83,$H83,\"\")","v":""},{"$f":"IFERROR(SMALL(AE$2:AE$224,ROWS(AE$2:AE83)),\"\")","v":""},{"$f":"IF('Step 3 Product data'!U$17=$A83,$H83,\"\")","v":""},{"$f":"IFERROR(SMALL(AG$2:AG$224,ROWS(AG$2:AG83)),\"\")","v":""},{"$f":"IF('Step 3 Product data'!V$17=$A83,$H83,\"\")","v":""},{"$f":"IFERROR(SMALL(AI$2:AI$224,ROWS(AI$2:AI83)),\"\")","v":""},{"$f":"IF('Step 3 Product data'!W$17=$A83,$H83,\"\")","v":""},{"$f":"IFERROR(SMALL(AK$2:AK$224,ROWS(AK$2:AK83)),\"\")","v":""},{"$f":"IF('Step 3 Product data'!X$17=$A83,$H83,\"\")","v":""},{"$f":"IFERROR(SMALL(AM$2:AM$224,ROWS(AM$2:AM83)),\"\")","v":""}]
["Benzidine","CAS# 92875",null,null,null,null,null,{"$f":"ROWS($A$2:A84)","v":83},{"$f":"IF('Step 3 Product data'!I$17=$A84,$H84,\"\")","v":""},{"$f":"IFERROR(SMALL($I$2:$I$224,ROWS($I$2:I84)),\"\")","v":""},{"$f":"IF('Step 3 Product data'!J$17=$A84,$H84,\"\")","v":""},{"$f":"IFERROR(SMALL(K$2:K$224,ROWS(K$2:K84)),\"\")","v":""},{"$f":"IF('Step 3 Product data'!K$17=$A84,$H84,\"\")","v":""},{"$f":"IFERROR(SMALL(M$2:M$224,ROWS(M$2:M84)),\"\")","v":""},{"$f":"IF('Step 3 Product data'!L$17=$A84,$H84,\"\")","v":""},{"$f":"IFERROR(SMALL(O$2:O$224,ROWS(O$2:O84)),\"\")","v":""},{"$f":"IF('Step 3 Product data'!M$17=$A84,$H84,\"\")","v":""},{"$f":"IFERROR(SMALL(Q$2:Q$224,ROWS(Q$2:Q84)),\"\")","v":""},{"$f":"IF('Step 3 Product data'!N$17=$A84,$H84,\"\")","v":""},{"$f":"IFERROR(SMALL(S$2:S$224,ROWS(S$2:S84)),\"\")","v":""},{"$f":"IF('Step 3 Product data'!O$17=$A84,$H84,\"\")","v":""},{"$f":"IFERROR(SMALL(U$2:U$224,ROWS(U$2:U84)),\"\")","v":""},{"$f":"IF('Step 3 Product data'!P$17=$A84,$H84,\"\")","v":""},{"$f":"IFERROR(SMALL(W$2:W$224,ROWS(W$2:W84)),\"\")","v":""},{"$f":"IF('Step 3 Product data'!Q$17=$A84,$H84,\"\")","v":""},{"$f":"IFERROR(SMALL(Y$2:Y$224,ROWS(Y$2:Y84)),\"\")","v":""},{"$f":"IF('Step 3 Product data'!R$17=$A84,$H84,\"\")","v":""},{"$f":"IFERROR(SMALL(AA$2:AA$224,ROWS(AA$2:AA84)),\"\")","v":""},{"$f":"IF('Step 3 Product data'!S$17=$A84,$H84,\"\")","v":""},{"$f":"IFERROR(SMALL(AC$2:AC$224,ROWS(AC$2:AC84)),\"\")","v":""},{"$f":"IF('Step 3 Product data'!T$17=$A84,$H84,\"\")","v":""},{"$f":"IFERROR(SMALL(AE$2:AE$224,ROWS(AE$2:AE84)),\"\")","v":""},{"$f":"IF('Step 3 Product data'!U$17=$A84,$H84,\"\")","v":""},{"$f":"IFERROR(SMALL(AG$2:AG$224,ROWS(AG$2:AG84)),\"\")","v":""},{"$f":"IF('Step 3 Product data'!V$17=$A84,$H84,\"\")","v":""},{"$f":"IFERROR(SMALL(AI$2:AI$224,ROWS(AI$2:AI84)),\"\")","v":""},{"$f":"IF('Step 3 Product data'!W$17=$A84,$H84,\"\")","v":""},{"$f":"IFERROR(SMALL(AK$2:AK$224,ROWS(AK$2:AK84)),\"\")","v":""},{"$f":"IF('Step 3 Product data'!X$17=$A84,$H84,\"\")","v":""},{"$f":"IFERROR(SMALL(AM$2:AM$224,ROWS(AM$2:AM84)),\"\")","v":""}]
["Benzotrichloride","CAS# 98077",null,null,null,null,null,{"$f":"ROWS($A$2:A85)","v":84},{"$f":"IF('Step 3 Product data'!I$17=$A85,$H85,\"\")","v":""},{"$f":"IFERROR(SMALL($I$2:$I$224,ROWS($I$2:I85)),\"\")","v":""},{"$f":"IF('Step 3 Product data'!J$17=$A85,$H85,\"\")","v":""},{"$f":"IFERROR(SMALL(K$2:K$224,ROWS(K$2:K85)),\"\")","v":""},{"$f":"IF('Step 3 Product data'!K$17=$A85,$H85,\"\")","v":""},{"$f":"IFERROR(SMALL(M$2:M$224,ROWS(M$2:M85)),\"\")","v":""},{"$f":"IF('Step 3 Product data'!L$17=$A85,$H85,\"\")","v":""},{"$f":"IFERROR(SMALL(O$2:O$224,ROWS(O$2:O85)),\"\")","v":""},{"$f":"IF('Step 3 Product data'!M$17=$A85,$H85,\"\")","v":""},{"$f":"IFERROR(SMALL(Q$2:Q$224,ROWS(Q$2:Q85)),\"\")","v":""},{"$f":"IF('Step 3 Product data'!N$17=$A85,$H85,\"\")","v":""},{"$f":"IFERROR(SMALL(S$2:S$224,ROWS(S$2:S85)),\"\")","v":""},{"$f":"IF('Step 3 Product data'!O$17=$A85,$H85,\"\")","v":""},{"$f":"IFERROR(SMALL(U$2:U$224,ROWS(U$2:U85)),\"\")","v":""},{"$f":"IF('Step 3 Product data'!P$17=$A85,$H85,\"\")","v":""},{"$f":"IFERROR(SMALL(W$2:W$224,ROWS(W$2:W85)),\"\")","v":""},{"$f":"IF('Step 3 Product data'!Q$17=$A85,$H85,\"\")","v":""},{"$f":"IFERROR(SMALL(Y$2:Y$224,ROWS(Y$2:Y85)),\"\")","v":""},{"$f":"IF('Step 3 Product data'!R$17=$A85,$H85,\"\")","v":""},{"$f":"IFERROR(SMALL(AA$2:AA$224,ROWS(AA$2:AA85)),\"\")","v":""},{"$f":"IF('Step 3 Product data'!S$17=$A85,$H85,\"\")","v":""},{"$f":"IFERROR(SMALL(AC$2:AC$224,ROWS(AC$2:AC85)),\"\")","v":""},{"$f":"IF('Step 3 Product data'!T$17=$A85,$H85,\"\")","v":""},{"$f":"IFERROR(SMALL(AE$2:AE$224,ROWS(AE$2:AE85)),\"\")","v":""},{"$f":"IF('Step 3 Product data'!U$17=$A85,$H85,\"\")","v":""},{"$f":"IFERROR(SMALL(AG$2:AG$224,ROWS(AG$2:AG85)),\"\")","v":""},{"$f":"IF('Step 3 Product data'!V$17=$A85,$H85,\"\")","v":""},{"$f":"IFERROR(SMALL(AI$2:AI$224,ROWS(AI$2:AI85)),\"\")","v":""},{"$f":"IF('Step 3 Product data'!W$17=$A85,$H85,\"\")","v":""},{"$f":"IFERROR(SMALL(AK$2:AK$224,ROWS(AK$2:AK85)),\"\")","v":""},{"$f":"IF('Step 3 Product data'!X$17=$A85,$H85,\"\")","v":""},{"$f":"IFERROR(SMALL(AM$2:AM$224,ROWS(AM$2:AM85)),\"\")","v":""}]
["Benzyl chloride","CAS# 100447",null,null,null,null,null,{"$f":"ROWS($A$2:A86)","v":85},{"$f":"IF('Step 3 Product data'!I$17=$A86,$H86,\"\")","v":""},{"$f":"IFERROR(SMALL($I$2:$I$224,ROWS($I$2:I86)),\"\")","v":""},{"$f":"IF('Step 3 Product data'!J$17=$A86,$H86,\"\")","v":""},{"$f":"IFERROR(SMALL(K$2:K$224,ROWS(K$2:K86)),\"\")","v":""},{"$f":"IF('Step 3 Product data'!K$17=$A86,$H86,\"\")","v":""},{"$f":"IFERROR(SMALL(M$2:M$224,ROWS(M$2:M86)),\"\")","v":""},{"$f":"IF('Step 3 Product data'!L$17=$A86,$H86,\"\")","v":""},{"$f":"IFERROR(SMALL(O$2:O$224,ROWS(O$2:O86)),\"\")","v":""},{"$f":"IF('Step 3 Product data'!M$17=$A86,$H86,\"\")","v":""},{"$f":"IFERROR(SMALL(Q$2:Q$224,ROWS(Q$2:Q86)),\"\")","v":""},{"$f":"IF('Step 3 Product data'!N$17=$A86,$H86,\"\")","v":""},{"$f":"IFERROR(SMALL(S$2:S$224,ROWS(S$2:S86)),\"\")","v":""},{"$f":"IF('Step 3 Product data'!O$17=$A86,$H86,\"\")","v":""},{"$f":"IFERROR(SMALL(U$2:U$224,ROWS(U$2:U86)),\"\")","v":""},{"$f":"IF('Step 3 Product data'!P$17=$A86,$H86,\"\")","v":""},{"$f":"IFERROR(SMALL(W$2:W$224,ROWS(W$2:W86)),\"\")","v":""},{"$f":"IF('Step 3 Product data'!Q$17=$A86,$H86,\"\")","v":""},{"$f":"IFERROR(SMALL(Y$2:Y$224,ROWS(Y$2:Y86)),\"\")","v":""},{"$f":"IF('Step 3 Product data'!R$17=$A86,$H86,\"\")","v":""},{"$f":"IFERROR(SMALL(AA$2:AA$224,ROWS(AA$2:AA86)),\"\")","v":""},{"$f":"IF('Step 3 Product data'!S$17=$A86,$H86,\"\")","v":""},{"$f":"IFERROR(SMALL(AC$2:AC$224,ROWS(AC$2:AC86)),\"\")","v":""},{"$f":"IF('Step 3 Product data'!T$17=$A86,$H86,\"\")","v":""},{"$f":"IFERROR(SMALL(AE$2:AE$224,ROWS(AE$2:AE86)),\"\")","v":""},{"$f":"IF('Step 3 Product data'!U$17=$A86,$H86,\"\")","v":""},{"$f":"IFERROR(SMALL(AG$2:AG$224,ROWS(AG$2:AG86)),\"\")","v":""},{"$f":"IF('Step 3 Product data'!V$17=$A86,$H86,\"\")","v":""},{"$f":"IFERROR(SMALL(AI$2:AI$224,ROWS(AI$2:AI86)),\"\")","v":""},{"$f":"IF('Step 3 Product data'!W$17=$A86,$H86,\"\")","v":""},{"$f":"IFERROR(SMALL(AK$2:AK$224,ROWS(AK$2:AK86)),\"\")","v":""},{"$f":"IF('Step 3 Product data'!X$17=$A86,$H86,\"\")","v":""},{"$f":"IFERROR(SMALL(AM$2:AM$224,ROWS(AM$2:AM86)),\"\")","v":""}]
["beta-Propiolactone","CAS# 57578",null,null,null,null,null,{"$f":"ROWS($A$2:A87)","v":86},{"$f":"IF('Step 3 Product data'!I$17=$A87,$H87,\"\")","v":""},{"$f":"IFERROR(SMALL($I$2:$I$224,ROWS($I$2:I87)),\"\")","v":""},{"$f":"IF('Step 3 Product data'!J$17=$A87,$H87,\"\")","v":""},{"$f":"IFERROR(SMALL(K$2:K$224,ROWS(K$2:K87)),\"\")","v":""},{"$f":"IF('Step 3 Product data'!K$17=$A87,$H87,\"\")","v":""},{"$f":"IFERROR(SMALL(M$2:M$224,ROWS(M$2:M87)),\"\")","v":""},{"$f":"IF('Step 3 Product data'!L$17=$A87,$H87,\"\")","v":""},{"$f":"IFERROR(SMALL(O$2:O$224,ROWS(O$2:O87)),\"\")","v":""},{"$f":"IF('Step 3 Product data'!M$17=$A87,$H87,\"\")","v":""},{"$f":"IFERROR(SMALL(Q$2:Q$224,ROWS(Q$2:Q87)),\"\")","v":""},{"$f":"IF('Step 3 Product data'!N$17=$A87,$H87,\"\")","v":""},{"$f":"IFERROR(SMALL(S$2:S$224,ROWS(S$2:S87)),\"\")","v":""},{"$f":"IF('Step 3 Product data'!O$17=$A87,$H87,\"\")","v":""},{"$f":"IFERROR(SMALL(U$2:U$224,ROWS(U$2:U87)),\"\")","v":""},{"$f":"IF('Step 3 Product data'!P$17=$A87,$H87,\"\")","v":""},{"$f":"IFERROR(SMALL(W$2:W$224,ROWS(W$2:W87)),\"\")","v":""},{"$f":"IF('Step 3 Product data'!Q$17=$A87,$H87,\"\")","v":""},{"$f":"IFERROR(SMALL(Y$2:Y$224,ROWS(Y$2:Y87)),\"\")","v":""},{"$f":"IF('Step 3 Product data'!R$17=$A87,$H87,\"\")","v":""},{"$f":"IFERROR(SMALL(AA$2:AA$224,ROWS(AA$2:AA87)),\"\")","v":""},{"$f":"IF('Step 3 Product data'!S$17=$A87,$H87,\"\")","v":""},{"$f":"IFERROR(SMALL(AC$2:AC$224,ROWS(AC$2:AC87)),\"\")","v":""},{"$f":"IF('Step 3 Product data'!T$17=$A87,$H87,\"\")","v":""},{"$f":"IFERROR(SMALL(AE$2:AE$224,ROWS(AE$2:AE87)),\"\")","v":""},{"$f":"IF('Step 3 Product data'!U$17=$A87,$H87,\"\")","v":""},{"$f":"IFERROR(SMALL(AG$2:AG$224,ROWS(AG$2:AG87)),\"\")","v":""},{"$f":"IF('Step 3 Product data'!V$17=$A87,$H87,\"\")","v":""},{"$f":"IFERROR(SMALL(AI$2:AI$224,ROWS(AI$2:AI87)),\"\")","v":""},{"$f":"IF('Step 3 Product data'!W$17=$A87,$H87,\"\")","v":""},{"$f":"IFERROR(SMALL(AK$2:AK$224,ROWS(AK$2:AK87)),\"\")","v":""},{"$f":"IF('Step 3 Product data'!X$17=$A87,$H87,\"\")","v":""},{"$f":"IFERROR(SMALL(AM$2:AM$224,ROWS(AM$2:AM87)),\"\")","v":""}]
["Biphenyl","CAS# 92524",null,null,null,null,null,{"$f":"ROWS($A$2:A88)","v":87},{"$f":"IF('Step 3 Product data'!I$17=$A88,$H88,\"\")","v":""},{"$f":"IFERROR(SMALL($I$2:$I$224,ROWS($I$2:I88)),\"\")","v":""},{"$f":"IF('Step 3 Product data'!J$17=$A88,$H88,\"\")","v":""},{"$f":"IFERROR(SMALL(K$2:K$224,ROWS(K$2:K88)),\"\")","v":""},{"$f":"IF('Step 3 Product data'!K$17=$A88,$H88,\"\")","v":""},{"$f":"IFERROR(SMALL(M$2:M$224,ROWS(M$2:M88)),\"\")","v":""},{"$f":"IF('Step 3 Product data'!L$17=$A88,$H88,\"\")","v":""},{"$f":"IFERROR(SMALL(O$2:O$224,ROWS(O$2:O88)),\"\")","v":""},{"$f":"IF('Step 3 Product data'!M$17=$A88,$H88,\"\")","v":""},{"$f":"IFERROR(SMALL(Q$2:Q$224,ROWS(Q$2:Q88)),\"\")","v":""},{"$f":"IF('Step 3 Product data'!N$17=$A88,$H88,\"\")","v":""},{"$f":"IFERROR(SMALL(S$2:S$224,ROWS(S$2:S88)),\"\")","v":""},{"$f":"IF('Step 3 Product data'!O$17=$A88,$H88,\"\")","v":""},{"$f":"IFERROR(SMALL(U$2:U$224,ROWS(U$2:U88)),\"\")","v":""},{"$f":"IF('Step 3 Product data'!P$17=$A88,$H88,\"\")","v":""},{"$f":"IFERROR(SMALL(W$2:W$224,ROWS(W$2:W88)),\"\")","v":""},{"$f":"IF('Step 3 Product data'!Q$17=$A88,$H88,\"\")","v":""},{"$f":"IFERROR(SMALL(Y$2:Y$224,ROWS(Y$2:Y88)),\"\")","v":""},{"$f":"IF('Step 3 Product data'!R$17=$A88,$H88,\"\")","v":""},{"$f":"IFERROR(SMALL(AA$2:AA$224,ROWS(AA$2:AA88)),\"\")","v":""},{"$f":"IF('Step 3 Product data'!S$17=$A88,$H88,\"\")","v":""},{"$f":"IFERROR(SMALL(AC$2:AC$224,ROWS(AC$2:AC88)),\"\")","v":""},{"$f":"IF('Step 3 Product data'!T$17=$A88,$H88,\"\")","v":""},{"$f":"IFERROR(SMALL(AE$2:AE$224,ROWS(AE$2:AE88)),\"\")","v":""},{"$f":"IF('Step 3 Product data'!U$17=$A88,$H88,\"\")","v":""},{"$f":"IFERROR(SMALL(AG$2:AG$224,ROWS(AG$2:AG88)),\"\")","v":""},{"$f":"IF('Step 3 Product data'!V$17=$A88,$H88,\"\")","v":""},{"$f":"IFERROR(SMALL(AI$2:AI$224,ROWS(AI$2:AI88)),\"\")","v":""},{"$f":"IF('Step 3 Product data'!W$17=$A88,$H88,\"\")","v":""},{"$f":"IFERROR(SMALL(AK$2:AK$224,ROWS(AK$2:AK88)),\"\")","v":""},{"$f":"IF('Step 3 Product data'!X$17=$A88,$H88,\"\")","v":""},{"$f":"IFERROR(SMALL(AM$2:AM$224,ROWS(AM$2:AM88)),\"\")","v":""}]
["Bis (2-ethylhexyl) phthalate (DEHP)","CAS# 117817",null,null,null,null,null,{"$f":"ROWS($A$2:A89)","v":88},{"$f":"IF('Step 3 Product data'!I$17=$A89,$H89,\"\")","v":""},{"$f":"IFERROR(SMALL($I$2:$I$224,ROWS($I$2:I89)),\"\")","v":""},{"$f":"IF('Step 3 Product data'!J$17=$A89,$H89,\"\")","v":""},{"$f":"IFERROR(SMALL(K$2:K$224,ROWS(K$2:K89)),\"\")","v":""},{"$f":"IF('Step 3 Product data'!K$17=$A89,$H89,\"\")","v":""},{"$f":"IFERROR(SMALL(M$2:M$224,ROWS(M$2:M89)),\"\")","v":""},{"$f":"IF('Step 3 Product data'!L$17=$A89,$H89,\"\")","v":""},{"$f":"IFERROR(SMALL(O$2:O$224,ROWS(O$2:O89)),\"\")","v":""},{"$f":"IF('Step 3 Product data'!M$17=$A89,$H89,\"\")","v":""},{"$f":"IFERROR(SMALL(Q$2:Q$224,ROWS(Q$2:Q89)),\"\")","v":""},{"$f":"IF('Step 3 Product data'!N$17=$A89,$H89,\"\")","v":""},{"$f":"IFERROR(SMALL(S$2:S$224,ROWS(S$2:S89)),\"\")","v":""},{"$f":"IF('Step 3 Product data'!O$17=$A89,$H89,\"\")","v":""},{"$f":"IFERROR(SMALL(U$2:U$224,ROWS(U$2:U89)),\"\")","v":""},{"$f":"IF('Step 3 Product data'!P$17=$A89,$H89,\"\")","v":""},{"$f":"IFERROR(SMALL(W$2:W$224,ROWS(W$2:W89)),\"\")","v":""},{"$f":"IF('Step 3 Product data'!Q$17=$A89,$H89,\"\")","v":""},{"$f":"IFERROR(SMALL(Y$2:Y$224,ROWS(Y$2:Y89)),\"\")","v":""},{"$f":"IF('Step 3 Product data'!R$17=$A89,$H89,\"\")","v":""},{"$f":"IFERROR(SMALL(AA$2:AA$224,ROWS(AA$2:AA89)),\"\")","v":""},{"$f":"IF('Step 3 Product data'!S$17=$A89,$H89,\"\")","v":""},{"$f":"IFERROR(SMALL(AC$2:AC$224,ROWS(AC$2:AC89)),\"\")","v":""},{"$f":"IF('Step 3 Product data'!T$17=$A89,$H89,\"\")","v":""},{"$f":"IFERROR(SMALL(AE$2:AE$224,ROWS(AE$2:AE89)),\"\")","v":""},{"$f":"IF('Step 3 Product data'!U$17=$A89,$H89,\"\")","v":""},{"$f":"IFERROR(SMALL(AG$2:AG$224,ROWS(AG$2:AG89)),\"\")","v":""},{"$f":"IF('Step 3 Product data'!V$17=$A89,$H89,\"\")","v":""},{"$f":"IFERROR(SMALL(AI$2:AI$224,ROWS(AI$2:AI89)),\"\")","v":""},{"$f":"IF('Step 3 Product data'!W$17=$A89,$H89,\"\")","v":""},{"$f":"IFERROR(SMALL(AK$2:AK$224,ROWS(AK$2:AK89)),\"\")","v":""},{"$f":"IF('Step 3 Product data'!X$17=$A89,$H89,\"\")","v":""},{"$f":"IFERROR(SMALL(AM$2:AM$224,ROWS(AM$2:AM89)),\"\")","v":""}]
["Bis (chloromethyl) ether","CAS# 542881",null,null,null,null,null,{"$f":"ROWS($A$2:A90)","v":89},{"$f":"IF('Step 3 Product data'!I$17=$A90,$H90,\"\")","v":""},{"$f":"IFERROR(SMALL($I$2:$I$224,ROWS($I$2:I90)),\"\")","v":""},{"$f":"IF('Step 3 Product data'!J$17=$A90,$H90,\"\")","v":""},{"$f":"IFERROR(SMALL(K$2:K$224,ROWS(K$2:K90)),\"\")","v":""},{"$f":"IF('Step 3 Product data'!K$17=$A90,$H90,\"\")","v":""},{"$f":"IFERROR(SMALL(M$2:M$224,ROWS(M$2:M90)),\"\")","v":""},{"$f":"IF('Step 3 Product data'!L$17=$A90,$H90,\"\")","v":""},{"$f":"IFERROR(SMALL(O$2:O$224,ROWS(O$2:O90)),\"\")","v":""},{"$f":"IF('Step 3 Product data'!M$17=$A90,$H90,\"\")","v":""},{"$f":"IFERROR(SMALL(Q$2:Q$224,ROWS(Q$2:Q90)),\"\")","v":""},{"$f":"IF('Step 3 Product data'!N$17=$A90,$H90,\"\")","v":""},{"$f":"IFERROR(SMALL(S$2:S$224,ROWS(S$2:S90)),\"\")","v":""},{"$f":"IF('Step 3 Product data'!O$17=$A90,$H90,\"\")","v":""},{"$f":"IFERROR(SMALL(U$2:U$224,ROWS(U$2:U90)),\"\")","v":""},{"$f":"IF('Step 3 Product data'!P$17=$A90,$H90,\"\")","v":""},{"$f":"IFERROR(SMALL(W$2:W$224,ROWS(W$2:W90)),\"\")","v":""},{"$f":"IF('Step 3 Product data'!Q$17=$A90,$H90,\"\")","v":""},{"$f":"IFERROR(SMALL(Y$2:Y$224,ROWS(Y$2:Y90)),\"\")","v":""},{"$f":"IF('Step 3 Product data'!R$17=$A90,$H90,\"\")","v":""},{"$f":"IFERROR(SMALL(AA$2:AA$224,ROWS(AA$2:AA90)),\"\")","v":""},{"$f":"IF('Step 3 Product data'!S$17=$A90,$H90,\"\")","v":""},{"$f":"IFERROR(SMALL(AC$2:AC$224,ROWS(AC$2:AC90)),\"\")","v":""},{"$f":"IF('Step 3 Product data'!T$17=$A90,$H90,\"\")","v":""},{"$f":"IFERROR(SMALL(AE$2:AE$224,ROWS(AE$2:AE90)),\"\")","v":""},{"$f":"IF('Step 3 Product data'!U$17=$A90,$H90,\"\")","v":""},{"$f":"IFERROR(SMALL(AG$2:AG$224,ROWS(AG$2:AG90)),\"\")","v":""},{"$f":"IF('Step 3 Product data'!V$17=$A90,$H90,\"\")","v":""},{"$f":"IFERROR(SMALL(AI$2:AI$224,ROWS(AI$2:AI90)),\"\")","v":""},{"$f":"IF('Step 3 Product data'!W$17=$A90,$H90,\"\")","v":""},{"$f":"IFERROR(SMALL(AK$2:AK$224,ROWS(AK$2:AK90)),\"\")","v":""},{"$f":"IF('Step 3 Product data'!X$17=$A90,$H90,\"\")","v":""},{"$f":"IFERROR(SMALL(AM$2:AM$224,ROWS(AM$2:AM90)),\"\")","v":""}]
["Bromoform","CAS# 75252",null,null,null,null,null,{"$f":"ROWS($A$2:A91)","v":90},{"$f":"IF('Step 3 Product data'!I$17=$A91,$H91,\"\")","v":""},{"$f":"IFERROR(SMALL($I$2:$I$224,ROWS($I$2:I91)),\"\")","v":""},{"$f":"IF('Step 3 Product data'!J$17=$A91,$H91,\"\")","v":""},{"$f":"IFERROR(SMALL(K$2:K$224,ROWS(K$2:K91)),\"\")","v":""},{"$f":"IF('Step 3 Product data'!K$17=$A91,$H91,\"\")","v":""},{"$f":"IFERROR(SMALL(M$2:M$224,ROWS(M$2:M91)),\"\")","v":""},{"$f":"IF('Step 3 Product data'!L$17=$A91,$H91,\"\")","v":""},{"$f":"IFERROR(SMALL(O$2:O$224,ROWS(O$2:O91)),\"\")","v":""},{"$f":"IF('Step 3 Product data'!M$17=$A91,$H91,\"\")","v":""},{"$f":"IFERROR(SMALL(Q$2:Q$224,ROWS(Q$2:Q91)),\"\")","v":""},{"$f":"IF('Step 3 Product data'!N$17=$A91,$H91,\"\")","v":""},{"$f":"IFERROR(SMALL(S$2:S$224,ROWS(S$2:S91)),\"\")","v":""},{"$f":"IF('Step 3 Product data'!O$17=$A91,$H91,\"\")","v":""},{"$f":"IFERROR(SMALL(U$2:U$224,ROWS(U$2:U91)),\"\")","v":""},{"$f":"IF('Step 3 Product data'!P$17=$A91,$H91,\"\")","v":""},{"$f":"IFERROR(SMALL(W$2:W$224,ROWS(W$2:W91)),\"\")","v":""},{"$f":"IF('Step 3 Product data'!Q$17=$A91,$H91,\"\")","v":""},{"$f":"IFERROR(SMALL(Y$2:Y$224,ROWS(Y$2:Y91)),\"\")","v":""},{"$f":"IF('Step 3 Product data'!R$17=$A91,$H91,\"\")","v":""},{"$f":"IFERROR(SMALL(AA$2:AA$224,ROWS(AA$2:AA91)),\"\")","v":""},{"$f":"IF('Step 3 Product data'!S$17=$A91,$H91,\"\")","v":""},{"$f":"IFERROR(SMALL(AC$2:AC$224,ROWS(AC$2:AC91)),\"\")","v":""},{"$f":"IF('Step 3 Product data'!T$17=$A91,$H91,\"\")","v":""},{"$f":"IFERROR(SMALL(AE$2:AE$224,ROWS(AE$2:AE91)),\"\")","v":""},{"$f":"IF('Step 3 Product data'!U$17=$A91,$H91,\"\")","v":""},{"$f":"IFERROR(SMALL(AG$2:AG$224,ROWS(AG$2:AG91)),\"\")","v":""},{"$f":"IF('Step 3 Product data'!V$17=$A91,$H91,\"\")","v":""},{"$f":"IFERROR(SMALL(AI$2:AI$224,ROWS(AI$2:AI91)),\"\")","v":""},{"$f":"IF('Step 3 Product data'!W$17=$A91,$H91,\"\")","v":""},{"$f":"IFERROR(SMALL(AK$2:AK$224,ROWS(AK$2:AK91)),\"\")","v":""},{"$f":"IF('Step 3 Product data'!X$17=$A91,$H91,\"\")","v":""},{"$f":"IFERROR(SMALL(AM$2:AM$224,ROWS(AM$2:AM91)),\"\")","v":""}]
["Calcium cyanamide","CAS# 156627",null,null,null,null,null,{"$f":"ROWS($A$2:A92)","v":91},{"$f":"IF('Step 3 Product data'!I$17=$A92,$H92,\"\")","v":""},{"$f":"IFERROR(SMALL($I$2:$I$224,ROWS($I$2:I92)),\"\")","v":""},{"$f":"IF('Step 3 Product data'!J$17=$A92,$H92,\"\")","v":""},{"$f":"IFERROR(SMALL(K$2:K$224,ROWS(K$2:K92)),\"\")","v":""},{"$f":"IF('Step 3 Product data'!K$17=$A92,$H92,\"\")","v":""},{"$f":"IFERROR(SMALL(M$2:M$224,ROWS(M$2:M92)),\"\")","v":""},{"$f":"IF('Step 3 Product data'!L$17=$A92,$H92,\"\")","v":""},{"$f":"IFERROR(SMALL(O$2:O$224,ROWS(O$2:O92)),\"\")","v":""},{"$f":"IF('Step 3 Product data'!M$17=$A92,$H92,\"\")","v":""},{"$f":"IFERROR(SMALL(Q$2:Q$224,ROWS(Q$2:Q92)),\"\")","v":""},{"$f":"IF('Step 3 Product data'!N$17=$A92,$H92,\"\")","v":""},{"$f":"IFERROR(SMALL(S$2:S$224,ROWS(S$2:S92)),\"\")","v":""},{"$f":"IF('Step 3 Product data'!O$17=$A92,$H92,\"\")","v":""},{"$f":"IFERROR(SMALL(U$2:U$224,ROWS(U$2:U92)),\"\")","v":""},{"$f":"IF('Step 3 Product data'!P$17=$A92,$H92,\"\")","v":""},{"$f":"IFERROR(SMALL(W$2:W$224,ROWS(W$2:W92)),\"\")","v":""},{"$f":"IF('Step 3 Product data'!Q$17=$A92,$H92,\"\")","v":""},{"$f":"IFERROR(SMALL(Y$2:Y$224,ROWS(Y$2:Y92)),\"\")","v":""},{"$f":"IF('Step 3 Product data'!R$17=$A92,$H92,\"\")","v":""},{"$f":"IFERROR(SMALL(AA$2:AA$224,ROWS(AA$2:AA92)),\"\")","v":""},{"$f":"IF('Step 3 Product data'!S$17=$A92,$H92,\"\")","v":""},{"$f":"IFERROR(SMALL(AC$2:AC$224,ROWS(AC$2:AC92)),\"\")","v":""},{"$f":"IF('Step 3 Product data'!T$17=$A92,$H92,\"\")","v":""},{"$f":"IFERROR(SMALL(AE$2:AE$224,ROWS(AE$2:AE92)),\"\")","v":""},{"$f":"IF('Step 3 Product data'!U$17=$A92,$H92,\"\")","v":""},{"$f":"IFERROR(SMALL(AG$2:AG$224,ROWS(AG$2:AG92)),\"\")","v":""},{"$f":"IF('Step 3 Product data'!V$17=$A92,$H92,\"\")","v":""},{"$f":"IFERROR(SMALL(AI$2:AI$224,ROWS(AI$2:AI92)),\"\")","v":""},{"$f":"IF('Step 3 Product data'!W$17=$A92,$H92,\"\")","v":""},{"$f":"IFERROR(SMALL(AK$2:AK$224,ROWS(AK$2:AK92)),\"\")","v":""},{"$f":"IF('Step 3 Product data'!X$17=$A92,$H92,\"\")","v":""},{"$f":"IFERROR(SMALL(AM$2:AM$224,ROWS(AM$2:AM92)),\"\")","v":""}]
["Captan","CAS# 133062",null,null,null,null,null,{"$f":"ROWS($A$2:A93)","v":92},{"$f":"IF('Step 3 Product data'!I$17=$A93,$H93,\"\")","v":""},{"$f":"IFERROR(SMALL($I$2:$I$224,ROWS($I$2:I93)),\"\")","v":""},{"$f":"IF('Step 3 Product data'!J$17=$A93,$H93,\"\")","v":""},{"$f":"IFERROR(SMALL(K$2:K$224,ROWS(K$2:K93)),\"\")","v":""},{"$f":"IF('Step 3 Product data'!K$17=$A93,$H93,\"\")","v":""},{"$f":"IFERROR(SMALL(M$2:M$224,ROWS(M$2:M93)),\"\")","v":""},{"$f":"IF('Step 3 Product data'!L$17=$A93,$H93,\"\")","v":""},{"$f":"IFERROR(SMALL(O$2:O$224,ROWS(O$2:O93)),\"\")","v":""},{"$f":"IF('Step 3 Product data'!M$17=$A93,$H93,\"\")","v":""},{"$f":"IFERROR(SMALL(Q$2:Q$224,ROWS(Q$2:Q93)),\"\")","v":""},{"$f":"IF('Step 3 Product data'!N$17=$A93,$H93,\"\")","v":""},{"$f":"IFERROR(SMALL(S$2:S$224,ROWS(S$2:S93)),\"\")","v":""},{"$f":"IF('Step 3 Product data'!O$17=$A93,$H93,\"\")","v":""},{"$f":"IFERROR(SMALL(U$2:U$224,ROWS(U$2:U93)),\"\")","v":""},{"$f":"IF('Step 3 Product data'!P$17=$A93,$H93,\"\")","v":""},{"$f":"IFERROR(SMALL(W$2:W$224,ROWS(W$2:W93)),\"\")","v":""},{"$f":"IF('Step 3 Product data'!Q$17=$A93,$H93,\"\")","v":""},{"$f":"IFERROR(SMALL(Y$2:Y$224,ROWS(Y$2:Y93)),\"\")","v":""},{"$f":"IF('Step 3 Product data'!R$17=$A93,$H93,\"\")","v":""},{"$f":"IFERROR(SMALL(AA$2:AA$224,ROWS(AA$2:AA93)),\"\")","v":""},{"$f":"IF('Step 3 Product data'!S$17=$A93,$H93,\"\")","v":""},{"$f":"IFERROR(SMALL(AC$2:AC$224,ROWS(AC$2:AC93)),\"\")","v":""},{"$f":"IF('Step 3 Product data'!T$17=$A93,$H93,\"\")","v":""},{"$f":"IFERROR(SMALL(AE$2:AE$224,ROWS(AE$2:AE93)),\"\")","v":""},{"$f":"IF('Step 3 Product data'!U$17=$A93,$H93,\"\")","v":""},{"$f":"IFERROR(SMALL(AG$2:AG$224,ROWS(AG$2:AG93)),\"\")","v":""},{"$f":"IF('Step 3 Product data'!V$17=$A93,$H93,\"\")","v":""},{"$f":"IFERROR(SMALL(AI$2:AI$224,ROWS(AI$2:AI93)),\"\")","v":""},{"$f":"IF('Step 3 Product data'!W$17=$A93,$H93,\"\")","v":""},{"$f":"IFERROR(SMALL(AK$2:AK$224,ROWS(AK$2:AK93)),\"\")","v":""},{"$f":"IF('Step 3 Product data'!X$17=$A93,$H93,\"\")","v":""},{"$f":"IFERROR(SMALL(AM$2:AM$224,ROWS(AM$2:AM93)),\"\")","v":""}]
["Carbaryl","CAS# 63252",null,null,null,null,null,{"$f":"ROWS($A$2:A94)","v":93},{"$f":"IF('Step 3 Product data'!I$17=$A94,$H94,\"\")","v":""},{"$f":"IFERROR(SMALL($I$2:$I$224,ROWS($I$2:I94)),\"\")","v":""},{"$f":"IF('Step 3 Product data'!J$17=$A94,$H94,\"\")","v":""},{"$f":"IFERROR(SMALL(K$2:K$224,ROWS(K$2:K94)),\"\")","v":""},{"$f":"IF('Step 3 Product data'!K$17=$A94,$H94,\"\")","v":""},{"$f":"IFERROR(SMALL(M$2:M$224,ROWS(M$2:M94)),\"\")","v":""},{"$f":"IF('Step 3 Product data'!L$17=$A94,$H94,\"\")","v":""},{"$f":"IFERROR(SMALL(O$2:O$224,ROWS(O$2:O94)),\"\")","v":""},{"$f":"IF('Step 3 Product data'!M$17=$A94,$H94,\"\")","v":""},{"$f":"IFERROR(SMALL(Q$2:Q$224,ROWS(Q$2:Q94)),\"\")","v":""},{"$f":"IF('Step 3 Product data'!N$17=$A94,$H94,\"\")","v":""},{"$f":"IFERROR(SMALL(S$2:S$224,ROWS(S$2:S94)),\"\")","v":""},{"$f":"IF('Step 3 Product data'!O$17=$A94,$H94,\"\")","v":""},{"$f":"IFERROR(SMALL(U$2:U$224,ROWS(U$2:U94)),\"\")","v":""},{"$f":"IF('Step 3 Product data'!P$17=$A94,$H94,\"\")","v":""},{"$f":"IFERROR(SMALL(W$2:W$224,ROWS(W$2:W94)),\"\")","v":""},{"$f":"IF('Step 3 Product data'!Q$17=$A94,$H94,\"\")","v":""},{"$f":"IFERROR(SMALL(Y$2:Y$224,ROWS(Y$2:Y94)),\"\")","v":""},{"$f":"IF('Step 3 Product data'!R$17=$A94,$H94,\"\")","v":""},{"$f":"IFERROR(SMALL(AA$2:AA$224,ROWS(AA$2:AA94)),\"\")","v":""},{"$f":"IF('Step 3 Product data'!S$17=$A94,$H94,\"\")","v":""},{"$f":"IFERROR(SMALL(AC$2:AC$224,ROWS(AC$2:AC94)),\"\")","v":""},{"$f":"IF('Step 3 Product data'!T$17=$A94,$H94,\"\")","v":""},{"$f":"IFERROR(SMALL(AE$2:AE$224,ROWS(AE$2:AE94)),\"\")","v":""},{"$f":"IF('Step 3 Product data'!U$17=$A94,$H94,\"\")","v":""},{"$f":"IFERROR(SMALL(AG$2:AG$224,ROWS(AG$2:AG94)),\"\")","v":""},{"$f":"IF('Step 3 Product data'!V$17=$A94,$H94,\"\")","v":""},{"$f":"IFERROR(SMALL(AI$2:AI$224,ROWS(AI$2:AI94)),\"\")","v":""},{"$f":"IF('Step 3 Product data'!W$17=$A94,$H94,\"\")","v":""},{"$f":"IFERROR(SMALL(AK$2:AK$224,ROWS(AK$2:AK94)),\"\")","v":""},{"$f":"IF('Step 3 Product data'!X$17=$A94,$H94,\"\")","v":""},{"$f":"IFERROR(SMALL(AM$2:AM$224,ROWS(AM$2:AM94)),\"\")","v":""}]
["Carbon disulfide","CAS# 75150",null,null,null,null,null,{"$f":"ROWS($A$2:A95)","v":94},{"$f":"IF('Step 3 Product data'!I$17=$A95,$H95,\"\")","v":""},{"$f":"IFERROR(SMALL($I$2:$I$224,ROWS($I$2:I95)),\"\")","v":""},{"$f":"IF('Step 3 Product data'!J$17=$A95,$H95,\"\")","v":""},{"$f":"IFERROR(SMALL(K$2:K$224,ROWS(K$2:K95)),\"\")","v":""},{"$f":"IF('Step 3 Product data'!K$17=$A95,$H95,\"\")","v":""},{"$f":"IFERROR(SMALL(M$2:M$224,ROWS(M$2:M95)),\"\")","v":""},{"$f":"IF('Step 3 Product data'!L$17=$A95,$H95,\"\")","v":""},{"$f":"IFERROR(SMALL(O$2:O$224,ROWS(O$2:O95)),\"\")","v":""},{"$f":"IF('Step 3 Product data'!M$17=$A95,$H95,\"\")","v":""},{"$f":"IFERROR(SMALL(Q$2:Q$224,ROWS(Q$2:Q95)),\"\")","v":""},{"$f":"IF('Step 3 Product data'!N$17=$A95,$H95,\"\")","v":""},{"$f":"IFERROR(SMALL(S$2:S$224,ROWS(S$2:S95)),\"\")","v":""},{"$f":"IF('Step 3 Product data'!O$17=$A95,$H95,\"\")","v":""},{"$f":"IFERROR(SMALL(U$2:U$224,ROWS(U$2:U95)),\"\")","v":""},{"$f":"IF('Step 3 Product data'!P$17=$A95,$H95,\"\")","v":""},{"$f":"IFERROR(SMALL(W$2:W$224,ROWS(W$2:W95)),\"\")","v":""},{"$f":"IF('Step 3 Product data'!Q$17=$A95,$H95,\"\")","v":""},{"$f":"IFERROR(SMALL(Y$2:Y$224,ROWS(Y$2:Y95)),\"\")","v":""},{"$f":"IF('Step 3 Product data'!R$17=$A95,$H95,\"\")","v":""},{"$f":"IFERROR(SMALL(AA$2:AA$224,ROWS(AA$2:AA95)),\"\")","v":""},{"$f":"IF('Step 3 Product data'!S$17=$A95,$H95,\"\")","v":""},{"$f":"IFERROR(SMALL(AC$2:AC$224,ROWS(AC$2:AC95)),\"\")","v":""},{"$f":"IF('Step 3 Product data'!T$17=$A95,$H95,\"\")","v":""},{"$f":"IFERROR(SMALL(AE$2:AE$224,ROWS(AE$2:AE95)),\"\")","v":""},{"$f":"IF('Step 3 Product data'!U$17=$A95,$H95,\"\")","v":""},{"$f":"IFERROR(SMALL(AG$2:AG$224,ROWS(AG$2:AG95)),\"\")","v":""},{"$f":"IF('Step 3 Product data'!V$17=$A95,$H95,\"\")","v":""},{"$f":"IFERROR(SMALL(AI$2:AI$224,ROWS(AI$2:AI95)),\"\")","v":""},{"$f":"IF('Step 3 Product data'!W$17=$A95,$H95,\"\")","v":""},{"$f":"IFERROR(SMALL(AK$2:AK$224,ROWS(AK$2:AK95)),\"\")","v":""},{"$f":"IF('Step 3 Product data'!X$17=$A95,$H95,\"\")","v":""},{"$f":"IFERROR(SMALL(AM$2:AM$224,ROWS(AM$2:AM95)),\"\")","v":""}]
["Carbon tetrachloride","CAS# 56235",null,null,null,null,null,{"$f":"ROWS($A$2:A96)","v":95},{"$f":"IF('Step 3 Product data'!I$17=$A96,$H96,\"\")","v":""},{"$f":"IFERROR(SMALL($I$2:$I$224,ROWS($I$2:I96)),\"\")","v":""},{"$f":"IF('Step 3 Product data'!J$17=$A96,$H96,\"\")","v":""},{"$f":"IFERROR(SMALL(K$2:K$224,ROWS(K$2:K96)),\"\")","v":""},{"$f":"IF('Step 3 Product data'!K$17=$A96,$H96,\"\")","v":""},{"$f":"IFERROR(SMALL(M$2:M$224,ROWS(M$2:M96)),\"\")","v":""},{"$f":"IF('Step 3 Product data'!L$17=$A96,$H96,\"\")","v":""},{"$f":"IFERROR(SMALL(O$2:O$224,ROWS(O$2:O96)),\"\")","v":""},{"$f":"IF('Step 3 Product data'!M$17=$A96,$H96,\"\")","v":""},{"$f":"IFERROR(SMALL(Q$2:Q$224,ROWS(Q$2:Q96)),\"\")","v":""},{"$f":"IF('Step 3 Product data'!N$17=$A96,$H96,\"\")","v":""},{"$f":"IFERROR(SMALL(S$2:S$224,ROWS(S$2:S96)),\"\")","v":""},{"$f":"IF('Step 3 Product data'!O$17=$A96,$H96,\"\")","v":""},{"$f":"IFERROR(SMALL(U$2:U$224,ROWS(U$2:U96)),\"\")","v":""},{"$f":"IF('Step 3 Product data'!P$17=$A96,$H96,\"\")","v":""},{"$f":"IFERROR(SMALL(W$2:W$224,ROWS(W$2:W96)),\"\")","v":""},{"$f":"IF('Step 3 Product data'!Q$17=$A96,$H96,\"\")","v":""},{"$f":"IFERROR(SMALL(Y$2:Y$224,ROWS(Y$2:Y96)),\"\")","v":""},{"$f":"IF('Step 3 Product data'!R$17=$A96,$H96,\"\")","v":""},{"$f":"IFERROR(SMALL(AA$2:AA$224,ROWS(AA$2:AA96)),\"\")","v":""},{"$f":"IF('Step 3 Product data'!S$17=$A96,$H96,\"\")","v":""},{"$f":"IFERROR(SMALL(AC$2:AC$224,ROWS(AC$2:AC96)),\"\")","v":""},{"$f":"IF('Step 3 Product data'!T$17=$A96,$H96,\"\")","v":""},{"$f":"IFERROR(SMALL(AE$2:AE$224,ROWS(AE$2:AE96)),\"\")","v":""},{"$f":"IF('Step 3 Product data'!U$17=$A96,$H96,\"\")","v":""},{"$f":"IFERROR(SMALL(AG$2:AG$224,ROWS(AG$2:AG96)),\"\")","v":""},{"$f":"IF('Step 3 Product data'!V$17=$A96,$H96,\"\")","v":""},{"$f":"IFERROR(SMALL(AI$2:AI$224,ROWS(AI$2:AI96)),\"\")","v":""},{"$f":"IF('Step 3 Product data'!W$17=$A96,$H96,\"\")","v":""},{"$f":"IFERROR(SMALL(AK$2:AK$224,ROWS(AK$2:AK96)),\"\")","v":""},{"$f":"IF('Step 3 Product data'!X$17=$A96,$H96,\"\")","v":""},{"$f":"IFERROR(SMALL(AM$2:AM$224,ROWS(AM$2:AM96)),\"\")","v":""}]
["Carbonyl sulfide","CAS# 463581",null,null,null,null,null,{"$f":"ROWS($A$2:A97)","v":96},{"$f":"IF('Step 3 Product data'!I$17=$A97,$H97,\"\")","v":""},{"$f":"IFERROR(SMALL($I$2:$I$224,ROWS($I$2:I97)),\"\")","v":""},{"$f":"IF('Step 3 Product data'!J$17=$A97,$H97,\"\")","v":""},{"$f":"IFERROR(SMALL(K$2:K$224,ROWS(K$2:K97)),\"\")","v":""},{"$f":"IF('Step 3 Product data'!K$17=$A97,$H97,\"\")","v":""},{"$f":"IFERROR(SMALL(M$2:M$224,ROWS(M$2:M97)),\"\")","v":""},{"$f":"IF('Step 3 Product data'!L$17=$A97,$H97,\"\")","v":""},{"$f":"IFERROR(SMALL(O$2:O$224,ROWS(O$2:O97)),\"\")","v":""},{"$f":"IF('Step 3 Product data'!M$17=$A97,$H97,\"\")","v":""},{"$f":"IFERROR(SMALL(Q$2:Q$224,ROWS(Q$2:Q97)),\"\")","v":""},{"$f":"IF('Step 3 Product data'!N$17=$A97,$H97,\"\")","v":""},{"$f":"IFERROR(SMALL(S$2:S$224,ROWS(S$2:S97)),\"\")","v":""},{"$f":"IF('Step 3 Product data'!O$17=$A97,$H97,\"\")","v":""},{"$f":"IFERROR(SMALL(U$2:U$224,ROWS(U$2:U97)),\"\")","v":""},{"$f":"IF('Step 3 Product data'!P$17=$A97,$H97,\"\")","v":""},{"$f":"IFERROR(SMALL(W$2:W$224,ROWS(W$2:W97)),\"\")","v":""},{"$f":"IF('Step 3 Product data'!Q$17=$A97,$H97,\"\")","v":""},{"$f":"IFERROR(SMALL(Y$2:Y$224,ROWS(Y$2:Y97)),\"\")","v":""},{"$f":"IF('Step 3 Product data'!R$17=$A97,$H97,\"\")","v":""},{"$f":"IFERROR(SMALL(AA$2:AA$224,ROWS(AA$2:AA97)),\"\")","v":""},{"$f":"IF('Step 3 Product data'!S$17=$A97,$H97,\"\")","v":""},{"$f":"IFERROR(SMALL(AC$2:AC$224,ROWS(AC$2:AC97)),\"\")","v":""},{"$f":"IF('Step 3 Product data'!T$17=$A97,$H97,\"\")","v":""},{"$f":"IFERROR(SMALL(AE$2:AE$224,ROWS(AE$2:AE97)),\"\")","v":""},{"$f":"IF('Step 3 Product data'!U$17=$A97,$H97,\"\")","v":""},{"$f":"IFERROR(SMALL(AG$2:AG$224,ROWS(AG$2:AG97)),\"\")","v":""},{"$f":"IF('Step 3 Product data'!V$17=$A97,$H97,\"\")","v":""},{"$f":"IFERROR(SMALL(AI$2:AI$224,ROWS(AI$2:AI97)),\"\")","v":""},{"$f":"IF('Step 3 Product data'!W$17=$A97,$H97,\"\")","v":""},{"$f":"IFERROR(SMALL(AK$2:AK$224,ROWS(AK$2:AK97)),\"\")","v":""},{"$f":"IF('Step 3 Product data'!X$17=$A97,$H97,\"\")","v":""},{"$f":"IFERROR(SMALL(AM$2:AM$224,ROWS(AM$2:AM97)),\"\")","v":""}]
["Catechol","CAS# 120809",null,null,null,null,null,{"$f":"ROWS($A$2:A98)","v":97},{"$f":"IF('Step 3 Product data'!I$17=$A98,$H98,\"\")","v":""},{"$f":"IFERROR(SMALL($I$2:$I$224,ROWS($I$2:I98)),\"\")","v":""},{"$f":"IF('Step 3 Product data'!J$17=$A98,$H98,\"\")","v":""},{"$f":"IFERROR(SMALL(K$2:K$224,ROWS(K$2:K98)),\"\")","v":""},{"$f":"IF('Step 3 Product data'!K$17=$A98,$H98,\"\")","v":""},{"$f":"IFERROR(SMALL(M$2:M$224,ROWS(M$2:M98)),\"\")","v":""},{"$f":"IF('Step 3 Product data'!L$17=$A98,$H98,\"\")","v":""},{"$f":"IFERROR(SMALL(O$2:O$224,ROWS(O$2:O98)),\"\")","v":""},{"$f":"IF('Step 3 Product data'!M$17=$A98,$H98,\"\")","v":""},{"$f":"IFERROR(SMALL(Q$2:Q$224,ROWS(Q$2:Q98)),\"\")","v":""},{"$f":"IF('Step 3 Product data'!N$17=$A98,$H98,\"\")","v":""},{"$f":"IFERROR(SMALL(S$2:S$224,ROWS(S$2:S98)),\"\")","v":""},{"$f":"IF('Step 3 Product data'!O$17=$A98,$H98,\"\")","v":""},{"$f":"IFERROR(SMALL(U$2:U$224,ROWS(U$2:U98)),\"\")","v":""},{"$f":"IF('Step 3 Product data'!P$17=$A98,$H98,\"\")","v":""},{"$f":"IFERROR(SMALL(W$2:W$224,ROWS(W$2:W98)),\"\")","v":""},{"$f":"IF('Step 3 Product data'!Q$17=$A98,$H98,\"\")","v":""},{"$f":"IFERROR(SMALL(Y$2:Y$224,ROWS(Y$2:Y98)),\"\")","v":""},{"$f":"IF('Step 3 Product data'!R$17=$A98,$H98,\"\")","v":""},{"$f":"IFERROR(SMALL(AA$2:AA$224,ROWS(AA$2:AA98)),\"\")","v":""},{"$f":"IF('Step 3 Product data'!S$17=$A98,$H98,\"\")","v":""},{"$f":"IFERROR(SMALL(AC$2:AC$224,ROWS(AC$2:AC98)),\"\")","v":""},{"$f":"IF('Step 3 Product data'!T$17=$A98,$H98,\"\")","v":""},{"$f":"IFERROR(SMALL(AE$2:AE$224,ROWS(AE$2:AE98)),\"\")","v":""},{"$f":"IF('Step 3 Product data'!U$17=$A98,$H98,\"\")","v":""},{"$f":"IFERROR(SMALL(AG$2:AG$224,ROWS(AG$2:AG98)),\"\")","v":""},{"$f":"IF('Step 3 Product data'!V$17=$A98,$H98,\"\")","v":""},{"$f":"IFERROR(SMALL(AI$2:AI$224,ROWS(AI$2:AI98)),\"\")","v":""},{"$f":"IF('Step 3 Product data'!W$17=$A98,$H98,\"\")","v":""},{"$f":"IFERROR(SMALL(AK$2:AK$224,ROWS(AK$2:AK98)),\"\")","v":""},{"$f":"IF('Step 3 Product data'!X$17=$A98,$H98,\"\")","v":""},{"$f":"IFERROR(SMALL(AM$2:AM$224,ROWS(AM$2:AM98)),\"\")","v":""}]
["Chloramben","CAS# 133904",null,null,null,null,null,{"$f":"ROWS($A$2:A99)","v":98},{"$f":"IF('Step 3 Product data'!I$17=$A99,$H99,\"\")","v":""},{"$f":"IFERROR(SMALL($I$2:$I$224,ROWS($I$2:I99)),\"\")","v":""},{"$f":"IF('Step 3 Product data'!J$17=$A99,$H99,\"\")","v":""},{"$f":"IFERROR(SMALL(K$2:K$224,ROWS(K$2:K99)),\"\")","v":""},{"$f":"IF('Step 3 Product data'!K$17=$A99,$H99,\"\")","v":""},{"$f":"IFERROR(SMALL(M$2:M$224,ROWS(M$2:M99)),\"\")","v":""},{"$f":"IF('Step 3 Product data'!L$17=$A99,$H99,\"\")","v":""},{"$f":"IFERROR(SMALL(O$2:O$224,ROWS(O$2:O99)),\"\")","v":""},{"$f":"IF('Step 3 Product data'!M$17=$A99,$H99,\"\")","v":""},{"$f":"IFERROR(SMALL(Q$2:Q$224,ROWS(Q$2:Q99)),\"\")","v":""},{"$f":"IF('Step 3 Product data'!N$17=$A99,$H99,\"\")","v":""},{"$f":"IFERROR(SMALL(S$2:S$224,ROWS(S$2:S99)),\"\")","v":""},{"$f":"IF('Step 3 Product data'!O$17=$A99,$H99,\"\")","v":""},{"$f":"IFERROR(SMALL(U$2:U$224,ROWS(U$2:U99)),\"\")","v":""},{"$f":"IF('Step 3 Product data'!P$17=$A99,$H99,\"\")","v":""},{"$f":"IFERROR(SMALL(W$2:W$224,ROWS(W$2:W99)),\"\")","v":""},{"$f":"IF('Step 3 Product data'!Q$17=$A99,$H99,\"\")","v":""},{"$f":"IFERROR(SMALL(Y$2:Y$224,ROWS(Y$2:Y99)),\"\")","v":""},{"$f":"IF('Step 3 Product data'!R$17=$A99,$H99,\"\")","v":""},{"$f":"IFERROR(SMALL(AA$2:AA$224,ROWS(AA$2:AA99)),\"\")","v":""},{"$f":"IF('Step 3 Product data'!S$17=$A99,$H99,\"\")","v":""},{"$f":"IFERROR(SMALL(AC$2:AC$224,ROWS(AC$2:AC99)),\"\")","v":""},{"$f":"IF('Step 3 Product data'!T$17=$A99,$H99,\"\")","v":""},{"$f":"IFERROR(SMALL(AE$2:AE$224,ROWS(AE$2:AE99)),\"\")","v":""},{"$f":"IF('Step 3 Product data'!U$17=$A99,$H99,\"\")","v":""},{"$f":"IFERROR(SMALL(AG$2:AG$224,ROWS(AG$2:AG99)),\"\")","v":""},{"$f":"IF('Step 3 Product data'!V$17=$A99,$H99,\"\")","v":""},{"$f":"IFERROR(SMALL(AI$2:AI$224,ROWS(AI$2:AI99)),\"\")","v":""},{"$f":"IF('Step 3 Product data'!W$17=$A99,$H99,\"\")","v":""},{"$f":"IFERROR(SMALL(AK$2:AK$224,ROWS(AK$2:AK99)),\"\")","v":""},{"$f":"IF('Step 3 Product data'!X$17=$A99,$H99,\"\")","v":""},{"$f":"IFERROR(SMALL(AM$2:AM$224,ROWS(AM$2:AM99)),\"\")","v":""}]
["Chlordane","CAS# 57749",null,null,null,null,null,{"$f":"ROWS($A$2:A100)","v":99},{"$f":"IF('Step 3 Product data'!I$17=$A100,$H100,\"\")","v":""},{"$f":"IFERROR(SMALL($I$2:$I$224,ROWS($I$2:I100)),\"\")","v":""},{"$f":"IF('Step 3 Product data'!J$17=$A100,$H100,\"\")","v":""},{"$f":"IFERROR(SMALL(K$2:K$224,ROWS(K$2:K100)),\"\")","v":""},{"$f":"IF('Step 3 Product data'!K$17=$A100,$H100,\"\")","v":""},{"$f":"IFERROR(SMALL(M$2:M$224,ROWS(M$2:M100)),\"\")","v":""},{"$f":"IF('Step 3 Product data'!L$17=$A100,$H100,\"\")","v":""},{"$f":"IFERROR(SMALL(O$2:O$224,ROWS(O$2:O100)),\"\")","v":""},{"$f":"IF('Step 3 Product data'!M$17=$A100,$H100,\"\")","v":""},{"$f":"IFERROR(SMALL(Q$2:Q$224,ROWS(Q$2:Q100)),\"\")","v":""},{"$f":"IF('Step 3 Product data'!N$17=$A100,$H100,\"\")","v":""},{"$f":"IFERROR(SMALL(S$2:S$224,ROWS(S$2:S100)),\"\")","v":""},{"$f":"IF('Step 3 Product data'!O$17=$A100,$H100,\"\")","v":""},{"$f":"IFERROR(SMALL(U$2:U$224,ROWS(U$2:U100)),\"\")","v":""},{"$f":"IF('Step 3 Product data'!P$17=$A100,$H100,\"\")","v":""},{"$f":"IFERROR(SMALL(W$2:W$224,ROWS(W$2:W100)),\"\")","v":""},{"$f":"IF('Step 3 Product data'!Q$17=$A100,$H100,\"\")","v":""},{"$f":"IFERROR(SMALL(Y$2:Y$224,ROWS(Y$2:Y100)),\"\")","v":""},{"$f":"IF('Step 3 Product data'!R$17=$A100,$H100,\"\")","v":""},{"$f":"IFERROR(SMALL(AA$2:AA$224,ROWS(AA$2:AA100)),\"\")","v":""},{"$f":"IF('Step 3 Product data'!S$17=$A100,$H100,\"\")","v":""},{"$f":"IFERROR(SMALL(AC$2:AC$224,ROWS(AC$2:AC100)),\"\")","v":""},{"$f":"IF('Step 3 Product data'!T$17=$A100,$H100,\"\")","v":""},{"$f":"IFERROR(SMALL(AE$2:AE$224,ROWS(AE$2:AE100)),\"\")","v":""},{"$f":"IF('Step 3 Product data'!U$17=$A100,$H100,\"\")","v":""},{"$f":"IFERROR(SMALL(AG$2:AG$224,ROWS(AG$2:AG100)),\"\")","v":""},{"$f":"IF('Step 3 Product data'!V$17=$A100,$H100,\"\")","v":""},{"$f":"IFERROR(SMALL(AI$2:AI$224,ROWS(AI$2:AI100)),\"\")","v":""},{"$f":"IF('Step 3 Product data'!W$17=$A100,$H100,\"\")","v":""},{"$f":"IFERROR(SMALL(AK$2:AK$224,ROWS(AK$2:AK100)),\"\")","v":""},{"$f":"IF('Step 3 Product data'!X$17=$A100,$H100,\"\")","v":""},{"$f":"IFERROR(SMALL(AM$2:AM$224,ROWS(AM$2:AM100)),\"\")","v":""}]
["Chlorine","CAS# 7782505",null,null,null,null,null,{"$f":"ROWS($A$2:A101)","v":100},{"$f":"IF('Step 3 Product data'!I$17=$A101,$H101,\"\")","v":""},{"$f":"IFERROR(SMALL($I$2:$I$224,ROWS($I$2:I101)),\"\")","v":""},{"$f":"IF('Step 3 Product data'!J$17=$A101,$H101,\"\")","v":""},{"$f":"IFERROR(SMALL(K$2:K$224,ROWS(K$2:K101)),\"\")","v":""},{"$f":"IF('Step 3 Product data'!K$17=$A101,$H101,\"\")","v":""},{"$f":"IFERROR(SMALL(M$2:M$224,ROWS(M$2:M101)),\"\")","v":""},{"$f":"IF('Step 3 Product data'!L$17=$A101,$H101,\"\")","v":""},{"$f":"IFERROR(SMALL(O$2:O$224,ROWS(O$2:O101)),\"\")","v":""},{"$f":"IF('Step 3 Product data'!M$17=$A101,$H101,\"\")","v":""},{"$f":"IFERROR(SMALL(Q$2:Q$224,ROWS(Q$2:Q101)),\"\")","v":""},{"$f":"IF('Step 3 Product data'!N$17=$A101,$H101,\"\")","v":""},{"$f":"IFERROR(SMALL(S$2:S$224,ROWS(S$2:S101)),\"\")","v":""},{"$f":"IF('Step 3 Product data'!O$17=$A101,$H101,\"\")","v":""},{"$f":"IFERROR(SMALL(U$2:U$224,ROWS(U$2:U101)),\"\")","v":""},{"$f":"IF('Step 3 Product data'!P$17=$A101,$H101,\"\")","v":""},{"$f":"IFERROR(SMALL(W$2:W$224,ROWS(W$2:W101)),\"\")","v":""},{"$f":"IF('Step 3 Product data'!Q$17=$A101,$H101,\"\")","v":""},{"$f":"IFERROR(SMALL(Y$2:Y$224,ROWS(Y$2:Y101)),\"\")","v":""},{"$f":"IF('Step 3 Product data'!R$17=$A101,$H101,\"\")","v":""},{"$f":"IFERROR(SMALL(AA$2:AA$224,ROWS(AA$2:AA101)),\"\")","v":""},{"$f":"IF('Step 3 Product data'!S$17=$A101,$H101,\"\")","v":""},{"$f":"IFERROR(SMALL(AC$2:AC$224,ROWS(AC$2:AC101)),\"\")","v":""},{"$f":"IF('Step 3 Product data'!T$17=$A101,$H101,\"\")","v":""},{"$f":"IFERROR(SMALL(AE$2:AE$224,ROWS(AE$2:AE101)),\"\")","v":""},{"$f":"IF('Step 3 Product data'!U$17=$A101,$H101,\"\")","v":""},{"$f":"IFERROR(SMALL(AG$2:AG$224,ROWS(AG$2:AG101)),\"\")","v":""},{"$f":"IF('Step 3 Product data'!V$17=$A101,$H101,\"\")","v":""},{"$f":"IFERROR(SMALL(AI$2:AI$224,ROWS(AI$2:AI101)),\"\")","v":""},{"$f":"IF('Step 3 Product data'!W$17=$A101,$H101,\"\")","v":""},{"$f":"IFERROR(SMALL(AK$2:AK$224,ROWS(AK$2:AK101)),\"\")","v":""},{"$f":"IF('Step 3 Product data'!X$17=$A101,$H101,\"\")","v":""},{"$f":"IFERROR(SMALL(AM$2:AM$224,ROWS(AM$2:AM101)),\"\")","v":""}]
["Chloroacetic acid","CAS# 79118",null,null,null,null,null,{"$f":"ROWS($A$2:A102)","v":101},{"$f":"IF('Step 3 Product data'!I$17=$A102,$H102,\"\")","v":""},{"$f":"IFERROR(SMALL($I$2:$I$224,ROWS($I$2:I102)),\"\")","v":""},{"$f":"IF('Step 3 Product data'!J$17=$A102,$H102,\"\")","v":""},{"$f":"IFERROR(SMALL(K$2:K$224,ROWS(K$2:K102)),\"\")","v":""},{"$f":"IF('Step 3 Product data'!K$17=$A102,$H102,\"\")","v":""},{"$f":"IFERROR(SMALL(M$2:M$224,ROWS(M$2:M102)),\"\")","v":""},{"$f":"IF('Step 3 Product data'!L$17=$A102,$H102,\"\")","v":""},{"$f":"IFERROR(SMALL(O$2:O$224,ROWS(O$2:O102)),\"\")","v":""},{"$f":"IF('Step 3 Product data'!M$17=$A102,$H102,\"\")","v":""},{"$f":"IFERROR(SMALL(Q$2:Q$224,ROWS(Q$2:Q102)),\"\")","v":""},{"$f":"IF('Step 3 Product data'!N$17=$A102,$H102,\"\")","v":""},{"$f":"IFERROR(SMALL(S$2:S$224,ROWS(S$2:S102)),\"\")","v":""},{"$f":"IF('Step 3 Product data'!O$17=$A102,$H102,\"\")","v":""},{"$f":"IFERROR(SMALL(U$2:U$224,ROWS(U$2:U102)),\"\")","v":""},{"$f":"IF('Step 3 Product data'!P$17=$A102,$H102,\"\")","v":""},{"$f":"IFERROR(SMALL(W$2:W$224,ROWS(W$2:W102)),\"\")","v":""},{"$f":"IF('Step 3 Product data'!Q$17=$A102,$H102,\"\")","v":""},{"$f":"IFERROR(SMALL(Y$2:Y$224,ROWS(Y$2:Y102)),\"\")","v":""},{"$f":"IF('Step 3 Product data'!R$17=$A102,$H102,\"\")","v":""},{"$f":"IFERROR(SMALL(AA$2:AA$224,ROWS(AA$2:AA102)),\"\")","v":""},{"$f":"IF('Step 3 Product data'!S$17=$A102,$H102,\"\")","v":""},{"$f":"IFERROR(SMALL(AC$2:AC$224,ROWS(AC$2:AC102)),\"\")","v":""},{"$f":"IF('Step 3 Product data'!T$17=$A102,$H102,\"\")","v":""},{"$f":"IFERROR(SMALL(AE$2:AE$224,ROWS(AE$2:AE102)),\"\")","v":""},{"$f":"IF('Step 3 Product data'!U$17=$A102,$H102,\"\")","v":""},{"$f":"IFERROR(SMALL(AG$2:AG$224,ROWS(AG$2:AG102)),\"\")","v":""},{"$f":"IF('Step 3 Product data'!V$17=$A102,$H102,\"\")","v":""},{"$f":"IFERROR(SMALL(AI$2:AI$224,ROWS(AI$2:AI102)),\"\")","v":""},{"$f":"IF('Step 3 Product data'!W$17=$A102,$H102,\"\")","v":""},{"$f":"IFERROR(SMALL(AK$2:AK$224,ROWS(AK$2:AK102)),\"\")","v":""},{"$f":"IF('Step 3 Product data'!X$17=$A102,$H102,\"\")","v":""},{"$f":"IFERROR(SMALL(AM$2:AM$224,ROWS(AM$2:AM102)),\"\")","v":""}]
["Chlorobenzene","CAS# 108907",null,null,null,null,null,{"$f":"ROWS($A$2:A103)","v":102},{"$f":"IF('Step 3 Product data'!I$17=$A103,$H103,\"\")","v":""},{"$f":"IFERROR(SMALL($I$2:$I$224,ROWS($I$2:I103)),\"\")","v":""},{"$f":"IF('Step 3 Product data'!J$17=$A103,$H103,\"\")","v":""},{"$f":"IFERROR(SMALL(K$2:K$224,ROWS(K$2:K103)),\"\")","v":""},{"$f":"IF('Step 3 Product data'!K$17=$A103,$H103,\"\")","v":""},{"$f":"IFERROR(SMALL(M$2:M$224,ROWS(M$2:M103)),\"\")","v":""},{"$f":"IF('Step 3 Product data'!L$17=$A103,$H103,\"\")","v":""},{"$f":"IFERROR(SMALL(O$2:O$224,ROWS(O$2:O103)),\"\")","v":""},{"$f":"IF('Step 3 Product data'!M$17=$A103,$H103,\"\")","v":""},{"$f":"IFERROR(SMALL(Q$2:Q$224,ROWS(Q$2:Q103)),\"\")","v":""},{"$f":"IF('Step 3 Product data'!N$17=$A103,$H103,\"\")","v":""},{"$f":"IFERROR(SMALL(S$2:S$224,ROWS(S$2:S103)),\"\")","v":""},{"$f":"IF('Step 3 Product data'!O$17=$A103,$H103,\"\")","v":""},{"$f":"IFERROR(SMALL(U$2:U$224,ROWS(U$2:U103)),\"\")","v":""},{"$f":"IF('Step 3 Product data'!P$17=$A103,$H103,\"\")","v":""},{"$f":"IFERROR(SMALL(W$2:W$224,ROWS(W$2:W103)),\"\")","v":""},{"$f":"IF('Step 3 Product data'!Q$17=$A103,$H103,\"\")","v":""},{"$f":"IFERROR(SMALL(Y$2:Y$224,ROWS(Y$2:Y103)),\"\")","v":""},{"$f":"IF('Step 3 Product data'!R$17=$A103,$H103,\"\")","v":""},{"$f":"IFERROR(SMALL(AA$2:AA$224,ROWS(AA$2:AA103)),\"\")","v":""},{"$f":"IF('Step 3 Product data'!S$17=$A103,$H103,\"\")","v":""},{"$f":"IFERROR(SMALL(AC$2:AC$224,ROWS(AC$2:AC103)),\"\")","v":""},{"$f":"IF('Step 3 Product data'!T$17=$A103,$H103,\"\")","v":""},{"$f":"IFERROR(SMALL(AE$2:AE$224,ROWS(AE$2:AE103)),\"\")","v":""},{"$f":"IF('Step 3 Product data'!U$17=$A103,$H103,\"\")","v":""},{"$f":"IFERROR(SMALL(AG$2:AG$224,ROWS(AG$2:AG103)),\"\")","v":""},{"$f":"IF('Step 3 Product data'!V$17=$A103,$H103,\"\")","v":""},{"$f":"IFERROR(SMALL(AI$2:AI$224,ROWS(AI$2:AI103)),\"\")","v":""},{"$f":"IF('Step 3 Product data'!W$17=$A103,$H103,\"\")","v":""},{"$f":"IFERROR(SMALL(AK$2:AK$224,ROWS(AK$2:AK103)),\"\")","v":""},{"$f":"IF('Step 3 Product data'!X$17=$A103,$H103,\"\")","v":""},{"$f":"IFERROR(SMALL(AM$2:AM$224,ROWS(AM$2:AM103)),\"\")","v":""}]
["Chlorobenzilate","CAS# 510156",null,null,null,null,null,{"$f":"ROWS($A$2:A104)","v":103},{"$f":"IF('Step 3 Product data'!I$17=$A104,$H104,\"\")","v":""},{"$f":"IFERROR(SMALL($I$2:$I$224,ROWS($I$2:I104)),\"\")","v":""},{"$f":"IF('Step 3 Product data'!J$17=$A104,$H104,\"\")","v":""},{"$f":"IFERROR(SMALL(K$2:K$224,ROWS(K$2:K104)),\"\")","v":""},{"$f":"IF('Step 3 Product data'!K$17=$A104,$H104,\"\")","v":""},{"$f":"IFERROR(SMALL(M$2:M$224,ROWS(M$2:M104)),\"\")","v":""},{"$f":"IF('Step 3 Product data'!L$17=$A104,$H104,\"\")","v":""},{"$f":"IFERROR(SMALL(O$2:O$224,ROWS(O$2:O104)),\"\")","v":""},{"$f":"IF('Step 3 Product data'!M$17=$A104,$H104,\"\")","v":""},{"$f":"IFERROR(SMALL(Q$2:Q$224,ROWS(Q$2:Q104)),\"\")","v":""},{"$f":"IF('Step 3 Product data'!N$17=$A104,$H104,\"\")","v":""},{"$f":"IFERROR(SMALL(S$2:S$224,ROWS(S$2:S104)),\"\")","v":""},{"$f":"IF('Step 3 Product data'!O$17=$A104,$H104,\"\")","v":""},{"$f":"IFERROR(SMALL(U$2:U$224,ROWS(U$2:U104)),\"\")","v":""},{"$f":"IF('Step 3 Product data'!P$17=$A104,$H104,\"\")","v":""},{"$f":"IFERROR(SMALL(W$2:W$224,ROWS(W$2:W104)),\"\")","v":""},{"$f":"IF('Step 3 Product data'!Q$17=$A104,$H104,\"\")","v":""},{"$f":"IFERROR(SMALL(Y$2:Y$224,ROWS(Y$2:Y104)),\"\")","v":""},{"$f":"IF('Step 3 Product data'!R$17=$A104,$H104,\"\")","v":""},{"$f":"IFERROR(SMALL(AA$2:AA$224,ROWS(AA$2:AA104)),\"\")","v":""},{"$f":"IF('Step 3 Product data'!S$17=$A104,$H104,\"\")","v":""},{"$f":"IFERROR(SMALL(AC$2:AC$224,ROWS(AC$2:AC104)),\"\")","v":""},{"$f":"IF('Step 3 Product data'!T$17=$A104,$H104,\"\")","v":""},{"$f":"IFERROR(SMALL(AE$2:AE$224,ROWS(AE$2:AE104)),\"\")","v":""},{"$f":"IF('Step 3 Product data'!U$17=$A104,$H104,\"\")","v":""},{"$f":"IFERROR(SMALL(AG$2:AG$224,ROWS(AG$2:AG104)),\"\")","v":""},{"$f":"IF('Step 3 Product data'!V$17=$A104,$H104,\"\")","v":""},{"$f":"IFERROR(SMALL(AI$2:AI$224,ROWS(AI$2:AI104)),\"\")","v":""},{"$f":"IF('Step 3 Product data'!W$17=$A104,$H104,\"\")","v":""},{"$f":"IFERROR(SMALL(AK$2:AK$224,ROWS(AK$2:AK104)),\"\")","v":""},{"$f":"IF('Step 3 Product data'!X$17=$A104,$H104,\"\")","v":""},{"$f":"IFERROR(SMALL(AM$2:AM$224,ROWS(AM$2:AM104)),\"\")","v":""}]
["Chloroform","CAS# 67663",null,null,null,null,null,{"$f":"ROWS($A$2:A105)","v":104},{"$f":"IF('Step 3 Product data'!I$17=$A105,$H105,\"\")","v":""},{"$f":"IFERROR(SMALL($I$2:$I$224,ROWS($I$2:I105)),\"\")","v":""},{"$f":"IF('Step 3 Product data'!J$17=$A105,$H105,\"\")","v":""},{"$f":"IFERROR(SMALL(K$2:K$224,ROWS(K$2:K105)),\"\")","v":""},{"$f":"IF('Step 3 Product data'!K$17=$A105,$H105,\"\")","v":""},{"$f":"IFERROR(SMALL(M$2:M$224,ROWS(M$2:M105)),\"\")","v":""},{"$f":"IF('Step 3 Product data'!L$17=$A105,$H105,\"\")","v":""},{"$f":"IFERROR(SMALL(O$2:O$224,ROWS(O$2:O105)),\"\")","v":""},{"$f":"IF('Step 3 Product data'!M$17=$A105,$H105,\"\")","v":""},{"$f":"IFERROR(SMALL(Q$2:Q$224,ROWS(Q$2:Q105)),\"\")","v":""},{"$f":"IF('Step 3 Product data'!N$17=$A105,$H105,\"\")","v":""},{"$f":"IFERROR(SMALL(S$2:S$224,ROWS(S$2:S105)),\"\")","v":""},{"$f":"IF('Step 3 Product data'!O$17=$A105,$H105,\"\")","v":""},{"$f":"IFERROR(SMALL(U$2:U$224,ROWS(U$2:U105)),\"\")","v":""},{"$f":"IF('Step 3 Product data'!P$17=$A105,$H105,\"\")","v":""},{"$f":"IFERROR(SMALL(W$2:W$224,ROWS(W$2:W105)),\"\")","v":""},{"$f":"IF('Step 3 Product data'!Q$17=$A105,$H105,\"\")","v":""},{"$f":"IFERROR(SMALL(Y$2:Y$224,ROWS(Y$2:Y105)),\"\")","v":""},{"$f":"IF('Step 3 Product data'!R$17=$A105,$H105,\"\")","v":""},{"$f":"IFERROR(SMALL(AA$2:AA$224,ROWS(AA$2:AA105)),\"\")","v":""},{"$f":"IF('Step 3 Product data'!S$17=$A105,$H105,\"\")","v":""},{"$f":"IFERROR(SMALL(AC$2:AC$224,ROWS(AC$2:AC105)),\"\")","v":""},{"$f":"IF('Step 3 Product data'!T$17=$A105,$H105,\"\")","v":""},{"$f":"IFERROR(SMALL(AE$2:AE$224,ROWS(AE$2:AE105)),\"\")","v":""},{"$f":"IF('Step 3 Product data'!U$17=$A105,$H105,\"\")","v":""},{"$f":"IFERROR(SMALL(AG$2:AG$224,ROWS(AG$2:AG105)),\"\")","v":""},{"$f":"IF('Step 3 Product data'!V$17=$A105,$H105,\"\")","v":""},{"$f":"IFERROR(SMALL(AI$2:AI$224,ROWS(AI$2:AI105)),\"\")","v":""},{"$f":"IF('Step 3 Product data'!W$17=$A105,$H105,\"\")","v":""},{"$f":"IFERROR(SMALL(AK$2:AK$224,ROWS(AK$2:AK105)),\"\")","v":""},{"$f":"IF('Step 3 Product data'!X$17=$A105,$H105,\"\")","v":""},{"$f":"IFERROR(SMALL(AM$2:AM$224,ROWS(AM$2:AM105)),\"\")","v":""}]
["Chloromethyl methyl ether","CAS# 107302",null,null,null,null,null,{"$f":"ROWS($A$2:A106)","v":105},{"$f":"IF('Step 3 Product data'!I$17=$A106,$H106,\"\")","v":""},{"$f":"IFERROR(SMALL($I$2:$I$224,ROWS($I$2:I106)),\"\")","v":""},{"$f":"IF('Step 3 Product data'!J$17=$A106,$H106,\"\")","v":""},{"$f":"IFERROR(SMALL(K$2:K$224,ROWS(K$2:K106)),\"\")","v":""},{"$f":"IF('Step 3 Product data'!K$17=$A106,$H106,\"\")","v":""},{"$f":"IFERROR(SMALL(M$2:M$224,ROWS(M$2:M106)),\"\")","v":""},{"$f":"IF('Step 3 Product data'!L$17=$A106,$H106,\"\")","v":""},{"$f":"IFERROR(SMALL(O$2:O$224,ROWS(O$2:O106)),\"\")","v":""},{"$f":"IF('Step 3 Product data'!M$17=$A106,$H106,\"\")","v":""},{"$f":"IFERROR(SMALL(Q$2:Q$224,ROWS(Q$2:Q106)),\"\")","v":""},{"$f":"IF('Step 3 Product data'!N$17=$A106,$H106,\"\")","v":""},{"$f":"IFERROR(SMALL(S$2:S$224,ROWS(S$2:S106)),\"\")","v":""},{"$f":"IF('Step 3 Product data'!O$17=$A106,$H106,\"\")","v":""},{"$f":"IFERROR(SMALL(U$2:U$224,ROWS(U$2:U106)),\"\")","v":""},{"$f":"IF('Step 3 Product data'!P$17=$A106,$H106,\"\")","v":""},{"$f":"IFERROR(SMALL(W$2:W$224,ROWS(W$2:W106)),\"\")","v":""},{"$f":"IF('Step 3 Product data'!Q$17=$A106,$H106,\"\")","v":""},{"$f":"IFERROR(SMALL(Y$2:Y$224,ROWS(Y$2:Y106)),\"\")","v":""},{"$f":"IF('Step 3 Product data'!R$17=$A106,$H106,\"\")","v":""},{"$f":"IFERROR(SMALL(AA$2:AA$224,ROWS(AA$2:AA106)),\"\")","v":""},{"$f":"IF('Step 3 Product data'!S$17=$A106,$H106,\"\")","v":""},{"$f":"IFERROR(SMALL(AC$2:AC$224,ROWS(AC$2:AC106)),\"\")","v":""},{"$f":"IF('Step 3 Product data'!T$17=$A106,$H106,\"\")","v":""},{"$f":"IFERROR(SMALL(AE$2:AE$224,ROWS(AE$2:AE106)),\"\")","v":""},{"$f":"IF('Step 3 Product data'!U$17=$A106,$H106,\"\")","v":""},{"$f":"IFERROR(SMALL(AG$2:AG$224,ROWS(AG$2:AG106)),\"\")","v":""},{"$f":"IF('Step 3 Product data'!V$17=$A106,$H106,\"\")","v":""},{"$f":"IFERROR(SMALL(AI$2:AI$224,ROWS(AI$2:AI106)),\"\")","v":""},{"$f":"IF('Step 3 Product data'!W$17=$A106,$H106,\"\")","v":""},{"$f":"IFERROR(SMALL(AK$2:AK$224,ROWS(AK$2:AK106)),\"\")","v":""},{"$f":"IF('Step 3 Product data'!X$17=$A106,$H106,\"\")","v":""},{"$f":"IFERROR(SMALL(AM$2:AM$224,ROWS(AM$2:AM106)),\"\")","v":""}]
["Chloroprene","CAS# 126998",null,null,null,null,null,{"$f":"ROWS($A$2:A107)","v":106},{"$f":"IF('Step 3 Product data'!I$17=$A107,$H107,\"\")","v":""},{"$f":"IFERROR(SMALL($I$2:$I$224,ROWS($I$2:I107)),\"\")","v":""},{"$f":"IF('Step 3 Product data'!J$17=$A107,$H107,\"\")","v":""},{"$f":"IFERROR(SMALL(K$2:K$224,ROWS(K$2:K107)),\"\")","v":""},{"$f":"IF('Step 3 Product data'!K$17=$A107,$H107,\"\")","v":""},{"$f":"IFERROR(SMALL(M$2:M$224,ROWS(M$2:M107)),\"\")","v":""},{"$f":"IF('Step 3 Product data'!L$17=$A107,$H107,\"\")","v":""},{"$f":"IFERROR(SMALL(O$2:O$224,ROWS(O$2:O107)),\"\")","v":""},{"$f":"IF('Step 3 Product data'!M$17=$A107,$H107,\"\")","v":""},{"$f":"IFERROR(SMALL(Q$2:Q$224,ROWS(Q$2:Q107)),\"\")","v":""},{"$f":"IF('Step 3 Product data'!N$17=$A107,$H107,\"\")","v":""},{"$f":"IFERROR(SMALL(S$2:S$224,ROWS(S$2:S107)),\"\")","v":""},{"$f":"IF('Step 3 Product data'!O$17=$A107,$H107,\"\")","v":""},{"$f":"IFERROR(SMALL(U$2:U$224,ROWS(U$2:U107)),\"\")","v":""},{"$f":"IF('Step 3 Product data'!P$17=$A107,$H107,\"\")","v":""},{"$f":"IFERROR(SMALL(W$2:W$224,ROWS(W$2:W107)),\"\")","v":""},{"$f":"IF('Step 3 Product data'!Q$17=$A107,$H107,\"\")","v":""},{"$f":"IFERROR(SMALL(Y$2:Y$224,ROWS(Y$2:Y107)),\"\")","v":""},{"$f":"IF('Step 3 Product data'!R$17=$A107,$H107,\"\")","v":""},{"$f":"IFERROR(SMALL(AA$2:AA$224,ROWS(AA$2:AA107)),\"\")","v":""},{"$f":"IF('Step 3 Product data'!S$17=$A107,$H107,\"\")","v":""},{"$f":"IFERROR(SMALL(AC$2:AC$224,ROWS(AC$2:AC107)),\"\")","v":""},{"$f":"IF('Step 3 Product data'!T$17=$A107,$H107,\"\")","v":""},{"$f":"IFERROR(SMALL(AE$2:AE$224,ROWS(AE$2:AE107)),\"\")","v":""},{"$f":"IF('Step 3 Product data'!U$17=$A107,$H107,\"\")","v":""},{"$f":"IFERROR(SMALL(AG$2:AG$224,ROWS(AG$2:AG107)),\"\")","v":""},{"$f":"IF('Step 3 Product data'!V$17=$A107,$H107,\"\")","v":""},{"$f":"IFERROR(SMALL(AI$2:AI$224,ROWS(AI$2:AI107)),\"\")","v":""},{"$f":"IF('Step 3 Product data'!W$17=$A107,$H107,\"\")","v":""},{"$f":"IFERROR(SMALL(AK$2:AK$224,ROWS(AK$2:AK107)),\"\")","v":""},{"$f":"IF('Step 3 Product data'!X$17=$A107,$H107,\"\")","v":""},{"$f":"IFERROR(SMALL(AM$2:AM$224,ROWS(AM$2:AM107)),\"\")","v":""}]
["Cresols/Cresylic acid (isomers and mixtures)","CAS# 1319773",null,null,null,null,null,{"$f":"ROWS($A$2:A108)","v":107},{"$f":"IF('Step 3 Product data'!I$17=$A108,$H108,\"\")","v":""},{"$f":"IFERROR(SMALL($I$2:$I$224,ROWS($I$2:I108)),\"\")","v":""},{"$f":"IF('Step 3 Product data'!J$17=$A108,$H108,\"\")","v":""},{"$f":"IFERROR(SMALL(K$2:K$224,ROWS(K$2:K108)),\"\")","v":""},{"$f":"IF('Step 3 Product data'!K$17=$A108,$H108,\"\")","v":""},{"$f":"IFERROR(SMALL(M$2:M$224,ROWS(M$2:M108)),\"\")","v":""},{"$f":"IF('Step 3 Product data'!L$17=$A108,$H108,\"\")","v":""},{"$f":"IFERROR(SMALL(O$2:O$224,ROWS(O$2:O108)),\"\")","v":""},{"$f":"IF('Step 3 Product data'!M$17=$A108,$H108,\"\")","v":""},{"$f":"IFERROR(SMALL(Q$2:Q$224,ROWS(Q$2:Q108)),\"\")","v":""},{"$f":"IF('Step 3 Product data'!N$17=$A108,$H108,\"\")","v":""},{"$f":"IFERROR(SMALL(S$2:S$224,ROWS(S$2:S108)),\"\")","v":""},{"$f":"IF('Step 3 Product data'!O$17=$A108,$H108,\"\")","v":""},{"$f":"IFERROR(SMALL(U$2:U$224,ROWS(U$2:U108)),\"\")","v":""},{"$f":"IF('Step 3 Product data'!P$17=$A108,$H108,\"\")","v":""},{"$f":"IFERROR(SMALL(W$2:W$224,ROWS(W$2:W108)),\"\")","v":""},{"$f":"IF('Step 3 Product data'!Q$17=$A108,$H108,\"\")","v":""},{"$f":"IFERROR(SMALL(Y$2:Y$224,ROWS(Y$2:Y108)),\"\")","v":""},{"$f":"IF('Step 3 Product data'!R$17=$A108,$H108,\"\")","v":""},{"$f":"IFERROR(SMALL(AA$2:AA$224,ROWS(AA$2:AA108)),\"\")","v":""},{"$f":"IF('Step 3 Product data'!S$17=$A108,$H108,\"\")","v":""},{"$f":"IFERROR(SMALL(AC$2:AC$224,ROWS(AC$2:AC108)),\"\")","v":""},{"$f":"IF('Step 3 Product data'!T$17=$A108,$H108,\"\")","v":""},{"$f":"IFERROR(SMALL(AE$2:AE$224,ROWS(AE$2:AE108)),\"\")","v":""},{"$f":"IF('Step 3 Product data'!U$17=$A108,$H108,\"\")","v":""},{"$f":"IFERROR(SMALL(AG$2:AG$224,ROWS(AG$2:AG108)),\"\")","v":""},{"$f":"IF('Step 3 Product data'!V$17=$A108,$H108,\"\")","v":""},{"$f":"IFERROR(SMALL(AI$2:AI$224,ROWS(AI$2:AI108)),\"\")","v":""},{"$f":"IF('Step 3 Product data'!W$17=$A108,$H108,\"\")","v":""},{"$f":"IFERROR(SMALL(AK$2:AK$224,ROWS(AK$2:AK108)),\"\")","v":""},{"$f":"IF('Step 3 Product data'!X$17=$A108,$H108,\"\")","v":""},{"$f":"IFERROR(SMALL(AM$2:AM$224,ROWS(AM$2:AM108)),\"\")","v":""}]
["Cumene","CAS# 98828",null,null,null,null,null,{"$f":"ROWS($A$2:A109)","v":108},{"$f":"IF('Step 3 Product data'!I$17=$A109,$H109,\"\")","v":""},{"$f":"IFERROR(SMALL($I$2:$I$224,ROWS($I$2:I109)),\"\")","v":""},{"$f":"IF('Step 3 Product data'!J$17=$A109,$H109,\"\")","v":""},{"$f":"IFERROR(SMALL(K$2:K$224,ROWS(K$2:K109)),\"\")","v":""},{"$f":"IF('Step 3 Product data'!K$17=$A109,$H109,\"\")","v":""},{"$f":"IFERROR(SMALL(M$2:M$224,ROWS(M$2:M109)),\"\")","v":""},{"$f":"IF('Step 3 Product data'!L$17=$A109,$H109,\"\")","v":""},{"$f":"IFERROR(SMALL(O$2:O$224,ROWS(O$2:O109)),\"\")","v":""},{"$f":"IF('Step 3 Product data'!M$17=$A109,$H109,\"\")","v":""},{"$f":"IFERROR(SMALL(Q$2:Q$224,ROWS(Q$2:Q109)),\"\")","v":""},{"$f":"IF('Step 3 Product data'!N$17=$A109,$H109,\"\")","v":""},{"$f":"IFERROR(SMALL(S$2:S$224,ROWS(S$2:S109)),\"\")","v":""},{"$f":"IF('Step 3 Product data'!O$17=$A109,$H109,\"\")","v":""},{"$f":"IFERROR(SMALL(U$2:U$224,ROWS(U$2:U109)),\"\")","v":""},{"$f":"IF('Step 3 Product data'!P$17=$A109,$H109,\"\")","v":""},{"$f":"IFERROR(SMALL(W$2:W$224,ROWS(W$2:W109)),\"\")","v":""},{"$f":"IF('Step 3 Product data'!Q$17=$A109,$H109,\"\")","v":""},{"$f":"IFERROR(SMALL(Y$2:Y$224,ROWS(Y$2:Y109)),\"\")","v":""},{"$f":"IF('Step 3 Product data'!R$17=$A109,$H109,\"\")","v":""},{"$f":"IFERROR(SMALL(AA$2:AA$224,ROWS(AA$2:AA109)),\"\")","v":""},{"$f":"IF('Step 3 Product data'!S$17=$A109,$H109,\"\")","v":""},{"$f":"IFERROR(SMALL(AC$2:AC$224,ROWS(AC$2:AC109)),\"\")","v":""},{"$f":"IF('Step 3 Product data'!T$17=$A109,$H109,\"\")","v":""},{"$f":"IFERROR(SMALL(AE$2:AE$224,ROWS(AE$2:AE109)),\"\")","v":""},{"$f":"IF('Step 3 Product data'!U$17=$A109,$H109,\"\")","v":""},{"$f":"IFERROR(SMALL(AG$2:AG$224,ROWS(AG$2:AG109)),\"\")","v":""},{"$f":"IF('Step 3 Product data'!V$17=$A109,$H109,\"\")","v":""},{"$f":"IFERROR(SMALL(AI$2:AI$224,ROWS(AI$2:AI109)),\"\")","v":""},{"$f":"IF('Step 3 Product data'!W$17=$A109,$H109,\"\")","v":""},{"$f":"IFERROR(SMALL(AK$2:AK$224,ROWS(AK$2:AK109)),\"\")","v":""},{"$f":"IF('Step 3 Product data'!X$17=$A109,$H109,\"\")","v":""},{"$f":"IFERROR(SMALL(AM$2:AM$224,ROWS(AM$2:AM109)),\"\")","v":""}]
["DDE","CAS# 3547044",null,null,null,null,null,{"$f":"ROWS($A$2:A110)","v":109},{"$f":"IF('Step 3 Product data'!I$17=$A110,$H110,\"\")","v":""},{"$f":"IFERROR(SMALL($I$2:$I$224,ROWS($I$2:I110)),\"\")","v":""},{"$f":"IF('Step 3 Product data'!J$17=$A110,$H110,\"\")","v":""},{"$f":"IFERROR(SMALL(K$2:K$224,ROWS(K$2:K110)),\"\")","v":""},{"$f":"IF('Step 3 Product data'!K$17=$A110,$H110,\"\")","v":""},{"$f":"IFERROR(SMALL(M$2:M$224,ROWS(M$2:M110)),\"\")","v":""},{"$f":"IF('Step 3 Product data'!L$17=$A110,$H110,\"\")","v":""},{"$f":"IFERROR(SMALL(O$2:O$224,ROWS(O$2:O110)),\"\")","v":""},{"$f":"IF('Step 3 Product data'!M$17=$A110,$H110,\"\")","v":""},{"$f":"IFERROR(SMALL(Q$2:Q$224,ROWS(Q$2:Q110)),\"\")","v":""},{"$f":"IF('Step 3 Product data'!N$17=$A110,$H110,\"\")","v":""},{"$f":"IFERROR(SMALL(S$2:S$224,ROWS(S$2:S110)),\"\")","v":""},{"$f":"IF('Step 3 Product data'!O$17=$A110,$H110,\"\")","v":""},{"$f":"IFERROR(SMALL(U$2:U$224,ROWS(U$2:U110)),\"\")","v":""},{"$f":"IF('Step 3 Product data'!P$17=$A110,$H110,\"\")","v":""},{"$f":"IFERROR(SMALL(W$2:W$224,ROWS(W$2:W110)),\"\")","v":""},{"$f":"IF('Step 3 Product data'!Q$17=$A110,$H110,\"\")","v":""},{"$f":"IFERROR(SMALL(Y$2:Y$224,ROWS(Y$2:Y110)),\"\")","v":""},{"$f":"IF('Step 3 Product data'!R$17=$A110,$H110,\"\")","v":""},{"$f":"IFERROR(SMALL(AA$2:AA$224,ROWS(AA$2:AA110)),\"\")","v":""},{"$f":"IF('Step 3 Product data'!S$17=$A110,$H110,\"\")","v":""},{"$f":"IFERROR(SMALL(AC$2:AC$224,ROWS(AC$2:AC110)),\"\")","v":""},{"$f":"IF('Step 3 Product data'!T$17=$A110,$H110,\"\")","v":""},{"$f":"IFERROR(SMALL(AE$2:AE$224,ROWS(AE$2:AE110)),\"\")","v":""},{"$f":"IF('Step 3 Product data'!U$17=$A110,$H110,\"\")","v":""},{"$f":"IFERROR(SMALL(AG$2:AG$224,ROWS(AG$2:AG110)),\"\")","v":""},{"$f":"IF('Step 3 Product data'!V$17=$A110,$H110,\"\")","v":""},{"$f":"IFERROR(SMALL(AI$2:AI$224,ROWS(AI$2:AI110)),\"\")","v":""},{"$f":"IF('Step 3 Product data'!W$17=$A110,$H110,\"\")","v":""},{"$f":"IFERROR(SMALL(AK$2:AK$224,ROWS(AK$2:AK110)),\"\")","v":""},{"$f":"IF('Step 3 Product data'!X$17=$A110,$H110,\"\")","v":""},{"$f":"IFERROR(SMALL(AM$2:AM$224,ROWS(AM$2:AM110)),\"\")","v":""}]
["Diazomethane","CAS# 334883",null,null,null,null,null,{"$f":"ROWS($A$2:A111)","v":110},{"$f":"IF('Step 3 Product data'!I$17=$A111,$H111,\"\")","v":""},{"$f":"IFERROR(SMALL($I$2:$I$224,ROWS($I$2:I111)),\"\")","v":""},{"$f":"IF('Step 3 Product data'!J$17=$A111,$H111,\"\")","v":""},{"$f":"IFERROR(SMALL(K$2:K$224,ROWS(K$2:K111)),\"\")","v":""},{"$f":"IF('Step 3 Product data'!K$17=$A111,$H111,\"\")","v":""},{"$f":"IFERROR(SMALL(M$2:M$224,ROWS(M$2:M111)),\"\")","v":""},{"$f":"IF('Step 3 Product data'!L$17=$A111,$H111,\"\")","v":""},{"$f":"IFERROR(SMALL(O$2:O$224,ROWS(O$2:O111)),\"\")","v":""},{"$f":"IF('Step 3 Product data'!M$17=$A111,$H111,\"\")","v":""},{"$f":"IFERROR(SMALL(Q$2:Q$224,ROWS(Q$2:Q111)),\"\")","v":""},{"$f":"IF('Step 3 Product data'!N$17=$A111,$H111,\"\")","v":""},{"$f":"IFERROR(SMALL(S$2:S$224,ROWS(S$2:S111)),\"\")","v":""},{"$f":"IF('Step 3 Product data'!O$17=$A111,$H111,\"\")","v":""},{"$f":"IFERROR(SMALL(U$2:U$224,ROWS(U$2:U111)),\"\")","v":""},{"$f":"IF('Step 3 Product data'!P$17=$A111,$H111,\"\")","v":""},{"$f":"IFERROR(SMALL(W$2:W$224,ROWS(W$2:W111)),\"\")","v":""},{"$f":"IF('Step 3 Product data'!Q$17=$A111,$H111,\"\")","v":""},{"$f":"IFERROR(SMALL(Y$2:Y$224,ROWS(Y$2:Y111)),\"\")","v":""},{"$f":"IF('Step 3 Product data'!R$17=$A111,$H111,\"\")","v":""},{"$f":"IFERROR(SMALL(AA$2:AA$224,ROWS(AA$2:AA111)),\"\")","v":""},{"$f":"IF('Step 3 Product data'!S$17=$A111,$H111,\"\")","v":""},{"$f":"IFERROR(SMALL(AC$2:AC$224,ROWS(AC$2:AC111)),\"\")","v":""},{"$f":"IF('Step 3 Product data'!T$17=$A111,$H111,\"\")","v":""},{"$f":"IFERROR(SMALL(AE$2:AE$224,ROWS(AE$2:AE111)),\"\")","v":""},{"$f":"IF('Step 3 Product data'!U$17=$A111,$H111,\"\")","v":""},{"$f":"IFERROR(SMALL(AG$2:AG$224,ROWS(AG$2:AG111)),\"\")","v":""},{"$f":"IF('Step 3 Product data'!V$17=$A111,$H111,\"\")","v":""},{"$f":"IFERROR(SMALL(AI$2:AI$224,ROWS(AI$2:AI111)),\"\")","v":""},{"$f":"IF('Step 3 Product data'!W$17=$A111,$H111,\"\")","v":""},{"$f":"IFERROR(SMALL(AK$2:AK$224,ROWS(AK$2:AK111)),\"\")","v":""},{"$f":"IF('Step 3 Product data'!X$17=$A111,$H111,\"\")","v":""},{"$f":"IFERROR(SMALL(AM$2:AM$224,ROWS(AM$2:AM111)),\"\")","v":""}]
["Dibenzofurans","CAS# 132649",null,null,null,null,null,{"$f":"ROWS($A$2:A112)","v":111},{"$f":"IF('Step 3 Product data'!I$17=$A112,$H112,\"\")","v":""},{"$f":"IFERROR(SMALL($I$2:$I$224,ROWS($I$2:I112)),\"\")","v":""},{"$f":"IF('Step 3 Product data'!J$17=$A112,$H112,\"\")","v":""},{"$f":"IFERROR(SMALL(K$2:K$224,ROWS(K$2:K112)),\"\")","v":""},{"$f":"IF('Step 3 Product data'!K$17=$A112,$H112,\"\")","v":""},{"$f":"IFERROR(SMALL(M$2:M$224,ROWS(M$2:M112)),\"\")","v":""},{"$f":"IF('Step 3 Product data'!L$17=$A112,$H112,\"\")","v":""},{"$f":"IFERROR(SMALL(O$2:O$224,ROWS(O$2:O112)),\"\")","v":""},{"$f":"IF('Step 3 Product data'!M$17=$A112,$H112,\"\")","v":""},{"$f":"IFERROR(SMALL(Q$2:Q$224,ROWS(Q$2:Q112)),\"\")","v":""},{"$f":"IF('Step 3 Product data'!N$17=$A112,$H112,\"\")","v":""},{"$f":"IFERROR(SMALL(S$2:S$224,ROWS(S$2:S112)),\"\")","v":""},{"$f":"IF('Step 3 Product data'!O$17=$A112,$H112,\"\")","v":""},{"$f":"IFERROR(SMALL(U$2:U$224,ROWS(U$2:U112)),\"\")","v":""},{"$f":"IF('Step 3 Product data'!P$17=$A112,$H112,\"\")","v":""},{"$f":"IFERROR(SMALL(W$2:W$224,ROWS(W$2:W112)),\"\")","v":""},{"$f":"IF('Step 3 Product data'!Q$17=$A112,$H112,\"\")","v":""},{"$f":"IFERROR(SMALL(Y$2:Y$224,ROWS(Y$2:Y112)),\"\")","v":""},{"$f":"IF('Step 3 Product data'!R$17=$A112,$H112,\"\")","v":""},{"$f":"IFERROR(SMALL(AA$2:AA$224,ROWS(AA$2:AA112)),\"\")","v":""},{"$f":"IF('Step 3 Product data'!S$17=$A112,$H112,\"\")","v":""},{"$f":"IFERROR(SMALL(AC$2:AC$224,ROWS(AC$2:AC112)),\"\")","v":""},{"$f":"IF('Step 3 Product data'!T$17=$A112,$H112,\"\")","v":""},{"$f":"IFERROR(SMALL(AE$2:AE$224,ROWS(AE$2:AE112)),\"\")","v":""},{"$f":"IF('Step 3 Product data'!U$17=$A112,$H112,\"\")","v":""},{"$f":"IFERROR(SMALL(AG$2:AG$224,ROWS(AG$2:AG112)),\"\")","v":""},{"$f":"IF('Step 3 Product data'!V$17=$A112,$H112,\"\")","v":""},{"$f":"IFERROR(SMALL(AI$2:AI$224,ROWS(AI$2:AI112)),\"\")","v":""},{"$f":"IF('Step 3 Product data'!W$17=$A112,$H112,\"\")","v":""},{"$f":"IFERROR(SMALL(AK$2:AK$224,ROWS(AK$2:AK112)),\"\")","v":""},{"$f":"IF('Step 3 Product data'!X$17=$A112,$H112,\"\")","v":""},{"$f":"IFERROR(SMALL(AM$2:AM$224,ROWS(AM$2:AM112)),\"\")","v":""}]
["Dibutyl phthalate","CAS# 84742",null,null,null,null,null,{"$f":"ROWS($A$2:A113)","v":112},{"$f":"IF('Step 3 Product data'!I$17=$A113,$H113,\"\")","v":""},{"$f":"IFERROR(SMALL($I$2:$I$224,ROWS($I$2:I113)),\"\")","v":""},{"$f":"IF('Step 3 Product data'!J$17=$A113,$H113,\"\")","v":""},{"$f":"IFERROR(SMALL(K$2:K$224,ROWS(K$2:K113)),\"\")","v":""},{"$f":"IF('Step 3 Product data'!K$17=$A113,$H113,\"\")","v":""},{"$f":"IFERROR(SMALL(M$2:M$224,ROWS(M$2:M113)),\"\")","v":""},{"$f":"IF('Step 3 Product data'!L$17=$A113,$H113,\"\")","v":""},{"$f":"IFERROR(SMALL(O$2:O$224,ROWS(O$2:O113)),\"\")","v":""},{"$f":"IF('Step 3 Product data'!M$17=$A113,$H113,\"\")","v":""},{"$f":"IFERROR(SMALL(Q$2:Q$224,ROWS(Q$2:Q113)),\"\")","v":""},{"$f":"IF('Step 3 Product data'!N$17=$A113,$H113,\"\")","v":""},{"$f":"IFERROR(SMALL(S$2:S$224,ROWS(S$2:S113)),\"\")","v":""},{"$f":"IF('Step 3 Product data'!O$17=$A113,$H113,\"\")","v":""},{"$f":"IFERROR(SMALL(U$2:U$224,ROWS(U$2:U113)),\"\")","v":""},{"$f":"IF('Step 3 Product data'!P$17=$A113,$H113,\"\")","v":""},{"$f":"IFERROR(SMALL(W$2:W$224,ROWS(W$2:W113)),\"\")","v":""},{"$f":"IF('Step 3 Product data'!Q$17=$A113,$H113,\"\")","v":""},{"$f":"IFERROR(SMALL(Y$2:Y$224,ROWS(Y$2:Y113)),\"\")","v":""},{"$f":"IF('Step 3 Product data'!R$17=$A113,$H113,\"\")","v":""},{"$f":"IFERROR(SMALL(AA$2:AA$224,ROWS(AA$2:AA113)),\"\")","v":""},{"$f":"IF('Step 3 Product data'!S$17=$A113,$H113,\"\")","v":""},{"$f":"IFERROR(SMALL(AC$2:AC$224,ROWS(AC$2:AC113)),\"\")","v":""},{"$f":"IF('Step 3 Product data'!T$17=$A113,$H113,\"\")","v":""},{"$f":"IFERROR(SMALL(AE$2:AE$224,ROWS(AE$2:AE113)),\"\")","v":""},{"$f":"IF('Step 3 Product data'!U$17=$A113,$H113,\"\")","v":""},{"$f":"IFERROR(SMALL(AG$2:AG$224,ROWS(AG$2:AG113)),\"\")","v":""},{"$f":"IF('Step 3 Product data'!V$17=$A113,$H113,\"\")","v":""},{"$f":"IFERROR(SMALL(AI$2:AI$224,ROWS(AI$2:AI113)),\"\")","v":""},{"$f":"IF('Step 3 Product data'!W$17=$A113,$H113,\"\")","v":""},{"$f":"IFERROR(SMALL(AK$2:AK$224,ROWS(AK$2:AK113)),\"\")","v":""},{"$f":"IF('Step 3 Product data'!X$17=$A113,$H113,\"\")","v":""},{"$f":"IFERROR(SMALL(AM$2:AM$224,ROWS(AM$2:AM113)),\"\")","v":""}]
["Dichloroethyl ether (Bis (2-chloroethyl) ether)","CAS# 111444",null,null,null,null,null,{"$f":"ROWS($A$2:A114)","v":113},{"$f":"IF('Step 3 Product data'!I$17=$A114,$H114,\"\")","v":""},{"$f":"IFERROR(SMALL($I$2:$I$224,ROWS($I$2:I114)),\"\")","v":""},{"$f":"IF('Step 3 Product data'!J$17=$A114,$H114,\"\")","v":""},{"$f":"IFERROR(SMALL(K$2:K$224,ROWS(K$2:K114)),\"\")","v":""},{"$f":"IF('Step 3 Product data'!K$17=$A114,$H114,\"\")","v":""},{"$f":"IFERROR(SMALL(M$2:M$224,ROWS(M$2:M114)),\"\")","v":""},{"$f":"IF('Step 3 Product data'!L$17=$A114,$H114,\"\")","v":""},{"$f":"IFERROR(SMALL(O$2:O$224,ROWS(O$2:O114)),\"\")","v":""},{"$f":"IF('Step 3 Product data'!M$17=$A114,$H114,\"\")","v":""},{"$f":"IFERROR(SMALL(Q$2:Q$224,ROWS(Q$2:Q114)),\"\")","v":""},{"$f":"IF('Step 3 Product data'!N$17=$A114,$H114,\"\")","v":""},{"$f":"IFERROR(SMALL(S$2:S$224,ROWS(S$2:S114)),\"\")","v":""},{"$f":"IF('Step 3 Product data'!O$17=$A114,$H114,\"\")","v":""},{"$f":"IFERROR(SMALL(U$2:U$224,ROWS(U$2:U114)),\"\")","v":""},{"$f":"IF('Step 3 Product data'!P$17=$A114,$H114,\"\")","v":""},{"$f":"IFERROR(SMALL(W$2:W$224,ROWS(W$2:W114)),\"\")","v":""},{"$f":"IF('Step 3 Product data'!Q$17=$A114,$H114,\"\")","v":""},{"$f":"IFERROR(SMALL(Y$2:Y$224,ROWS(Y$2:Y114)),\"\")","v":""},{"$f":"IF('Step 3 Product data'!R$17=$A114,$H114,\"\")","v":""},{"$f":"IFERROR(SMALL(AA$2:AA$224,ROWS(AA$2:AA114)),\"\")","v":""},{"$f":"IF('Step 3 Product data'!S$17=$A114,$H114,\"\")","v":""},{"$f":"IFERROR(SMALL(AC$2:AC$224,ROWS(AC$2:AC114)),\"\")","v":""},{"$f":"IF('Step 3 Product data'!T$17=$A114,$H114,\"\")","v":""},{"$f":"IFERROR(SMALL(AE$2:AE$224,ROWS(AE$2:AE114)),\"\")","v":""},{"$f":"IF('Step 3 Product data'!U$17=$A114,$H114,\"\")","v":""},{"$f":"IFERROR(SMALL(AG$2:AG$224,ROWS(AG$2:AG114)),\"\")","v":""},{"$f":"IF('Step 3 Product data'!V$17=$A114,$H114,\"\")","v":""},{"$f":"IFERROR(SMALL(AI$2:AI$224,ROWS(AI$2:AI114)),\"\")","v":""},{"$f":"IF('Step 3 Product data'!W$17=$A114,$H114,\"\")","v":""},{"$f":"IFERROR(SMALL(AK$2:AK$224,ROWS(AK$2:AK114)),\"\")","v":""},{"$f":"IF('Step 3 Product data'!X$17=$A114,$H114,\"\")","v":""},{"$f":"IFERROR(SMALL(AM$2:AM$224,ROWS(AM$2:AM114)),\"\")","v":""}]
["Dichlorovos","CAS# 62737",null,null,null,null,null,{"$f":"ROWS($A$2:A115)","v":114},{"$f":"IF('Step 3 Product data'!I$17=$A115,$H115,\"\")","v":""},{"$f":"IFERROR(SMALL($I$2:$I$224,ROWS($I$2:I115)),\"\")","v":""},{"$f":"IF('Step 3 Product data'!J$17=$A115,$H115,\"\")","v":""},{"$f":"IFERROR(SMALL(K$2:K$224,ROWS(K$2:K115)),\"\")","v":""},{"$f":"IF('Step 3 Product data'!K$17=$A115,$H115,\"\")","v":""},{"$f":"IFERROR(SMALL(M$2:M$224,ROWS(M$2:M115)),\"\")","v":""},{"$f":"IF('Step 3 Product data'!L$17=$A115,$H115,\"\")","v":""},{"$f":"IFERROR(SMALL(O$2:O$224,ROWS(O$2:O115)),\"\")","v":""},{"$f":"IF('Step 3 Product data'!M$17=$A115,$H115,\"\")","v":""},{"$f":"IFERROR(SMALL(Q$2:Q$224,ROWS(Q$2:Q115)),\"\")","v":""},{"$f":"IF('Step 3 Product data'!N$17=$A115,$H115,\"\")","v":""},{"$f":"IFERROR(SMALL(S$2:S$224,ROWS(S$2:S115)),\"\")","v":""},{"$f":"IF('Step 3 Product data'!O$17=$A115,$H115,\"\")","v":""},{"$f":"IFERROR(SMALL(U$2:U$224,ROWS(U$2:U115)),\"\")","v":""},{"$f":"IF('Step 3 Product data'!P$17=$A115,$H115,\"\")","v":""},{"$f":"IFERROR(SMALL(W$2:W$224,ROWS(W$2:W115)),\"\")","v":""},{"$f":"IF('Step 3 Product data'!Q$17=$A115,$H115,\"\")","v":""},{"$f":"IFERROR(SMALL(Y$2:Y$224,ROWS(Y$2:Y115)),\"\")","v":""},{"$f":"IF('Step 3 Product data'!R$17=$A115,$H115,\"\")","v":""},{"$f":"IFERROR(SMALL(AA$2:AA$224,ROWS(AA$2:AA115)),\"\")","v":""},{"$f":"IF('Step 3 Product data'!S$17=$A115,$H115,\"\")","v":""},{"$f":"IFERROR(SMALL(AC$2:AC$224,ROWS(AC$2:AC115)),\"\")","v":""},{"$f":"IF('Step 3 Product data'!T$17=$A115,$H115,\"\")","v":""},{"$f":"IFERROR(SMALL(AE$2:AE$224,ROWS(AE$2:AE115)),\"\")","v":""},{"$f":"IF('Step 3 Product data'!U$17=$A115,$H115,\"\")","v":""},{"$f":"IFERROR(SMALL(AG$2:AG$224,ROWS(AG$2:AG115)),\"\")","v":""},{"$f":"IF('Step 3 Product data'!V$17=$A115,$H115,\"\")","v":""},{"$f":"IFERROR(SMALL(AI$2:AI$224,ROWS(AI$2:AI115)),\"\")","v":""},{"$f":"IF('Step 3 Product data'!W$17=$A115,$H115,\"\")","v":""},{"$f":"IFERROR(SMALL(AK$2:AK$224,ROWS(AK$2:AK115)),\"\")","v":""},{"$f":"IF('Step 3 Product data'!X$17=$A115,$H115,\"\")","v":""},{"$f":"IFERROR(SMALL(AM$2:AM$224,ROWS(AM$2:AM115)),\"\")","v":""}]
["Diethanolamine","CAS# 111422",null,null,null,null,null,{"$f":"ROWS($A$2:A116)","v":115},{"$f":"IF('Step 3 Product data'!I$17=$A116,$H116,\"\")","v":""},{"$f":"IFERROR(SMALL($I$2:$I$224,ROWS($I$2:I116)),\"\")","v":""},{"$f":"IF('Step 3 Product data'!J$17=$A116,$H116,\"\")","v":""},{"$f":"IFERROR(SMALL(K$2:K$224,ROWS(K$2:K116)),\"\")","v":""},{"$f":"IF('Step 3 Product data'!K$17=$A116,$H116,\"\")","v":""},{"$f":"IFERROR(SMALL(M$2:M$224,ROWS(M$2:M116)),\"\")","v":""},{"$f":"IF('Step 3 Product data'!L$17=$A116,$H116,\"\")","v":""},{"$f":"IFERROR(SMALL(O$2:O$224,ROWS(O$2:O116)),\"\")","v":""},{"$f":"IF('Step 3 Product data'!M$17=$A116,$H116,\"\")","v":""},{"$f":"IFERROR(SMALL(Q$2:Q$224,ROWS(Q$2:Q116)),\"\")","v":""},{"$f":"IF('Step 3 Product data'!N$17=$A116,$H116,\"\")","v":""},{"$f":"IFERROR(SMALL(S$2:S$224,ROWS(S$2:S116)),\"\")","v":""},{"$f":"IF('Step 3 Product data'!O$17=$A116,$H116,\"\")","v":""},{"$f":"IFERROR(SMALL(U$2:U$224,ROWS(U$2:U116)),\"\")","v":""},{"$f":"IF('Step 3 Product data'!P$17=$A116,$H116,\"\")","v":""},{"$f":"IFERROR(SMALL(W$2:W$224,ROWS(W$2:W116)),\"\")","v":""},{"$f":"IF('Step 3 Product data'!Q$17=$A116,$H116,\"\")","v":""},{"$f":"IFERROR(SMALL(Y$2:Y$224,ROWS(Y$2:Y116)),\"\")","v":""},{"$f":"IF('Step 3 Product data'!R$17=$A116,$H116,\"\")","v":""},{"$f":"IFERROR(SMALL(AA$2:AA$224,ROWS(AA$2:AA116)),\"\")","v":""},{"$f":"IF('Step 3 Product data'!S$17=$A116,$H116,\"\")","v":""},{"$f":"IFERROR(SMALL(AC$2:AC$224,ROWS(AC$2:AC116)),\"\")","v":""},{"$f":"IF('Step 3 Product data'!T$17=$A116,$H116,\"\")","v":""},{"$f":"IFERROR(SMALL(AE$2:AE$224,ROWS(AE$2:AE116)),\"\")","v":""},{"$f":"IF('Step 3 Product data'!U$17=$A116,$H116,\"\")","v":""},{"$f":"IFERROR(SMALL(AG$2:AG$224,ROWS(AG$2:AG116)),\"\")","v":""},{"$f":"IF('Step 3 Product data'!V$17=$A116,$H116,\"\")","v":""},{"$f":"IFERROR(SMALL(AI$2:AI$224,ROWS(AI$2:AI116)),\"\")","v":""},{"$f":"IF('Step 3 Product data'!W$17=$A116,$H116,\"\")","v":""},{"$f":"IFERROR(SMALL(AK$2:AK$224,ROWS(AK$2:AK116)),\"\")","v":""},{"$f":"IF('Step 3 Product data'!X$17=$A116,$H116,\"\")","v":""},{"$f":"IFERROR(SMALL(AM$2:AM$224,ROWS(AM$2:AM116)),\"\")","v":""}]
["Diethyl sulfate","CAS# 64675",null,null,null,null,null,{"$f":"ROWS($A$2:A117)","v":116},{"$f":"IF('Step 3 Product data'!I$17=$A117,$H117,\"\")","v":""},{"$f":"IFERROR(SMALL($I$2:$I$224,ROWS($I$2:I117)),\"\")","v":""},{"$f":"IF('Step 3 Product data'!J$17=$A117,$H117,\"\")","v":""},{"$f":"IFERROR(SMALL(K$2:K$224,ROWS(K$2:K117)),\"\")","v":""},{"$f":"IF('Step 3 Product data'!K$17=$A117,$H117,\"\")","v":""},{"$f":"IFERROR(SMALL(M$2:M$224,ROWS(M$2:M117)),\"\")","v":""},{"$f":"IF('Step 3 Product data'!L$17=$A117,$H117,\"\")","v":""},{"$f":"IFERROR(SMALL(O$2:O$224,ROWS(O$2:O117)),\"\")","v":""},{"$f":"IF('Step 3 Product data'!M$17=$A117,$H117,\"\")","v":""},{"$f":"IFERROR(SMALL(Q$2:Q$224,ROWS(Q$2:Q117)),\"\")","v":""},{"$f":"IF('Step 3 Product data'!N$17=$A117,$H117,\"\")","v":""},{"$f":"IFERROR(SMALL(S$2:S$224,ROWS(S$2:S117)),\"\")","v":""},{"$f":"IF('Step 3 Product data'!O$17=$A117,$H117,\"\")","v":""},{"$f":"IFERROR(SMALL(U$2:U$224,ROWS(U$2:U117)),\"\")","v":""},{"$f":"IF('Step 3 Product data'!P$17=$A117,$H117,\"\")","v":""},{"$f":"IFERROR(SMALL(W$2:W$224,ROWS(W$2:W117)),\"\")","v":""},{"$f":"IF('Step 3 Product data'!Q$17=$A117,$H117,\"\")","v":""},{"$f":"IFERROR(SMALL(Y$2:Y$224,ROWS(Y$2:Y117)),\"\")","v":""},{"$f":"IF('Step 3 Product data'!R$17=$A117,$H117,\"\")","v":""},{"$f":"IFERROR(SMALL(AA$2:AA$224,ROWS(AA$2:AA117)),\"\")","v":""},{"$f":"IF('Step 3 Product data'!S$17=$A117,$H117,\"\")","v":""},{"$f":"IFERROR(SMALL(AC$2:AC$224,ROWS(AC$2:AC117)),\"\")","v":""},{"$f":"IF('Step 3 Product data'!T$17=$A117,$H117,\"\")","v":""},{"$f":"IFERROR(SMALL(AE$2:AE$224,ROWS(AE$2:AE117)),\"\")","v":""},{"$f":"IF('Step 3 Product data'!U$17=$A117,$H117,\"\")","v":""},{"$f":"IFERROR(SMALL(AG$2:AG$224,ROWS(AG$2:AG117)),\"\")","v":""},{"$f":"IF('Step 3 Product data'!V$17=$A117,$H117,\"\")","v":""},{"$f":"IFERROR(SMALL(AI$2:AI$224,ROWS(AI$2:AI117)),\"\")","v":""},{"$f":"IF('Step 3 Product data'!W$17=$A117,$H117,\"\")","v":""},{"$f":"IFERROR(SMALL(AK$2:AK$224,ROWS(AK$2:AK117)),\"\")","v":""},{"$f":"IF('Step 3 Product data'!X$17=$A117,$H117,\"\")","v":""},{"$f":"IFERROR(SMALL(AM$2:AM$224,ROWS(AM$2:AM117)),\"\")","v":""}]
["Dimethyl aminoazobenzene","CAS# 60117",null,null,null,null,null,{"$f":"ROWS($A$2:A118)","v":117},{"$f":"IF('Step 3 Product data'!I$17=$A118,$H118,\"\")","v":""},{"$f":"IFERROR(SMALL($I$2:$I$224,ROWS($I$2:I118)),\"\")","v":""},{"$f":"IF('Step 3 Product data'!J$17=$A118,$H118,\"\")","v":""},{"$f":"IFERROR(SMALL(K$2:K$224,ROWS(K$2:K118)),\"\")","v":""},{"$f":"IF('Step 3 Product data'!K$17=$A118,$H118,\"\")","v":""},{"$f":"IFERROR(SMALL(M$2:M$224,ROWS(M$2:M118)),\"\")","v":""},{"$f":"IF('Step 3 Product data'!L$17=$A118,$H118,\"\")","v":""},{"$f":"IFERROR(SMALL(O$2:O$224,ROWS(O$2:O118)),\"\")","v":""},{"$f":"IF('Step 3 Product data'!M$17=$A118,$H118,\"\")","v":""},{"$f":"IFERROR(SMALL(Q$2:Q$224,ROWS(Q$2:Q118)),\"\")","v":""},{"$f":"IF('Step 3 Product data'!N$17=$A118,$H118,\"\")","v":""},{"$f":"IFERROR(SMALL(S$2:S$224,ROWS(S$2:S118)),\"\")","v":""},{"$f":"IF('Step 3 Product data'!O$17=$A118,$H118,\"\")","v":""},{"$f":"IFERROR(SMALL(U$2:U$224,ROWS(U$2:U118)),\"\")","v":""},{"$f":"IF('Step 3 Product data'!P$17=$A118,$H118,\"\")","v":""},{"$f":"IFERROR(SMALL(W$2:W$224,ROWS(W$2:W118)),\"\")","v":""},{"$f":"IF('Step 3 Product data'!Q$17=$A118,$H118,\"\")","v":""},{"$f":"IFERROR(SMALL(Y$2:Y$224,ROWS(Y$2:Y118)),\"\")","v":""},{"$f":"IF('Step 3 Product data'!R$17=$A118,$H118,\"\")","v":""},{"$f":"IFERROR(SMALL(AA$2:AA$224,ROWS(AA$2:AA118)),\"\")","v":""},{"$f":"IF('Step 3 Product data'!S$17=$A118,$H118,\"\")","v":""},{"$f":"IFERROR(SMALL(AC$2:AC$224,ROWS(AC$2:AC118)),\"\")","v":""},{"$f":"IF('Step 3 Product data'!T$17=$A118,$H118,\"\")","v":""},{"$f":"IFERROR(SMALL(AE$2:AE$224,ROWS(AE$2:AE118)),\"\")","v":""},{"$f":"IF('Step 3 Product data'!U$17=$A118,$H118,\"\")","v":""},{"$f":"IFERROR(SMALL(AG$2:AG$224,ROWS(AG$2:AG118)),\"\")","v":""},{"$f":"IF('Step 3 Product data'!V$17=$A118,$H118,\"\")","v":""},{"$f":"IFERROR(SMALL(AI$2:AI$224,ROWS(AI$2:AI118)),\"\")","v":""},{"$f":"IF('Step 3 Product data'!W$17=$A118,$H118,\"\")","v":""},{"$f":"IFERROR(SMALL(AK$2:AK$224,ROWS(AK$2:AK118)),\"\")","v":""},{"$f":"IF('Step 3 Product data'!X$17=$A118,$H118,\"\")","v":""},{"$f":"IFERROR(SMALL(AM$2:AM$224,ROWS(AM$2:AM118)),\"\")","v":""}]
["Dimethyl carbamoyl chloride","CAS# 79447",null,null,null,null,null,{"$f":"ROWS($A$2:A119)","v":118},{"$f":"IF('Step 3 Product data'!I$17=$A119,$H119,\"\")","v":""},{"$f":"IFERROR(SMALL($I$2:$I$224,ROWS($I$2:I119)),\"\")","v":""},{"$f":"IF('Step 3 Product data'!J$17=$A119,$H119,\"\")","v":""},{"$f":"IFERROR(SMALL(K$2:K$224,ROWS(K$2:K119)),\"\")","v":""},{"$f":"IF('Step 3 Product data'!K$17=$A119,$H119,\"\")","v":""},{"$f":"IFERROR(SMALL(M$2:M$224,ROWS(M$2:M119)),\"\")","v":""},{"$f":"IF('Step 3 Product data'!L$17=$A119,$H119,\"\")","v":""},{"$f":"IFERROR(SMALL(O$2:O$224,ROWS(O$2:O119)),\"\")","v":""},{"$f":"IF('Step 3 Product data'!M$17=$A119,$H119,\"\")","v":""},{"$f":"IFERROR(SMALL(Q$2:Q$224,ROWS(Q$2:Q119)),\"\")","v":""},{"$f":"IF('Step 3 Product data'!N$17=$A119,$H119,\"\")","v":""},{"$f":"IFERROR(SMALL(S$2:S$224,ROWS(S$2:S119)),\"\")","v":""},{"$f":"IF('Step 3 Product data'!O$17=$A119,$H119,\"\")","v":""},{"$f":"IFERROR(SMALL(U$2:U$224,ROWS(U$2:U119)),\"\")","v":""},{"$f":"IF('Step 3 Product data'!P$17=$A119,$H119,\"\")","v":""},{"$f":"IFERROR(SMALL(W$2:W$224,ROWS(W$2:W119)),\"\")","v":""},{"$f":"IF('Step 3 Product data'!Q$17=$A119,$H119,\"\")","v":""},{"$f":"IFERROR(SMALL(Y$2:Y$224,ROWS(Y$2:Y119)),\"\")","v":""},{"$f":"IF('Step 3 Product data'!R$17=$A119,$H119,\"\")","v":""},{"$f":"IFERROR(SMALL(AA$2:AA$224,ROWS(AA$2:AA119)),\"\")","v":""},{"$f":"IF('Step 3 Product data'!S$17=$A119,$H119,\"\")","v":""},{"$f":"IFERROR(SMALL(AC$2:AC$224,ROWS(AC$2:AC119)),\"\")","v":""},{"$f":"IF('Step 3 Product data'!T$17=$A119,$H119,\"\")","v":""},{"$f":"IFERROR(SMALL(AE$2:AE$224,ROWS(AE$2:AE119)),\"\")","v":""},{"$f":"IF('Step 3 Product data'!U$17=$A119,$H119,\"\")","v":""},{"$f":"IFERROR(SMALL(AG$2:AG$224,ROWS(AG$2:AG119)),\"\")","v":""},{"$f":"IF('Step 3 Product data'!V$17=$A119,$H119,\"\")","v":""},{"$f":"IFERROR(SMALL(AI$2:AI$224,ROWS(AI$2:AI119)),\"\")","v":""},{"$f":"IF('Step 3 Product data'!W$17=$A119,$H119,\"\")","v":""},{"$f":"IFERROR(SMALL(AK$2:AK$224,ROWS(AK$2:AK119)),\"\")","v":""},{"$f":"IF('Step 3 Product data'!X$17=$A119,$H119,\"\")","v":""},{"$f":"IFERROR(SMALL(AM$2:AM$224,ROWS(AM$2:AM119)),\"\")","v":""}]
["Dimethyl formamide","CAS# 68122",null,null,null,null,null,{"$f":"ROWS($A$2:A120)","v":119},{"$f":"IF('Step 3 Product data'!I$17=$A120,$H120,\"\")","v":""},{"$f":"IFERROR(SMALL($I$2:$I$224,ROWS($I$2:I120)),\"\")","v":""},{"$f":"IF('Step 3 Product data'!J$17=$A120,$H120,\"\")","v":""},{"$f":"IFERROR(SMALL(K$2:K$224,ROWS(K$2:K120)),\"\")","v":""},{"$f":"IF('Step 3 Product data'!K$17=$A120,$H120,\"\")","v":""},{"$f":"IFERROR(SMALL(M$2:M$224,ROWS(M$2:M120)),\"\")","v":""},{"$f":"IF('Step 3 Product data'!L$17=$A120,$H120,\"\")","v":""},{"$f":"IFERROR(SMALL(O$2:O$224,ROWS(O$2:O120)),\"\")","v":""},{"$f":"IF('Step 3 Product data'!M$17=$A120,$H120,\"\")","v":""},{"$f":"IFERROR(SMALL(Q$2:Q$224,ROWS(Q$2:Q120)),\"\")","v":""},{"$f":"IF('Step 3 Product data'!N$17=$A120,$H120,\"\")","v":""},{"$f":"IFERROR(SMALL(S$2:S$224,ROWS(S$2:S120)),\"\")","v":""},{"$f":"IF('Step 3 Product data'!O$17=$A120,$H120,\"\")","v":""},{"$f":"IFERROR(SMALL(U$2:U$224,ROWS(U$2:U120)),\"\")","v":""},{"$f":"IF('Step 3 Product data'!P$17=$A120,$H120,\"\")","v":""},{"$f":"IFERROR(SMALL(W$2:W$224,ROWS(W$2:W120)),\"\")","v":""},{"$f":"IF('Step 3 Product data'!Q$17=$A120,$H120,\"\")","v":""},{"$f":"IFERROR(SMALL(Y$2:Y$224,ROWS(Y$2:Y120)),\"\")","v":""},{"$f":"IF('Step 3 Product data'!R$17=$A120,$H120,\"\")","v":""},{"$f":"IFERROR(SMALL(AA$2:AA$224,ROWS(AA$2:AA120)),\"\")","v":""},{"$f":"IF('Step 3 Product data'!S$17=$A120,$H120,\"\")","v":""},{"$f":"IFERROR(SMALL(AC$2:AC$224,ROWS(AC$2:AC120)),\"\")","v":""},{"$f":"IF('Step 3 Product data'!T$17=$A120,$H120,\"\")","v":""},{"$f":"IFERROR(SMALL(AE$2:AE$224,ROWS(AE$2:AE120)),\"\")","v":""},{"$f":"IF('Step 3 Product data'!U$17=$A120,$H120,\"\")","v":""},{"$f":"IFERROR(SMALL(AG$2:AG$224,ROWS(AG$2:AG120)),\"\")","v":""},{"$f":"IF('Step 3 Product data'!V$17=$A120,$H120,\"\")","v":""},{"$f":"IFERROR(SMALL(AI$2:AI$224,ROWS(AI$2:AI120)),\"\")","v":""},{"$f":"IF('Step 3 Product data'!W$17=$A120,$H120,\"\")","v":""},{"$f":"IFERROR(SMALL(AK$2:AK$224,ROWS(AK$2:AK120)),\"\")","v":""},{"$f":"IF('Step 3 Product data'!X$17=$A120,$H120,\"\")","v":""},{"$f":"IFERROR(SMALL(AM$2:AM$224,ROWS(AM$2:AM120)),\"\")","v":""}]
["Dimethyl phthalate","CAS# 131113",null,null,null,null,null,{"$f":"ROWS($A$2:A121)","v":120},{"$f":"IF('Step 3 Product data'!I$17=$A121,$H121,\"\")","v":""},{"$f":"IFERROR(SMALL($I$2:$I$224,ROWS($I$2:I121)),\"\")","v":""},{"$f":"IF('Step 3 Product data'!J$17=$A121,$H121,\"\")","v":""},{"$f":"IFERROR(SMALL(K$2:K$224,ROWS(K$2:K121)),\"\")","v":""},{"$f":"IF('Step 3 Product data'!K$17=$A121,$H121,\"\")","v":""},{"$f":"IFERROR(SMALL(M$2:M$224,ROWS(M$2:M121)),\"\")","v":""},{"$f":"IF('Step 3 Product data'!L$17=$A121,$H121,\"\")","v":""},{"$f":"IFERROR(SMALL(O$2:O$224,ROWS(O$2:O121)),\"\")","v":""},{"$f":"IF('Step 3 Product data'!M$17=$A121,$H121,\"\")","v":""},{"$f":"IFERROR(SMALL(Q$2:Q$224,ROWS(Q$2:Q121)),\"\")","v":""},{"$f":"IF('Step 3 Product data'!N$17=$A121,$H121,\"\")","v":""},{"$f":"IFERROR(SMALL(S$2:S$224,ROWS(S$2:S121)),\"\")","v":""},{"$f":"IF('Step 3 Product data'!O$17=$A121,$H121,\"\")","v":""},{"$f":"IFERROR(SMALL(U$2:U$224,ROWS(U$2:U121)),\"\")","v":""},{"$f":"IF('Step 3 Product data'!P$17=$A121,$H121,\"\")","v":""},{"$f":"IFERROR(SMALL(W$2:W$224,ROWS(W$2:W121)),\"\")","v":""},{"$f":"IF('Step 3 Product data'!Q$17=$A121,$H121,\"\")","v":""},{"$f":"IFERROR(SMALL(Y$2:Y$224,ROWS(Y$2:Y121)),\"\")","v":""},{"$f":"IF('Step 3 Product data'!R$17=$A121,$H121,\"\")","v":""},{"$f":"IFERROR(SMALL(AA$2:AA$224,ROWS(AA$2:AA121)),\"\")","v":""},{"$f":"IF('Step 3 Product data'!S$17=$A121,$H121,\"\")","v":""},{"$f":"IFERROR(SMALL(AC$2:AC$224,ROWS(AC$2:AC121)),\"\")","v":""},{"$f":"IF('Step 3 Product data'!T$17=$A121,$H121,\"\")","v":""},{"$f":"IFERROR(SMALL(AE$2:AE$224,ROWS(AE$2:AE121)),\"\")","v":""},{"$f":"IF('Step 3 Product data'!U$17=$A121,$H121,\"\")","v":""},{"$f":"IFERROR(SMALL(AG$2:AG$224,ROWS(AG$2:AG121)),\"\")","v":""},{"$f":"IF('Step 3 Product data'!V$17=$A121,$H121,\"\")","v":""},{"$f":"IFERROR(SMALL(AI$2:AI$224,ROWS(AI$2:AI121)),\"\")","v":""},{"$f":"IF('Step 3 Product data'!W$17=$A121,$H121,\"\")","v":""},{"$f":"IFERROR(SMALL(AK$2:AK$224,ROWS(AK$2:AK121)),\"\")","v":""},{"$f":"IF('Step 3 Product data'!X$17=$A121,$H121,\"\")","v":""},{"$f":"IFERROR(SMALL(AM$2:AM$224,ROWS(AM$2:AM121)),\"\")","v":""}]
["Dimethyl sulfate","CAS# 77781",null,null,null,null,null,{"$f":"ROWS($A$2:A122)","v":121},{"$f":"IF('Step 3 Product data'!I$17=$A122,$H122,\"\")","v":""},{"$f":"IFERROR(SMALL($I$2:$I$224,ROWS($I$2:I122)),\"\")","v":""},{"$f":"IF('Step 3 Product data'!J$17=$A122,$H122,\"\")","v":""},{"$f":"IFERROR(SMALL(K$2:K$224,ROWS(K$2:K122)),\"\")","v":""},{"$f":"IF('Step 3 Product data'!K$17=$A122,$H122,\"\")","v":""},{"$f":"IFERROR(SMALL(M$2:M$224,ROWS(M$2:M122)),\"\")","v":""},{"$f":"IF('Step 3 Product data'!L$17=$A122,$H122,\"\")","v":""},{"$f":"IFERROR(SMALL(O$2:O$224,ROWS(O$2:O122)),\"\")","v":""},{"$f":"IF('Step 3 Product data'!M$17=$A122,$H122,\"\")","v":""},{"$f":"IFERROR(SMALL(Q$2:Q$224,ROWS(Q$2:Q122)),\"\")","v":""},{"$f":"IF('Step 3 Product data'!N$17=$A122,$H122,\"\")","v":""},{"$f":"IFERROR(SMALL(S$2:S$224,ROWS(S$2:S122)),\"\")","v":""},{"$f":"IF('Step 3 Product data'!O$17=$A122,$H122,\"\")","v":""},{"$f":"IFERROR(SMALL(U$2:U$224,ROWS(U$2:U122)),\"\")","v":""},{"$f":"IF('Step 3 Product data'!P$17=$A122,$H122,\"\")","v":""},{"$f":"IFERROR(SMALL(W$2:W$224,ROWS(W$2:W122)),\"\")","v":""},{"$f":"IF('Step 3 Product data'!Q$17=$A122,$H122,\"\")","v":""},{"$f":"IFERROR(SMALL(Y$2:Y$224,ROWS(Y$2:Y122)),\"\")","v":""},{"$f":"IF('Step 3 Product data'!R$17=$A122,$H122,\"\")","v":""},{"$f":"IFERROR(SMALL(AA$2:AA$224,ROWS(AA$2:AA122)),\"\")","v":""},{"$f":"IF('Step 3 Product data'!S$17=$A122,$H122,\"\")","v":""},{"$f":"IFERROR(SMALL(AC$2:AC$224,ROWS(AC$2:AC122)),\"\")","v":""},{"$f":"IF('Step 3 Product data'!T$17=$A122,$H122,\"\")","v":""},{"$f":"IFERROR(SMALL(AE$2:AE$224,ROWS(AE$2:AE122)),\"\")","v":""},{"$f":"IF('Step 3 Product data'!U$17=$A122,$H122,\"\")","v":""},{"$f":"IFERROR(SMALL(AG$2:AG$224,ROWS(AG$2:AG122)),\"\")","v":""},{"$f":"IF('Step 3 Product data'!V$17=$A122,$H122,\"\")","v":""},{"$f":"IFERROR(SMALL(AI$2:AI$224,ROWS(AI$2:AI122)),\"\")","v":""},{"$f":"IF('Step 3 Product data'!W$17=$A122,$H122,\"\")","v":""},{"$f":"IFERROR(SMALL(AK$2:AK$224,ROWS(AK$2:AK122)),\"\")","v":""},{"$f":"IF('Step 3 Product data'!X$17=$A122,$H122,\"\")","v":""},{"$f":"IFERROR(SMALL(AM$2:AM$224,ROWS(AM$2:AM122)),\"\")","v":""}]
["Epichlorohydrin (1-Chloro-2,3-epoxypropane)","CAS# 106898",null,null,null,null,null,{"$f":"ROWS($A$2:A123)","v":122},{"$f":"IF('Step 3 Product data'!I$17=$A123,$H123,\"\")","v":""},{"$f":"IFERROR(SMALL($I$2:$I$224,ROWS($I$2:I123)),\"\")","v":""},{"$f":"IF('Step 3 Product data'!J$17=$A123,$H123,\"\")","v":""},{"$f":"IFERROR(SMALL(K$2:K$224,ROWS(K$2:K123)),\"\")","v":""},{"$f":"IF('Step 3 Product data'!K$17=$A123,$H123,\"\")","v":""},{"$f":"IFERROR(SMALL(M$2:M$224,ROWS(M$2:M123)),\"\")","v":""},{"$f":"IF('Step 3 Product data'!L$17=$A123,$H123,\"\")","v":""},{"$f":"IFERROR(SMALL(O$2:O$224,ROWS(O$2:O123)),\"\")","v":""},{"$f":"IF('Step 3 Product data'!M$17=$A123,$H123,\"\")","v":""},{"$f":"IFERROR(SMALL(Q$2:Q$224,ROWS(Q$2:Q123)),\"\")","v":""},{"$f":"IF('Step 3 Product data'!N$17=$A123,$H123,\"\")","v":""},{"$f":"IFERROR(SMALL(S$2:S$224,ROWS(S$2:S123)),\"\")","v":""},{"$f":"IF('Step 3 Product data'!O$17=$A123,$H123,\"\")","v":""},{"$f":"IFERROR(SMALL(U$2:U$224,ROWS(U$2:U123)),\"\")","v":""},{"$f":"IF('Step 3 Product data'!P$17=$A123,$H123,\"\")","v":""},{"$f":"IFERROR(SMALL(W$2:W$224,ROWS(W$2:W123)),\"\")","v":""},{"$f":"IF('Step 3 Product data'!Q$17=$A123,$H123,\"\")","v":""},{"$f":"IFERROR(SMALL(Y$2:Y$224,ROWS(Y$2:Y123)),\"\")","v":""},{"$f":"IF('Step 3 Product data'!R$17=$A123,$H123,\"\")","v":""},{"$f":"IFERROR(SMALL(AA$2:AA$224,ROWS(AA$2:AA123)),\"\")","v":""},{"$f":"IF('Step 3 Product data'!S$17=$A123,$H123,\"\")","v":""},{"$f":"IFERROR(SMALL(AC$2:AC$224,ROWS(AC$2:AC123)),\"\")","v":""},{"$f":"IF('Step 3 Product data'!T$17=$A123,$H123,\"\")","v":""},{"$f":"IFERROR(SMALL(AE$2:AE$224,ROWS(AE$2:AE123)),\"\")","v":""},{"$f":"IF('Step 3 Product data'!U$17=$A123,$H123,\"\")","v":""},{"$f":"IFERROR(SMALL(AG$2:AG$224,ROWS(AG$2:AG123)),\"\")","v":""},{"$f":"IF('Step 3 Product data'!V$17=$A123,$H123,\"\")","v":""},{"$f":"IFERROR(SMALL(AI$2:AI$224,ROWS(AI$2:AI123)),\"\")","v":""},{"$f":"IF('Step 3 Product data'!W$17=$A123,$H123,\"\")","v":""},{"$f":"IFERROR(SMALL(AK$2:AK$224,ROWS(AK$2:AK123)),\"\")","v":""},{"$f":"IF('Step 3 Product data'!X$17=$A123,$H123,\"\")","v":""},{"$f":"IFERROR(SMALL(AM$2:AM$224,ROWS(AM$2:AM123)),\"\")","v":""}]
["Ethyl acrylate","CAS# 140885",null,null,null,null,null,{"$f":"ROWS($A$2:A124)","v":123},{"$f":"IF('Step 3 Product data'!I$17=$A124,$H124,\"\")","v":""},{"$f":"IFERROR(SMALL($I$2:$I$224,ROWS($I$2:I124)),\"\")","v":""},{"$f":"IF('Step 3 Product data'!J$17=$A124,$H124,\"\")","v":""},{"$f":"IFERROR(SMALL(K$2:K$224,ROWS(K$2:K124)),\"\")","v":""},{"$f":"IF('Step 3 Product data'!K$17=$A124,$H124,\"\")","v":""},{"$f":"IFERROR(SMALL(M$2:M$224,ROWS(M$2:M124)),\"\")","v":""},{"$f":"IF('Step 3 Product data'!L$17=$A124,$H124,\"\")","v":""},{"$f":"IFERROR(SMALL(O$2:O$224,ROWS(O$2:O124)),\"\")","v":""},{"$f":"IF('Step 3 Product data'!M$17=$A124,$H124,\"\")","v":""},{"$f":"IFERROR(SMALL(Q$2:Q$224,ROWS(Q$2:Q124)),\"\")","v":""},{"$f":"IF('Step 3 Product data'!N$17=$A124,$H124,\"\")","v":""},{"$f":"IFERROR(SMALL(S$2:S$224,ROWS(S$2:S124)),\"\")","v":""},{"$f":"IF('Step 3 Product data'!O$17=$A124,$H124,\"\")","v":""},{"$f":"IFERROR(SMALL(U$2:U$224,ROWS(U$2:U124)),\"\")","v":""},{"$f":"IF('Step 3 Product data'!P$17=$A124,$H124,\"\")","v":""},{"$f":"IFERROR(SMALL(W$2:W$224,ROWS(W$2:W124)),\"\")","v":""},{"$f":"IF('Step 3 Product data'!Q$17=$A124,$H124,\"\")","v":""},{"$f":"IFERROR(SMALL(Y$2:Y$224,ROWS(Y$2:Y124)),\"\")","v":""},{"$f":"IF('Step 3 Product data'!R$17=$A124,$H124,\"\")","v":""},{"$f":"IFERROR(SMALL(AA$2:AA$224,ROWS(AA$2:AA124)),\"\")","v":""},{"$f":"IF('Step 3 Product data'!S$17=$A124,$H124,\"\")","v":""},{"$f":"IFERROR(SMALL(AC$2:AC$224,ROWS(AC$2:AC124)),\"\")","v":""},{"$f":"IF('Step 3 Product data'!T$17=$A124,$H124,\"\")","v":""},{"$f":"IFERROR(SMALL(AE$2:AE$224,ROWS(AE$2:AE124)),\"\")","v":""},{"$f":"IF('Step 3 Product data'!U$17=$A124,$H124,\"\")","v":""},{"$f":"IFERROR(SMALL(AG$2:AG$224,ROWS(AG$2:AG124)),\"\")","v":""},{"$f":"IF('Step 3 Product data'!V$17=$A124,$H124,\"\")","v":""},{"$f":"IFERROR(SMALL(AI$2:AI$224,ROWS(AI$2:AI124)),\"\")","v":""},{"$f":"IF('Step 3 Product data'!W$17=$A124,$H124,\"\")","v":""},{"$f":"IFERROR(SMALL(AK$2:AK$224,ROWS(AK$2:AK124)),\"\")","v":""},{"$f":"IF('Step 3 Product data'!X$17=$A124,$H124,\"\")","v":""},{"$f":"IFERROR(SMALL(AM$2:AM$224,ROWS(AM$2:AM124)),\"\")","v":""}]
["Ethyl benzene","CAS# 100414",null,null,null,null,null,{"$f":"ROWS($A$2:A125)","v":124},{"$f":"IF('Step 3 Product data'!I$17=$A125,$H125,\"\")","v":""},{"$f":"IFERROR(SMALL($I$2:$I$224,ROWS($I$2:I125)),\"\")","v":""},{"$f":"IF('Step 3 Product data'!J$17=$A125,$H125,\"\")","v":""},{"$f":"IFERROR(SMALL(K$2:K$224,ROWS(K$2:K125)),\"\")","v":""},{"$f":"IF('Step 3 Product data'!K$17=$A125,$H125,\"\")","v":""},{"$f":"IFERROR(SMALL(M$2:M$224,ROWS(M$2:M125)),\"\")","v":""},{"$f":"IF('Step 3 Product data'!L$17=$A125,$H125,\"\")","v":""},{"$f":"IFERROR(SMALL(O$2:O$224,ROWS(O$2:O125)),\"\")","v":""},{"$f":"IF('Step 3 Product data'!M$17=$A125,$H125,\"\")","v":""},{"$f":"IFERROR(SMALL(Q$2:Q$224,ROWS(Q$2:Q125)),\"\")","v":""},{"$f":"IF('Step 3 Product data'!N$17=$A125,$H125,\"\")","v":""},{"$f":"IFERROR(SMALL(S$2:S$224,ROWS(S$2:S125)),\"\")","v":""},{"$f":"IF('Step 3 Product data'!O$17=$A125,$H125,\"\")","v":""},{"$f":"IFERROR(SMALL(U$2:U$224,ROWS(U$2:U125)),\"\")","v":""},{"$f":"IF('Step 3 Product data'!P$17=$A125,$H125,\"\")","v":""},{"$f":"IFERROR(SMALL(W$2:W$224,ROWS(W$2:W125)),\"\")","v":""},{"$f":"IF('Step 3 Product data'!Q$17=$A125,$H125,\"\")","v":""},{"$f":"IFERROR(SMALL(Y$2:Y$224,ROWS(Y$2:Y125)),\"\")","v":""},{"$f":"IF('Step 3 Product data'!R$17=$A125,$H125,\"\")","v":""},{"$f":"IFERROR(SMALL(AA$2:AA$224,ROWS(AA$2:AA125)),\"\")","v":""},{"$f":"IF('Step 3 Product data'!S$17=$A125,$H125,\"\")","v":""},{"$f":"IFERROR(SMALL(AC$2:AC$224,ROWS(AC$2:AC125)),\"\")","v":""},{"$f":"IF('Step 3 Product data'!T$17=$A125,$H125,\"\")","v":""},{"$f":"IFERROR(SMALL(AE$2:AE$224,ROWS(AE$2:AE125)),\"\")","v":""},{"$f":"IF('Step 3 Product data'!U$17=$A125,$H125,\"\")","v":""},{"$f":"IFERROR(SMALL(AG$2:AG$224,ROWS(AG$2:AG125)),\"\")","v":""},{"$f":"IF('Step 3 Product data'!V$17=$A125,$H125,\"\")","v":""},{"$f":"IFERROR(SMALL(AI$2:AI$224,ROWS(AI$2:AI125)),\"\")","v":""},{"$f":"IF('Step 3 Product data'!W$17=$A125,$H125,\"\")","v":""},{"$f":"IFERROR(SMALL(AK$2:AK$224,ROWS(AK$2:AK125)),\"\")","v":""},{"$f":"IF('Step 3 Product data'!X$17=$A125,$H125,\"\")","v":""},{"$f":"IFERROR(SMALL(AM$2:AM$224,ROWS(AM$2:AM125)),\"\")","v":""}]
["Ethyl carbamate (Urethane)","CAS# 51796",null,null,null,null,null,{"$f":"ROWS($A$2:A126)","v":125},{"$f":"IF('Step 3 Product data'!I$17=$A126,$H126,\"\")","v":""},{"$f":"IFERROR(SMALL($I$2:$I$224,ROWS($I$2:I126)),\"\")","v":""},{"$f":"IF('Step 3 Product data'!J$17=$A126,$H126,\"\")","v":""},{"$f":"IFERROR(SMALL(K$2:K$224,ROWS(K$2:K126)),\"\")","v":""},{"$f":"IF('Step 3 Product data'!K$17=$A126,$H126,\"\")","v":""},{"$f":"IFERROR(SMALL(M$2:M$224,ROWS(M$2:M126)),\"\")","v":""},{"$f":"IF('Step 3 Product data'!L$17=$A126,$H126,\"\")","v":""},{"$f":"IFERROR(SMALL(O$2:O$224,ROWS(O$2:O126)),\"\")","v":""},{"$f":"IF('Step 3 Product data'!M$17=$A126,$H126,\"\")","v":""},{"$f":"IFERROR(SMALL(Q$2:Q$224,ROWS(Q$2:Q126)),\"\")","v":""},{"$f":"IF('Step 3 Product data'!N$17=$A126,$H126,\"\")","v":""},{"$f":"IFERROR(SMALL(S$2:S$224,ROWS(S$2:S126)),\"\")","v":""},{"$f":"IF('Step 3 Product data'!O$17=$A126,$H126,\"\")","v":""},{"$f":"IFERROR(SMALL(U$2:U$224,ROWS(U$2:U126)),\"\")","v":""},{"$f":"IF('Step 3 Product data'!P$17=$A126,$H126,\"\")","v":""},{"$f":"IFERROR(SMALL(W$2:W$224,ROWS(W$2:W126)),\"\")","v":""},{"$f":"IF('Step 3 Product data'!Q$17=$A126,$H126,\"\")","v":""},{"$f":"IFERROR(SMALL(Y$2:Y$224,ROWS(Y$2:Y126)),\"\")","v":""},{"$f":"IF('Step 3 Product data'!R$17=$A126,$H126,\"\")","v":""},{"$f":"IFERROR(SMALL(AA$2:AA$224,ROWS(AA$2:AA126)),\"\")","v":""},{"$f":"IF('Step 3 Product data'!S$17=$A126,$H126,\"\")","v":""},{"$f":"IFERROR(SMALL(AC$2:AC$224,ROWS(AC$2:AC126)),\"\")","v":""},{"$f":"IF('Step 3 Product data'!T$17=$A126,$H126,\"\")","v":""},{"$f":"IFERROR(SMALL(AE$2:AE$224,ROWS(AE$2:AE126)),\"\")","v":""},{"$f":"IF('Step 3 Product data'!U$17=$A126,$H126,\"\")","v":""},{"$f":"IFERROR(SMALL(AG$2:AG$224,ROWS(AG$2:AG126)),\"\")","v":""},{"$f":"IF('Step 3 Product data'!V$17=$A126,$H126,\"\")","v":""},{"$f":"IFERROR(SMALL(AI$2:AI$224,ROWS(AI$2:AI126)),\"\")","v":""},{"$f":"IF('Step 3 Product data'!W$17=$A126,$H126,\"\")","v":""},{"$f":"IFERROR(SMALL(AK$2:AK$224,ROWS(AK$2:AK126)),\"\")","v":""},{"$f":"IF('Step 3 Product data'!X$17=$A126,$H126,\"\")","v":""},{"$f":"IFERROR(SMALL(AM$2:AM$224,ROWS(AM$2:AM126)),\"\")","v":""}]
["Ethyl chloride (Chloroethane)","CAS# 75003",null,null,null,null,null,{"$f":"ROWS($A$2:A127)","v":126},{"$f":"IF('Step 3 Product data'!I$17=$A127,$H127,\"\")","v":""},{"$f":"IFERROR(SMALL($I$2:$I$224,ROWS($I$2:I127)),\"\")","v":""},{"$f":"IF('Step 3 Product data'!J$17=$A127,$H127,\"\")","v":""},{"$f":"IFERROR(SMALL(K$2:K$224,ROWS(K$2:K127)),\"\")","v":""},{"$f":"IF('Step 3 Product data'!K$17=$A127,$H127,\"\")","v":""},{"$f":"IFERROR(SMALL(M$2:M$224,ROWS(M$2:M127)),\"\")","v":""},{"$f":"IF('Step 3 Product data'!L$17=$A127,$H127,\"\")","v":""},{"$f":"IFERROR(SMALL(O$2:O$224,ROWS(O$2:O127)),\"\")","v":""},{"$f":"IF('Step 3 Product data'!M$17=$A127,$H127,\"\")","v":""},{"$f":"IFERROR(SMALL(Q$2:Q$224,ROWS(Q$2:Q127)),\"\")","v":""},{"$f":"IF('Step 3 Product data'!N$17=$A127,$H127,\"\")","v":""},{"$f":"IFERROR(SMALL(S$2:S$224,ROWS(S$2:S127)),\"\")","v":""},{"$f":"IF('Step 3 Product data'!O$17=$A127,$H127,\"\")","v":""},{"$f":"IFERROR(SMALL(U$2:U$224,ROWS(U$2:U127)),\"\")","v":""},{"$f":"IF('Step 3 Product data'!P$17=$A127,$H127,\"\")","v":""},{"$f":"IFERROR(SMALL(W$2:W$224,ROWS(W$2:W127)),\"\")","v":""},{"$f":"IF('Step 3 Product data'!Q$17=$A127,$H127,\"\")","v":""},{"$f":"IFERROR(SMALL(Y$2:Y$224,ROWS(Y$2:Y127)),\"\")","v":""},{"$f":"IF('Step 3 Product data'!R$17=$A127,$H127,\"\")","v":""},{"$f":"IFERROR(SMALL(AA$2:AA$224,ROWS(AA$2:AA127)),\"\")","v":""},{"$f":"IF('Step 3 Product data'!S$17=$A127,$H127,\"\")","v":""},{"$f":"IFERROR(SMALL(AC$2:AC$224,ROWS(AC$2:AC127)),\"\")","v":""},{"$f":"IF('Step 3 Product data'!T$17=$A127,$H127,\"\")","v":""},{"$f":"IFERROR(SMALL(AE$2:AE$224,ROWS(AE$2:AE127)),\"\")","v":""},{"$f":"IF('Step 3 Product data'!U$17=$A127,$H127,\"\")","v":""},{"$f":"IFERROR(SMALL(AG$2:AG$224,ROWS(AG$2:AG127)),\"\")","v":""},{"$f":"IF('Step 3 Product data'!V$17=$A127,$H127,\"\")","v":""},{"$f":"IFERROR(SMALL(AI$2:AI$224,ROWS(AI$2:AI127)),\"\")","v":""},{"$f":"IF('Step 3 Product data'!W$17=$A127,$H127,\"\")","v":""},{"$f":"IFERROR(SMALL(AK$2:AK$224,ROWS(AK$2:AK127)),\"\")","v":""},{"$f":"IF('Step 3 Product data'!X$17=$A127,$H127,\"\")","v":""},{"$f":"IFERROR(SMALL(AM$2:AM$224,ROWS(AM$2:AM127)),\"\")","v":""}]
["Ethylene dibromide (Dibromoethane)","CAS# 106934",null,null,null,null,null,{"$f":"ROWS($A$2:A128)","v":127},{"$f":"IF('Step 3 Product data'!I$17=$A128,$H128,\"\")","v":""},{"$f":"IFERROR(SMALL($I$2:$I$224,ROWS($I$2:I128)),\"\")","v":""},{"$f":"IF('Step 3 Product data'!J$17=$A128,$H128,\"\")","v":""},{"$f":"IFERROR(SMALL(K$2:K$224,ROWS(K$2:K128)),\"\")","v":""},{"$f":"IF('Step 3 Product data'!K$17=$A128,$H128,\"\")","v":""},{"$f":"IFERROR(SMALL(M$2:M$224,ROWS(M$2:M128)),\"\")","v":""},{"$f":"IF('Step 3 Product data'!L$17=$A128,$H128,\"\")","v":""},{"$f":"IFERROR(SMALL(O$2:O$224,ROWS(O$2:O128)),\"\")","v":""},{"$f":"IF('Step 3 Product data'!M$17=$A128,$H128,\"\")","v":""},{"$f":"IFERROR(SMALL(Q$2:Q$224,ROWS(Q$2:Q128)),\"\")","v":""},{"$f":"IF('Step 3 Product data'!N$17=$A128,$H128,\"\")","v":""},{"$f":"IFERROR(SMALL(S$2:S$224,ROWS(S$2:S128)),\"\")","v":""},{"$f":"IF('Step 3 Product data'!O$17=$A128,$H128,\"\")","v":""},{"$f":"IFERROR(SMALL(U$2:U$224,ROWS(U$2:U128)),\"\")","v":""},{"$f":"IF('Step 3 Product data'!P$17=$A128,$H128,\"\")","v":""},{"$f":"IFERROR(SMALL(W$2:W$224,ROWS(W$2:W128)),\"\")","v":""},{"$f":"IF('Step 3 Product data'!Q$17=$A128,$H128,\"\")","v":""},{"$f":"IFERROR(SMALL(Y$2:Y$224,ROWS(Y$2:Y128)),\"\")","v":""},{"$f":"IF('Step 3 Product data'!R$17=$A128,$H128,\"\")","v":""},{"$f":"IFERROR(SMALL(AA$2:AA$224,ROWS(AA$2:AA128)),\"\")","v":""},{"$f":"IF('Step 3 Product data'!S$17=$A128,$H128,\"\")","v":""},{"$f":"IFERROR(SMALL(AC$2:AC$224,ROWS(AC$2:AC128)),\"\")","v":""},{"$f":"IF('Step 3 Product data'!T$17=$A128,$H128,\"\")","v":""},{"$f":"IFERROR(SMALL(AE$2:AE$224,ROWS(AE$2:AE128)),\"\")","v":""},{"$f":"IF('Step 3 Product data'!U$17=$A128,$H128,\"\")","v":""},{"$f":"IFERROR(SMALL(AG$2:AG$224,ROWS(AG$2:AG128)),\"\")","v":""},{"$f":"IF('Step 3 Product data'!V$17=$A128,$H128,\"\")","v":""},{"$f":"IFERROR(SMALL(AI$2:AI$224,ROWS(AI$2:AI128)),\"\")","v":""},{"$f":"IF('Step 3 Product data'!W$17=$A128,$H128,\"\")","v":""},{"$f":"IFERROR(SMALL(AK$2:AK$224,ROWS(AK$2:AK128)),\"\")","v":""},{"$f":"IF('Step 3 Product data'!X$17=$A128,$H128,\"\")","v":""},{"$f":"IFERROR(SMALL(AM$2:AM$224,ROWS(AM$2:AM128)),\"\")","v":""}]
["Ethylene dichloride (1,2-Dichloroethane)","CAS# 107062",null,null,null,null,null,{"$f":"ROWS($A$2:A129)","v":128},{"$f":"IF('Step 3 Product data'!I$17=$A129,$H129,\"\")","v":""},{"$f":"IFERROR(SMALL($I$2:$I$224,ROWS($I$2:I129)),\"\")","v":""},{"$f":"IF('Step 3 Product data'!J$17=$A129,$H129,\"\")","v":""},{"$f":"IFERROR(SMALL(K$2:K$224,ROWS(K$2:K129)),\"\")","v":""},{"$f":"IF('Step 3 Product data'!K$17=$A129,$H129,\"\")","v":""},{"$f":"IFERROR(SMALL(M$2:M$224,ROWS(M$2:M129)),\"\")","v":""},{"$f":"IF('Step 3 Product data'!L$17=$A129,$H129,\"\")","v":""},{"$f":"IFERROR(SMALL(O$2:O$224,ROWS(O$2:O129)),\"\")","v":""},{"$f":"IF('Step 3 Product data'!M$17=$A129,$H129,\"\")","v":""},{"$f":"IFERROR(SMALL(Q$2:Q$224,ROWS(Q$2:Q129)),\"\")","v":""},{"$f":"IF('Step 3 Product data'!N$17=$A129,$H129,\"\")","v":""},{"$f":"IFERROR(SMALL(S$2:S$224,ROWS(S$2:S129)),\"\")","v":""},{"$f":"IF('Step 3 Product data'!O$17=$A129,$H129,\"\")","v":""},{"$f":"IFERROR(SMALL(U$2:U$224,ROWS(U$2:U129)),\"\")","v":""},{"$f":"IF('Step 3 Product data'!P$17=$A129,$H129,\"\")","v":""},{"$f":"IFERROR(SMALL(W$2:W$224,ROWS(W$2:W129)),\"\")","v":""},{"$f":"IF('Step 3 Product data'!Q$17=$A129,$H129,\"\")","v":""},{"$f":"IFERROR(SMALL(Y$2:Y$224,ROWS(Y$2:Y129)),\"\")","v":""},{"$f":"IF('Step 3 Product data'!R$17=$A129,$H129,\"\")","v":""},{"$f":"IFERROR(SMALL(AA$2:AA$224,ROWS(AA$2:AA129)),\"\")","v":""},{"$f":"IF('Step 3 Product data'!S$17=$A129,$H129,\"\")","v":""},{"$f":"IFERROR(SMALL(AC$2:AC$224,ROWS(AC$2:AC129)),\"\")","v":""},{"$f":"IF('Step 3 Product data'!T$17=$A129,$H129,\"\")","v":""},{"$f":"IFERROR(SMALL(AE$2:AE$224,ROWS(AE$2:AE129)),\"\")","v":""},{"$f":"IF('Step 3 Product data'!U$17=$A129,$H129,\"\")","v":""},{"$f":"IFERROR(SMALL(AG$2:AG$224,ROWS(AG$2:AG129)),\"\")","v":""},{"$f":"IF('Step 3 Product data'!V$17=$A129,$H129,\"\")","v":""},{"$f":"IFERROR(SMALL(AI$2:AI$224,ROWS(AI$2:AI129)),\"\")","v":""},{"$f":"IF('Step 3 Product data'!W$17=$A129,$H129,\"\")","v":""},{"$f":"IFERROR(SMALL(AK$2:AK$224,ROWS(AK$2:AK129)),\"\")","v":""},{"$f":"IF('Step 3 Product data'!X$17=$A129,$H129,\"\")","v":""},{"$f":"IFERROR(SMALL(AM$2:AM$224,ROWS(AM$2:AM129)),\"\")","v":""}]
["Ethylene glycol","CAS# 107211",null,null,null,null,null,{"$f":"ROWS($A$2:A130)","v":129},{"$f":"IF('Step 3 Product data'!I$17=$A130,$H130,\"\")","v":""},{"$f":"IFERROR(SMALL($I$2:$I$224,ROWS($I$2:I130)),\"\")","v":""},{"$f":"IF('Step 3 Product data'!J$17=$A130,$H130,\"\")","v":""},{"$f":"IFERROR(SMALL(K$2:K$224,ROWS(K$2:K130)),\"\")","v":""},{"$f":"IF('Step 3 Product data'!K$17=$A130,$H130,\"\")","v":""},{"$f":"IFERROR(SMALL(M$2:M$224,ROWS(M$2:M130)),\"\")","v":""},{"$f":"IF('Step 3 Product data'!L$17=$A130,$H130,\"\")","v":""},{"$f":"IFERROR(SMALL(O$2:O$224,ROWS(O$2:O130)),\"\")","v":""},{"$f":"IF('Step 3 Product data'!M$17=$A130,$H130,\"\")","v":""},{"$f":"IFERROR(SMALL(Q$2:Q$224,ROWS(Q$2:Q130)),\"\")","v":""},{"$f":"IF('Step 3 Product data'!N$17=$A130,$H130,\"\")","v":""},{"$f":"IFERROR(SMALL(S$2:S$224,ROWS(S$2:S130)),\"\")","v":""},{"$f":"IF('Step 3 Product data'!O$17=$A130,$H130,\"\")","v":""},{"$f":"IFERROR(SMALL(U$2:U$224,ROWS(U$2:U130)),\"\")","v":""},{"$f":"IF('Step 3 Product data'!P$17=$A130,$H130,\"\")","v":""},{"$f":"IFERROR(SMALL(W$2:W$224,ROWS(W$2:W130)),\"\")","v":""},{"$f":"IF('Step 3 Product data'!Q$17=$A130,$H130,\"\")","v":""},{"$f":"IFERROR(SMALL(Y$2:Y$224,ROWS(Y$2:Y130)),\"\")","v":""},{"$f":"IF('Step 3 Product data'!R$17=$A130,$H130,\"\")","v":""},{"$f":"IFERROR(SMALL(AA$2:AA$224,ROWS(AA$2:AA130)),\"\")","v":""},{"$f":"IF('Step 3 Product data'!S$17=$A130,$H130,\"\")","v":""},{"$f":"IFERROR(SMALL(AC$2:AC$224,ROWS(AC$2:AC130)),\"\")","v":""},{"$f":"IF('Step 3 Product data'!T$17=$A130,$H130,\"\")","v":""},{"$f":"IFERROR(SMALL(AE$2:AE$224,ROWS(AE$2:AE130)),\"\")","v":""},{"$f":"IF('Step 3 Product data'!U$17=$A130,$H130,\"\")","v":""},{"$f":"IFERROR(SMALL(AG$2:AG$224,ROWS(AG$2:AG130)),\"\")","v":""},{"$f":"IF('Step 3 Product data'!V$17=$A130,$H130,\"\")","v":""},{"$f":"IFERROR(SMALL(AI$2:AI$224,ROWS(AI$2:AI130)),\"\")","v":""},{"$f":"IF('Step 3 Product data'!W$17=$A130,$H130,\"\")","v":""},{"$f":"IFERROR(SMALL(AK$2:AK$224,ROWS(AK$2:AK130)),\"\")","v":""},{"$f":"IF('Step 3 Product data'!X$17=$A130,$H130,\"\")","v":""},{"$f":"IFERROR(SMALL(AM$2:AM$224,ROWS(AM$2:AM130)),\"\")","v":""}]
["Ethylene imine (Aziridine)","CAS# 151564",null,null,null,null,null,{"$f":"ROWS($A$2:A131)","v":130},{"$f":"IF('Step 3 Product data'!I$17=$A131,$H131,\"\")","v":""},{"$f":"IFERROR(SMALL($I$2:$I$224,ROWS($I$2:I131)),\"\")","v":""},{"$f":"IF('Step 3 Product data'!J$17=$A131,$H131,\"\")","v":""},{"$f":"IFERROR(SMALL(K$2:K$224,ROWS(K$2:K131)),\"\")","v":""},{"$f":"IF('Step 3 Product data'!K$17=$A131,$H131,\"\")","v":""},{"$f":"IFERROR(SMALL(M$2:M$224,ROWS(M$2:M131)),\"\")","v":""},{"$f":"IF('Step 3 Product data'!L$17=$A131,$H131,\"\")","v":""},{"$f":"IFERROR(SMALL(O$2:O$224,ROWS(O$2:O131)),\"\")","v":""},{"$f":"IF('Step 3 Product data'!M$17=$A131,$H131,\"\")","v":""},{"$f":"IFERROR(SMALL(Q$2:Q$224,ROWS(Q$2:Q131)),\"\")","v":""},{"$f":"IF('Step 3 Product data'!N$17=$A131,$H131,\"\")","v":""},{"$f":"IFERROR(SMALL(S$2:S$224,ROWS(S$2:S131)),\"\")","v":""},{"$f":"IF('Step 3 Product data'!O$17=$A131,$H131,\"\")","v":""},{"$f":"IFERROR(SMALL(U$2:U$224,ROWS(U$2:U131)),\"\")","v":""},{"$f":"IF('Step 3 Product data'!P$17=$A131,$H131,\"\")","v":""},{"$f":"IFERROR(SMALL(W$2:W$224,ROWS(W$2:W131)),\"\")","v":""},{"$f":"IF('Step 3 Product data'!Q$17=$A131,$H131,\"\")","v":""},{"$f":"IFERROR(SMALL(Y$2:Y$224,ROWS(Y$2:Y131)),\"\")","v":""},{"$f":"IF('Step 3 Product data'!R$17=$A131,$H131,\"\")","v":""},{"$f":"IFERROR(SMALL(AA$2:AA$224,ROWS(AA$2:AA131)),\"\")","v":""},{"$f":"IF('Step 3 Product data'!S$17=$A131,$H131,\"\")","v":""},{"$f":"IFERROR(SMALL(AC$2:AC$224,ROWS(AC$2:AC131)),\"\")","v":""},{"$f":"IF('Step 3 Product data'!T$17=$A131,$H131,\"\")","v":""},{"$f":"IFERROR(SMALL(AE$2:AE$224,ROWS(AE$2:AE131)),\"\")","v":""},{"$f":"IF('Step 3 Product data'!U$17=$A131,$H131,\"\")","v":""},{"$f":"IFERROR(SMALL(AG$2:AG$224,ROWS(AG$2:AG131)),\"\")","v":""},{"$f":"IF('Step 3 Product data'!V$17=$A131,$H131,\"\")","v":""},{"$f":"IFERROR(SMALL(AI$2:AI$224,ROWS(AI$2:AI131)),\"\")","v":""},{"$f":"IF('Step 3 Product data'!W$17=$A131,$H131,\"\")","v":""},{"$f":"IFERROR(SMALL(AK$2:AK$224,ROWS(AK$2:AK131)),\"\")","v":""},{"$f":"IF('Step 3 Product data'!X$17=$A131,$H131,\"\")","v":""},{"$f":"IFERROR(SMALL(AM$2:AM$224,ROWS(AM$2:AM131)),\"\")","v":""}]
["Ethylene oxide","CAS# 75218",null,null,null,null,null,{"$f":"ROWS($A$2:A132)","v":131},{"$f":"IF('Step 3 Product data'!I$17=$A132,$H132,\"\")","v":""},{"$f":"IFERROR(SMALL($I$2:$I$224,ROWS($I$2:I132)),\"\")","v":""},{"$f":"IF('Step 3 Product data'!J$17=$A132,$H132,\"\")","v":""},{"$f":"IFERROR(SMALL(K$2:K$224,ROWS(K$2:K132)),\"\")","v":""},{"$f":"IF('Step 3 Product data'!K$17=$A132,$H132,\"\")","v":""},{"$f":"IFERROR(SMALL(M$2:M$224,ROWS(M$2:M132)),\"\")","v":""},{"$f":"IF('Step 3 Product data'!L$17=$A132,$H132,\"\")","v":""},{"$f":"IFERROR(SMALL(O$2:O$224,ROWS(O$2:O132)),\"\")","v":""},{"$f":"IF('Step 3 Product data'!M$17=$A132,$H132,\"\")","v":""},{"$f":"IFERROR(SMALL(Q$2:Q$224,ROWS(Q$2:Q132)),\"\")","v":""},{"$f":"IF('Step 3 Product data'!N$17=$A132,$H132,\"\")","v":""},{"$f":"IFERROR(SMALL(S$2:S$224,ROWS(S$2:S132)),\"\")","v":""},{"$f":"IF('Step 3 Product data'!O$17=$A132,$H132,\"\")","v":""},{"$f":"IFERROR(SMALL(U$2:U$224,ROWS(U$2:U132)),\"\")","v":""},{"$f":"IF('Step 3 Product data'!P$17=$A132,$H132,\"\")","v":""},{"$f":"IFERROR(SMALL(W$2:W$224,ROWS(W$2:W132)),\"\")","v":""},{"$f":"IF('Step 3 Product data'!Q$17=$A132,$H132,\"\")","v":""},{"$f":"IFERROR(SMALL(Y$2:Y$224,ROWS(Y$2:Y132)),\"\")","v":""},{"$f":"IF('Step 3 Product data'!R$17=$A132,$H132,\"\")","v":""},{"$f":"IFERROR(SMALL(AA$2:AA$224,ROWS(AA$2:AA132)),\"\")","v":""},{"$f":"IF('Step 3 Product data'!S$17=$A132,$H132,\"\")","v":""},{"$f":"IFERROR(SMALL(AC$2:AC$224,ROWS(AC$2:AC132)),\"\")","v":""},{"$f":"IF('Step 3 Product data'!T$17=$A132,$H132,\"\")","v":""},{"$f":"IFERROR(SMALL(AE$2:AE$224,ROWS(AE$2:AE132)),\"\")","v":""},{"$f":"IF('Step 3 Product data'!U$17=$A132,$H132,\"\")","v":""},{"$f":"IFERROR(SMALL(AG$2:AG$224,ROWS(AG$2:AG132)),\"\")","v":""},{"$f":"IF('Step 3 Product data'!V$17=$A132,$H132,\"\")","v":""},{"$f":"IFERROR(SMALL(AI$2:AI$224,ROWS(AI$2:AI132)),\"\")","v":""},{"$f":"IF('Step 3 Product data'!W$17=$A132,$H132,\"\")","v":""},{"$f":"IFERROR(SMALL(AK$2:AK$224,ROWS(AK$2:AK132)),\"\")","v":""},{"$f":"IF('Step 3 Product data'!X$17=$A132,$H132,\"\")","v":""},{"$f":"IFERROR(SMALL(AM$2:AM$224,ROWS(AM$2:AM132)),\"\")","v":""}]
["Ethylene thiourea","CAS# 96457",null,null,null,null,null,{"$f":"ROWS($A$2:A133)","v":132},{"$f":"IF('Step 3 Product data'!I$17=$A133,$H133,\"\")","v":""},{"$f":"IFERROR(SMALL($I$2:$I$224,ROWS($I$2:I133)),\"\")","v":""},{"$f":"IF('Step 3 Product data'!J$17=$A133,$H133,\"\")","v":""},{"$f":"IFERROR(SMALL(K$2:K$224,ROWS(K$2:K133)),\"\")","v":""},{"$f":"IF('Step 3 Product data'!K$17=$A133,$H133,\"\")","v":""},{"$f":"IFERROR(SMALL(M$2:M$224,ROWS(M$2:M133)),\"\")","v":""},{"$f":"IF('Step 3 Product data'!L$17=$A133,$H133,\"\")","v":""},{"$f":"IFERROR(SMALL(O$2:O$224,ROWS(O$2:O133)),\"\")","v":""},{"$f":"IF('Step 3 Product data'!M$17=$A133,$H133,\"\")","v":""},{"$f":"IFERROR(SMALL(Q$2:Q$224,ROWS(Q$2:Q133)),\"\")","v":""},{"$f":"IF('Step 3 Product data'!N$17=$A133,$H133,\"\")","v":""},{"$f":"IFERROR(SMALL(S$2:S$224,ROWS(S$2:S133)),\"\")","v":""},{"$f":"IF('Step 3 Product data'!O$17=$A133,$H133,\"\")","v":""},{"$f":"IFERROR(SMALL(U$2:U$224,ROWS(U$2:U133)),\"\")","v":""},{"$f":"IF('Step 3 Product data'!P$17=$A133,$H133,\"\")","v":""},{"$f":"IFERROR(SMALL(W$2:W$224,ROWS(W$2:W133)),\"\")","v":""},{"$f":"IF('Step 3 Product data'!Q$17=$A133,$H133,\"\")","v":""},{"$f":"IFERROR(SMALL(Y$2:Y$224,ROWS(Y$2:Y133)),\"\")","v":""},{"$f":"IF('Step 3 Product data'!R$17=$A133,$H133,\"\")","v":""},{"$f":"IFERROR(SMALL(AA$2:AA$224,ROWS(AA$2:AA133)),\"\")","v":""},{"$f":"IF('Step 3 Product data'!S$17=$A133,$H133,\"\")","v":""},{"$f":"IFERROR(SMALL(AC$2:AC$224,ROWS(AC$2:AC133)),\"\")","v":""},{"$f":"IF('Step 3 Product data'!T$17=$A133,$H133,\"\")","v":""},{"$f":"IFERROR(SMALL(AE$2:AE$224,ROWS(AE$2:AE133)),\"\")","v":""},{"$f":"IF('Step 3 Product data'!U$17=$A133,$H133,\"\")","v":""},{"$f":"IFERROR(SMALL(AG$2:AG$224,ROWS(AG$2:AG133)),\"\")","v":""},{"$f":"IF('Step 3 Product data'!V$17=$A133,$H133,\"\")","v":""},{"$f":"IFERROR(SMALL(AI$2:AI$224,ROWS(AI$2:AI133)),\"\")","v":""},{"$f":"IF('Step 3 Product data'!W$17=$A133,$H133,\"\")","v":""},{"$f":"IFERROR(SMALL(AK$2:AK$224,ROWS(AK$2:AK133)),\"\")","v":""},{"$f":"IF('Step 3 Product data'!X$17=$A133,$H133,\"\")","v":""},{"$f":"IFERROR(SMALL(AM$2:AM$224,ROWS(AM$2:AM133)),\"\")","v":""}]
["Ethylidene dichloride (1,1-Dichloroethane)","CAS# 75343",null,null,null,null,null,{"$f":"ROWS($A$2:A134)","v":133},{"$f":"IF('Step 3 Product data'!I$17=$A134,$H134,\"\")","v":""},{"$f":"IFERROR(SMALL($I$2:$I$224,ROWS($I$2:I134)),\"\")","v":""},{"$f":"IF('Step 3 Product data'!J$17=$A134,$H134,\"\")","v":""},{"$f":"IFERROR(SMALL(K$2:K$224,ROWS(K$2:K134)),\"\")","v":""},{"$f":"IF('Step 3 Product data'!K$17=$A134,$H134,\"\")","v":""},{"$f":"IFERROR(SMALL(M$2:M$224,ROWS(M$2:M134)),\"\")","v":""},{"$f":"IF('Step 3 Product data'!L$17=$A134,$H134,\"\")","v":""},{"$f":"IFERROR(SMALL(O$2:O$224,ROWS(O$2:O134)),\"\")","v":""},{"$f":"IF('Step 3 Product data'!M$17=$A134,$H134,\"\")","v":""},{"$f":"IFERROR(SMALL(Q$2:Q$224,ROWS(Q$2:Q134)),\"\")","v":""},{"$f":"IF('Step 3 Product data'!N$17=$A134,$H134,\"\")","v":""},{"$f":"IFERROR(SMALL(S$2:S$224,ROWS(S$2:S134)),\"\")","v":""},{"$f":"IF('Step 3 Product data'!O$17=$A134,$H134,\"\")","v":""},{"$f":"IFERROR(SMALL(U$2:U$224,ROWS(U$2:U134)),\"\")","v":""},{"$f":"IF('Step 3 Product data'!P$17=$A134,$H134,\"\")","v":""},{"$f":"IFERROR(SMALL(W$2:W$224,ROWS(W$2:W134)),\"\")","v":""},{"$f":"IF('Step 3 Product data'!Q$17=$A134,$H134,\"\")","v":""},{"$f":"IFERROR(SMALL(Y$2:Y$224,ROWS(Y$2:Y134)),\"\")","v":""},{"$f":"IF('Step 3 Product data'!R$17=$A134,$H134,\"\")","v":""},{"$f":"IFERROR(SMALL(AA$2:AA$224,ROWS(AA$2:AA134)),\"\")","v":""},{"$f":"IF('Step 3 Product data'!S$17=$A134,$H134,\"\")","v":""},{"$f":"IFERROR(SMALL(AC$2:AC$224,ROWS(AC$2:AC134)),\"\")","v":""},{"$f":"IF('Step 3 Product data'!T$17=$A134,$H134,\"\")","v":""},{"$f":"IFERROR(SMALL(AE$2:AE$224,ROWS(AE$2:AE134)),\"\")","v":""},{"$f":"IF('Step 3 Product data'!U$17=$A134,$H134,\"\")","v":""},{"$f":"IFERROR(SMALL(AG$2:AG$224,ROWS(AG$2:AG134)),\"\")","v":""},{"$f":"IF('Step 3 Product data'!V$17=$A134,$H134,\"\")","v":""},{"$f":"IFERROR(SMALL(AI$2:AI$224,ROWS(AI$2:AI134)),\"\")","v":""},{"$f":"IF('Step 3 Product data'!W$17=$A134,$H134,\"\")","v":""},{"$f":"IFERROR(SMALL(AK$2:AK$224,ROWS(AK$2:AK134)),\"\")","v":""},{"$f":"IF('Step 3 Product data'!X$17=$A134,$H134,\"\")","v":""},{"$f":"IFERROR(SMALL(AM$2:AM$224,ROWS(AM$2:AM134)),\"\")","v":""}]
["Formaldehyde","CAS# 50000",null,null,null,null,null,{"$f":"ROWS($A$2:A135)","v":134},{"$f":"IF('Step 3 Product data'!I$17=$A135,$H135,\"\")","v":""},{"$f":"IFERROR(SMALL($I$2:$I$224,ROWS($I$2:I135)),\"\")","v":""},{"$f":"IF('Step 3 Product data'!J$17=$A135,$H135,\"\")","v":""},{"$f":"IFERROR(SMALL(K$2:K$224,ROWS(K$2:K135)),\"\")","v":""},{"$f":"IF('Step 3 Product data'!K$17=$A135,$H135,\"\")","v":""},{"$f":"IFERROR(SMALL(M$2:M$224,ROWS(M$2:M135)),\"\")","v":""},{"$f":"IF('Step 3 Product data'!L$17=$A135,$H135,\"\")","v":""},{"$f":"IFERROR(SMALL(O$2:O$224,ROWS(O$2:O135)),\"\")","v":""},{"$f":"IF('Step 3 Product data'!M$17=$A135,$H135,\"\")","v":""},{"$f":"IFERROR(SMALL(Q$2:Q$224,ROWS(Q$2:Q135)),\"\")","v":""},{"$f":"IF('Step 3 Product data'!N$17=$A135,$H135,\"\")","v":""},{"$f":"IFERROR(SMALL(S$2:S$224,ROWS(S$2:S135)),\"\")","v":""},{"$f":"IF('Step 3 Product data'!O$17=$A135,$H135,\"\")","v":""},{"$f":"IFERROR(SMALL(U$2:U$224,ROWS(U$2:U135)),\"\")","v":""},{"$f":"IF('Step 3 Product data'!P$17=$A135,$H135,\"\")","v":""},{"$f":"IFERROR(SMALL(W$2:W$224,ROWS(W$2:W135)),\"\")","v":""},{"$f":"IF('Step 3 Product data'!Q$17=$A135,$H135,\"\")","v":""},{"$f":"IFERROR(SMALL(Y$2:Y$224,ROWS(Y$2:Y135)),\"\")","v":""},{"$f":"IF('Step 3 Product data'!R$17=$A135,$H135,\"\")","v":""},{"$f":"IFERROR(SMALL(AA$2:AA$224,ROWS(AA$2:AA135)),\"\")","v":""},{"$f":"IF('Step 3 Product data'!S$17=$A135,$H135,\"\")","v":""},{"$f":"IFERROR(SMALL(AC$2:AC$224,ROWS(AC$2:AC135)),\"\")","v":""},{"$f":"IF('Step 3 Product data'!T$17=$A135,$H135,\"\")","v":""},{"$f":"IFERROR(SMALL(AE$2:AE$224,ROWS(AE$2:AE135)),\"\")","v":""},{"$f":"IF('Step 3 Product data'!U$17=$A135,$H135,\"\")","v":""},{"$f":"IFERROR(SMALL(AG$2:AG$224,ROWS(AG$2:AG135)),\"\")","v":""},{"$f":"IF('Step 3 Product data'!V$17=$A135,$H135,\"\")","v":""},{"$f":"IFERROR(SMALL(AI$2:AI$224,ROWS(AI$2:AI135)),\"\")","v":""},{"$f":"IF('Step 3 Product data'!W$17=$A135,$H135,\"\")","v":""},{"$f":"IFERROR(SMALL(AK$2:AK$224,ROWS(AK$2:AK135)),\"\")","v":""},{"$f":"IF('Step 3 Product data'!X$17=$A135,$H135,\"\")","v":""},{"$f":"IFERROR(SMALL(AM$2:AM$224,ROWS(AM$2:AM135)),\"\")","v":""}]
["Heptachlor","CAS# 76448",null,null,null,null,null,{"$f":"ROWS($A$2:A136)","v":135},{"$f":"IF('Step 3 Product data'!I$17=$A136,$H136,\"\")","v":""},{"$f":"IFERROR(SMALL($I$2:$I$224,ROWS($I$2:I136)),\"\")","v":""},{"$f":"IF('Step 3 Product data'!J$17=$A136,$H136,\"\")","v":""},{"$f":"IFERROR(SMALL(K$2:K$224,ROWS(K$2:K136)),\"\")","v":""},{"$f":"IF('Step 3 Product data'!K$17=$A136,$H136,\"\")","v":""},{"$f":"IFERROR(SMALL(M$2:M$224,ROWS(M$2:M136)),\"\")","v":""},{"$f":"IF('Step 3 Product data'!L$17=$A136,$H136,\"\")","v":""},{"$f":"IFERROR(SMALL(O$2:O$224,ROWS(O$2:O136)),\"\")","v":""},{"$f":"IF('Step 3 Product data'!M$17=$A136,$H136,\"\")","v":""},{"$f":"IFERROR(SMALL(Q$2:Q$224,ROWS(Q$2:Q136)),\"\")","v":""},{"$f":"IF('Step 3 Product data'!N$17=$A136,$H136,\"\")","v":""},{"$f":"IFERROR(SMALL(S$2:S$224,ROWS(S$2:S136)),\"\")","v":""},{"$f":"IF('Step 3 Product data'!O$17=$A136,$H136,\"\")","v":""},{"$f":"IFERROR(SMALL(U$2:U$224,ROWS(U$2:U136)),\"\")","v":""},{"$f":"IF('Step 3 Product data'!P$17=$A136,$H136,\"\")","v":""},{"$f":"IFERROR(SMALL(W$2:W$224,ROWS(W$2:W136)),\"\")","v":""},{"$f":"IF('Step 3 Product data'!Q$17=$A136,$H136,\"\")","v":""},{"$f":"IFERROR(SMALL(Y$2:Y$224,ROWS(Y$2:Y136)),\"\")","v":""},{"$f":"IF('Step 3 Product data'!R$17=$A136,$H136,\"\")","v":""},{"$f":"IFERROR(SMALL(AA$2:AA$224,ROWS(AA$2:AA136)),\"\")","v":""},{"$f":"IF('Step 3 Product data'!S$17=$A136,$H136,\"\")","v":""},{"$f":"IFERROR(SMALL(AC$2:AC$224,ROWS(AC$2:AC136)),\"\")","v":""},{"$f":"IF('Step 3 Product data'!T$17=$A136,$H136,\"\")","v":""},{"$f":"IFERROR(SMALL(AE$2:AE$224,ROWS(AE$2:AE136)),\"\")","v":""},{"$f":"IF('Step 3 Product data'!U$17=$A136,$H136,\"\")","v":""},{"$f":"IFERROR(SMALL(AG$2:AG$224,ROWS(AG$2:AG136)),\"\")","v":""},{"$f":"IF('Step 3 Product data'!V$17=$A136,$H136,\"\")","v":""},{"$f":"IFERROR(SMALL(AI$2:AI$224,ROWS(AI$2:AI136)),\"\")","v":""},{"$f":"IF('Step 3 Product data'!W$17=$A136,$H136,\"\")","v":""},{"$f":"IFERROR(SMALL(AK$2:AK$224,ROWS(AK$2:AK136)),\"\")","v":""},{"$f":"IF('Step 3 Product data'!X$17=$A136,$H136,\"\")","v":""},{"$f":"IFERROR(SMALL(AM$2:AM$224,ROWS(AM$2:AM136)),\"\")","v":""}]
["Hexachlorobenzene","CAS# 118741",null,null,null,null,null,{"$f":"ROWS($A$2:A137)","v":136},{"$f":"IF('Step 3 Product data'!I$17=$A137,$H137,\"\")","v":""},{"$f":"IFERROR(SMALL($I$2:$I$224,ROWS($I$2:I137)),\"\")","v":""},{"$f":"IF('Step 3 Product data'!J$17=$A137,$H137,\"\")","v":""},{"$f":"IFERROR(SMALL(K$2:K$224,ROWS(K$2:K137)),\"\")","v":""},{"$f":"IF('Step 3 Product data'!K$17=$A137,$H137,\"\")","v":""},{"$f":"IFERROR(SMALL(M$2:M$224,ROWS(M$2:M137)),\"\")","v":""},{"$f":"IF('Step 3 Product data'!L$17=$A137,$H137,\"\")","v":""},{"$f":"IFERROR(SMALL(O$2:O$224,ROWS(O$2:O137)),\"\")","v":""},{"$f":"IF('Step 3 Product data'!M$17=$A137,$H137,\"\")","v":""},{"$f":"IFERROR(SMALL(Q$2:Q$224,ROWS(Q$2:Q137)),\"\")","v":""},{"$f":"IF('Step 3 Product data'!N$17=$A137,$H137,\"\")","v":""},{"$f":"IFERROR(SMALL(S$2:S$224,ROWS(S$2:S137)),\"\")","v":""},{"$f":"IF('Step 3 Product data'!O$17=$A137,$H137,\"\")","v":""},{"$f":"IFERROR(SMALL(U$2:U$224,ROWS(U$2:U137)),\"\")","v":""},{"$f":"IF('Step 3 Product data'!P$17=$A137,$H137,\"\")","v":""},{"$f":"IFERROR(SMALL(W$2:W$224,ROWS(W$2:W137)),\"\")","v":""},{"$f":"IF('Step 3 Product data'!Q$17=$A137,$H137,\"\")","v":""},{"$f":"IFERROR(SMALL(Y$2:Y$224,ROWS(Y$2:Y137)),\"\")","v":""},{"$f":"IF('Step 3 Product data'!R$17=$A137,$H137,\"\")","v":""},{"$f":"IFERROR(SMALL(AA$2:AA$224,ROWS(AA$2:AA137)),\"\")","v":""},{"$f":"IF('Step 3 Product data'!S$17=$A137,$H137,\"\")","v":""},{"$f":"IFERROR(SMALL(AC$2:AC$224,ROWS(AC$2:AC137)),\"\")","v":""},{"$f":"IF('Step 3 Product data'!T$17=$A137,$H137,\"\")","v":""},{"$f":"IFERROR(SMALL(AE$2:AE$224,ROWS(AE$2:AE137)),\"\")","v":""},{"$f":"IF('Step 3 Product data'!U$17=$A137,$H137,\"\")","v":""},{"$f":"IFERROR(SMALL(AG$2:AG$224,ROWS(AG$2:AG137)),\"\")","v":""},{"$f":"IF('Step 3 Product data'!V$17=$A137,$H137,\"\")","v":""},{"$f":"IFERROR(SMALL(AI$2:AI$224,ROWS(AI$2:AI137)),\"\")","v":""},{"$f":"IF('Step 3 Product data'!W$17=$A137,$H137,\"\")","v":""},{"$f":"IFERROR(SMALL(AK$2:AK$224,ROWS(AK$2:AK137)),\"\")","v":""},{"$f":"IF('Step 3 Product data'!X$17=$A137,$H137,\"\")","v":""},{"$f":"IFERROR(SMALL(AM$2:AM$224,ROWS(AM$2:AM137)),\"\")","v":""}]
["Hexachlorobutadiene","CAS# 87683",null,null,null,null,null,{"$f":"ROWS($A$2:A138)","v":137},{"$f":"IF('Step 3 Product data'!I$17=$A138,$H138,\"\")","v":""},{"$f":"IFERROR(SMALL($I$2:$I$224,ROWS($I$2:I138)),\"\")","v":""},{"$f":"IF('Step 3 Product data'!J$17=$A138,$H138,\"\")","v":""},{"$f":"IFERROR(SMALL(K$2:K$224,ROWS(K$2:K138)),\"\")","v":""},{"$f":"IF('Step 3 Product data'!K$17=$A138,$H138,\"\")","v":""},{"$f":"IFERROR(SMALL(M$2:M$224,ROWS(M$2:M138)),\"\")","v":""},{"$f":"IF('Step 3 Product data'!L$17=$A138,$H138,\"\")","v":""},{"$f":"IFERROR(SMALL(O$2:O$224,ROWS(O$2:O138)),\"\")","v":""},{"$f":"IF('Step 3 Product data'!M$17=$A138,$H138,\"\")","v":""},{"$f":"IFERROR(SMALL(Q$2:Q$224,ROWS(Q$2:Q138)),\"\")","v":""},{"$f":"IF('Step 3 Product data'!N$17=$A138,$H138,\"\")","v":""},{"$f":"IFERROR(SMALL(S$2:S$224,ROWS(S$2:S138)),\"\")","v":""},{"$f":"IF('Step 3 Product data'!O$17=$A138,$H138,\"\")","v":""},{"$f":"IFERROR(SMALL(U$2:U$224,ROWS(U$2:U138)),\"\")","v":""},{"$f":"IF('Step 3 Product data'!P$17=$A138,$H138,\"\")","v":""},{"$f":"IFERROR(SMALL(W$2:W$224,ROWS(W$2:W138)),\"\")","v":""},{"$f":"IF('Step 3 Product data'!Q$17=$A138,$H138,\"\")","v":""},{"$f":"IFERROR(SMALL(Y$2:Y$224,ROWS(Y$2:Y138)),\"\")","v":""},{"$f":"IF('Step 3 Product data'!R$17=$A138,$H138,\"\")","v":""},{"$f":"IFERROR(SMALL(AA$2:AA$224,ROWS(AA$2:AA138)),\"\")","v":""},{"$f":"IF('Step 3 Product data'!S$17=$A138,$H138,\"\")","v":""},{"$f":"IFERROR(SMALL(AC$2:AC$224,ROWS(AC$2:AC138)),\"\")","v":""},{"$f":"IF('Step 3 Product data'!T$17=$A138,$H138,\"\")","v":""},{"$f":"IFERROR(SMALL(AE$2:AE$224,ROWS(AE$2:AE138)),\"\")","v":""},{"$f":"IF('Step 3 Product data'!U$17=$A138,$H138,\"\")","v":""},{"$f":"IFERROR(SMALL(AG$2:AG$224,ROWS(AG$2:AG138)),\"\")","v":""},{"$f":"IF('Step 3 Product data'!V$17=$A138,$H138,\"\")","v":""},{"$f":"IFERROR(SMALL(AI$2:AI$224,ROWS(AI$2:AI138)),\"\")","v":""},{"$f":"IF('Step 3 Product data'!W$17=$A138,$H138,\"\")","v":""},{"$f":"IFERROR(SMALL(AK$2:AK$224,ROWS(AK$2:AK138)),\"\")","v":""},{"$f":"IF('Step 3 Product data'!X$17=$A138,$H138,\"\")","v":""},{"$f":"IFERROR(SMALL(AM$2:AM$224,ROWS(AM$2:AM138)),\"\")","v":""}]
["Hexachlorocyclopentadiene","CAS# 77474",null,null,null,null,null,{"$f":"ROWS($A$2:A139)","v":138},{"$f":"IF('Step 3 Product data'!I$17=$A139,$H139,\"\")","v":""},{"$f":"IFERROR(SMALL($I$2:$I$224,ROWS($I$2:I139)),\"\")","v":""},{"$f":"IF('Step 3 Product data'!J$17=$A139,$H139,\"\")","v":""},{"$f":"IFERROR(SMALL(K$2:K$224,ROWS(K$2:K139)),\"\")","v":""},{"$f":"IF('Step 3 Product data'!K$17=$A139,$H139,\"\")","v":""},{"$f":"IFERROR(SMALL(M$2:M$224,ROWS(M$2:M139)),\"\")","v":""},{"$f":"IF('Step 3 Product data'!L$17=$A139,$H139,\"\")","v":""},{"$f":"IFERROR(SMALL(O$2:O$224,ROWS(O$2:O139)),\"\")","v":""},{"$f":"IF('Step 3 Product data'!M$17=$A139,$H139,\"\")","v":""},{"$f":"IFERROR(SMALL(Q$2:Q$224,ROWS(Q$2:Q139)),\"\")","v":""},{"$f":"IF('Step 3 Product data'!N$17=$A139,$H139,\"\")","v":""},{"$f":"IFERROR(SMALL(S$2:S$224,ROWS(S$2:S139)),\"\")","v":""},{"$f":"IF('Step 3 Product data'!O$17=$A139,$H139,\"\")","v":""},{"$f":"IFERROR(SMALL(U$2:U$224,ROWS(U$2:U139)),\"\")","v":""},{"$f":"IF('Step 3 Product data'!P$17=$A139,$H139,\"\")","v":""},{"$f":"IFERROR(SMALL(W$2:W$224,ROWS(W$2:W139)),\"\")","v":""},{"$f":"IF('Step 3 Product data'!Q$17=$A139,$H139,\"\")","v":""},{"$f":"IFERROR(SMALL(Y$2:Y$224,ROWS(Y$2:Y139)),\"\")","v":""},{"$f":"IF('Step 3 Product data'!R$17=$A139,$H139,\"\")","v":""},{"$f":"IFERROR(SMALL(AA$2:AA$224,ROWS(AA$2:AA139)),\"\")","v":""},{"$f":"IF('Step 3 Product data'!S$17=$A139,$H139,\"\")","v":""},{"$f":"IFERROR(SMALL(AC$2:AC$224,ROWS(AC$2:AC139)),\"\")","v":""},{"$f":"IF('Step 3 Product data'!T$17=$A139,$H139,\"\")","v":""},{"$f":"IFERROR(SMALL(AE$2:AE$224,ROWS(AE$2:AE139)),\"\")","v":""},{"$f":"IF('Step 3 Product data'!U$17=$A139,$H139,\"\")","v":""},{"$f":"IFERROR(SMALL(AG$2:AG$224,ROWS(AG$2:AG139)),\"\")","v":""},{"$f":"IF('Step 3 Product data'!V$17=$A139,$H139,\"\")","v":""},{"$f":"IFERROR(SMALL(AI$2:AI$224,ROWS(AI$2:AI139)),\"\")","v":""},{"$f":"IF('Step 3 Product data'!W$17=$A139,$H139,\"\")","v":""},{"$f":"IFERROR(SMALL(AK$2:AK$224,ROWS(AK$2:AK139)),\"\")","v":""},{"$f":"IF('Step 3 Product data'!X$17=$A139,$H139,\"\")","v":""},{"$f":"IFERROR(SMALL(AM$2:AM$224,ROWS(AM$2:AM139)),\"\")","v":""}]
["Hexachloroethane","CAS# 67721",null,null,null,null,null,{"$f":"ROWS($A$2:A140)","v":139},{"$f":"IF('Step 3 Product data'!I$17=$A140,$H140,\"\")","v":""},{"$f":"IFERROR(SMALL($I$2:$I$224,ROWS($I$2:I140)),\"\")","v":""},{"$f":"IF('Step 3 Product data'!J$17=$A140,$H140,\"\")","v":""},{"$f":"IFERROR(SMALL(K$2:K$224,ROWS(K$2:K140)),\"\")","v":""},{"$f":"IF('Step 3 Product data'!K$17=$A140,$H140,\"\")","v":""},{"$f":"IFERROR(SMALL(M$2:M$224,ROWS(M$2:M140)),\"\")","v":""},{"$f":"IF('Step 3 Product data'!L$17=$A140,$H140,\"\")","v":""},{"$f":"IFERROR(SMALL(O$2:O$224,ROWS(O$2:O140)),\"\")","v":""},{"$f":"IF('Step 3 Product data'!M$17=$A140,$H140,\"\")","v":""},{"$f":"IFERROR(SMALL(Q$2:Q$224,ROWS(Q$2:Q140)),\"\")","v":""},{"$f":"IF('Step 3 Product data'!N$17=$A140,$H140,\"\")","v":""},{"$f":"IFERROR(SMALL(S$2:S$224,ROWS(S$2:S140)),\"\")","v":""},{"$f":"IF('Step 3 Product data'!O$17=$A140,$H140,\"\")","v":""},{"$f":"IFERROR(SMALL(U$2:U$224,ROWS(U$2:U140)),\"\")","v":""},{"$f":"IF('Step 3 Product data'!P$17=$A140,$H140,\"\")","v":""},{"$f":"IFERROR(SMALL(W$2:W$224,ROWS(W$2:W140)),\"\")","v":""},{"$f":"IF('Step 3 Product data'!Q$17=$A140,$H140,\"\")","v":""},{"$f":"IFERROR(SMALL(Y$2:Y$224,ROWS(Y$2:Y140)),\"\")","v":""},{"$f":"IF('Step 3 Product data'!R$17=$A140,$H140,\"\")","v":""},{"$f":"IFERROR(SMALL(AA$2:AA$224,ROWS(AA$2:AA140)),\"\")","v":""},{"$f":"IF('Step 3 Product data'!S$17=$A140,$H140,\"\")","v":""},{"$f":"IFERROR(SMALL(AC$2:AC$224,ROWS(AC$2:AC140)),\"\")","v":""},{"$f":"IF('Step 3 Product data'!T$17=$A140,$H140,\"\")","v":""},{"$f":"IFERROR(SMALL(AE$2:AE$224,ROWS(AE$2:AE140)),\"\")","v":""},{"$f":"IF('Step 3 Product data'!U$17=$A140,$H140,\"\")","v":""},{"$f":"IFERROR(SMALL(AG$2:AG$224,ROWS(AG$2:AG140)),\"\")","v":""},{"$f":"IF('Step 3 Product data'!V$17=$A140,$H140,\"\")","v":""},{"$f":"IFERROR(SMALL(AI$2:AI$224,ROWS(AI$2:AI140)),\"\")","v":""},{"$f":"IF('Step 3 Product data'!W$17=$A140,$H140,\"\")","v":""},{"$f":"IFERROR(SMALL(AK$2:AK$224,ROWS(AK$2:AK140)),\"\")","v":""},{"$f":"IF('Step 3 Product data'!X$17=$A140,$H140,\"\")","v":""},{"$f":"IFERROR(SMALL(AM$2:AM$224,ROWS(AM$2:AM140)),\"\")","v":""}]
["Hexamethylene-1,6-diisocyanate","CAS# 822060",null,null,null,null,null,{"$f":"ROWS($A$2:A141)","v":140},{"$f":"IF('Step 3 Product data'!I$17=$A141,$H141,\"\")","v":""},{"$f":"IFERROR(SMALL($I$2:$I$224,ROWS($I$2:I141)),\"\")","v":""},{"$f":"IF('Step 3 Product data'!J$17=$A141,$H141,\"\")","v":""},{"$f":"IFERROR(SMALL(K$2:K$224,ROWS(K$2:K141)),\"\")","v":""},{"$f":"IF('Step 3 Product data'!K$17=$A141,$H141,\"\")","v":""},{"$f":"IFERROR(SMALL(M$2:M$224,ROWS(M$2:M141)),\"\")","v":""},{"$f":"IF('Step 3 Product data'!L$17=$A141,$H141,\"\")","v":""},{"$f":"IFERROR(SMALL(O$2:O$224,ROWS(O$2:O141)),\"\")","v":""},{"$f":"IF('Step 3 Product data'!M$17=$A141,$H141,\"\")","v":""},{"$f":"IFERROR(SMALL(Q$2:Q$224,ROWS(Q$2:Q141)),\"\")","v":""},{"$f":"IF('Step 3 Product data'!N$17=$A141,$H141,\"\")","v":""},{"$f":"IFERROR(SMALL(S$2:S$224,ROWS(S$2:S141)),\"\")","v":""},{"$f":"IF('Step 3 Product data'!O$17=$A141,$H141,\"\")","v":""},{"$f":"IFERROR(SMALL(U$2:U$224,ROWS(U$2:U141)),\"\")","v":""},{"$f":"IF('Step 3 Product data'!P$17=$A141,$H141,\"\")","v":""},{"$f":"IFERROR(SMALL(W$2:W$224,ROWS(W$2:W141)),\"\")","v":""},{"$f":"IF('Step 3 Product data'!Q$17=$A141,$H141,\"\")","v":""},{"$f":"IFERROR(SMALL(Y$2:Y$224,ROWS(Y$2:Y141)),\"\")","v":""},{"$f":"IF('Step 3 Product data'!R$17=$A141,$H141,\"\")","v":""},{"$f":"IFERROR(SMALL(AA$2:AA$224,ROWS(AA$2:AA141)),\"\")","v":""},{"$f":"IF('Step 3 Product data'!S$17=$A141,$H141,\"\")","v":""},{"$f":"IFERROR(SMALL(AC$2:AC$224,ROWS(AC$2:AC141)),\"\")","v":""},{"$f":"IF('Step 3 Product data'!T$17=$A141,$H141,\"\")","v":""},{"$f":"IFERROR(SMALL(AE$2:AE$224,ROWS(AE$2:AE141)),\"\")","v":""},{"$f":"IF('Step 3 Product data'!U$17=$A141,$H141,\"\")","v":""},{"$f":"IFERROR(SMALL(AG$2:AG$224,ROWS(AG$2:AG141)),\"\")","v":""},{"$f":"IF('Step 3 Product data'!V$17=$A141,$H141,\"\")","v":""},{"$f":"IFERROR(SMALL(AI$2:AI$224,ROWS(AI$2:AI141)),\"\")","v":""},{"$f":"IF('Step 3 Product data'!W$17=$A141,$H141,\"\")","v":""},{"$f":"IFERROR(SMALL(AK$2:AK$224,ROWS(AK$2:AK141)),\"\")","v":""},{"$f":"IF('Step 3 Product data'!X$17=$A141,$H141,\"\")","v":""},{"$f":"IFERROR(SMALL(AM$2:AM$224,ROWS(AM$2:AM141)),\"\")","v":""}]
["Hexamethylphosphoramide","CAS# 680319",null,null,null,null,null,{"$f":"ROWS($A$2:A142)","v":141},{"$f":"IF('Step 3 Product data'!I$17=$A142,$H142,\"\")","v":""},{"$f":"IFERROR(SMALL($I$2:$I$224,ROWS($I$2:I142)),\"\")","v":""},{"$f":"IF('Step 3 Product data'!J$17=$A142,$H142,\"\")","v":""},{"$f":"IFERROR(SMALL(K$2:K$224,ROWS(K$2:K142)),\"\")","v":""},{"$f":"IF('Step 3 Product data'!K$17=$A142,$H142,\"\")","v":""},{"$f":"IFERROR(SMALL(M$2:M$224,ROWS(M$2:M142)),\"\")","v":""},{"$f":"IF('Step 3 Product data'!L$17=$A142,$H142,\"\")","v":""},{"$f":"IFERROR(SMALL(O$2:O$224,ROWS(O$2:O142)),\"\")","v":""},{"$f":"IF('Step 3 Product data'!M$17=$A142,$H142,\"\")","v":""},{"$f":"IFERROR(SMALL(Q$2:Q$224,ROWS(Q$2:Q142)),\"\")","v":""},{"$f":"IF('Step 3 Product data'!N$17=$A142,$H142,\"\")","v":""},{"$f":"IFERROR(SMALL(S$2:S$224,ROWS(S$2:S142)),\"\")","v":""},{"$f":"IF('Step 3 Product data'!O$17=$A142,$H142,\"\")","v":""},{"$f":"IFERROR(SMALL(U$2:U$224,ROWS(U$2:U142)),\"\")","v":""},{"$f":"IF('Step 3 Product data'!P$17=$A142,$H142,\"\")","v":""},{"$f":"IFERROR(SMALL(W$2:W$224,ROWS(W$2:W142)),\"\")","v":""},{"$f":"IF('Step 3 Product data'!Q$17=$A142,$H142,\"\")","v":""},{"$f":"IFERROR(SMALL(Y$2:Y$224,ROWS(Y$2:Y142)),\"\")","v":""},{"$f":"IF('Step 3 Product data'!R$17=$A142,$H142,\"\")","v":""},{"$f":"IFERROR(SMALL(AA$2:AA$224,ROWS(AA$2:AA142)),\"\")","v":""},{"$f":"IF('Step 3 Product data'!S$17=$A142,$H142,\"\")","v":""},{"$f":"IFERROR(SMALL(AC$2:AC$224,ROWS(AC$2:AC142)),\"\")","v":""},{"$f":"IF('Step 3 Product data'!T$17=$A142,$H142,\"\")","v":""},{"$f":"IFERROR(SMALL(AE$2:AE$224,ROWS(AE$2:AE142)),\"\")","v":""},{"$f":"IF('Step 3 Product data'!U$17=$A142,$H142,\"\")","v":""},{"$f":"IFERROR(SMALL(AG$2:AG$224,ROWS(AG$2:AG142)),\"\")","v":""},{"$f":"IF('Step 3 Product data'!V$17=$A142,$H142,\"\")","v":""},{"$f":"IFERROR(SMALL(AI$2:AI$224,ROWS(AI$2:AI142)),\"\")","v":""},{"$f":"IF('Step 3 Product data'!W$17=$A142,$H142,\"\")","v":""},{"$f":"IFERROR(SMALL(AK$2:AK$224,ROWS(AK$2:AK142)),\"\")","v":""},{"$f":"IF('Step 3 Product data'!X$17=$A142,$H142,\"\")","v":""},{"$f":"IFERROR(SMALL(AM$2:AM$224,ROWS(AM$2:AM142)),\"\")","v":""}]
["Hexane","CAS# 110543",null,null,null,null,null,{"$f":"ROWS($A$2:A143)","v":142},{"$f":"IF('Step 3 Product data'!I$17=$A143,$H143,\"\")","v":""},{"$f":"IFERROR(SMALL($I$2:$I$224,ROWS($I$2:I143)),\"\")","v":""},{"$f":"IF('Step 3 Product data'!J$17=$A143,$H143,\"\")","v":""},{"$f":"IFERROR(SMALL(K$2:K$224,ROWS(K$2:K143)),\"\")","v":""},{"$f":"IF('Step 3 Product data'!K$17=$A143,$H143,\"\")","v":""},{"$f":"IFERROR(SMALL(M$2:M$224,ROWS(M$2:M143)),\"\")","v":""},{"$f":"IF('Step 3 Product data'!L$17=$A143,$H143,\"\")","v":""},{"$f":"IFERROR(SMALL(O$2:O$224,ROWS(O$2:O143)),\"\")","v":""},{"$f":"IF('Step 3 Product data'!M$17=$A143,$H143,\"\")","v":""},{"$f":"IFERROR(SMALL(Q$2:Q$224,ROWS(Q$2:Q143)),\"\")","v":""},{"$f":"IF('Step 3 Product data'!N$17=$A143,$H143,\"\")","v":""},{"$f":"IFERROR(SMALL(S$2:S$224,ROWS(S$2:S143)),\"\")","v":""},{"$f":"IF('Step 3 Product data'!O$17=$A143,$H143,\"\")","v":""},{"$f":"IFERROR(SMALL(U$2:U$224,ROWS(U$2:U143)),\"\")","v":""},{"$f":"IF('Step 3 Product data'!P$17=$A143,$H143,\"\")","v":""},{"$f":"IFERROR(SMALL(W$2:W$224,ROWS(W$2:W143)),\"\")","v":""},{"$f":"IF('Step 3 Product data'!Q$17=$A143,$H143,\"\")","v":""},{"$f":"IFERROR(SMALL(Y$2:Y$224,ROWS(Y$2:Y143)),\"\")","v":""},{"$f":"IF('Step 3 Product data'!R$17=$A143,$H143,\"\")","v":""},{"$f":"IFERROR(SMALL(AA$2:AA$224,ROWS(AA$2:AA143)),\"\")","v":""},{"$f":"IF('Step 3 Product data'!S$17=$A143,$H143,\"\")","v":""},{"$f":"IFERROR(SMALL(AC$2:AC$224,ROWS(AC$2:AC143)),\"\")","v":""},{"$f":"IF('Step 3 Product data'!T$17=$A143,$H143,\"\")","v":""},{"$f":"IFERROR(SMALL(AE$2:AE$224,ROWS(AE$2:AE143)),\"\")","v":""},{"$f":"IF('Step 3 Product data'!U$17=$A143,$H143,\"\")","v":""},{"$f":"IFERROR(SMALL(AG$2:AG$224,ROWS(AG$2:AG143)),\"\")","v":""},{"$f":"IF('Step 3 Product data'!V$17=$A143,$H143,\"\")","v":""},{"$f":"IFERROR(SMALL(AI$2:AI$224,ROWS(AI$2:AI143)),\"\")","v":""},{"$f":"IF('Step 3 Product data'!W$17=$A143,$H143,\"\")","v":""},{"$f":"IFERROR(SMALL(AK$2:AK$224,ROWS(AK$2:AK143)),\"\")","v":""},{"$f":"IF('Step 3 Product data'!X$17=$A143,$H143,\"\")","v":""},{"$f":"IFERROR(SMALL(AM$2:AM$224,ROWS(AM$2:AM143)),\"\")","v":""}]
["Hydrazine","CAS# 302012",null,null,null,null,null,{"$f":"ROWS($A$2:A144)","v":143},{"$f":"IF('Step 3 Product data'!I$17=$A144,$H144,\"\")","v":""},{"$f":"IFERROR(SMALL($I$2:$I$224,ROWS($I$2:I144)),\"\")","v":""},{"$f":"IF('Step 3 Product data'!J$17=$A144,$H144,\"\")","v":""},{"$f":"IFERROR(SMALL(K$2:K$224,ROWS(K$2:K144)),\"\")","v":""},{"$f":"IF('Step 3 Product data'!K$17=$A144,$H144,\"\")","v":""},{"$f":"IFERROR(SMALL(M$2:M$224,ROWS(M$2:M144)),\"\")","v":""},{"$f":"IF('Step 3 Product data'!L$17=$A144,$H144,\"\")","v":""},{"$f":"IFERROR(SMALL(O$2:O$224,ROWS(O$2:O144)),\"\")","v":""},{"$f":"IF('Step 3 Product data'!M$17=$A144,$H144,\"\")","v":""},{"$f":"IFERROR(SMALL(Q$2:Q$224,ROWS(Q$2:Q144)),\"\")","v":""},{"$f":"IF('Step 3 Product data'!N$17=$A144,$H144,\"\")","v":""},{"$f":"IFERROR(SMALL(S$2:S$224,ROWS(S$2:S144)),\"\")","v":""},{"$f":"IF('Step 3 Product data'!O$17=$A144,$H144,\"\")","v":""},{"$f":"IFERROR(SMALL(U$2:U$224,ROWS(U$2:U144)),\"\")","v":""},{"$f":"IF('Step 3 Product data'!P$17=$A144,$H144,\"\")","v":""},{"$f":"IFERROR(SMALL(W$2:W$224,ROWS(W$2:W144)),\"\")","v":""},{"$f":"IF('Step 3 Product data'!Q$17=$A144,$H144,\"\")","v":""},{"$f":"IFERROR(SMALL(Y$2:Y$224,ROWS(Y$2:Y144)),\"\")","v":""},{"$f":"IF('Step 3 Product data'!R$17=$A144,$H144,\"\")","v":""},{"$f":"IFERROR(SMALL(AA$2:AA$224,ROWS(AA$2:AA144)),\"\")","v":""},{"$f":"IF('Step 3 Product data'!S$17=$A144,$H144,\"\")","v":""},{"$f":"IFERROR(SMALL(AC$2:AC$224,ROWS(AC$2:AC144)),\"\")","v":""},{"$f":"IF('Step 3 Product data'!T$17=$A144,$H144,\"\")","v":""},{"$f":"IFERROR(SMALL(AE$2:AE$224,ROWS(AE$2:AE144)),\"\")","v":""},{"$f":"IF('Step 3 Product data'!U$17=$A144,$H144,\"\")","v":""},{"$f":"IFERROR(SMALL(AG$2:AG$224,ROWS(AG$2:AG144)),\"\")","v":""},{"$f":"IF('Step 3 Product data'!V$17=$A144,$H144,\"\")","v":""},{"$f":"IFERROR(SMALL(AI$2:AI$224,ROWS(AI$2:AI144)),\"\")","v":""},{"$f":"IF('Step 3 Product data'!W$17=$A144,$H144,\"\")","v":""},{"$f":"IFERROR(SMALL(AK$2:AK$224,ROWS(AK$2:AK144)),\"\")","v":""},{"$f":"IF('Step 3 Product data'!X$17=$A144,$H144,\"\")","v":""},{"$f":"IFERROR(SMALL(AM$2:AM$224,ROWS(AM$2:AM144)),\"\")","v":""}]
["Hydrochloric acid","CAS# 7647010",null,null,null,null,null,{"$f":"ROWS($A$2:A145)","v":144},{"$f":"IF('Step 3 Product data'!I$17=$A145,$H145,\"\")","v":""},{"$f":"IFERROR(SMALL($I$2:$I$224,ROWS($I$2:I145)),\"\")","v":""},{"$f":"IF('Step 3 Product data'!J$17=$A145,$H145,\"\")","v":""},{"$f":"IFERROR(SMALL(K$2:K$224,ROWS(K$2:K145)),\"\")","v":""},{"$f":"IF('Step 3 Product data'!K$17=$A145,$H145,\"\")","v":""},{"$f":"IFERROR(SMALL(M$2:M$224,ROWS(M$2:M145)),\"\")","v":""},{"$f":"IF('Step 3 Product data'!L$17=$A145,$H145,\"\")","v":""},{"$f":"IFERROR(SMALL(O$2:O$224,ROWS(O$2:O145)),\"\")","v":""},{"$f":"IF('Step 3 Product data'!M$17=$A145,$H145,\"\")","v":""},{"$f":"IFERROR(SMALL(Q$2:Q$224,ROWS(Q$2:Q145)),\"\")","v":""},{"$f":"IF('Step 3 Product data'!N$17=$A145,$H145,\"\")","v":""},{"$f":"IFERROR(SMALL(S$2:S$224,ROWS(S$2:S145)),\"\")","v":""},{"$f":"IF('Step 3 Product data'!O$17=$A145,$H145,\"\")","v":""},{"$f":"IFERROR(SMALL(U$2:U$224,ROWS(U$2:U145)),\"\")","v":""},{"$f":"IF('Step 3 Product data'!P$17=$A145,$H145,\"\")","v":""},{"$f":"IFERROR(SMALL(W$2:W$224,ROWS(W$2:W145)),\"\")","v":""},{"$f":"IF('Step 3 Product data'!Q$17=$A145,$H145,\"\")","v":""},{"$f":"IFERROR(SMALL(Y$2:Y$224,ROWS(Y$2:Y145)),\"\")","v":""},{"$f":"IF('Step 3 Product data'!R$17=$A145,$H145,\"\")","v":""},{"$f":"IFERROR(SMALL(AA$2:AA$224,ROWS(AA$2:AA145)),\"\")","v":""},{"$f":"IF('Step 3 Product data'!S$17=$A145,$H145,\"\")","v":""},{"$f":"IFERROR(SMALL(AC$2:AC$224,ROWS(AC$2:AC145)),\"\")","v":""},{"$f":"IF('Step 3 Product data'!T$17=$A145,$H145,\"\")","v":""},{"$f":"IFERROR(SMALL(AE$2:AE$224,ROWS(AE$2:AE145)),\"\")","v":""},{"$f":"IF('Step 3 Product data'!U$17=$A145,$H145,\"\")","v":""},{"$f":"IFERROR(SMALL(AG$2:AG$224,ROWS(AG$2:AG145)),\"\")","v":""},{"$f":"IF('Step 3 Product data'!V$17=$A145,$H145,\"\")","v":""},{"$f":"IFERROR(SMALL(AI$2:AI$224,ROWS(AI$2:AI145)),\"\")","v":""},{"$f":"IF('Step 3 Product data'!W$17=$A145,$H145,\"\")","v":""},{"$f":"IFERROR(SMALL(AK$2:AK$224,ROWS(AK$2:AK145)),\"\")","v":""},{"$f":"IF('Step 3 Product data'!X$17=$A145,$H145,\"\")","v":""},{"$f":"IFERROR(SMALL(AM$2:AM$224,ROWS(AM$2:AM145)),\"\")","v":""}]
["Hydrogen fluoride (hydrofluoric acid)","CAS# 7664393",null,null,null,null,null,{"$f":"ROWS($A$2:A146)","v":145},{"$f":"IF('Step 3 Product data'!I$17=$A146,$H146,\"\")","v":""},{"$f":"IFERROR(SMALL($I$2:$I$224,ROWS($I$2:I146)),\"\")","v":""},{"$f":"IF('Step 3 Product data'!J$17=$A146,$H146,\"\")","v":""},{"$f":"IFERROR(SMALL(K$2:K$224,ROWS(K$2:K146)),\"\")","v":""},{"$f":"IF('Step 3 Product data'!K$17=$A146,$H146,\"\")","v":""},{"$f":"IFERROR(SMALL(M$2:M$224,ROWS(M$2:M146)),\"\")","v":""},{"$f":"IF('Step 3 Product data'!L$17=$A146,$H146,\"\")","v":""},{"$f":"IFERROR(SMALL(O$2:O$224,ROWS(O$2:O146)),\"\")","v":""},{"$f":"IF('Step 3 Product data'!M$17=$A146,$H146,\"\")","v":""},{"$f":"IFERROR(SMALL(Q$2:Q$224,ROWS(Q$2:Q146)),\"\")","v":""},{"$f":"IF('Step 3 Product data'!N$17=$A146,$H146,\"\")","v":""},{"$f":"IFERROR(SMALL(S$2:S$224,ROWS(S$2:S146)),\"\")","v":""},{"$f":"IF('Step 3 Product data'!O$17=$A146,$H146,\"\")","v":""},{"$f":"IFERROR(SMALL(U$2:U$224,ROWS(U$2:U146)),\"\")","v":""},{"$f":"IF('Step 3 Product data'!P$17=$A146,$H146,\"\")","v":""},{"$f":"IFERROR(SMALL(W$2:W$224,ROWS(W$2:W146)),\"\")","v":""},{"$f":"IF('Step 3 Product data'!Q$17=$A146,$H146,\"\")","v":""},{"$f":"IFERROR(SMALL(Y$2:Y$224,ROWS(Y$2:Y146)),\"\")","v":""},{"$f":"IF('Step 3 Product data'!R$17=$A146,$H146,\"\")","v":""},{"$f":"IFERROR(SMALL(AA$2:AA$224,ROWS(AA$2:AA146)),\"\")","v":""},{"$f":"IF('Step 3 Product data'!S$17=$A146,$H146,\"\")","v":""},{"$f":"IFERROR(SMALL(AC$2:AC$224,ROWS(AC$2:AC146)),\"\")","v":""},{"$f":"IF('Step 3 Product data'!T$17=$A146,$H146,\"\")","v":""},{"$f":"IFERROR(SMALL(AE$2:AE$224,ROWS(AE$2:AE146)),\"\")","v":""},{"$f":"IF('Step 3 Product data'!U$17=$A146,$H146,\"\")","v":""},{"$f":"IFERROR(SMALL(AG$2:AG$224,ROWS(AG$2:AG146)),\"\")","v":""},{"$f":"IF('Step 3 Product data'!V$17=$A146,$H146,\"\")","v":""},{"$f":"IFERROR(SMALL(AI$2:AI$224,ROWS(AI$2:AI146)),\"\")","v":""},{"$f":"IF('Step 3 Product data'!W$17=$A146,$H146,\"\")","v":""},{"$f":"IFERROR(SMALL(AK$2:AK$224,ROWS(AK$2:AK146)),\"\")","v":""},{"$f":"IF('Step 3 Product data'!X$17=$A146,$H146,\"\")","v":""},{"$f":"IFERROR(SMALL(AM$2:AM$224,ROWS(AM$2:AM146)),\"\")","v":""}]
["Hydroquinone","CAS# 123319",null,null,null,null,null,{"$f":"ROWS($A$2:A147)","v":146},{"$f":"IF('Step 3 Product data'!I$17=$A147,$H147,\"\")","v":""},{"$f":"IFERROR(SMALL($I$2:$I$224,ROWS($I$2:I147)),\"\")","v":""},{"$f":"IF('Step 3 Product data'!J$17=$A147,$H147,\"\")","v":""},{"$f":"IFERROR(SMALL(K$2:K$224,ROWS(K$2:K147)),\"\")","v":""},{"$f":"IF('Step 3 Product data'!K$17=$A147,$H147,\"\")","v":""},{"$f":"IFERROR(SMALL(M$2:M$224,ROWS(M$2:M147)),\"\")","v":""},{"$f":"IF('Step 3 Product data'!L$17=$A147,$H147,\"\")","v":""},{"$f":"IFERROR(SMALL(O$2:O$224,ROWS(O$2:O147)),\"\")","v":""},{"$f":"IF('Step 3 Product data'!M$17=$A147,$H147,\"\")","v":""},{"$f":"IFERROR(SMALL(Q$2:Q$224,ROWS(Q$2:Q147)),\"\")","v":""},{"$f":"IF('Step 3 Product data'!N$17=$A147,$H147,\"\")","v":""},{"$f":"IFERROR(SMALL(S$2:S$224,ROWS(S$2:S147)),\"\")","v":""},{"$f":"IF('Step 3 Product data'!O$17=$A147,$H147,\"\")","v":""},{"$f":"IFERROR(SMALL(U$2:U$224,ROWS(U$2:U147)),\"\")","v":""},{"$f":"IF('Step 3 Product data'!P$17=$A147,$H147,\"\")","v":""},{"$f":"IFERROR(SMALL(W$2:W$224,ROWS(W$2:W147)),\"\")","v":""},{"$f":"IF('Step 3 Product data'!Q$17=$A147,$H147,\"\")","v":""},{"$f":"IFERROR(SMALL(Y$2:Y$224,ROWS(Y$2:Y147)),\"\")","v":""},{"$f":"IF('Step 3 Product data'!R$17=$A147,$H147,\"\")","v":""},{"$f":"IFERROR(SMALL(AA$2:AA$224,ROWS(AA$2:AA147)),\"\")","v":""},{"$f":"IF('Step 3 Product data'!S$17=$A147,$H147,\"\")","v":""},{"$f":"IFERROR(SMALL(AC$2:AC$224,ROWS(AC$2:AC147)),\"\")","v":""},{"$f":"IF('Step 3 Product data'!T$17=$A147,$H147,\"\")","v":""},{"$f":"IFERROR(SMALL(AE$2:AE$224,ROWS(AE$2:AE147)),\"\")","v":""},{"$f":"IF('Step 3 Product data'!U$17=$A147,$H147,\"\")","v":""},{"$f":"IFERROR(SMALL(AG$2:AG$224,ROWS(AG$2:AG147)),\"\")","v":""},{"$f":"IF('Step 3 Product data'!V$17=$A147,$H147,\"\")","v":""},{"$f":"IFERROR(SMALL(AI$2:AI$224,ROWS(AI$2:AI147)),\"\")","v":""},{"$f":"IF('Step 3 Product data'!W$17=$A147,$H147,\"\")","v":""},{"$f":"IFERROR(SMALL(AK$2:AK$224,ROWS(AK$2:AK147)),\"\")","v":""},{"$f":"IF('Step 3 Product data'!X$17=$A147,$H147,\"\")","v":""},{"$f":"IFERROR(SMALL(AM$2:AM$224,ROWS(AM$2:AM147)),\"\")","v":""}]
["Isophorone","CAS# 78591",null,null,null,null,null,{"$f":"ROWS($A$2:A148)","v":147},{"$f":"IF('Step 3 Product data'!I$17=$A148,$H148,\"\")","v":""},{"$f":"IFERROR(SMALL($I$2:$I$224,ROWS($I$2:I148)),\"\")","v":""},{"$f":"IF('Step 3 Product data'!J$17=$A148,$H148,\"\")","v":""},{"$f":"IFERROR(SMALL(K$2:K$224,ROWS(K$2:K148)),\"\")","v":""},{"$f":"IF('Step 3 Product data'!K$17=$A148,$H148,\"\")","v":""},{"$f":"IFERROR(SMALL(M$2:M$224,ROWS(M$2:M148)),\"\")","v":""},{"$f":"IF('Step 3 Product data'!L$17=$A148,$H148,\"\")","v":""},{"$f":"IFERROR(SMALL(O$2:O$224,ROWS(O$2:O148)),\"\")","v":""},{"$f":"IF('Step 3 Product data'!M$17=$A148,$H148,\"\")","v":""},{"$f":"IFERROR(SMALL(Q$2:Q$224,ROWS(Q$2:Q148)),\"\")","v":""},{"$f":"IF('Step 3 Product data'!N$17=$A148,$H148,\"\")","v":""},{"$f":"IFERROR(SMALL(S$2:S$224,ROWS(S$2:S148)),\"\")","v":""},{"$f":"IF('Step 3 Product data'!O$17=$A148,$H148,\"\")","v":""},{"$f":"IFERROR(SMALL(U$2:U$224,ROWS(U$2:U148)),\"\")","v":""},{"$f":"IF('Step 3 Product data'!P$17=$A148,$H148,\"\")","v":""},{"$f":"IFERROR(SMALL(W$2:W$224,ROWS(W$2:W148)),\"\")","v":""},{"$f":"IF('Step 3 Product data'!Q$17=$A148,$H148,\"\")","v":""},{"$f":"IFERROR(SMALL(Y$2:Y$224,ROWS(Y$2:Y148)),\"\")","v":""},{"$f":"IF('Step 3 Product data'!R$17=$A148,$H148,\"\")","v":""},{"$f":"IFERROR(SMALL(AA$2:AA$224,ROWS(AA$2:AA148)),\"\")","v":""},{"$f":"IF('Step 3 Product data'!S$17=$A148,$H148,\"\")","v":""},{"$f":"IFERROR(SMALL(AC$2:AC$224,ROWS(AC$2:AC148)),\"\")","v":""},{"$f":"IF('Step 3 Product data'!T$17=$A148,$H148,\"\")","v":""},{"$f":"IFERROR(SMALL(AE$2:AE$224,ROWS(AE$2:AE148)),\"\")","v":""},{"$f":"IF('Step 3 Product data'!U$17=$A148,$H148,\"\")","v":""},{"$f":"IFERROR(SMALL(AG$2:AG$224,ROWS(AG$2:AG148)),\"\")","v":""},{"$f":"IF('Step 3 Product data'!V$17=$A148,$H148,\"\")","v":""},{"$f":"IFERROR(SMALL(AI$2:AI$224,ROWS(AI$2:AI148)),\"\")","v":""},{"$f":"IF('Step 3 Product data'!W$17=$A148,$H148,\"\")","v":""},{"$f":"IFERROR(SMALL(AK$2:AK$224,ROWS(AK$2:AK148)),\"\")","v":""},{"$f":"IF('Step 3 Product data'!X$17=$A148,$H148,\"\")","v":""},{"$f":"IFERROR(SMALL(AM$2:AM$224,ROWS(AM$2:AM148)),\"\")","v":""}]
["Lindane (all isomers)","CAS# 58899",null,null,null,null,null,{"$f":"ROWS($A$2:A149)","v":148},{"$f":"IF('Step 3 Product data'!I$17=$A149,$H149,\"\")","v":""},{"$f":"IFERROR(SMALL($I$2:$I$224,ROWS($I$2:I149)),\"\")","v":""},{"$f":"IF('Step 3 Product data'!J$17=$A149,$H149,\"\")","v":""},{"$f":"IFERROR(SMALL(K$2:K$224,ROWS(K$2:K149)),\"\")","v":""},{"$f":"IF('Step 3 Product data'!K$17=$A149,$H149,\"\")","v":""},{"$f":"IFERROR(SMALL(M$2:M$224,ROWS(M$2:M149)),\"\")","v":""},{"$f":"IF('Step 3 Product data'!L$17=$A149,$H149,\"\")","v":""},{"$f":"IFERROR(SMALL(O$2:O$224,ROWS(O$2:O149)),\"\")","v":""},{"$f":"IF('Step 3 Product data'!M$17=$A149,$H149,\"\")","v":""},{"$f":"IFERROR(SMALL(Q$2:Q$224,ROWS(Q$2:Q149)),\"\")","v":""},{"$f":"IF('Step 3 Product data'!N$17=$A149,$H149,\"\")","v":""},{"$f":"IFERROR(SMALL(S$2:S$224,ROWS(S$2:S149)),\"\")","v":""},{"$f":"IF('Step 3 Product data'!O$17=$A149,$H149,\"\")","v":""},{"$f":"IFERROR(SMALL(U$2:U$224,ROWS(U$2:U149)),\"\")","v":""},{"$f":"IF('Step 3 Product data'!P$17=$A149,$H149,\"\")","v":""},{"$f":"IFERROR(SMALL(W$2:W$224,ROWS(W$2:W149)),\"\")","v":""},{"$f":"IF('Step 3 Product data'!Q$17=$A149,$H149,\"\")","v":""},{"$f":"IFERROR(SMALL(Y$2:Y$224,ROWS(Y$2:Y149)),\"\")","v":""},{"$f":"IF('Step 3 Product data'!R$17=$A149,$H149,\"\")","v":""},{"$f":"IFERROR(SMALL(AA$2:AA$224,ROWS(AA$2:AA149)),\"\")","v":""},{"$f":"IF('Step 3 Product data'!S$17=$A149,$H149,\"\")","v":""},{"$f":"IFERROR(SMALL(AC$2:AC$224,ROWS(AC$2:AC149)),\"\")","v":""},{"$f":"IF('Step 3 Product data'!T$17=$A149,$H149,\"\")","v":""},{"$f":"IFERROR(SMALL(AE$2:AE$224,ROWS(AE$2:AE149)),\"\")","v":""},{"$f":"IF('Step 3 Product data'!U$17=$A149,$H149,\"\")","v":""},{"$f":"IFERROR(SMALL(AG$2:AG$224,ROWS(AG$2:AG149)),\"\")","v":""},{"$f":"IF('Step 3 Product data'!V$17=$A149,$H149,\"\")","v":""},{"$f":"IFERROR(SMALL(AI$2:AI$224,ROWS(AI$2:AI149)),\"\")","v":""},{"$f":"IF('Step 3 Product data'!W$17=$A149,$H149,\"\")","v":""},{"$f":"IFERROR(SMALL(AK$2:AK$224,ROWS(AK$2:AK149)),\"\")","v":""},{"$f":"IF('Step 3 Product data'!X$17=$A149,$H149,\"\")","v":""},{"$f":"IFERROR(SMALL(AM$2:AM$224,ROWS(AM$2:AM149)),\"\")","v":""}]
["Maleic anhydride","CAS# 108316",null,null,null,null,null,{"$f":"ROWS($A$2:A150)","v":149},{"$f":"IF('Step 3 Product data'!I$17=$A150,$H150,\"\")","v":""},{"$f":"IFERROR(SMALL($I$2:$I$224,ROWS($I$2:I150)),\"\")","v":""},{"$f":"IF('Step 3 Product data'!J$17=$A150,$H150,\"\")","v":""},{"$f":"IFERROR(SMALL(K$2:K$224,ROWS(K$2:K150)),\"\")","v":""},{"$f":"IF('Step 3 Product data'!K$17=$A150,$H150,\"\")","v":""},{"$f":"IFERROR(SMALL(M$2:M$224,ROWS(M$2:M150)),\"\")","v":""},{"$f":"IF('Step 3 Product data'!L$17=$A150,$H150,\"\")","v":""},{"$f":"IFERROR(SMALL(O$2:O$224,ROWS(O$2:O150)),\"\")","v":""},{"$f":"IF('Step 3 Product data'!M$17=$A150,$H150,\"\")","v":""},{"$f":"IFERROR(SMALL(Q$2:Q$224,ROWS(Q$2:Q150)),\"\")","v":""},{"$f":"IF('Step 3 Product data'!N$17=$A150,$H150,\"\")","v":""},{"$f":"IFERROR(SMALL(S$2:S$224,ROWS(S$2:S150)),\"\")","v":""},{"$f":"IF('Step 3 Product data'!O$17=$A150,$H150,\"\")","v":""},{"$f":"IFERROR(SMALL(U$2:U$224,ROWS(U$2:U150)),\"\")","v":""},{"$f":"IF('Step 3 Product data'!P$17=$A150,$H150,\"\")","v":""},{"$f":"IFERROR(SMALL(W$2:W$224,ROWS(W$2:W150)),\"\")","v":""},{"$f":"IF('Step 3 Product data'!Q$17=$A150,$H150,\"\")","v":""},{"$f":"IFERROR(SMALL(Y$2:Y$224,ROWS(Y$2:Y150)),\"\")","v":""},{"$f":"IF('Step 3 Product data'!R$17=$A150,$H150,\"\")","v":""},{"$f":"IFERROR(SMALL(AA$2:AA$224,ROWS(AA$2:AA150)),\"\")","v":""},{"$f":"IF('Step 3 Product data'!S$17=$A150,$H150,\"\")","v":""},{"$f":"IFERROR(SMALL(AC$2:AC$224,ROWS(AC$2:AC150)),\"\")","v":""},{"$f":"IF('Step 3 Product data'!T$17=$A150,$H150,\"\")","v":""},{"$f":"IFERROR(SMALL(AE$2:AE$224,ROWS(AE$2:AE150)),\"\")","v":""},{"$f":"IF('Step 3 Product data'!U$17=$A150,$H150,\"\")","v":""},{"$f":"IFERROR(SMALL(AG$2:AG$224,ROWS(AG$2:AG150)),\"\")","v":""},{"$f":"IF('Step 3 Product data'!V$17=$A150,$H150,\"\")","v":""},{"$f":"IFERROR(SMALL(AI$2:AI$224,ROWS(AI$2:AI150)),\"\")","v":""},{"$f":"IF('Step 3 Product data'!W$17=$A150,$H150,\"\")","v":""},{"$f":"IFERROR(SMALL(AK$2:AK$224,ROWS(AK$2:AK150)),\"\")","v":""},{"$f":"IF('Step 3 Product data'!X$17=$A150,$H150,\"\")","v":""},{"$f":"IFERROR(SMALL(AM$2:AM$224,ROWS(AM$2:AM150)),\"\")","v":""}]
["m-Cresol","CAS# 108394",null,null,null,null,null,{"$f":"ROWS($A$2:A151)","v":150},{"$f":"IF('Step 3 Product data'!I$17=$A151,$H151,\"\")","v":""},{"$f":"IFERROR(SMALL($I$2:$I$224,ROWS($I$2:I151)),\"\")","v":""},{"$f":"IF('Step 3 Product data'!J$17=$A151,$H151,\"\")","v":""},{"$f":"IFERROR(SMALL(K$2:K$224,ROWS(K$2:K151)),\"\")","v":""},{"$f":"IF('Step 3 Product data'!K$17=$A151,$H151,\"\")","v":""},{"$f":"IFERROR(SMALL(M$2:M$224,ROWS(M$2:M151)),\"\")","v":""},{"$f":"IF('Step 3 Product data'!L$17=$A151,$H151,\"\")","v":""},{"$f":"IFERROR(SMALL(O$2:O$224,ROWS(O$2:O151)),\"\")","v":""},{"$f":"IF('Step 3 Product data'!M$17=$A151,$H151,\"\")","v":""},{"$f":"IFERROR(SMALL(Q$2:Q$224,ROWS(Q$2:Q151)),\"\")","v":""},{"$f":"IF('Step 3 Product data'!N$17=$A151,$H151,\"\")","v":""},{"$f":"IFERROR(SMALL(S$2:S$224,ROWS(S$2:S151)),\"\")","v":""},{"$f":"IF('Step 3 Product data'!O$17=$A151,$H151,\"\")","v":""},{"$f":"IFERROR(SMALL(U$2:U$224,ROWS(U$2:U151)),\"\")","v":""},{"$f":"IF('Step 3 Product data'!P$17=$A151,$H151,\"\")","v":""},{"$f":"IFERROR(SMALL(W$2:W$224,ROWS(W$2:W151)),\"\")","v":""},{"$f":"IF('Step 3 Product data'!Q$17=$A151,$H151,\"\")","v":""},{"$f":"IFERROR(SMALL(Y$2:Y$224,ROWS(Y$2:Y151)),\"\")","v":""},{"$f":"IF('Step 3 Product data'!R$17=$A151,$H151,\"\")","v":""},{"$f":"IFERROR(SMALL(AA$2:AA$224,ROWS(AA$2:AA151)),\"\")","v":""},{"$f":"IF('Step 3 Product data'!S$17=$A151,$H151,\"\")","v":""},{"$f":"IFERROR(SMALL(AC$2:AC$224,ROWS(AC$2:AC151)),\"\")","v":""},{"$f":"IF('Step 3 Product data'!T$17=$A151,$H151,\"\")","v":""},{"$f":"IFERROR(SMALL(AE$2:AE$224,ROWS(AE$2:AE151)),\"\")","v":""},{"$f":"IF('Step 3 Product data'!U$17=$A151,$H151,\"\")","v":""},{"$f":"IFERROR(SMALL(AG$2:AG$224,ROWS(AG$2:AG151)),\"\")","v":""},{"$f":"IF('Step 3 Product data'!V$17=$A151,$H151,\"\")","v":""},{"$f":"IFERROR(SMALL(AI$2:AI$224,ROWS(AI$2:AI151)),\"\")","v":""},{"$f":"IF('Step 3 Product data'!W$17=$A151,$H151,\"\")","v":""},{"$f":"IFERROR(SMALL(AK$2:AK$224,ROWS(AK$2:AK151)),\"\")","v":""},{"$f":"IF('Step 3 Product data'!X$17=$A151,$H151,\"\")","v":""},{"$f":"IFERROR(SMALL(AM$2:AM$224,ROWS(AM$2:AM151)),\"\")","v":""}]
["Methanol","CAS# 67561",null,null,null,null,null,{"$f":"ROWS($A$2:A152)","v":151},{"$f":"IF('Step 3 Product data'!I$17=$A152,$H152,\"\")","v":""},{"$f":"IFERROR(SMALL($I$2:$I$224,ROWS($I$2:I152)),\"\")","v":""},{"$f":"IF('Step 3 Product data'!J$17=$A152,$H152,\"\")","v":""},{"$f":"IFERROR(SMALL(K$2:K$224,ROWS(K$2:K152)),\"\")","v":""},{"$f":"IF('Step 3 Product data'!K$17=$A152,$H152,\"\")","v":""},{"$f":"IFERROR(SMALL(M$2:M$224,ROWS(M$2:M152)),\"\")","v":""},{"$f":"IF('Step 3 Product data'!L$17=$A152,$H152,\"\")","v":""},{"$f":"IFERROR(SMALL(O$2:O$224,ROWS(O$2:O152)),\"\")","v":""},{"$f":"IF('Step 3 Product data'!M$17=$A152,$H152,\"\")","v":""},{"$f":"IFERROR(SMALL(Q$2:Q$224,ROWS(Q$2:Q152)),\"\")","v":""},{"$f":"IF('Step 3 Product data'!N$17=$A152,$H152,\"\")","v":""},{"$f":"IFERROR(SMALL(S$2:S$224,ROWS(S$2:S152)),\"\")","v":""},{"$f":"IF('Step 3 Product data'!O$17=$A152,$H152,\"\")","v":""},{"$f":"IFERROR(SMALL(U$2:U$224,ROWS(U$2:U152)),\"\")","v":""},{"$f":"IF('Step 3 Product data'!P$17=$A152,$H152,\"\")","v":""},{"$f":"IFERROR(SMALL(W$2:W$224,ROWS(W$2:W152)),\"\")","v":""},{"$f":"IF('Step 3 Product data'!Q$17=$A152,$H152,\"\")","v":""},{"$f":"IFERROR(SMALL(Y$2:Y$224,ROWS(Y$2:Y152)),\"\")","v":""},{"$f":"IF('Step 3 Product data'!R$17=$A152,$H152,\"\")","v":""},{"$f":"IFERROR(SMALL(AA$2:AA$224,ROWS(AA$2:AA152)),\"\")","v":""},{"$f":"IF('Step 3 Product data'!S$17=$A152,$H152,\"\")","v":""},{"$f":"IFERROR(SMALL(AC$2:AC$224,ROWS(AC$2:AC152)),\"\")","v":""},{"$f":"IF('Step 3 Product data'!T$17=$A152,$H152,\"\")","v":""},{"$f":"IFERROR(SMALL(AE$2:AE$224,ROWS(AE$2:AE152)),\"\")","v":""},{"$f":"IF('Step 3 Product data'!U$17=$A152,$H152,\"\")","v":""},{"$f":"IFERROR(SMALL(AG$2:AG$224,ROWS(AG$2:AG152)),\"\")","v":""},{"$f":"IF('Step 3 Product data'!V$17=$A152,$H152,\"\")","v":""},{"$f":"IFERROR(SMALL(AI$2:AI$224,ROWS(AI$2:AI152)),\"\")","v":""},{"$f":"IF('Step 3 Product data'!W$17=$A152,$H152,\"\")","v":""},{"$f":"IFERROR(SMALL(AK$2:AK$224,ROWS(AK$2:AK152)),\"\")","v":""},{"$f":"IF('Step 3 Product data'!X$17=$A152,$H152,\"\")","v":""},{"$f":"IFERROR(SMALL(AM$2:AM$224,ROWS(AM$2:AM152)),\"\")","v":""}]
["Methoxychlor","CAS# 72435",null,null,null,null,null,{"$f":"ROWS($A$2:A153)","v":152},{"$f":"IF('Step 3 Product data'!I$17=$A153,$H153,\"\")","v":""},{"$f":"IFERROR(SMALL($I$2:$I$224,ROWS($I$2:I153)),\"\")","v":""},{"$f":"IF('Step 3 Product data'!J$17=$A153,$H153,\"\")","v":""},{"$f":"IFERROR(SMALL(K$2:K$224,ROWS(K$2:K153)),\"\")","v":""},{"$f":"IF('Step 3 Product data'!K$17=$A153,$H153,\"\")","v":""},{"$f":"IFERROR(SMALL(M$2:M$224,ROWS(M$2:M153)),\"\")","v":""},{"$f":"IF('Step 3 Product data'!L$17=$A153,$H153,\"\")","v":""},{"$f":"IFERROR(SMALL(O$2:O$224,ROWS(O$2:O153)),\"\")","v":""},{"$f":"IF('Step 3 Product data'!M$17=$A153,$H153,\"\")","v":""},{"$f":"IFERROR(SMALL(Q$2:Q$224,ROWS(Q$2:Q153)),\"\")","v":""},{"$f":"IF('Step 3 Product data'!N$17=$A153,$H153,\"\")","v":""},{"$f":"IFERROR(SMALL(S$2:S$224,ROWS(S$2:S153)),\"\")","v":""},{"$f":"IF('Step 3 Product data'!O$17=$A153,$H153,\"\")","v":""},{"$f":"IFERROR(SMALL(U$2:U$224,ROWS(U$2:U153)),\"\")","v":""},{"$f":"IF('Step 3 Product data'!P$17=$A153,$H153,\"\")","v":""},{"$f":"IFERROR(SMALL(W$2:W$224,ROWS(W$2:W153)),\"\")","v":""},{"$f":"IF('Step 3 Product data'!Q$17=$A153,$H153,\"\")","v":""},{"$f":"IFERROR(SMALL(Y$2:Y$224,ROWS(Y$2:Y153)),\"\")","v":""},{"$f":"IF('Step 3 Product data'!R$17=$A153,$H153,\"\")","v":""},{"$f":"IFERROR(SMALL(AA$2:AA$224,ROWS(AA$2:AA153)),\"\")","v":""},{"$f":"IF('Step 3 Product data'!S$17=$A153,$H153,\"\")","v":""},{"$f":"IFERROR(SMALL(AC$2:AC$224,ROWS(AC$2:AC153)),\"\")","v":""},{"$f":"IF('Step 3 Product data'!T$17=$A153,$H153,\"\")","v":""},{"$f":"IFERROR(SMALL(AE$2:AE$224,ROWS(AE$2:AE153)),\"\")","v":""},{"$f":"IF('Step 3 Product data'!U$17=$A153,$H153,\"\")","v":""},{"$f":"IFERROR(SMALL(AG$2:AG$224,ROWS(AG$2:AG153)),\"\")","v":""},{"$f":"IF('Step 3 Product data'!V$17=$A153,$H153,\"\")","v":""},{"$f":"IFERROR(SMALL(AI$2:AI$224,ROWS(AI$2:AI153)),\"\")","v":""},{"$f":"IF('Step 3 Product data'!W$17=$A153,$H153,\"\")","v":""},{"$f":"IFERROR(SMALL(AK$2:AK$224,ROWS(AK$2:AK153)),\"\")","v":""},{"$f":"IF('Step 3 Product data'!X$17=$A153,$H153,\"\")","v":""},{"$f":"IFERROR(SMALL(AM$2:AM$224,ROWS(AM$2:AM153)),\"\")","v":""}]
["Methyl bromide (Bromomethane)","CAS# 74839",null,null,null,null,null,{"$f":"ROWS($A$2:A154)","v":153},{"$f":"IF('Step 3 Product data'!I$17=$A154,$H154,\"\")","v":""},{"$f":"IFERROR(SMALL($I$2:$I$224,ROWS($I$2:I154)),\"\")","v":""},{"$f":"IF('Step 3 Product data'!J$17=$A154,$H154,\"\")","v":""},{"$f":"IFERROR(SMALL(K$2:K$224,ROWS(K$2:K154)),\"\")","v":""},{"$f":"IF('Step 3 Product data'!K$17=$A154,$H154,\"\")","v":""},{"$f":"IFERROR(SMALL(M$2:M$224,ROWS(M$2:M154)),\"\")","v":""},{"$f":"IF('Step 3 Product data'!L$17=$A154,$H154,\"\")","v":""},{"$f":"IFERROR(SMALL(O$2:O$224,ROWS(O$2:O154)),\"\")","v":""},{"$f":"IF('Step 3 Product data'!M$17=$A154,$H154,\"\")","v":""},{"$f":"IFERROR(SMALL(Q$2:Q$224,ROWS(Q$2:Q154)),\"\")","v":""},{"$f":"IF('Step 3 Product data'!N$17=$A154,$H154,\"\")","v":""},{"$f":"IFERROR(SMALL(S$2:S$224,ROWS(S$2:S154)),\"\")","v":""},{"$f":"IF('Step 3 Product data'!O$17=$A154,$H154,\"\")","v":""},{"$f":"IFERROR(SMALL(U$2:U$224,ROWS(U$2:U154)),\"\")","v":""},{"$f":"IF('Step 3 Product data'!P$17=$A154,$H154,\"\")","v":""},{"$f":"IFERROR(SMALL(W$2:W$224,ROWS(W$2:W154)),\"\")","v":""},{"$f":"IF('Step 3 Product data'!Q$17=$A154,$H154,\"\")","v":""},{"$f":"IFERROR(SMALL(Y$2:Y$224,ROWS(Y$2:Y154)),\"\")","v":""},{"$f":"IF('Step 3 Product data'!R$17=$A154,$H154,\"\")","v":""},{"$f":"IFERROR(SMALL(AA$2:AA$224,ROWS(AA$2:AA154)),\"\")","v":""},{"$f":"IF('Step 3 Product data'!S$17=$A154,$H154,\"\")","v":""},{"$f":"IFERROR(SMALL(AC$2:AC$224,ROWS(AC$2:AC154)),\"\")","v":""},{"$f":"IF('Step 3 Product data'!T$17=$A154,$H154,\"\")","v":""},{"$f":"IFERROR(SMALL(AE$2:AE$224,ROWS(AE$2:AE154)),\"\")","v":""},{"$f":"IF('Step 3 Product data'!U$17=$A154,$H154,\"\")","v":""},{"$f":"IFERROR(SMALL(AG$2:AG$224,ROWS(AG$2:AG154)),\"\")","v":""},{"$f":"IF('Step 3 Product data'!V$17=$A154,$H154,\"\")","v":""},{"$f":"IFERROR(SMALL(AI$2:AI$224,ROWS(AI$2:AI154)),\"\")","v":""},{"$f":"IF('Step 3 Product data'!W$17=$A154,$H154,\"\")","v":""},{"$f":"IFERROR(SMALL(AK$2:AK$224,ROWS(AK$2:AK154)),\"\")","v":""},{"$f":"IF('Step 3 Product data'!X$17=$A154,$H154,\"\")","v":""},{"$f":"IFERROR(SMALL(AM$2:AM$224,ROWS(AM$2:AM154)),\"\")","v":""}]
["Methyl chloride (Chloromethane)","CAS# 74873",null,null,null,null,null,{"$f":"ROWS($A$2:A155)","v":154},{"$f":"IF('Step 3 Product data'!I$17=$A155,$H155,\"\")","v":""},{"$f":"IFERROR(SMALL($I$2:$I$224,ROWS($I$2:I155)),\"\")","v":""},{"$f":"IF('Step 3 Product data'!J$17=$A155,$H155,\"\")","v":""},{"$f":"IFERROR(SMALL(K$2:K$224,ROWS(K$2:K155)),\"\")","v":""},{"$f":"IF('Step 3 Product data'!K$17=$A155,$H155,\"\")","v":""},{"$f":"IFERROR(SMALL(M$2:M$224,ROWS(M$2:M155)),\"\")","v":""},{"$f":"IF('Step 3 Product data'!L$17=$A155,$H155,\"\")","v":""},{"$f":"IFERROR(SMALL(O$2:O$224,ROWS(O$2:O155)),\"\")","v":""},{"$f":"IF('Step 3 Product data'!M$17=$A155,$H155,\"\")","v":""},{"$f":"IFERROR(SMALL(Q$2:Q$224,ROWS(Q$2:Q155)),\"\")","v":""},{"$f":"IF('Step 3 Product data'!N$17=$A155,$H155,\"\")","v":""},{"$f":"IFERROR(SMALL(S$2:S$224,ROWS(S$2:S155)),\"\")","v":""},{"$f":"IF('Step 3 Product data'!O$17=$A155,$H155,\"\")","v":""},{"$f":"IFERROR(SMALL(U$2:U$224,ROWS(U$2:U155)),\"\")","v":""},{"$f":"IF('Step 3 Product data'!P$17=$A155,$H155,\"\")","v":""},{"$f":"IFERROR(SMALL(W$2:W$224,ROWS(W$2:W155)),\"\")","v":""},{"$f":"IF('Step 3 Product data'!Q$17=$A155,$H155,\"\")","v":""},{"$f":"IFERROR(SMALL(Y$2:Y$224,ROWS(Y$2:Y155)),\"\")","v":""},{"$f":"IF('Step 3 Product data'!R$17=$A155,$H155,\"\")","v":""},{"$f":"IFERROR(SMALL(AA$2:AA$224,ROWS(AA$2:AA155)),\"\")","v":""},{"$f":"IF('Step 3 Product data'!S$17=$A155,$H155,\"\")","v":""},{"$f":"IFERROR(SMALL(AC$2:AC$224,ROWS(AC$2:AC155)),\"\")","v":""},{"$f":"IF('Step 3 Product data'!T$17=$A155,$H155,\"\")","v":""},{"$f":"IFERROR(SMALL(AE$2:AE$224,ROWS(AE$2:AE155)),\"\")","v":""},{"$f":"IF('Step 3 Product data'!U$17=$A155,$H155,\"\")","v":""},{"$f":"IFERROR(SMALL(AG$2:AG$224,ROWS(AG$2:AG155)),\"\")","v":""},{"$f":"IF('Step 3 Product data'!V$17=$A155,$H155,\"\")","v":""},{"$f":"IFERROR(SMALL(AI$2:AI$224,ROWS(AI$2:AI155)),\"\")","v":""},{"$f":"IF('Step 3 Product data'!W$17=$A155,$H155,\"\")","v":""},{"$f":"IFERROR(SMALL(AK$2:AK$224,ROWS(AK$2:AK155)),\"\")","v":""},{"$f":"IF('Step 3 Product data'!X$17=$A155,$H155,\"\")","v":""},{"$f":"IFERROR(SMALL(AM$2:AM$224,ROWS(AM$2:AM155)),\"\")","v":""}]
["Methyl chloroform (1,1,1,-Trichloroethane)","CAS# 71556",null,null,null,null,null,{"$f":"ROWS($A$2:A156)","v":155},{"$f":"IF('Step 3 Product data'!I$17=$A156,$H156,\"\")","v":""},{"$f":"IFERROR(SMALL($I$2:$I$224,ROWS($I$2:I156)),\"\")","v":""},{"$f":"IF('Step 3 Product data'!J$17=$A156,$H156,\"\")","v":""},{"$f":"IFERROR(SMALL(K$2:K$224,ROWS(K$2:K156)),\"\")","v":""},{"$f":"IF('Step 3 Product data'!K$17=$A156,$H156,\"\")","v":""},{"$f":"IFERROR(SMALL(M$2:M$224,ROWS(M$2:M156)),\"\")","v":""},{"$f":"IF('Step 3 Product data'!L$17=$A156,$H156,\"\")","v":""},{"$f":"IFERROR(SMALL(O$2:O$224,ROWS(O$2:O156)),\"\")","v":""},{"$f":"IF('Step 3 Product data'!M$17=$A156,$H156,\"\")","v":""},{"$f":"IFERROR(SMALL(Q$2:Q$224,ROWS(Q$2:Q156)),\"\")","v":""},{"$f":"IF('Step 3 Product data'!N$17=$A156,$H156,\"\")","v":""},{"$f":"IFERROR(SMALL(S$2:S$224,ROWS(S$2:S156)),\"\")","v":""},{"$f":"IF('Step 3 Product data'!O$17=$A156,$H156,\"\")","v":""},{"$f":"IFERROR(SMALL(U$2:U$224,ROWS(U$2:U156)),\"\")","v":""},{"$f":"IF('Step 3 Product data'!P$17=$A156,$H156,\"\")","v":""},{"$f":"IFERROR(SMALL(W$2:W$224,ROWS(W$2:W156)),\"\")","v":""},{"$f":"IF('Step 3 Product data'!Q$17=$A156,$H156,\"\")","v":""},{"$f":"IFERROR(SMALL(Y$2:Y$224,ROWS(Y$2:Y156)),\"\")","v":""},{"$f":"IF('Step 3 Product data'!R$17=$A156,$H156,\"\")","v":""},{"$f":"IFERROR(SMALL(AA$2:AA$224,ROWS(AA$2:AA156)),\"\")","v":""},{"$f":"IF('Step 3 Product data'!S$17=$A156,$H156,\"\")","v":""},{"$f":"IFERROR(SMALL(AC$2:AC$224,ROWS(AC$2:AC156)),\"\")","v":""},{"$f":"IF('Step 3 Product data'!T$17=$A156,$H156,\"\")","v":""},{"$f":"IFERROR(SMALL(AE$2:AE$224,ROWS(AE$2:AE156)),\"\")","v":""},{"$f":"IF('Step 3 Product data'!U$17=$A156,$H156,\"\")","v":""},{"$f":"IFERROR(SMALL(AG$2:AG$224,ROWS(AG$2:AG156)),\"\")","v":""},{"$f":"IF('Step 3 Product data'!V$17=$A156,$H156,\"\")","v":""},{"$f":"IFERROR(SMALL(AI$2:AI$224,ROWS(AI$2:AI156)),\"\")","v":""},{"$f":"IF('Step 3 Product data'!W$17=$A156,$H156,\"\")","v":""},{"$f":"IFERROR(SMALL(AK$2:AK$224,ROWS(AK$2:AK156)),\"\")","v":""},{"$f":"IF('Step 3 Product data'!X$17=$A156,$H156,\"\")","v":""},{"$f":"IFERROR(SMALL(AM$2:AM$224,ROWS(AM$2:AM156)),\"\")","v":""}]
["Methyl hydrazine","CAS# 60344",null,null,null,null,null,{"$f":"ROWS($A$2:A157)","v":156},{"$f":"IF('Step 3 Product data'!I$17=$A157,$H157,\"\")","v":""},{"$f":"IFERROR(SMALL($I$2:$I$224,ROWS($I$2:I157)),\"\")","v":""},{"$f":"IF('Step 3 Product data'!J$17=$A157,$H157,\"\")","v":""},{"$f":"IFERROR(SMALL(K$2:K$224,ROWS(K$2:K157)),\"\")","v":""},{"$f":"IF('Step 3 Product data'!K$17=$A157,$H157,\"\")","v":""},{"$f":"IFERROR(SMALL(M$2:M$224,ROWS(M$2:M157)),\"\")","v":""},{"$f":"IF('Step 3 Product data'!L$17=$A157,$H157,\"\")","v":""},{"$f":"IFERROR(SMALL(O$2:O$224,ROWS(O$2:O157)),\"\")","v":""},{"$f":"IF('Step 3 Product data'!M$17=$A157,$H157,\"\")","v":""},{"$f":"IFERROR(SMALL(Q$2:Q$224,ROWS(Q$2:Q157)),\"\")","v":""},{"$f":"IF('Step 3 Product data'!N$17=$A157,$H157,\"\")","v":""},{"$f":"IFERROR(SMALL(S$2:S$224,ROWS(S$2:S157)),\"\")","v":""},{"$f":"IF('Step 3 Product data'!O$17=$A157,$H157,\"\")","v":""},{"$f":"IFERROR(SMALL(U$2:U$224,ROWS(U$2:U157)),\"\")","v":""},{"$f":"IF('Step 3 Product data'!P$17=$A157,$H157,\"\")","v":""},{"$f":"IFERROR(SMALL(W$2:W$224,ROWS(W$2:W157)),\"\")","v":""},{"$f":"IF('Step 3 Product data'!Q$17=$A157,$H157,\"\")","v":""},{"$f":"IFERROR(SMALL(Y$2:Y$224,ROWS(Y$2:Y157)),\"\")","v":""},{"$f":"IF('Step 3 Product data'!R$17=$A157,$H157,\"\")","v":""},{"$f":"IFERROR(SMALL(AA$2:AA$224,ROWS(AA$2:AA157)),\"\")","v":""},{"$f":"IF('Step 3 Product data'!S$17=$A157,$H157,\"\")","v":""},{"$f":"IFERROR(SMALL(AC$2:AC$224,ROWS(AC$2:AC157)),\"\")","v":""},{"$f":"IF('Step 3 Product data'!T$17=$A157,$H157,\"\")","v":""},{"$f":"IFERROR(SMALL(AE$2:AE$224,ROWS(AE$2:AE157)),\"\")","v":""},{"$f":"IF('Step 3 Product data'!U$17=$A157,$H157,\"\")","v":""},{"$f":"IFERROR(SMALL(AG$2:AG$224,ROWS(AG$2:AG157)),\"\")","v":""},{"$f":"IF('Step 3 Product data'!V$17=$A157,$H157,\"\")","v":""},{"$f":"IFERROR(SMALL(AI$2:AI$224,ROWS(AI$2:AI157)),\"\")","v":""},{"$f":"IF('Step 3 Product data'!W$17=$A157,$H157,\"\")","v":""},{"$f":"IFERROR(SMALL(AK$2:AK$224,ROWS(AK$2:AK157)),\"\")","v":""},{"$f":"IF('Step 3 Product data'!X$17=$A157,$H157,\"\")","v":""},{"$f":"IFERROR(SMALL(AM$2:AM$224,ROWS(AM$2:AM157)),\"\")","v":""}]
["Methyl iodide (Iodomethane)","CAS# 74884",null,null,null,null,null,{"$f":"ROWS($A$2:A158)","v":157},{"$f":"IF('Step 3 Product data'!I$17=$A158,$H158,\"\")","v":""},{"$f":"IFERROR(SMALL($I$2:$I$224,ROWS($I$2:I158)),\"\")","v":""},{"$f":"IF('Step 3 Product data'!J$17=$A158,$H158,\"\")","v":""},{"$f":"IFERROR(SMALL(K$2:K$224,ROWS(K$2:K158)),\"\")","v":""},{"$f":"IF('Step 3 Product data'!K$17=$A158,$H158,\"\")","v":""},{"$f":"IFERROR(SMALL(M$2:M$224,ROWS(M$2:M158)),\"\")","v":""},{"$f":"IF('Step 3 Product data'!L$17=$A158,$H158,\"\")","v":""},{"$f":"IFERROR(SMALL(O$2:O$224,ROWS(O$2:O158)),\"\")","v":""},{"$f":"IF('Step 3 Product data'!M$17=$A158,$H158,\"\")","v":""},{"$f":"IFERROR(SMALL(Q$2:Q$224,ROWS(Q$2:Q158)),\"\")","v":""},{"$f":"IF('Step 3 Product data'!N$17=$A158,$H158,\"\")","v":""},{"$f":"IFERROR(SMALL(S$2:S$224,ROWS(S$2:S158)),\"\")","v":""},{"$f":"IF('Step 3 Product data'!O$17=$A158,$H158,\"\")","v":""},{"$f":"IFERROR(SMALL(U$2:U$224,ROWS(U$2:U158)),\"\")","v":""},{"$f":"IF('Step 3 Product data'!P$17=$A158,$H158,\"\")","v":""},{"$f":"IFERROR(SMALL(W$2:W$224,ROWS(W$2:W158)),\"\")","v":""},{"$f":"IF('Step 3 Product data'!Q$17=$A158,$H158,\"\")","v":""},{"$f":"IFERROR(SMALL(Y$2:Y$224,ROWS(Y$2:Y158)),\"\")","v":""},{"$f":"IF('Step 3 Product data'!R$17=$A158,$H158,\"\")","v":""},{"$f":"IFERROR(SMALL(AA$2:AA$224,ROWS(AA$2:AA158)),\"\")","v":""},{"$f":"IF('Step 3 Product data'!S$17=$A158,$H158,\"\")","v":""},{"$f":"IFERROR(SMALL(AC$2:AC$224,ROWS(AC$2:AC158)),\"\")","v":""},{"$f":"IF('Step 3 Product data'!T$17=$A158,$H158,\"\")","v":""},{"$f":"IFERROR(SMALL(AE$2:AE$224,ROWS(AE$2:AE158)),\"\")","v":""},{"$f":"IF('Step 3 Product data'!U$17=$A158,$H158,\"\")","v":""},{"$f":"IFERROR(SMALL(AG$2:AG$224,ROWS(AG$2:AG158)),\"\")","v":""},{"$f":"IF('Step 3 Product data'!V$17=$A158,$H158,\"\")","v":""},{"$f":"IFERROR(SMALL(AI$2:AI$224,ROWS(AI$2:AI158)),\"\")","v":""},{"$f":"IF('Step 3 Product data'!W$17=$A158,$H158,\"\")","v":""},{"$f":"IFERROR(SMALL(AK$2:AK$224,ROWS(AK$2:AK158)),\"\")","v":""},{"$f":"IF('Step 3 Product data'!X$17=$A158,$H158,\"\")","v":""},{"$f":"IFERROR(SMALL(AM$2:AM$224,ROWS(AM$2:AM158)),\"\")","v":""}]
["Methyl isobutyl ketone (Hexone)","CAS# 108101",null,null,null,null,null,{"$f":"ROWS($A$2:A159)","v":158},{"$f":"IF('Step 3 Product data'!I$17=$A159,$H159,\"\")","v":""},{"$f":"IFERROR(SMALL($I$2:$I$224,ROWS($I$2:I159)),\"\")","v":""},{"$f":"IF('Step 3 Product data'!J$17=$A159,$H159,\"\")","v":""},{"$f":"IFERROR(SMALL(K$2:K$224,ROWS(K$2:K159)),\"\")","v":""},{"$f":"IF('Step 3 Product data'!K$17=$A159,$H159,\"\")","v":""},{"$f":"IFERROR(SMALL(M$2:M$224,ROWS(M$2:M159)),\"\")","v":""},{"$f":"IF('Step 3 Product data'!L$17=$A159,$H159,\"\")","v":""},{"$f":"IFERROR(SMALL(O$2:O$224,ROWS(O$2:O159)),\"\")","v":""},{"$f":"IF('Step 3 Product data'!M$17=$A159,$H159,\"\")","v":""},{"$f":"IFERROR(SMALL(Q$2:Q$224,ROWS(Q$2:Q159)),\"\")","v":""},{"$f":"IF('Step 3 Product data'!N$17=$A159,$H159,\"\")","v":""},{"$f":"IFERROR(SMALL(S$2:S$224,ROWS(S$2:S159)),\"\")","v":""},{"$f":"IF('Step 3 Product data'!O$17=$A159,$H159,\"\")","v":""},{"$f":"IFERROR(SMALL(U$2:U$224,ROWS(U$2:U159)),\"\")","v":""},{"$f":"IF('Step 3 Product data'!P$17=$A159,$H159,\"\")","v":""},{"$f":"IFERROR(SMALL(W$2:W$224,ROWS(W$2:W159)),\"\")","v":""},{"$f":"IF('Step 3 Product data'!Q$17=$A159,$H159,\"\")","v":""},{"$f":"IFERROR(SMALL(Y$2:Y$224,ROWS(Y$2:Y159)),\"\")","v":""},{"$f":"IF('Step 3 Product data'!R$17=$A159,$H159,\"\")","v":""},{"$f":"IFERROR(SMALL(AA$2:AA$224,ROWS(AA$2:AA159)),\"\")","v":""},{"$f":"IF('Step 3 Product data'!S$17=$A159,$H159,\"\")","v":""},{"$f":"IFERROR(SMALL(AC$2:AC$224,ROWS(AC$2:AC159)),\"\")","v":""},{"$f":"IF('Step 3 Product data'!T$17=$A159,$H159,\"\")","v":""},{"$f":"IFERROR(SMALL(AE$2:AE$224,ROWS(AE$2:AE159)),\"\")","v":""},{"$f":"IF('Step 3 Product data'!U$17=$A159,$H159,\"\")","v":""},{"$f":"IFERROR(SMALL(AG$2:AG$224,ROWS(AG$2:AG159)),\"\")","v":""},{"$f":"IF('Step 3 Product data'!V$17=$A159,$H159,\"\")","v":""},{"$f":"IFERROR(SMALL(AI$2:AI$224,ROWS(AI$2:AI159)),\"\")","v":""},{"$f":"IF('Step 3 Product data'!W$17=$A159,$H159,\"\")","v":""},{"$f":"IFERROR(SMALL(AK$2:AK$224,ROWS(AK$2:AK159)),\"\")","v":""},{"$f":"IF('Step 3 Product data'!X$17=$A159,$H159,\"\")","v":""},{"$f":"IFERROR(SMALL(AM$2:AM$224,ROWS(AM$2:AM159)),\"\")","v":""}]
["Methyl isocyanate","CAS# 624839",null,null,null,null,null,{"$f":"ROWS($A$2:A160)","v":159},{"$f":"IF('Step 3 Product data'!I$17=$A160,$H160,\"\")","v":""},{"$f":"IFERROR(SMALL($I$2:$I$224,ROWS($I$2:I160)),\"\")","v":""},{"$f":"IF('Step 3 Product data'!J$17=$A160,$H160,\"\")","v":""},{"$f":"IFERROR(SMALL(K$2:K$224,ROWS(K$2:K160)),\"\")","v":""},{"$f":"IF('Step 3 Product data'!K$17=$A160,$H160,\"\")","v":""},{"$f":"IFERROR(SMALL(M$2:M$224,ROWS(M$2:M160)),\"\")","v":""},{"$f":"IF('Step 3 Product data'!L$17=$A160,$H160,\"\")","v":""},{"$f":"IFERROR(SMALL(O$2:O$224,ROWS(O$2:O160)),\"\")","v":""},{"$f":"IF('Step 3 Product data'!M$17=$A160,$H160,\"\")","v":""},{"$f":"IFERROR(SMALL(Q$2:Q$224,ROWS(Q$2:Q160)),\"\")","v":""},{"$f":"IF('Step 3 Product data'!N$17=$A160,$H160,\"\")","v":""},{"$f":"IFERROR(SMALL(S$2:S$224,ROWS(S$2:S160)),\"\")","v":""},{"$f":"IF('Step 3 Product data'!O$17=$A160,$H160,\"\")","v":""},{"$f":"IFERROR(SMALL(U$2:U$224,ROWS(U$2:U160)),\"\")","v":""},{"$f":"IF('Step 3 Product data'!P$17=$A160,$H160,\"\")","v":""},{"$f":"IFERROR(SMALL(W$2:W$224,ROWS(W$2:W160)),\"\")","v":""},{"$f":"IF('Step 3 Product data'!Q$17=$A160,$H160,\"\")","v":""},{"$f":"IFERROR(SMALL(Y$2:Y$224,ROWS(Y$2:Y160)),\"\")","v":""},{"$f":"IF('Step 3 Product data'!R$17=$A160,$H160,\"\")","v":""},{"$f":"IFERROR(SMALL(AA$2:AA$224,ROWS(AA$2:AA160)),\"\")","v":""},{"$f":"IF('Step 3 Product data'!S$17=$A160,$H160,\"\")","v":""},{"$f":"IFERROR(SMALL(AC$2:AC$224,ROWS(AC$2:AC160)),\"\")","v":""},{"$f":"IF('Step 3 Product data'!T$17=$A160,$H160,\"\")","v":""},{"$f":"IFERROR(SMALL(AE$2:AE$224,ROWS(AE$2:AE160)),\"\")","v":""},{"$f":"IF('Step 3 Product data'!U$17=$A160,$H160,\"\")","v":""},{"$f":"IFERROR(SMALL(AG$2:AG$224,ROWS(AG$2:AG160)),\"\")","v":""},{"$f":"IF('Step 3 Product data'!V$17=$A160,$H160,\"\")","v":""},{"$f":"IFERROR(SMALL(AI$2:AI$224,ROWS(AI$2:AI160)),\"\")","v":""},{"$f":"IF('Step 3 Product data'!W$17=$A160,$H160,\"\")","v":""},{"$f":"IFERROR(SMALL(AK$2:AK$224,ROWS(AK$2:AK160)),\"\")","v":""},{"$f":"IF('Step 3 Product data'!X$17=$A160,$H160,\"\")","v":""},{"$f":"IFERROR(SMALL(AM$2:AM$224,ROWS(AM$2:AM160)),\"\")","v":""}]
["Methyl methacrylate","CAS# 80626",null,null,null,null,null,{"$f":"ROWS($A$2:A161)","v":160},{"$f":"IF('Step 3 Product data'!I$17=$A161,$H161,\"\")","v":""},{"$f":"IFERROR(SMALL($I$2:$I$224,ROWS($I$2:I161)),\"\")","v":""},{"$f":"IF('Step 3 Product data'!J$17=$A161,$H161,\"\")","v":""},{"$f":"IFERROR(SMALL(K$2:K$224,ROWS(K$2:K161)),\"\")","v":""},{"$f":"IF('Step 3 Product data'!K$17=$A161,$H161,\"\")","v":""},{"$f":"IFERROR(SMALL(M$2:M$224,ROWS(M$2:M161)),\"\")","v":""},{"$f":"IF('Step 3 Product data'!L$17=$A161,$H161,\"\")","v":""},{"$f":"IFERROR(SMALL(O$2:O$224,ROWS(O$2:O161)),\"\")","v":""},{"$f":"IF('Step 3 Product data'!M$17=$A161,$H161,\"\")","v":""},{"$f":"IFERROR(SMALL(Q$2:Q$224,ROWS(Q$2:Q161)),\"\")","v":""},{"$f":"IF('Step 3 Product data'!N$17=$A161,$H161,\"\")","v":""},{"$f":"IFERROR(SMALL(S$2:S$224,ROWS(S$2:S161)),\"\")","v":""},{"$f":"IF('Step 3 Product data'!O$17=$A161,$H161,\"\")","v":""},{"$f":"IFERROR(SMALL(U$2:U$224,ROWS(U$2:U161)),\"\")","v":""},{"$f":"IF('Step 3 Product data'!P$17=$A161,$H161,\"\")","v":""},{"$f":"IFERROR(SMALL(W$2:W$224,ROWS(W$2:W161)),\"\")","v":""},{"$f":"IF('Step 3 Product data'!Q$17=$A161,$H161,\"\")","v":""},{"$f":"IFERROR(SMALL(Y$2:Y$224,ROWS(Y$2:Y161)),\"\")","v":""},{"$f":"IF('Step 3 Product data'!R$17=$A161,$H161,\"\")","v":""},{"$f":"IFERROR(SMALL(AA$2:AA$224,ROWS(AA$2:AA161)),\"\")","v":""},{"$f":"IF('Step 3 Product data'!S$17=$A161,$H161,\"\")","v":""},{"$f":"IFERROR(SMALL(AC$2:AC$224,ROWS(AC$2:AC161)),\"\")","v":""},{"$f":"IF('Step 3 Product data'!T$17=$A161,$H161,\"\")","v":""},{"$f":"IFERROR(SMALL(AE$2:AE$224,ROWS(AE$2:AE161)),\"\")","v":""},{"$f":"IF('Step 3 Product data'!U$17=$A161,$H161,\"\")","v":""},{"$f":"IFERROR(SMALL(AG$2:AG$224,ROWS(AG$2:AG161)),\"\")","v":""},{"$f":"IF('Step 3 Product data'!V$17=$A161,$H161,\"\")","v":""},{"$f":"IFERROR(SMALL(AI$2:AI$224,ROWS(AI$2:AI161)),\"\")","v":""},{"$f":"IF('Step 3 Product data'!W$17=$A161,$H161,\"\")","v":""},{"$f":"IFERROR(SMALL(AK$2:AK$224,ROWS(AK$2:AK161)),\"\")","v":""},{"$f":"IF('Step 3 Product data'!X$17=$A161,$H161,\"\")","v":""},{"$f":"IFERROR(SMALL(AM$2:AM$224,ROWS(AM$2:AM161)),\"\")","v":""}]
["Methyl tert butyl ether","CAS# 1634044",null,null,null,null,null,{"$f":"ROWS($A$2:A162)","v":161},{"$f":"IF('Step 3 Product data'!I$17=$A162,$H162,\"\")","v":""},{"$f":"IFERROR(SMALL($I$2:$I$224,ROWS($I$2:I162)),\"\")","v":""},{"$f":"IF('Step 3 Product data'!J$17=$A162,$H162,\"\")","v":""},{"$f":"IFERROR(SMALL(K$2:K$224,ROWS(K$2:K162)),\"\")","v":""},{"$f":"IF('Step 3 Product data'!K$17=$A162,$H162,\"\")","v":""},{"$f":"IFERROR(SMALL(M$2:M$224,ROWS(M$2:M162)),\"\")","v":""},{"$f":"IF('Step 3 Product data'!L$17=$A162,$H162,\"\")","v":""},{"$f":"IFERROR(SMALL(O$2:O$224,ROWS(O$2:O162)),\"\")","v":""},{"$f":"IF('Step 3 Product data'!M$17=$A162,$H162,\"\")","v":""},{"$f":"IFERROR(SMALL(Q$2:Q$224,ROWS(Q$2:Q162)),\"\")","v":""},{"$f":"IF('Step 3 Product data'!N$17=$A162,$H162,\"\")","v":""},{"$f":"IFERROR(SMALL(S$2:S$224,ROWS(S$2:S162)),\"\")","v":""},{"$f":"IF('Step 3 Product data'!O$17=$A162,$H162,\"\")","v":""},{"$f":"IFERROR(SMALL(U$2:U$224,ROWS(U$2:U162)),\"\")","v":""},{"$f":"IF('Step 3 Product data'!P$17=$A162,$H162,\"\")","v":""},{"$f":"IFERROR(SMALL(W$2:W$224,ROWS(W$2:W162)),\"\")","v":""},{"$f":"IF('Step 3 Product data'!Q$17=$A162,$H162,\"\")","v":""},{"$f":"IFERROR(SMALL(Y$2:Y$224,ROWS(Y$2:Y162)),\"\")","v":""},{"$f":"IF('Step 3 Product data'!R$17=$A162,$H162,\"\")","v":""},{"$f":"IFERROR(SMALL(AA$2:AA$224,ROWS(AA$2:AA162)),\"\")","v":""},{"$f":"IF('Step 3 Product data'!S$17=$A162,$H162,\"\")","v":""},{"$f":"IFERROR(SMALL(AC$2:AC$224,ROWS(AC$2:AC162)),\"\")","v":""},{"$f":"IF('Step 3 Product data'!T$17=$A162,$H162,\"\")","v":""},{"$f":"IFERROR(SMALL(AE$2:AE$224,ROWS(AE$2:AE162)),\"\")","v":""},{"$f":"IF('Step 3 Product data'!U$17=$A162,$H162,\"\")","v":""},{"$f":"IFERROR(SMALL(AG$2:AG$224,ROWS(AG$2:AG162)),\"\")","v":""},{"$f":"IF('Step 3 Product data'!V$17=$A162,$H162,\"\")","v":""},{"$f":"IFERROR(SMALL(AI$2:AI$224,ROWS(AI$2:AI162)),\"\")","v":""},{"$f":"IF('Step 3 Product data'!W$17=$A162,$H162,\"\")","v":""},{"$f":"IFERROR(SMALL(AK$2:AK$224,ROWS(AK$2:AK162)),\"\")","v":""},{"$f":"IF('Step 3 Product data'!X$17=$A162,$H162,\"\")","v":""},{"$f":"IFERROR(SMALL(AM$2:AM$224,ROWS(AM$2:AM162)),\"\")","v":""}]
["Methylene chloride (Dichloromethane)","CAS# 75092",null,null,null,null,null,{"$f":"ROWS($A$2:A163)","v":162},{"$f":"IF('Step 3 Product data'!I$17=$A163,$H163,\"\")","v":""},{"$f":"IFERROR(SMALL($I$2:$I$224,ROWS($I$2:I163)),\"\")","v":""},{"$f":"IF('Step 3 Product data'!J$17=$A163,$H163,\"\")","v":""},{"$f":"IFERROR(SMALL(K$2:K$224,ROWS(K$2:K163)),\"\")","v":""},{"$f":"IF('Step 3 Product data'!K$17=$A163,$H163,\"\")","v":""},{"$f":"IFERROR(SMALL(M$2:M$224,ROWS(M$2:M163)),\"\")","v":""},{"$f":"IF('Step 3 Product data'!L$17=$A163,$H163,\"\")","v":""},{"$f":"IFERROR(SMALL(O$2:O$224,ROWS(O$2:O163)),\"\")","v":""},{"$f":"IF('Step 3 Product data'!M$17=$A163,$H163,\"\")","v":""},{"$f":"IFERROR(SMALL(Q$2:Q$224,ROWS(Q$2:Q163)),\"\")","v":""},{"$f":"IF('Step 3 Product data'!N$17=$A163,$H163,\"\")","v":""},{"$f":"IFERROR(SMALL(S$2:S$224,ROWS(S$2:S163)),\"\")","v":""},{"$f":"IF('Step 3 Product data'!O$17=$A163,$H163,\"\")","v":""},{"$f":"IFERROR(SMALL(U$2:U$224,ROWS(U$2:U163)),\"\")","v":""},{"$f":"IF('Step 3 Product data'!P$17=$A163,$H163,\"\")","v":""},{"$f":"IFERROR(SMALL(W$2:W$224,ROWS(W$2:W163)),\"\")","v":""},{"$f":"IF('Step 3 Product data'!Q$17=$A163,$H163,\"\")","v":""},{"$f":"IFERROR(SMALL(Y$2:Y$224,ROWS(Y$2:Y163)),\"\")","v":""},{"$f":"IF('Step 3 Product data'!R$17=$A163,$H163,\"\")","v":""},{"$f":"IFERROR(SMALL(AA$2:AA$224,ROWS(AA$2:AA163)),\"\")","v":""},{"$f":"IF('Step 3 Product data'!S$17=$A163,$H163,\"\")","v":""},{"$f":"IFERROR(SMALL(AC$2:AC$224,ROWS(AC$2:AC163)),\"\")","v":""},{"$f":"IF('Step 3 Product data'!T$17=$A163,$H163,\"\")","v":""},{"$f":"IFERROR(SMALL(AE$2:AE$224,ROWS(AE$2:AE163)),\"\")","v":""},{"$f":"IF('Step 3 Product data'!U$17=$A163,$H163,\"\")","v":""},{"$f":"IFERROR(SMALL(AG$2:AG$224,ROWS(AG$2:AG163)),\"\")","v":""},{"$f":"IF('Step 3 Product data'!V$17=$A163,$H163,\"\")","v":""},{"$f":"IFERROR(SMALL(AI$2:AI$224,ROWS(AI$2:AI163)),\"\")","v":""},{"$f":"IF('Step 3 Product data'!W$17=$A163,$H163,\"\")","v":""},{"$f":"IFERROR(SMALL(AK$2:AK$224,ROWS(AK$2:AK163)),\"\")","v":""},{"$f":"IF('Step 3 Product data'!X$17=$A163,$H163,\"\")","v":""},{"$f":"IFERROR(SMALL(AM$2:AM$224,ROWS(AM$2:AM163)),\"\")","v":""}]
["Methylene diphenyl diisocyanate (MDI)","CAS# 101688",null,null,null,null,null,{"$f":"ROWS($A$2:A164)","v":163},{"$f":"IF('Step 3 Product data'!I$17=$A164,$H164,\"\")","v":""},{"$f":"IFERROR(SMALL($I$2:$I$224,ROWS($I$2:I164)),\"\")","v":""},{"$f":"IF('Step 3 Product data'!J$17=$A164,$H164,\"\")","v":""},{"$f":"IFERROR(SMALL(K$2:K$224,ROWS(K$2:K164)),\"\")","v":""},{"$f":"IF('Step 3 Product data'!K$17=$A164,$H164,\"\")","v":""},{"$f":"IFERROR(SMALL(M$2:M$224,ROWS(M$2:M164)),\"\")","v":""},{"$f":"IF('Step 3 Product data'!L$17=$A164,$H164,\"\")","v":""},{"$f":"IFERROR(SMALL(O$2:O$224,ROWS(O$2:O164)),\"\")","v":""},{"$f":"IF('Step 3 Product data'!M$17=$A164,$H164,\"\")","v":""},{"$f":"IFERROR(SMALL(Q$2:Q$224,ROWS(Q$2:Q164)),\"\")","v":""},{"$f":"IF('Step 3 Product data'!N$17=$A164,$H164,\"\")","v":""},{"$f":"IFERROR(SMALL(S$2:S$224,ROWS(S$2:S164)),\"\")","v":""},{"$f":"IF('Step 3 Product data'!O$17=$A164,$H164,\"\")","v":""},{"$f":"IFERROR(SMALL(U$2:U$224,ROWS(U$2:U164)),\"\")","v":""},{"$f":"IF('Step 3 Product data'!P$17=$A164,$H164,\"\")","v":""},{"$f":"IFERROR(SMALL(W$2:W$224,ROWS(W$2:W164)),\"\")","v":""},{"$f":"IF('Step 3 Product data'!Q$17=$A164,$H164,\"\")","v":""},{"$f":"IFERROR(SMALL(Y$2:Y$224,ROWS(Y$2:Y164)),\"\")","v":""},{"$f":"IF('Step 3 Product data'!R$17=$A164,$H164,\"\")","v":""},{"$f":"IFERROR(SMALL(AA$2:AA$224,ROWS(AA$2:AA164)),\"\")","v":""},{"$f":"IF('Step 3 Product data'!S$17=$A164,$H164,\"\")","v":""},{"$f":"IFERROR(SMALL(AC$2:AC$224,ROWS(AC$2:AC164)),\"\")","v":""},{"$f":"IF('Step 3 Product data'!T$17=$A164,$H164,\"\")","v":""},{"$f":"IFERROR(SMALL(AE$2:AE$224,ROWS(AE$2:AE164)),\"\")","v":""},{"$f":"IF('Step 3 Product data'!U$17=$A164,$H164,\"\")","v":""},{"$f":"IFERROR(SMALL(AG$2:AG$224,ROWS(AG$2:AG164)),\"\")","v":""},{"$f":"IF('Step 3 Product data'!V$17=$A164,$H164,\"\")","v":""},{"$f":"IFERROR(SMALL(AI$2:AI$224,ROWS(AI$2:AI164)),\"\")","v":""},{"$f":"IF('Step 3 Product data'!W$17=$A164,$H164,\"\")","v":""},{"$f":"IFERROR(SMALL(AK$2:AK$224,ROWS(AK$2:AK164)),\"\")","v":""},{"$f":"IF('Step 3 Product data'!X$17=$A164,$H164,\"\")","v":""},{"$f":"IFERROR(SMALL(AM$2:AM$224,ROWS(AM$2:AM164)),\"\")","v":""}]
["m-Xylenes","CAS# 108383",null,null,null,null,null,{"$f":"ROWS($A$2:A165)","v":164},{"$f":"IF('Step 3 Product data'!I$17=$A165,$H165,\"\")","v":""},{"$f":"IFERROR(SMALL($I$2:$I$224,ROWS($I$2:I165)),\"\")","v":""},{"$f":"IF('Step 3 Product data'!J$17=$A165,$H165,\"\")","v":""},{"$f":"IFERROR(SMALL(K$2:K$224,ROWS(K$2:K165)),\"\")","v":""},{"$f":"IF('Step 3 Product data'!K$17=$A165,$H165,\"\")","v":""},{"$f":"IFERROR(SMALL(M$2:M$224,ROWS(M$2:M165)),\"\")","v":""},{"$f":"IF('Step 3 Product data'!L$17=$A165,$H165,\"\")","v":""},{"$f":"IFERROR(SMALL(O$2:O$224,ROWS(O$2:O165)),\"\")","v":""},{"$f":"IF('Step 3 Product data'!M$17=$A165,$H165,\"\")","v":""},{"$f":"IFERROR(SMALL(Q$2:Q$224,ROWS(Q$2:Q165)),\"\")","v":""},{"$f":"IF('Step 3 Product data'!N$17=$A165,$H165,\"\")","v":""},{"$f":"IFERROR(SMALL(S$2:S$224,ROWS(S$2:S165)),\"\")","v":""},{"$f":"IF('Step 3 Product data'!O$17=$A165,$H165,\"\")","v":""},{"$f":"IFERROR(SMALL(U$2:U$224,ROWS(U$2:U165)),\"\")","v":""},{"$f":"IF('Step 3 Product data'!P$17=$A165,$H165,\"\")","v":""},{"$f":"IFERROR(SMALL(W$2:W$224,ROWS(W$2:W165)),\"\")","v":""},{"$f":"IF('Step 3 Product data'!Q$17=$A165,$H165,\"\")","v":""},{"$f":"IFERROR(SMALL(Y$2:Y$224,ROWS(Y$2:Y165)),\"\")","v":""},{"$f":"IF('Step 3 Product data'!R$17=$A165,$H165,\"\")","v":""},{"$f":"IFERROR(SMALL(AA$2:AA$224,ROWS(AA$2:AA165)),\"\")","v":""},{"$f":"IF('Step 3 Product data'!S$17=$A165,$H165,\"\")","v":""},{"$f":"IFERROR(SMALL(AC$2:AC$224,ROWS(AC$2:AC165)),\"\")","v":""},{"$f":"IF('Step 3 Product data'!T$17=$A165,$H165,\"\")","v":""},{"$f":"IFERROR(SMALL(AE$2:AE$224,ROWS(AE$2:AE165)),\"\")","v":""},{"$f":"IF('Step 3 Product data'!U$17=$A165,$H165,\"\")","v":""},{"$f":"IFERROR(SMALL(AG$2:AG$224,ROWS(AG$2:AG165)),\"\")","v":""},{"$f":"IF('Step 3 Product data'!V$17=$A165,$H165,\"\")","v":""},{"$f":"IFERROR(SMALL(AI$2:AI$224,ROWS(AI$2:AI165)),\"\")","v":""},{"$f":"IF('Step 3 Product data'!W$17=$A165,$H165,\"\")","v":""},{"$f":"IFERROR(SMALL(AK$2:AK$224,ROWS(AK$2:AK165)),\"\")","v":""},{"$f":"IF('Step 3 Product data'!X$17=$A165,$H165,\"\")","v":""},{"$f":"IFERROR(SMALL(AM$2:AM$224,ROWS(AM$2:AM165)),\"\")","v":""}]
["N,N-Dimethylaniline","CAS# 121697",null,null,null,null,null,{"$f":"ROWS($A$2:A166)","v":165},{"$f":"IF('Step 3 Product data'!I$17=$A166,$H166,\"\")","v":""},{"$f":"IFERROR(SMALL($I$2:$I$224,ROWS($I$2:I166)),\"\")","v":""},{"$f":"IF('Step 3 Product data'!J$17=$A166,$H166,\"\")","v":""},{"$f":"IFERROR(SMALL(K$2:K$224,ROWS(K$2:K166)),\"\")","v":""},{"$f":"IF('Step 3 Product data'!K$17=$A166,$H166,\"\")","v":""},{"$f":"IFERROR(SMALL(M$2:M$224,ROWS(M$2:M166)),\"\")","v":""},{"$f":"IF('Step 3 Product data'!L$17=$A166,$H166,\"\")","v":""},{"$f":"IFERROR(SMALL(O$2:O$224,ROWS(O$2:O166)),\"\")","v":""},{"$f":"IF('Step 3 Product data'!M$17=$A166,$H166,\"\")","v":""},{"$f":"IFERROR(SMALL(Q$2:Q$224,ROWS(Q$2:Q166)),\"\")","v":""},{"$f":"IF('Step 3 Product data'!N$17=$A166,$H166,\"\")","v":""},{"$f":"IFERROR(SMALL(S$2:S$224,ROWS(S$2:S166)),\"\")","v":""},{"$f":"IF('Step 3 Product data'!O$17=$A166,$H166,\"\")","v":""},{"$f":"IFERROR(SMALL(U$2:U$224,ROWS(U$2:U166)),\"\")","v":""},{"$f":"IF('Step 3 Product data'!P$17=$A166,$H166,\"\")","v":""},{"$f":"IFERROR(SMALL(W$2:W$224,ROWS(W$2:W166)),\"\")","v":""},{"$f":"IF('Step 3 Product data'!Q$17=$A166,$H166,\"\")","v":""},{"$f":"IFERROR(SMALL(Y$2:Y$224,ROWS(Y$2:Y166)),\"\")","v":""},{"$f":"IF('Step 3 Product data'!R$17=$A166,$H166,\"\")","v":""},{"$f":"IFERROR(SMALL(AA$2:AA$224,ROWS(AA$2:AA166)),\"\")","v":""},{"$f":"IF('Step 3 Product data'!S$17=$A166,$H166,\"\")","v":""},{"$f":"IFERROR(SMALL(AC$2:AC$224,ROWS(AC$2:AC166)),\"\")","v":""},{"$f":"IF('Step 3 Product data'!T$17=$A166,$H166,\"\")","v":""},{"$f":"IFERROR(SMALL(AE$2:AE$224,ROWS(AE$2:AE166)),\"\")","v":""},{"$f":"IF('Step 3 Product data'!U$17=$A166,$H166,\"\")","v":""},{"$f":"IFERROR(SMALL(AG$2:AG$224,ROWS(AG$2:AG166)),\"\")","v":""},{"$f":"IF('Step 3 Product data'!V$17=$A166,$H166,\"\")","v":""},{"$f":"IFERROR(SMALL(AI$2:AI$224,ROWS(AI$2:AI166)),\"\")","v":""},{"$f":"IF('Step 3 Product data'!W$17=$A166,$H166,\"\")","v":""},{"$f":"IFERROR(SMALL(AK$2:AK$224,ROWS(AK$2:AK166)),\"\")","v":""},{"$f":"IF('Step 3 Product data'!X$17=$A166,$H166,\"\")","v":""},{"$f":"IFERROR(SMALL(AM$2:AM$224,ROWS(AM$2:AM166)),\"\")","v":""}]
["Naphthalene","CAS# 91203",null,null,null,null,null,{"$f":"ROWS($A$2:A167)","v":166},{"$f":"IF('Step 3 Product data'!I$17=$A167,$H167,\"\")","v":""},{"$f":"IFERROR(SMALL($I$2:$I$224,ROWS($I$2:I167)),\"\")","v":""},{"$f":"IF('Step 3 Product data'!J$17=$A167,$H167,\"\")","v":""},{"$f":"IFERROR(SMALL(K$2:K$224,ROWS(K$2:K167)),\"\")","v":""},{"$f":"IF('Step 3 Product data'!K$17=$A167,$H167,\"\")","v":""},{"$f":"IFERROR(SMALL(M$2:M$224,ROWS(M$2:M167)),\"\")","v":""},{"$f":"IF('Step 3 Product data'!L$17=$A167,$H167,\"\")","v":""},{"$f":"IFERROR(SMALL(O$2:O$224,ROWS(O$2:O167)),\"\")","v":""},{"$f":"IF('Step 3 Product data'!M$17=$A167,$H167,\"\")","v":""},{"$f":"IFERROR(SMALL(Q$2:Q$224,ROWS(Q$2:Q167)),\"\")","v":""},{"$f":"IF('Step 3 Product data'!N$17=$A167,$H167,\"\")","v":""},{"$f":"IFERROR(SMALL(S$2:S$224,ROWS(S$2:S167)),\"\")","v":""},{"$f":"IF('Step 3 Product data'!O$17=$A167,$H167,\"\")","v":""},{"$f":"IFERROR(SMALL(U$2:U$224,ROWS(U$2:U167)),\"\")","v":""},{"$f":"IF('Step 3 Product data'!P$17=$A167,$H167,\"\")","v":""},{"$f":"IFERROR(SMALL(W$2:W$224,ROWS(W$2:W167)),\"\")","v":""},{"$f":"IF('Step 3 Product data'!Q$17=$A167,$H167,\"\")","v":""},{"$f":"IFERROR(SMALL(Y$2:Y$224,ROWS(Y$2:Y167)),\"\")","v":""},{"$f":"IF('Step 3 Product data'!R$17=$A167,$H167,\"\")","v":""},{"$f":"IFERROR(SMALL(AA$2:AA$224,ROWS(AA$2:AA167)),\"\")","v":""},{"$f":"IF('Step 3 Product data'!S$17=$A167,$H167,\"\")","v":""},{"$f":"IFERROR(SMALL(AC$2:AC$224,ROWS(AC$2:AC167)),\"\")","v":""},{"$f":"IF('Step 3 Product data'!T$17=$A167,$H167,\"\")","v":""},{"$f":"IFERROR(SMALL(AE$2:AE$224,ROWS(AE$2:AE167)),\"\")","v":""},{"$f":"IF('Step 3 Product data'!U$17=$A167,$H167,\"\")","v":""},{"$f":"IFERROR(SMALL(AG$2:AG$224,ROWS(AG$2:AG167)),\"\")","v":""},{"$f":"IF('Step 3 Product data'!V$17=$A167,$H167,\"\")","v":""},{"$f":"IFERROR(SMALL(AI$2:AI$224,ROWS(AI$2:AI167)),\"\")","v":""},{"$f":"IF('Step 3 Product data'!W$17=$A167,$H167,\"\")","v":""},{"$f":"IFERROR(SMALL(AK$2:AK$224,ROWS(AK$2:AK167)),\"\")","v":""},{"$f":"IF('Step 3 Product data'!X$17=$A167,$H167,\"\")","v":""},{"$f":"IFERROR(SMALL(AM$2:AM$224,ROWS(AM$2:AM167)),\"\")","v":""}]
["Nitrobenzene","CAS# 98953",null,null,null,null,null,{"$f":"ROWS($A$2:A168)","v":167},{"$f":"IF('Step 3 Product data'!I$17=$A168,$H168,\"\")","v":""},{"$f":"IFERROR(SMALL($I$2:$I$224,ROWS($I$2:I168)),\"\")","v":""},{"$f":"IF('Step 3 Product data'!J$17=$A168,$H168,\"\")","v":""},{"$f":"IFERROR(SMALL(K$2:K$224,ROWS(K$2:K168)),\"\")","v":""},{"$f":"IF('Step 3 Product data'!K$17=$A168,$H168,\"\")","v":""},{"$f":"IFERROR(SMALL(M$2:M$224,ROWS(M$2:M168)),\"\")","v":""},{"$f":"IF('Step 3 Product data'!L$17=$A168,$H168,\"\")","v":""},{"$f":"IFERROR(SMALL(O$2:O$224,ROWS(O$2:O168)),\"\")","v":""},{"$f":"IF('Step 3 Product data'!M$17=$A168,$H168,\"\")","v":""},{"$f":"IFERROR(SMALL(Q$2:Q$224,ROWS(Q$2:Q168)),\"\")","v":""},{"$f":"IF('Step 3 Product data'!N$17=$A168,$H168,\"\")","v":""},{"$f":"IFERROR(SMALL(S$2:S$224,ROWS(S$2:S168)),\"\")","v":""},{"$f":"IF('Step 3 Product data'!O$17=$A168,$H168,\"\")","v":""},{"$f":"IFERROR(SMALL(U$2:U$224,ROWS(U$2:U168)),\"\")","v":""},{"$f":"IF('Step 3 Product data'!P$17=$A168,$H168,\"\")","v":""},{"$f":"IFERROR(SMALL(W$2:W$224,ROWS(W$2:W168)),\"\")","v":""},{"$f":"IF('Step 3 Product data'!Q$17=$A168,$H168,\"\")","v":""},{"$f":"IFERROR(SMALL(Y$2:Y$224,ROWS(Y$2:Y168)),\"\")","v":""},{"$f":"IF('Step 3 Product data'!R$17=$A168,$H168,\"\")","v":""},{"$f":"IFERROR(SMALL(AA$2:AA$224,ROWS(AA$2:AA168)),\"\")","v":""},{"$f":"IF('Step 3 Product data'!S$17=$A168,$H168,\"\")","v":""},{"$f":"IFERROR(SMALL(AC$2:AC$224,ROWS(AC$2:AC168)),\"\")","v":""},{"$f":"IF('Step 3 Product data'!T$17=$A168,$H168,\"\")","v":""},{"$f":"IFERROR(SMALL(AE$2:AE$224,ROWS(AE$2:AE168)),\"\")","v":""},{"$f":"IF('Step 3 Product data'!U$17=$A168,$H168,\"\")","v":""},{"$f":"IFERROR(SMALL(AG$2:AG$224,ROWS(AG$2:AG168)),\"\")","v":""},{"$f":"IF('Step 3 Product data'!V$17=$A168,$H168,\"\")","v":""},{"$f":"IFERROR(SMALL(AI$2:AI$224,ROWS(AI$2:AI168)),\"\")","v":""},{"$f":"IF('Step 3 Product data'!W$17=$A168,$H168,\"\")","v":""},{"$f":"IFERROR(SMALL(AK$2:AK$224,ROWS(AK$2:AK168)),\"\")","v":""},{"$f":"IF('Step 3 Product data'!X$17=$A168,$H168,\"\")","v":""},{"$f":"IFERROR(SMALL(AM$2:AM$224,ROWS(AM$2:AM168)),\"\")","v":""}]
["N-Nitrosodimethylamine","CAS# 62759",null,null,null,null,null,{"$f":"ROWS($A$2:A169)","v":168},{"$f":"IF('Step 3 Product data'!I$17=$A169,$H169,\"\")","v":""},{"$f":"IFERROR(SMALL($I$2:$I$224,ROWS($I$2:I169)),\"\")","v":""},{"$f":"IF('Step 3 Product data'!J$17=$A169,$H169,\"\")","v":""},{"$f":"IFERROR(SMALL(K$2:K$224,ROWS(K$2:K169)),\"\")","v":""},{"$f":"IF('Step 3 Product data'!K$17=$A169,$H169,\"\")","v":""},{"$f":"IFERROR(SMALL(M$2:M$224,ROWS(M$2:M169)),\"\")","v":""},{"$f":"IF('Step 3 Product data'!L$17=$A169,$H169,\"\")","v":""},{"$f":"IFERROR(SMALL(O$2:O$224,ROWS(O$2:O169)),\"\")","v":""},{"$f":"IF('Step 3 Product data'!M$17=$A169,$H169,\"\")","v":""},{"$f":"IFERROR(SMALL(Q$2:Q$224,ROWS(Q$2:Q169)),\"\")","v":""},{"$f":"IF('Step 3 Product data'!N$17=$A169,$H169,\"\")","v":""},{"$f":"IFERROR(SMALL(S$2:S$224,ROWS(S$2:S169)),\"\")","v":""},{"$f":"IF('Step 3 Product data'!O$17=$A169,$H169,\"\")","v":""},{"$f":"IFERROR(SMALL(U$2:U$224,ROWS(U$2:U169)),\"\")","v":""},{"$f":"IF('Step 3 Product data'!P$17=$A169,$H169,\"\")","v":""},{"$f":"IFERROR(SMALL(W$2:W$224,ROWS(W$2:W169)),\"\")","v":""},{"$f":"IF('Step 3 Product data'!Q$17=$A169,$H169,\"\")","v":""},{"$f":"IFERROR(SMALL(Y$2:Y$224,ROWS(Y$2:Y169)),\"\")","v":""},{"$f":"IF('Step 3 Product data'!R$17=$A169,$H169,\"\")","v":""},{"$f":"IFERROR(SMALL(AA$2:AA$224,ROWS(AA$2:AA169)),\"\")","v":""},{"$f":"IF('Step 3 Product data'!S$17=$A169,$H169,\"\")","v":""},{"$f":"IFERROR(SMALL(AC$2:AC$224,ROWS(AC$2:AC169)),\"\")","v":""},{"$f":"IF('Step 3 Product data'!T$17=$A169,$H169,\"\")","v":""},{"$f":"IFERROR(SMALL(AE$2:AE$224,ROWS(AE$2:AE169)),\"\")","v":""},{"$f":"IF('Step 3 Product data'!U$17=$A169,$H169,\"\")","v":""},{"$f":"IFERROR(SMALL(AG$2:AG$224,ROWS(AG$2:AG169)),\"\")","v":""},{"$f":"IF('Step 3 Product data'!V$17=$A169,$H169,\"\")","v":""},{"$f":"IFERROR(SMALL(AI$2:AI$224,ROWS(AI$2:AI169)),\"\")","v":""},{"$f":"IF('Step 3 Product data'!W$17=$A169,$H169,\"\")","v":""},{"$f":"IFERROR(SMALL(AK$2:AK$224,ROWS(AK$2:AK169)),\"\")","v":""},{"$f":"IF('Step 3 Product data'!X$17=$A169,$H169,\"\")","v":""},{"$f":"IFERROR(SMALL(AM$2:AM$224,ROWS(AM$2:AM169)),\"\")","v":""}]
["N-Nitrosomorpholine","CAS# 59892",null,null,null,null,null,{"$f":"ROWS($A$2:A170)","v":169},{"$f":"IF('Step 3 Product data'!I$17=$A170,$H170,\"\")","v":""},{"$f":"IFERROR(SMALL($I$2:$I$224,ROWS($I$2:I170)),\"\")","v":""},{"$f":"IF('Step 3 Product data'!J$17=$A170,$H170,\"\")","v":""},{"$f":"IFERROR(SMALL(K$2:K$224,ROWS(K$2:K170)),\"\")","v":""},{"$f":"IF('Step 3 Product data'!K$17=$A170,$H170,\"\")","v":""},{"$f":"IFERROR(SMALL(M$2:M$224,ROWS(M$2:M170)),\"\")","v":""},{"$f":"IF('Step 3 Product data'!L$17=$A170,$H170,\"\")","v":""},{"$f":"IFERROR(SMALL(O$2:O$224,ROWS(O$2:O170)),\"\")","v":""},{"$f":"IF('Step 3 Product data'!M$17=$A170,$H170,\"\")","v":""},{"$f":"IFERROR(SMALL(Q$2:Q$224,ROWS(Q$2:Q170)),\"\")","v":""},{"$f":"IF('Step 3 Product data'!N$17=$A170,$H170,\"\")","v":""},{"$f":"IFERROR(SMALL(S$2:S$224,ROWS(S$2:S170)),\"\")","v":""},{"$f":"IF('Step 3 Product data'!O$17=$A170,$H170,\"\")","v":""},{"$f":"IFERROR(SMALL(U$2:U$224,ROWS(U$2:U170)),\"\")","v":""},{"$f":"IF('Step 3 Product data'!P$17=$A170,$H170,\"\")","v":""},{"$f":"IFERROR(SMALL(W$2:W$224,ROWS(W$2:W170)),\"\")","v":""},{"$f":"IF('Step 3 Product data'!Q$17=$A170,$H170,\"\")","v":""},{"$f":"IFERROR(SMALL(Y$2:Y$224,ROWS(Y$2:Y170)),\"\")","v":""},{"$f":"IF('Step 3 Product data'!R$17=$A170,$H170,\"\")","v":""},{"$f":"IFERROR(SMALL(AA$2:AA$224,ROWS(AA$2:AA170)),\"\")","v":""},{"$f":"IF('Step 3 Product data'!S$17=$A170,$H170,\"\")","v":""},{"$f":"IFERROR(SMALL(AC$2:AC$224,ROWS(AC$2:AC170)),\"\")","v":""},{"$f":"IF('Step 3 Product data'!T$17=$A170,$H170,\"\")","v":""},{"$f":"IFERROR(SMALL(AE$2:AE$224,ROWS(AE$2:AE170)),\"\")","v":""},{"$f":"IF('Step 3 Product data'!U$17=$A170,$H170,\"\")","v":""},{"$f":"IFERROR(SMALL(AG$2:AG$224,ROWS(AG$2:AG170)),\"\")","v":""},{"$f":"IF('Step 3 Product data'!V$17=$A170,$H170,\"\")","v":""},{"$f":"IFERROR(SMALL(AI$2:AI$224,ROWS(AI$2:AI170)),\"\")","v":""},{"$f":"IF('Step 3 Product data'!W$17=$A170,$H170,\"\")","v":""},{"$f":"IFERROR(SMALL(AK$2:AK$224,ROWS(AK$2:AK170)),\"\")","v":""},{"$f":"IF('Step 3 Product data'!X$17=$A170,$H170,\"\")","v":""},{"$f":"IFERROR(SMALL(AM$2:AM$224,ROWS(AM$2:AM170)),\"\")","v":""}]
["N-Nitroso-N-methylurea","CAS# 684935",null,null,null,null,null,{"$f":"ROWS($A$2:A171)","v":170},{"$f":"IF('Step 3 Product data'!I$17=$A171,$H171,\"\")","v":""},{"$f":"IFERROR(SMALL($I$2:$I$224,ROWS($I$2:I171)),\"\")","v":""},{"$f":"IF('Step 3 Product data'!J$17=$A171,$H171,\"\")","v":""},{"$f":"IFERROR(SMALL(K$2:K$224,ROWS(K$2:K171)),\"\")","v":""},{"$f":"IF('Step 3 Product data'!K$17=$A171,$H171,\"\")","v":""},{"$f":"IFERROR(SMALL(M$2:M$224,ROWS(M$2:M171)),\"\")","v":""},{"$f":"IF('Step 3 Product data'!L$17=$A171,$H171,\"\")","v":""},{"$f":"IFERROR(SMALL(O$2:O$224,ROWS(O$2:O171)),\"\")","v":""},{"$f":"IF('Step 3 Product data'!M$17=$A171,$H171,\"\")","v":""},{"$f":"IFERROR(SMALL(Q$2:Q$224,ROWS(Q$2:Q171)),\"\")","v":""},{"$f":"IF('Step 3 Product data'!N$17=$A171,$H171,\"\")","v":""},{"$f":"IFERROR(SMALL(S$2:S$224,ROWS(S$2:S171)),\"\")","v":""},{"$f":"IF('Step 3 Product data'!O$17=$A171,$H171,\"\")","v":""},{"$f":"IFERROR(SMALL(U$2:U$224,ROWS(U$2:U171)),\"\")","v":""},{"$f":"IF('Step 3 Product data'!P$17=$A171,$H171,\"\")","v":""},{"$f":"IFERROR(SMALL(W$2:W$224,ROWS(W$2:W171)),\"\")","v":""},{"$f":"IF('Step 3 Product data'!Q$17=$A171,$H171,\"\")","v":""},{"$f":"IFERROR(SMALL(Y$2:Y$224,ROWS(Y$2:Y171)),\"\")","v":""},{"$f":"IF('Step 3 Product data'!R$17=$A171,$H171,\"\")","v":""},{"$f":"IFERROR(SMALL(AA$2:AA$224,ROWS(AA$2:AA171)),\"\")","v":""},{"$f":"IF('Step 3 Product data'!S$17=$A171,$H171,\"\")","v":""},{"$f":"IFERROR(SMALL(AC$2:AC$224,ROWS(AC$2:AC171)),\"\")","v":""},{"$f":"IF('Step 3 Product data'!T$17=$A171,$H171,\"\")","v":""},{"$f":"IFERROR(SMALL(AE$2:AE$224,ROWS(AE$2:AE171)),\"\")","v":""},{"$f":"IF('Step 3 Product data'!U$17=$A171,$H171,\"\")","v":""},{"$f":"IFERROR(SMALL(AG$2:AG$224,ROWS(AG$2:AG171)),\"\")","v":""},{"$f":"IF('Step 3 Product data'!V$17=$A171,$H171,\"\")","v":""},{"$f":"IFERROR(SMALL(AI$2:AI$224,ROWS(AI$2:AI171)),\"\")","v":""},{"$f":"IF('Step 3 Product data'!W$17=$A171,$H171,\"\")","v":""},{"$f":"IFERROR(SMALL(AK$2:AK$224,ROWS(AK$2:AK171)),\"\")","v":""},{"$f":"IF('Step 3 Product data'!X$17=$A171,$H171,\"\")","v":""},{"$f":"IFERROR(SMALL(AM$2:AM$224,ROWS(AM$2:AM171)),\"\")","v":""}]
["o-Anisidine","CAS# 90040",null,null,null,null,null,{"$f":"ROWS($A$2:A172)","v":171},{"$f":"IF('Step 3 Product data'!I$17=$A172,$H172,\"\")","v":""},{"$f":"IFERROR(SMALL($I$2:$I$224,ROWS($I$2:I172)),\"\")","v":""},{"$f":"IF('Step 3 Product data'!J$17=$A172,$H172,\"\")","v":""},{"$f":"IFERROR(SMALL(K$2:K$224,ROWS(K$2:K172)),\"\")","v":""},{"$f":"IF('Step 3 Product data'!K$17=$A172,$H172,\"\")","v":""},{"$f":"IFERROR(SMALL(M$2:M$224,ROWS(M$2:M172)),\"\")","v":""},{"$f":"IF('Step 3 Product data'!L$17=$A172,$H172,\"\")","v":""},{"$f":"IFERROR(SMALL(O$2:O$224,ROWS(O$2:O172)),\"\")","v":""},{"$f":"IF('Step 3 Product data'!M$17=$A172,$H172,\"\")","v":""},{"$f":"IFERROR(SMALL(Q$2:Q$224,ROWS(Q$2:Q172)),\"\")","v":""},{"$f":"IF('Step 3 Product data'!N$17=$A172,$H172,\"\")","v":""},{"$f":"IFERROR(SMALL(S$2:S$224,ROWS(S$2:S172)),\"\")","v":""},{"$f":"IF('Step 3 Product data'!O$17=$A172,$H172,\"\")","v":""},{"$f":"IFERROR(SMALL(U$2:U$224,ROWS(U$2:U172)),\"\")","v":""},{"$f":"IF('Step 3 Product data'!P$17=$A172,$H172,\"\")","v":""},{"$f":"IFERROR(SMALL(W$2:W$224,ROWS(W$2:W172)),\"\")","v":""},{"$f":"IF('Step 3 Product data'!Q$17=$A172,$H172,\"\")","v":""},{"$f":"IFERROR(SMALL(Y$2:Y$224,ROWS(Y$2:Y172)),\"\")","v":""},{"$f":"IF('Step 3 Product data'!R$17=$A172,$H172,\"\")","v":""},{"$f":"IFERROR(SMALL(AA$2:AA$224,ROWS(AA$2:AA172)),\"\")","v":""},{"$f":"IF('Step 3 Product data'!S$17=$A172,$H172,\"\")","v":""},{"$f":"IFERROR(SMALL(AC$2:AC$224,ROWS(AC$2:AC172)),\"\")","v":""},{"$f":"IF('Step 3 Product data'!T$17=$A172,$H172,\"\")","v":""},{"$f":"IFERROR(SMALL(AE$2:AE$224,ROWS(AE$2:AE172)),\"\")","v":""},{"$f":"IF('Step 3 Product data'!U$17=$A172,$H172,\"\")","v":""},{"$f":"IFERROR(SMALL(AG$2:AG$224,ROWS(AG$2:AG172)),\"\")","v":""},{"$f":"IF('Step 3 Product data'!V$17=$A172,$H172,\"\")","v":""},{"$f":"IFERROR(SMALL(AI$2:AI$224,ROWS(AI$2:AI172)),\"\")","v":""},{"$f":"IF('Step 3 Product data'!W$17=$A172,$H172,\"\")","v":""},{"$f":"IFERROR(SMALL(AK$2:AK$224,ROWS(AK$2:AK172)),\"\")","v":""},{"$f":"IF('Step 3 Product data'!X$17=$A172,$H172,\"\")","v":""},{"$f":"IFERROR(SMALL(AM$2:AM$224,ROWS(AM$2:AM172)),\"\")","v":""}]
["o-Cresol","CAS# 95487",null,null,null,null,null,{"$f":"ROWS($A$2:A173)","v":172},{"$f":"IF('Step 3 Product data'!I$17=$A173,$H173,\"\")","v":""},{"$f":"IFERROR(SMALL($I$2:$I$224,ROWS($I$2:I173)),\"\")","v":""},{"$f":"IF('Step 3 Product data'!J$17=$A173,$H173,\"\")","v":""},{"$f":"IFERROR(SMALL(K$2:K$224,ROWS(K$2:K173)),\"\")","v":""},{"$f":"IF('Step 3 Product data'!K$17=$A173,$H173,\"\")","v":""},{"$f":"IFERROR(SMALL(M$2:M$224,ROWS(M$2:M173)),\"\")","v":""},{"$f":"IF('Step 3 Product data'!L$17=$A173,$H173,\"\")","v":""},{"$f":"IFERROR(SMALL(O$2:O$224,ROWS(O$2:O173)),\"\")","v":""},{"$f":"IF('Step 3 Product data'!M$17=$A173,$H173,\"\")","v":""},{"$f":"IFERROR(SMALL(Q$2:Q$224,ROWS(Q$2:Q173)),\"\")","v":""},{"$f":"IF('Step 3 Product data'!N$17=$A173,$H173,\"\")","v":""},{"$f":"IFERROR(SMALL(S$2:S$224,ROWS(S$2:S173)),\"\")","v":""},{"$f":"IF('Step 3 Product data'!O$17=$A173,$H173,\"\")","v":""},{"$f":"IFERROR(SMALL(U$2:U$224,ROWS(U$2:U173)),\"\")","v":""},{"$f":"IF('Step 3 Product data'!P$17=$A173,$H173,\"\")","v":""},{"$f":"IFERROR(SMALL(W$2:W$224,ROWS(W$2:W173)),\"\")","v":""},{"$f":"IF('Step 3 Product data'!Q$17=$A173,$H173,\"\")","v":""},{"$f":"IFERROR(SMALL(Y$2:Y$224,ROWS(Y$2:Y173)),\"\")","v":""},{"$f":"IF('Step 3 Product data'!R$17=$A173,$H173,\"\")","v":""},{"$f":"IFERROR(SMALL(AA$2:AA$224,ROWS(AA$2:AA173)),\"\")","v":""},{"$f":"IF('Step 3 Product data'!S$17=$A173,$H173,\"\")","v":""},{"$f":"IFERROR(SMALL(AC$2:AC$224,ROWS(AC$2:AC173)),\"\")","v":""},{"$f":"IF('Step 3 Product data'!T$17=$A173,$H173,\"\")","v":""},{"$f":"IFERROR(SMALL(AE$2:AE$224,ROWS(AE$2:AE173)),\"\")","v":""},{"$f":"IF('Step 3 Product data'!U$17=$A173,$H173,\"\")","v":""},{"$f":"IFERROR(SMALL(AG$2:AG$224,ROWS(AG$2:AG173)),\"\")","v":""},{"$f":"IF('Step 3 Product data'!V$17=$A173,$H173,\"\")","v":""},{"$f":"IFERROR(SMALL(AI$2:AI$224,ROWS(AI$2:AI173)),\"\")","v":""},{"$f":"IF('Step 3 Product data'!W$17=$A173,$H173,\"\")","v":""},{"$f":"IFERROR(SMALL(AK$2:AK$224,ROWS(AK$2:AK173)),\"\")","v":""},{"$f":"IF('Step 3 Product data'!X$17=$A173,$H173,\"\")","v":""},{"$f":"IFERROR(SMALL(AM$2:AM$224,ROWS(AM$2:AM173)),\"\")","v":""}]
["o-Toluidine","CAS# 95534",null,null,null,null,null,{"$f":"ROWS($A$2:A174)","v":173},{"$f":"IF('Step 3 Product data'!I$17=$A174,$H174,\"\")","v":""},{"$f":"IFERROR(SMALL($I$2:$I$224,ROWS($I$2:I174)),\"\")","v":""},{"$f":"IF('Step 3 Product data'!J$17=$A174,$H174,\"\")","v":""},{"$f":"IFERROR(SMALL(K$2:K$224,ROWS(K$2:K174)),\"\")","v":""},{"$f":"IF('Step 3 Product data'!K$17=$A174,$H174,\"\")","v":""},{"$f":"IFERROR(SMALL(M$2:M$224,ROWS(M$2:M174)),\"\")","v":""},{"$f":"IF('Step 3 Product data'!L$17=$A174,$H174,\"\")","v":""},{"$f":"IFERROR(SMALL(O$2:O$224,ROWS(O$2:O174)),\"\")","v":""},{"$f":"IF('Step 3 Product data'!M$17=$A174,$H174,\"\")","v":""},{"$f":"IFERROR(SMALL(Q$2:Q$224,ROWS(Q$2:Q174)),\"\")","v":""},{"$f":"IF('Step 3 Product data'!N$17=$A174,$H174,\"\")","v":""},{"$f":"IFERROR(SMALL(S$2:S$224,ROWS(S$2:S174)),\"\")","v":""},{"$f":"IF('Step 3 Product data'!O$17=$A174,$H174,\"\")","v":""},{"$f":"IFERROR(SMALL(U$2:U$224,ROWS(U$2:U174)),\"\")","v":""},{"$f":"IF('Step 3 Product data'!P$17=$A174,$H174,\"\")","v":""},{"$f":"IFERROR(SMALL(W$2:W$224,ROWS(W$2:W174)),\"\")","v":""},{"$f":"IF('Step 3 Product data'!Q$17=$A174,$H174,\"\")","v":""},{"$f":"IFERROR(SMALL(Y$2:Y$224,ROWS(Y$2:Y174)),\"\")","v":""},{"$f":"IF('Step 3 Product data'!R$17=$A174,$H174,\"\")","v":""},{"$f":"IFERROR(SMALL(AA$2:AA$224,ROWS(AA$2:AA174)),\"\")","v":""},{"$f":"IF('Step 3 Product data'!S$17=$A174,$H174,\"\")","v":""},{"$f":"IFERROR(SMALL(AC$2:AC$224,ROWS(AC$2:AC174)),\"\")","v":""},{"$f":"IF('Step 3 Product data'!T$17=$A174,$H174,\"\")","v":""},{"$f":"IFERROR(SMALL(AE$2:AE$224,ROWS(AE$2:AE174)),\"\")","v":""},{"$f":"IF('Step 3 Product data'!U$17=$A174,$H174,\"\")","v":""},{"$f":"IFERROR(SMALL(AG$2:AG$224,ROWS(AG$2:AG174)),\"\")","v":""},{"$f":"IF('Step 3 Product data'!V$17=$A174,$H174,\"\")","v":""},{"$f":"IFERROR(SMALL(AI$2:AI$224,ROWS(AI$2:AI174)),\"\")","v":""},{"$f":"IF('Step 3 Product data'!W$17=$A174,$H174,\"\")","v":""},{"$f":"IFERROR(SMALL(AK$2:AK$224,ROWS(AK$2:AK174)),\"\")","v":""},{"$f":"IF('Step 3 Product data'!X$17=$A174,$H174,\"\")","v":""},{"$f":"IFERROR(SMALL(AM$2:AM$224,ROWS(AM$2:AM174)),\"\")","v":""}]
["o-Xylenes","CAS# 95476",null,null,null,null,null,{"$f":"ROWS($A$2:A175)","v":174},{"$f":"IF('Step 3 Product data'!I$17=$A175,$H175,\"\")","v":""},{"$f":"IFERROR(SMALL($I$2:$I$224,ROWS($I$2:I175)),\"\")","v":""},{"$f":"IF('Step 3 Product data'!J$17=$A175,$H175,\"\")","v":""},{"$f":"IFERROR(SMALL(K$2:K$224,ROWS(K$2:K175)),\"\")","v":""},{"$f":"IF('Step 3 Product data'!K$17=$A175,$H175,\"\")","v":""},{"$f":"IFERROR(SMALL(M$2:M$224,ROWS(M$2:M175)),\"\")","v":""},{"$f":"IF('Step 3 Product data'!L$17=$A175,$H175,\"\")","v":""},{"$f":"IFERROR(SMALL(O$2:O$224,ROWS(O$2:O175)),\"\")","v":""},{"$f":"IF('Step 3 Product data'!M$17=$A175,$H175,\"\")","v":""},{"$f":"IFERROR(SMALL(Q$2:Q$224,ROWS(Q$2:Q175)),\"\")","v":""},{"$f":"IF('Step 3 Product data'!N$17=$A175,$H175,\"\")","v":""},{"$f":"IFERROR(SMALL(S$2:S$224,ROWS(S$2:S175)),\"\")","v":""},{"$f":"IF('Step 3 Product data'!O$17=$A175,$H175,\"\")","v":""},{"$f":"IFERROR(SMALL(U$2:U$224,ROWS(U$2:U175)),\"\")","v":""},{"$f":"IF('Step 3 Product data'!P$17=$A175,$H175,\"\")","v":""},{"$f":"IFERROR(SMALL(W$2:W$224,ROWS(W$2:W175)),\"\")","v":""},{"$f":"IF('Step 3 Product data'!Q$17=$A175,$H175,\"\")","v":""},{"$f":"IFERROR(SMALL(Y$2:Y$224,ROWS(Y$2:Y175)),\"\")","v":""},{"$f":"IF('Step 3 Product data'!R$17=$A175,$H175,\"\")","v":""},{"$f":"IFERROR(SMALL(AA$2:AA$224,ROWS(AA$2:AA175)),\"\")","v":""},{"$f":"IF('Step 3 Product data'!S$17=$A175,$H175,\"\")","v":""},{"$f":"IFERROR(SMALL(AC$2:AC$224,ROWS(AC$2:AC175)),\"\")","v":""},{"$f":"IF('Step 3 Product data'!T$17=$A175,$H175,\"\")","v":""},{"$f":"IFERROR(SMALL(AE$2:AE$224,ROWS(AE$2:AE175)),\"\")","v":""},{"$f":"IF('Step 3 Product data'!U$17=$A175,$H175,\"\")","v":""},{"$f":"IFERROR(SMALL(AG$2:AG$224,ROWS(AG$2:AG175)),\"\")","v":""},{"$f":"IF('Step 3 Product data'!V$17=$A175,$H175,\"\")","v":""},{"$f":"IFERROR(SMALL(AI$2:AI$224,ROWS(AI$2:AI175)),\"\")","v":""},{"$f":"IF('Step 3 Product data'!W$17=$A175,$H175,\"\")","v":""},{"$f":"IFERROR(SMALL(AK$2:AK$224,ROWS(AK$2:AK175)),\"\")","v":""},{"$f":"IF('Step 3 Product data'!X$17=$A175,$H175,\"\")","v":""},{"$f":"IFERROR(SMALL(AM$2:AM$224,ROWS(AM$2:AM175)),\"\")","v":""}]
["Parathion","CAS# 56382",null,null,null,null,null,{"$f":"ROWS($A$2:A176)","v":175},{"$f":"IF('Step 3 Product data'!I$17=$A176,$H176,\"\")","v":""},{"$f":"IFERROR(SMALL($I$2:$I$224,ROWS($I$2:I176)),\"\")","v":""},{"$f":"IF('Step 3 Product data'!J$17=$A176,$H176,\"\")","v":""},{"$f":"IFERROR(SMALL(K$2:K$224,ROWS(K$2:K176)),\"\")","v":""},{"$f":"IF('Step 3 Product data'!K$17=$A176,$H176,\"\")","v":""},{"$f":"IFERROR(SMALL(M$2:M$224,ROWS(M$2:M176)),\"\")","v":""},{"$f":"IF('Step 3 Product data'!L$17=$A176,$H176,\"\")","v":""},{"$f":"IFERROR(SMALL(O$2:O$224,ROWS(O$2:O176)),\"\")","v":""},{"$f":"IF('Step 3 Product data'!M$17=$A176,$H176,\"\")","v":""},{"$f":"IFERROR(SMALL(Q$2:Q$224,ROWS(Q$2:Q176)),\"\")","v":""},{"$f":"IF('Step 3 Product data'!N$17=$A176,$H176,\"\")","v":""},{"$f":"IFERROR(SMALL(S$2:S$224,ROWS(S$2:S176)),\"\")","v":""},{"$f":"IF('Step 3 Product data'!O$17=$A176,$H176,\"\")","v":""},{"$f":"IFERROR(SMALL(U$2:U$224,ROWS(U$2:U176)),\"\")","v":""},{"$f":"IF('Step 3 Product data'!P$17=$A176,$H176,\"\")","v":""},{"$f":"IFERROR(SMALL(W$2:W$224,ROWS(W$2:W176)),\"\")","v":""},{"$f":"IF('Step 3 Product data'!Q$17=$A176,$H176,\"\")","v":""},{"$f":"IFERROR(SMALL(Y$2:Y$224,ROWS(Y$2:Y176)),\"\")","v":""},{"$f":"IF('Step 3 Product data'!R$17=$A176,$H176,\"\")","v":""},{"$f":"IFERROR(SMALL(AA$2:AA$224,ROWS(AA$2:AA176)),\"\")","v":""},{"$f":"IF('Step 3 Product data'!S$17=$A176,$H176,\"\")","v":""},{"$f":"IFERROR(SMALL(AC$2:AC$224,ROWS(AC$2:AC176)),\"\")","v":""},{"$f":"IF('Step 3 Product data'!T$17=$A176,$H176,\"\")","v":""},{"$f":"IFERROR(SMALL(AE$2:AE$224,ROWS(AE$2:AE176)),\"\")","v":""},{"$f":"IF('Step 3 Product data'!U$17=$A176,$H176,\"\")","v":""},{"$f":"IFERROR(SMALL(AG$2:AG$224,ROWS(AG$2:AG176)),\"\")","v":""},{"$f":"IF('Step 3 Product data'!V$17=$A176,$H176,\"\")","v":""},{"$f":"IFERROR(SMALL(AI$2:AI$224,ROWS(AI$2:AI176)),\"\")","v":""},{"$f":"IF('Step 3 Product data'!W$17=$A176,$H176,\"\")","v":""},{"$f":"IFERROR(SMALL(AK$2:AK$224,ROWS(AK$2:AK176)),\"\")","v":""},{"$f":"IF('Step 3 Product data'!X$17=$A176,$H176,\"\")","v":""},{"$f":"IFERROR(SMALL(AM$2:AM$224,ROWS(AM$2:AM176)),\"\")","v":""}]
["p-Cresol","CAS# 106445",null,null,null,null,null,{"$f":"ROWS($A$2:A177)","v":176},{"$f":"IF('Step 3 Product data'!I$17=$A177,$H177,\"\")","v":""},{"$f":"IFERROR(SMALL($I$2:$I$224,ROWS($I$2:I177)),\"\")","v":""},{"$f":"IF('Step 3 Product data'!J$17=$A177,$H177,\"\")","v":""},{"$f":"IFERROR(SMALL(K$2:K$224,ROWS(K$2:K177)),\"\")","v":""},{"$f":"IF('Step 3 Product data'!K$17=$A177,$H177,\"\")","v":""},{"$f":"IFERROR(SMALL(M$2:M$224,ROWS(M$2:M177)),\"\")","v":""},{"$f":"IF('Step 3 Product data'!L$17=$A177,$H177,\"\")","v":""},{"$f":"IFERROR(SMALL(O$2:O$224,ROWS(O$2:O177)),\"\")","v":""},{"$f":"IF('Step 3 Product data'!M$17=$A177,$H177,\"\")","v":""},{"$f":"IFERROR(SMALL(Q$2:Q$224,ROWS(Q$2:Q177)),\"\")","v":""},{"$f":"IF('Step 3 Product data'!N$17=$A177,$H177,\"\")","v":""},{"$f":"IFERROR(SMALL(S$2:S$224,ROWS(S$2:S177)),\"\")","v":""},{"$f":"IF('Step 3 Product data'!O$17=$A177,$H177,\"\")","v":""},{"$f":"IFERROR(SMALL(U$2:U$224,ROWS(U$2:U177)),\"\")","v":""},{"$f":"IF('Step 3 Product data'!P$17=$A177,$H177,\"\")","v":""},{"$f":"IFERROR(SMALL(W$2:W$224,ROWS(W$2:W177)),\"\")","v":""},{"$f":"IF('Step 3 Product data'!Q$17=$A177,$H177,\"\")","v":""},{"$f":"IFERROR(SMALL(Y$2:Y$224,ROWS(Y$2:Y177)),\"\")","v":""},{"$f":"IF('Step 3 Product data'!R$17=$A177,$H177,\"\")","v":""},{"$f":"IFERROR(SMALL(AA$2:AA$224,ROWS(AA$2:AA177)),\"\")","v":""},{"$f":"IF('Step 3 Product data'!S$17=$A177,$H177,\"\")","v":""},{"$f":"IFERROR(SMALL(AC$2:AC$224,ROWS(AC$2:AC177)),\"\")","v":""},{"$f":"IF('Step 3 Product data'!T$17=$A177,$H177,\"\")","v":""},{"$f":"IFERROR(SMALL(AE$2:AE$224,ROWS(AE$2:AE177)),\"\")","v":""},{"$f":"IF('Step 3 Product data'!U$17=$A177,$H177,\"\")","v":""},{"$f":"IFERROR(SMALL(AG$2:AG$224,ROWS(AG$2:AG177)),\"\")","v":""},{"$f":"IF('Step 3 Product data'!V$17=$A177,$H177,\"\")","v":""},{"$f":"IFERROR(SMALL(AI$2:AI$224,ROWS(AI$2:AI177)),\"\")","v":""},{"$f":"IF('Step 3 Product data'!W$17=$A177,$H177,\"\")","v":""},{"$f":"IFERROR(SMALL(AK$2:AK$224,ROWS(AK$2:AK177)),\"\")","v":""},{"$f":"IF('Step 3 Product data'!X$17=$A177,$H177,\"\")","v":""},{"$f":"IFERROR(SMALL(AM$2:AM$224,ROWS(AM$2:AM177)),\"\")","v":""}]
["Pentachloronitrobenzene (Quintobenzene)","CAS# 82688",null,null,null,null,null,{"$f":"ROWS($A$2:A178)","v":177},{"$f":"IF('Step 3 Product data'!I$17=$A178,$H178,\"\")","v":""},{"$f":"IFERROR(SMALL($I$2:$I$224,ROWS($I$2:I178)),\"\")","v":""},{"$f":"IF('Step 3 Product data'!J$17=$A178,$H178,\"\")","v":""},{"$f":"IFERROR(SMALL(K$2:K$224,ROWS(K$2:K178)),\"\")","v":""},{"$f":"IF('Step 3 Product data'!K$17=$A178,$H178,\"\")","v":""},{"$f":"IFERROR(SMALL(M$2:M$224,ROWS(M$2:M178)),\"\")","v":""},{"$f":"IF('Step 3 Product data'!L$17=$A178,$H178,\"\")","v":""},{"$f":"IFERROR(SMALL(O$2:O$224,ROWS(O$2:O178)),\"\")","v":""},{"$f":"IF('Step 3 Product data'!M$17=$A178,$H178,\"\")","v":""},{"$f":"IFERROR(SMALL(Q$2:Q$224,ROWS(Q$2:Q178)),\"\")","v":""},{"$f":"IF('Step 3 Product data'!N$17=$A178,$H178,\"\")","v":""},{"$f":"IFERROR(SMALL(S$2:S$224,ROWS(S$2:S178)),\"\")","v":""},{"$f":"IF('Step 3 Product data'!O$17=$A178,$H178,\"\")","v":""},{"$f":"IFERROR(SMALL(U$2:U$224,ROWS(U$2:U178)),\"\")","v":""},{"$f":"IF('Step 3 Product data'!P$17=$A178,$H178,\"\")","v":""},{"$f":"IFERROR(SMALL(W$2:W$224,ROWS(W$2:W178)),\"\")","v":""},{"$f":"IF('Step 3 Product data'!Q$17=$A178,$H178,\"\")","v":""},{"$f":"IFERROR(SMALL(Y$2:Y$224,ROWS(Y$2:Y178)),\"\")","v":""},{"$f":"IF('Step 3 Product data'!R$17=$A178,$H178,\"\")","v":""},{"$f":"IFERROR(SMALL(AA$2:AA$224,ROWS(AA$2:AA178)),\"\")","v":""},{"$f":"IF('Step 3 Product data'!S$17=$A178,$H178,\"\")","v":""},{"$f":"IFERROR(SMALL(AC$2:AC$224,ROWS(AC$2:AC178)),\"\")","v":""},{"$f":"IF('Step 3 Product data'!T$17=$A178,$H178,\"\")","v":""},{"$f":"IFERROR(SMALL(AE$2:AE$224,ROWS(AE$2:AE178)),\"\")","v":""},{"$f":"IF('Step 3 Product data'!U$17=$A178,$H178,\"\")","v":""},{"$f":"IFERROR(SMALL(AG$2:AG$224,ROWS(AG$2:AG178)),\"\")","v":""},{"$f":"IF('Step 3 Product data'!V$17=$A178,$H178,\"\")","v":""},{"$f":"IFERROR(SMALL(AI$2:AI$224,ROWS(AI$2:AI178)),\"\")","v":""},{"$f":"IF('Step 3 Product data'!W$17=$A178,$H178,\"\")","v":""},{"$f":"IFERROR(SMALL(AK$2:AK$224,ROWS(AK$2:AK178)),\"\")","v":""},{"$f":"IF('Step 3 Product data'!X$17=$A178,$H178,\"\")","v":""},{"$f":"IFERROR(SMALL(AM$2:AM$224,ROWS(AM$2:AM178)),\"\")","v":""}]
["Pentachlorophenol","CAS# 87865",null,null,null,null,null,{"$f":"ROWS($A$2:A179)","v":178},{"$f":"IF('Step 3 Product data'!I$17=$A179,$H179,\"\")","v":""},{"$f":"IFERROR(SMALL($I$2:$I$224,ROWS($I$2:I179)),\"\")","v":""},{"$f":"IF('Step 3 Product data'!J$17=$A179,$H179,\"\")","v":""},{"$f":"IFERROR(SMALL(K$2:K$224,ROWS(K$2:K179)),\"\")","v":""},{"$f":"IF('Step 3 Product data'!K$17=$A179,$H179,\"\")","v":""},{"$f":"IFERROR(SMALL(M$2:M$224,ROWS(M$2:M179)),\"\")","v":""},{"$f":"IF('Step 3 Product data'!L$17=$A179,$H179,\"\")","v":""},{"$f":"IFERROR(SMALL(O$2:O$224,ROWS(O$2:O179)),\"\")","v":""},{"$f":"IF('Step 3 Product data'!M$17=$A179,$H179,\"\")","v":""},{"$f":"IFERROR(SMALL(Q$2:Q$224,ROWS(Q$2:Q179)),\"\")","v":""},{"$f":"IF('Step 3 Product data'!N$17=$A179,$H179,\"\")","v":""},{"$f":"IFERROR(SMALL(S$2:S$224,ROWS(S$2:S179)),\"\")","v":""},{"$f":"IF('Step 3 Product data'!O$17=$A179,$H179,\"\")","v":""},{"$f":"IFERROR(SMALL(U$2:U$224,ROWS(U$2:U179)),\"\")","v":""},{"$f":"IF('Step 3 Product data'!P$17=$A179,$H179,\"\")","v":""},{"$f":"IFERROR(SMALL(W$2:W$224,ROWS(W$2:W179)),\"\")","v":""},{"$f":"IF('Step 3 Product data'!Q$17=$A179,$H179,\"\")","v":""},{"$f":"IFERROR(SMALL(Y$2:Y$224,ROWS(Y$2:Y179)),\"\")","v":""},{"$f":"IF('Step 3 Product data'!R$17=$A179,$H179,\"\")","v":""},{"$f":"IFERROR(SMALL(AA$2:AA$224,ROWS(AA$2:AA179)),\"\")","v":""},{"$f":"IF('Step 3 Product data'!S$17=$A179,$H179,\"\")","v":""},{"$f":"IFERROR(SMALL(AC$2:AC$224,ROWS(AC$2:AC179)),\"\")","v":""},{"$f":"IF('Step 3 Product data'!T$17=$A179,$H179,\"\")","v":""},{"$f":"IFERROR(SMALL(AE$2:AE$224,ROWS(AE$2:AE179)),\"\")","v":""},{"$f":"IF('Step 3 Product data'!U$17=$A179,$H179,\"\")","v":""},{"$f":"IFERROR(SMALL(AG$2:AG$224,ROWS(AG$2:AG179)),\"\")","v":""},{"$f":"IF('Step 3 Product data'!V$17=$A179,$H179,\"\")","v":""},{"$f":"IFERROR(SMALL(AI$2:AI$224,ROWS(AI$2:AI179)),\"\")","v":""},{"$f":"IF('Step 3 Product data'!W$17=$A179,$H179,\"\")","v":""},{"$f":"IFERROR(SMALL(AK$2:AK$224,ROWS(AK$2:AK179)),\"\")","v":""},{"$f":"IF('Step 3 Product data'!X$17=$A179,$H179,\"\")","v":""},{"$f":"IFERROR(SMALL(AM$2:AM$224,ROWS(AM$2:AM179)),\"\")","v":""}]
["Phenol","CAS# 108952",null,null,null,null,null,{"$f":"ROWS($A$2:A180)","v":179},{"$f":"IF('Step 3 Product data'!I$17=$A180,$H180,\"\")","v":""},{"$f":"IFERROR(SMALL($I$2:$I$224,ROWS($I$2:I180)),\"\")","v":""},{"$f":"IF('Step 3 Product data'!J$17=$A180,$H180,\"\")","v":""},{"$f":"IFERROR(SMALL(K$2:K$224,ROWS(K$2:K180)),\"\")","v":""},{"$f":"IF('Step 3 Product data'!K$17=$A180,$H180,\"\")","v":""},{"$f":"IFERROR(SMALL(M$2:M$224,ROWS(M$2:M180)),\"\")","v":""},{"$f":"IF('Step 3 Product data'!L$17=$A180,$H180,\"\")","v":""},{"$f":"IFERROR(SMALL(O$2:O$224,ROWS(O$2:O180)),\"\")","v":""},{"$f":"IF('Step 3 Product data'!M$17=$A180,$H180,\"\")","v":""},{"$f":"IFERROR(SMALL(Q$2:Q$224,ROWS(Q$2:Q180)),\"\")","v":""},{"$f":"IF('Step 3 Product data'!N$17=$A180,$H180,\"\")","v":""},{"$f":"IFERROR(SMALL(S$2:S$224,ROWS(S$2:S180)),\"\")","v":""},{"$f":"IF('Step 3 Product data'!O$17=$A180,$H180,\"\")","v":""},{"$f":"IFERROR(SMALL(U$2:U$224,ROWS(U$2:U180)),\"\")","v":""},{"$f":"IF('Step 3 Product data'!P$17=$A180,$H180,\"\")","v":""},{"$f":"IFERROR(SMALL(W$2:W$224,ROWS(W$2:W180)),\"\")","v":""},{"$f":"IF('Step 3 Product data'!Q$17=$A180,$H180,\"\")","v":""},{"$f":"IFERROR(SMALL(Y$2:Y$224,ROWS(Y$2:Y180)),\"\")","v":""},{"$f":"IF('Step 3 Product data'!R$17=$A180,$H180,\"\")","v":""},{"$f":"IFERROR(SMALL(AA$2:AA$224,ROWS(AA$2:AA180)),\"\")","v":""},{"$f":"IF('Step 3 Product data'!S$17=$A180,$H180,\"\")","v":""},{"$f":"IFERROR(SMALL(AC$2:AC$224,ROWS(AC$2:AC180)),\"\")","v":""},{"$f":"IF('Step 3 Product data'!T$17=$A180,$H180,\"\")","v":""},{"$f":"IFERROR(SMALL(AE$2:AE$224,ROWS(AE$2:AE180)),\"\")","v":""},{"$f":"IF('Step 3 Product data'!U$17=$A180,$H180,\"\")","v":""},{"$f":"IFERROR(SMALL(AG$2:AG$224,ROWS(AG$2:AG180)),\"\")","v":""},{"$f":"IF('Step 3 Product data'!V$17=$A180,$H180,\"\")","v":""},{"$f":"IFERROR(SMALL(AI$2:AI$224,ROWS(AI$2:AI180)),\"\")","v":""},{"$f":"IF('Step 3 Product data'!W$17=$A180,$H180,\"\")","v":""},{"$f":"IFERROR(SMALL(AK$2:AK$224,ROWS(AK$2:AK180)),\"\")","v":""},{"$f":"IF('Step 3 Product data'!X$17=$A180,$H180,\"\")","v":""},{"$f":"IFERROR(SMALL(AM$2:AM$224,ROWS(AM$2:AM180)),\"\")","v":""}]
["Phosgene","CAS# 75445",null,null,null,null,null,{"$f":"ROWS($A$2:A181)","v":180},{"$f":"IF('Step 3 Product data'!I$17=$A181,$H181,\"\")","v":""},{"$f":"IFERROR(SMALL($I$2:$I$224,ROWS($I$2:I181)),\"\")","v":""},{"$f":"IF('Step 3 Product data'!J$17=$A181,$H181,\"\")","v":""},{"$f":"IFERROR(SMALL(K$2:K$224,ROWS(K$2:K181)),\"\")","v":""},{"$f":"IF('Step 3 Product data'!K$17=$A181,$H181,\"\")","v":""},{"$f":"IFERROR(SMALL(M$2:M$224,ROWS(M$2:M181)),\"\")","v":""},{"$f":"IF('Step 3 Product data'!L$17=$A181,$H181,\"\")","v":""},{"$f":"IFERROR(SMALL(O$2:O$224,ROWS(O$2:O181)),\"\")","v":""},{"$f":"IF('Step 3 Product data'!M$17=$A181,$H181,\"\")","v":""},{"$f":"IFERROR(SMALL(Q$2:Q$224,ROWS(Q$2:Q181)),\"\")","v":""},{"$f":"IF('Step 3 Product data'!N$17=$A181,$H181,\"\")","v":""},{"$f":"IFERROR(SMALL(S$2:S$224,ROWS(S$2:S181)),\"\")","v":""},{"$f":"IF('Step 3 Product data'!O$17=$A181,$H181,\"\")","v":""},{"$f":"IFERROR(SMALL(U$2:U$224,ROWS(U$2:U181)),\"\")","v":""},{"$f":"IF('Step 3 Product data'!P$17=$A181,$H181,\"\")","v":""},{"$f":"IFERROR(SMALL(W$2:W$224,ROWS(W$2:W181)),\"\")","v":""},{"$f":"IF('Step 3 Product data'!Q$17=$A181,$H181,\"\")","v":""},{"$f":"IFERROR(SMALL(Y$2:Y$224,ROWS(Y$2:Y181)),\"\")","v":""},{"$f":"IF('Step 3 Product data'!R$17=$A181,$H181,\"\")","v":""},{"$f":"IFERROR(SMALL(AA$2:AA$224,ROWS(AA$2:AA181)),\"\")","v":""},{"$f":"IF('Step 3 Product data'!S$17=$A181,$H181,\"\")","v":""},{"$f":"IFERROR(SMALL(AC$2:AC$224,ROWS(AC$2:AC181)),\"\")","v":""},{"$f":"IF('Step 3 Product data'!T$17=$A181,$H181,\"\")","v":""},{"$f":"IFERROR(SMALL(AE$2:AE$224,ROWS(AE$2:AE181)),\"\")","v":""},{"$f":"IF('Step 3 Product data'!U$17=$A181,$H181,\"\")","v":""},{"$f":"IFERROR(SMALL(AG$2:AG$224,ROWS(AG$2:AG181)),\"\")","v":""},{"$f":"IF('Step 3 Product data'!V$17=$A181,$H181,\"\")","v":""},{"$f":"IFERROR(SMALL(AI$2:AI$224,ROWS(AI$2:AI181)),\"\")","v":""},{"$f":"IF('Step 3 Product data'!W$17=$A181,$H181,\"\")","v":""},{"$f":"IFERROR(SMALL(AK$2:AK$224,ROWS(AK$2:AK181)),\"\")","v":""},{"$f":"IF('Step 3 Product data'!X$17=$A181,$H181,\"\")","v":""},{"$f":"IFERROR(SMALL(AM$2:AM$224,ROWS(AM$2:AM181)),\"\")","v":""}]
["Phosphine","CAS# 7803512",null,null,null,null,null,{"$f":"ROWS($A$2:A182)","v":181},{"$f":"IF('Step 3 Product data'!I$17=$A182,$H182,\"\")","v":""},{"$f":"IFERROR(SMALL($I$2:$I$224,ROWS($I$2:I182)),\"\")","v":""},{"$f":"IF('Step 3 Product data'!J$17=$A182,$H182,\"\")","v":""},{"$f":"IFERROR(SMALL(K$2:K$224,ROWS(K$2:K182)),\"\")","v":""},{"$f":"IF('Step 3 Product data'!K$17=$A182,$H182,\"\")","v":""},{"$f":"IFERROR(SMALL(M$2:M$224,ROWS(M$2:M182)),\"\")","v":""},{"$f":"IF('Step 3 Product data'!L$17=$A182,$H182,\"\")","v":""},{"$f":"IFERROR(SMALL(O$2:O$224,ROWS(O$2:O182)),\"\")","v":""},{"$f":"IF('Step 3 Product data'!M$17=$A182,$H182,\"\")","v":""},{"$f":"IFERROR(SMALL(Q$2:Q$224,ROWS(Q$2:Q182)),\"\")","v":""},{"$f":"IF('Step 3 Product data'!N$17=$A182,$H182,\"\")","v":""},{"$f":"IFERROR(SMALL(S$2:S$224,ROWS(S$2:S182)),\"\")","v":""},{"$f":"IF('Step 3 Product data'!O$17=$A182,$H182,\"\")","v":""},{"$f":"IFERROR(SMALL(U$2:U$224,ROWS(U$2:U182)),\"\")","v":""},{"$f":"IF('Step 3 Product data'!P$17=$A182,$H182,\"\")","v":""},{"$f":"IFERROR(SMALL(W$2:W$224,ROWS(W$2:W182)),\"\")","v":""},{"$f":"IF('Step 3 Product data'!Q$17=$A182,$H182,\"\")","v":""},{"$f":"IFERROR(SMALL(Y$2:Y$224,ROWS(Y$2:Y182)),\"\")","v":""},{"$f":"IF('Step 3 Product data'!R$17=$A182,$H182,\"\")","v":""},{"$f":"IFERROR(SMALL(AA$2:AA$224,ROWS(AA$2:AA182)),\"\")","v":""},{"$f":"IF('Step 3 Product data'!S$17=$A182,$H182,\"\")","v":""},{"$f":"IFERROR(SMALL(AC$2:AC$224,ROWS(AC$2:AC182)),\"\")","v":""},{"$f":"IF('Step 3 Product data'!T$17=$A182,$H182,\"\")","v":""},{"$f":"IFERROR(SMALL(AE$2:AE$224,ROWS(AE$2:AE182)),\"\")","v":""},{"$f":"IF('Step 3 Product data'!U$17=$A182,$H182,\"\")","v":""},{"$f":"IFERROR(SMALL(AG$2:AG$224,ROWS(AG$2:AG182)),\"\")","v":""},{"$f":"IF('Step 3 Product data'!V$17=$A182,$H182,\"\")","v":""},{"$f":"IFERROR(SMALL(AI$2:AI$224,ROWS(AI$2:AI182)),\"\")","v":""},{"$f":"IF('Step 3 Product data'!W$17=$A182,$H182,\"\")","v":""},{"$f":"IFERROR(SMALL(AK$2:AK$224,ROWS(AK$2:AK182)),\"\")","v":""},{"$f":"IF('Step 3 Product data'!X$17=$A182,$H182,\"\")","v":""},{"$f":"IFERROR(SMALL(AM$2:AM$224,ROWS(AM$2:AM182)),\"\")","v":""}]
["Phosphorus","CAS# 7723140",null,null,null,null,null,{"$f":"ROWS($A$2:A183)","v":182},{"$f":"IF('Step 3 Product data'!I$17=$A183,$H183,\"\")","v":""},{"$f":"IFERROR(SMALL($I$2:$I$224,ROWS($I$2:I183)),\"\")","v":""},{"$f":"IF('Step 3 Product data'!J$17=$A183,$H183,\"\")","v":""},{"$f":"IFERROR(SMALL(K$2:K$224,ROWS(K$2:K183)),\"\")","v":""},{"$f":"IF('Step 3 Product data'!K$17=$A183,$H183,\"\")","v":""},{"$f":"IFERROR(SMALL(M$2:M$224,ROWS(M$2:M183)),\"\")","v":""},{"$f":"IF('Step 3 Product data'!L$17=$A183,$H183,\"\")","v":""},{"$f":"IFERROR(SMALL(O$2:O$224,ROWS(O$2:O183)),\"\")","v":""},{"$f":"IF('Step 3 Product data'!M$17=$A183,$H183,\"\")","v":""},{"$f":"IFERROR(SMALL(Q$2:Q$224,ROWS(Q$2:Q183)),\"\")","v":""},{"$f":"IF('Step 3 Product data'!N$17=$A183,$H183,\"\")","v":""},{"$f":"IFERROR(SMALL(S$2:S$224,ROWS(S$2:S183)),\"\")","v":""},{"$f":"IF('Step 3 Product data'!O$17=$A183,$H183,\"\")","v":""},{"$f":"IFERROR(SMALL(U$2:U$224,ROWS(U$2:U183)),\"\")","v":""},{"$f":"IF('Step 3 Product data'!P$17=$A183,$H183,\"\")","v":""},{"$f":"IFERROR(SMALL(W$2:W$224,ROWS(W$2:W183)),\"\")","v":""},{"$f":"IF('Step 3 Product data'!Q$17=$A183,$H183,\"\")","v":""},{"$f":"IFERROR(SMALL(Y$2:Y$224,ROWS(Y$2:Y183)),\"\")","v":""},{"$f":"IF('Step 3 Product data'!R$17=$A183,$H183,\"\")","v":""},{"$f":"IFERROR(SMALL(AA$2:AA$224,ROWS(AA$2:AA183)),\"\")","v":""},{"$f":"IF('Step 3 Product data'!S$17=$A183,$H183,\"\")","v":""},{"$f":"IFERROR(SMALL(AC$2:AC$224,ROWS(AC$2:AC183)),\"\")","v":""},{"$f":"IF('Step 3 Product data'!T$17=$A183,$H183,\"\")","v":""},{"$f":"IFERROR(SMALL(AE$2:AE$224,ROWS(AE$2:AE183)),\"\")","v":""},{"$f":"IF('Step 3 Product data'!U$17=$A183,$H183,\"\")","v":""},{"$f":"IFERROR(SMALL(AG$2:AG$224,ROWS(AG$2:AG183)),\"\")","v":""},{"$f":"IF('Step 3 Product data'!V$17=$A183,$H183,\"\")","v":""},{"$f":"IFERROR(SMALL(AI$2:AI$224,ROWS(AI$2:AI183)),\"\")","v":""},{"$f":"IF('Step 3 Product data'!W$17=$A183,$H183,\"\")","v":""},{"$f":"IFERROR(SMALL(AK$2:AK$224,ROWS(AK$2:AK183)),\"\")","v":""},{"$f":"IF('Step 3 Product data'!X$17=$A183,$H183,\"\")","v":""},{"$f":"IFERROR(SMALL(AM$2:AM$224,ROWS(AM$2:AM183)),\"\")","v":""}]
["Phthalic anhydride","CAS# 85449",null,null,null,null,null,{"$f":"ROWS($A$2:A184)","v":183},{"$f":"IF('Step 3 Product data'!I$17=$A184,$H184,\"\")","v":""},{"$f":"IFERROR(SMALL($I$2:$I$224,ROWS($I$2:I184)),\"\")","v":""},{"$f":"IF('Step 3 Product data'!J$17=$A184,$H184,\"\")","v":""},{"$f":"IFERROR(SMALL(K$2:K$224,ROWS(K$2:K184)),\"\")","v":""},{"$f":"IF('Step 3 Product data'!K$17=$A184,$H184,\"\")","v":""},{"$f":"IFERROR(SMALL(M$2:M$224,ROWS(M$2:M184)),\"\")","v":""},{"$f":"IF('Step 3 Product data'!L$17=$A184,$H184,\"\")","v":""},{"$f":"IFERROR(SMALL(O$2:O$224,ROWS(O$2:O184)),\"\")","v":""},{"$f":"IF('Step 3 Product data'!M$17=$A184,$H184,\"\")","v":""},{"$f":"IFERROR(SMALL(Q$2:Q$224,ROWS(Q$2:Q184)),\"\")","v":""},{"$f":"IF('Step 3 Product data'!N$17=$A184,$H184,\"\")","v":""},{"$f":"IFERROR(SMALL(S$2:S$224,ROWS(S$2:S184)),\"\")","v":""},{"$f":"IF('Step 3 Product data'!O$17=$A184,$H184,\"\")","v":""},{"$f":"IFERROR(SMALL(U$2:U$224,ROWS(U$2:U184)),\"\")","v":""},{"$f":"IF('Step 3 Product data'!P$17=$A184,$H184,\"\")","v":""},{"$f":"IFERROR(SMALL(W$2:W$224,ROWS(W$2:W184)),\"\")","v":""},{"$f":"IF('Step 3 Product data'!Q$17=$A184,$H184,\"\")","v":""},{"$f":"IFERROR(SMALL(Y$2:Y$224,ROWS(Y$2:Y184)),\"\")","v":""},{"$f":"IF('Step 3 Product data'!R$17=$A184,$H184,\"\")","v":""},{"$f":"IFERROR(SMALL(AA$2:AA$224,ROWS(AA$2:AA184)),\"\")","v":""},{"$f":"IF('Step 3 Product data'!S$17=$A184,$H184,\"\")","v":""},{"$f":"IFERROR(SMALL(AC$2:AC$224,ROWS(AC$2:AC184)),\"\")","v":""},{"$f":"IF('Step 3 Product data'!T$17=$A184,$H184,\"\")","v":""},{"$f":"IFERROR(SMALL(AE$2:AE$224,ROWS(AE$2:AE184)),\"\")","v":""},{"$f":"IF('Step 3 Product data'!U$17=$A184,$H184,\"\")","v":""},{"$f":"IFERROR(SMALL(AG$2:AG$224,ROWS(AG$2:AG184)),\"\")","v":""},{"$f":"IF('Step 3 Product data'!V$17=$A184,$H184,\"\")","v":""},{"$f":"IFERROR(SMALL(AI$2:AI$224,ROWS(AI$2:AI184)),\"\")","v":""},{"$f":"IF('Step 3 Product data'!W$17=$A184,$H184,\"\")","v":""},{"$f":"IFERROR(SMALL(AK$2:AK$224,ROWS(AK$2:AK184)),\"\")","v":""},{"$f":"IF('Step 3 Product data'!X$17=$A184,$H184,\"\")","v":""},{"$f":"IFERROR(SMALL(AM$2:AM$224,ROWS(AM$2:AM184)),\"\")","v":""}]
["Polychlorinated biphenyls (aroclors)","CAS# 1336363",null,null,null,null,null,{"$f":"ROWS($A$2:A185)","v":184},{"$f":"IF('Step 3 Product data'!I$17=$A185,$H185,\"\")","v":""},{"$f":"IFERROR(SMALL($I$2:$I$224,ROWS($I$2:I185)),\"\")","v":""},{"$f":"IF('Step 3 Product data'!J$17=$A185,$H185,\"\")","v":""},{"$f":"IFERROR(SMALL(K$2:K$224,ROWS(K$2:K185)),\"\")","v":""},{"$f":"IF('Step 3 Product data'!K$17=$A185,$H185,\"\")","v":""},{"$f":"IFERROR(SMALL(M$2:M$224,ROWS(M$2:M185)),\"\")","v":""},{"$f":"IF('Step 3 Product data'!L$17=$A185,$H185,\"\")","v":""},{"$f":"IFERROR(SMALL(O$2:O$224,ROWS(O$2:O185)),\"\")","v":""},{"$f":"IF('Step 3 Product data'!M$17=$A185,$H185,\"\")","v":""},{"$f":"IFERROR(SMALL(Q$2:Q$224,ROWS(Q$2:Q185)),\"\")","v":""},{"$f":"IF('Step 3 Product data'!N$17=$A185,$H185,\"\")","v":""},{"$f":"IFERROR(SMALL(S$2:S$224,ROWS(S$2:S185)),\"\")","v":""},{"$f":"IF('Step 3 Product data'!O$17=$A185,$H185,\"\")","v":""},{"$f":"IFERROR(SMALL(U$2:U$224,ROWS(U$2:U185)),\"\")","v":""},{"$f":"IF('Step 3 Product data'!P$17=$A185,$H185,\"\")","v":""},{"$f":"IFERROR(SMALL(W$2:W$224,ROWS(W$2:W185)),\"\")","v":""},{"$f":"IF('Step 3 Product data'!Q$17=$A185,$H185,\"\")","v":""},{"$f":"IFERROR(SMALL(Y$2:Y$224,ROWS(Y$2:Y185)),\"\")","v":""},{"$f":"IF('Step 3 Product data'!R$17=$A185,$H185,\"\")","v":""},{"$f":"IFERROR(SMALL(AA$2:AA$224,ROWS(AA$2:AA185)),\"\")","v":""},{"$f":"IF('Step 3 Product data'!S$17=$A185,$H185,\"\")","v":""},{"$f":"IFERROR(SMALL(AC$2:AC$224,ROWS(AC$2:AC185)),\"\")","v":""},{"$f":"IF('Step 3 Product data'!T$17=$A185,$H185,\"\")","v":""},{"$f":"IFERROR(SMALL(AE$2:AE$224,ROWS(AE$2:AE185)),\"\")","v":""},{"$f":"IF('Step 3 Product data'!U$17=$A185,$H185,\"\")","v":""},{"$f":"IFERROR(SMALL(AG$2:AG$224,ROWS(AG$2:AG185)),\"\")","v":""},{"$f":"IF('Step 3 Product data'!V$17=$A185,$H185,\"\")","v":""},{"$f":"IFERROR(SMALL(AI$2:AI$224,ROWS(AI$2:AI185)),\"\")","v":""},{"$f":"IF('Step 3 Product data'!W$17=$A185,$H185,\"\")","v":""},{"$f":"IFERROR(SMALL(AK$2:AK$224,ROWS(AK$2:AK185)),\"\")","v":""},{"$f":"IF('Step 3 Product data'!X$17=$A185,$H185,\"\")","v":""},{"$f":"IFERROR(SMALL(AM$2:AM$224,ROWS(AM$2:AM185)),\"\")","v":""}]
["p-Phenylenediamine","CAS# 106503",null,null,null,null,null,{"$f":"ROWS($A$2:A186)","v":185},{"$f":"IF('Step 3 Product data'!I$17=$A186,$H186,\"\")","v":""},{"$f":"IFERROR(SMALL($I$2:$I$224,ROWS($I$2:I186)),\"\")","v":""},{"$f":"IF('Step 3 Product data'!J$17=$A186,$H186,\"\")","v":""},{"$f":"IFERROR(SMALL(K$2:K$224,ROWS(K$2:K186)),\"\")","v":""},{"$f":"IF('Step 3 Product data'!K$17=$A186,$H186,\"\")","v":""},{"$f":"IFERROR(SMALL(M$2:M$224,ROWS(M$2:M186)),\"\")","v":""},{"$f":"IF('Step 3 Product data'!L$17=$A186,$H186,\"\")","v":""},{"$f":"IFERROR(SMALL(O$2:O$224,ROWS(O$2:O186)),\"\")","v":""},{"$f":"IF('Step 3 Product data'!M$17=$A186,$H186,\"\")","v":""},{"$f":"IFERROR(SMALL(Q$2:Q$224,ROWS(Q$2:Q186)),\"\")","v":""},{"$f":"IF('Step 3 Product data'!N$17=$A186,$H186,\"\")","v":""},{"$f":"IFERROR(SMALL(S$2:S$224,ROWS(S$2:S186)),\"\")","v":""},{"$f":"IF('Step 3 Product data'!O$17=$A186,$H186,\"\")","v":""},{"$f":"IFERROR(SMALL(U$2:U$224,ROWS(U$2:U186)),\"\")","v":""},{"$f":"IF('Step 3 Product data'!P$17=$A186,$H186,\"\")","v":""},{"$f":"IFERROR(SMALL(W$2:W$224,ROWS(W$2:W186)),\"\")","v":""},{"$f":"IF('Step 3 Product data'!Q$17=$A186,$H186,\"\")","v":""},{"$f":"IFERROR(SMALL(Y$2:Y$224,ROWS(Y$2:Y186)),\"\")","v":""},{"$f":"IF('Step 3 Product data'!R$17=$A186,$H186,\"\")","v":""},{"$f":"IFERROR(SMALL(AA$2:AA$224,ROWS(AA$2:AA186)),\"\")","v":""},{"$f":"IF('Step 3 Product data'!S$17=$A186,$H186,\"\")","v":""},{"$f":"IFERROR(SMALL(AC$2:AC$224,ROWS(AC$2:AC186)),\"\")","v":""},{"$f":"IF('Step 3 Product data'!T$17=$A186,$H186,\"\")","v":""},{"$f":"IFERROR(SMALL(AE$2:AE$224,ROWS(AE$2:AE186)),\"\")","v":""},{"$f":"IF('Step 3 Product data'!U$17=$A186,$H186,\"\")","v":""},{"$f":"IFERROR(SMALL(AG$2:AG$224,ROWS(AG$2:AG186)),\"\")","v":""},{"$f":"IF('Step 3 Product data'!V$17=$A186,$H186,\"\")","v":""},{"$f":"IFERROR(SMALL(AI$2:AI$224,ROWS(AI$2:AI186)),\"\")","v":""},{"$f":"IF('Step 3 Product data'!W$17=$A186,$H186,\"\")","v":""},{"$f":"IFERROR(SMALL(AK$2:AK$224,ROWS(AK$2:AK186)),\"\")","v":""},{"$f":"IF('Step 3 Product data'!X$17=$A186,$H186,\"\")","v":""},{"$f":"IFERROR(SMALL(AM$2:AM$224,ROWS(AM$2:AM186)),\"\")","v":""}]
["Propionaldehyde","CAS# 123386",null,null,null,null,null,{"$f":"ROWS($A$2:A187)","v":186},{"$f":"IF('Step 3 Product data'!I$17=$A187,$H187,\"\")","v":""},{"$f":"IFERROR(SMALL($I$2:$I$224,ROWS($I$2:I187)),\"\")","v":""},{"$f":"IF('Step 3 Product data'!J$17=$A187,$H187,\"\")","v":""},{"$f":"IFERROR(SMALL(K$2:K$224,ROWS(K$2:K187)),\"\")","v":""},{"$f":"IF('Step 3 Product data'!K$17=$A187,$H187,\"\")","v":""},{"$f":"IFERROR(SMALL(M$2:M$224,ROWS(M$2:M187)),\"\")","v":""},{"$f":"IF('Step 3 Product data'!L$17=$A187,$H187,\"\")","v":""},{"$f":"IFERROR(SMALL(O$2:O$224,ROWS(O$2:O187)),\"\")","v":""},{"$f":"IF('Step 3 Product data'!M$17=$A187,$H187,\"\")","v":""},{"$f":"IFERROR(SMALL(Q$2:Q$224,ROWS(Q$2:Q187)),\"\")","v":""},{"$f":"IF('Step 3 Product data'!N$17=$A187,$H187,\"\")","v":""},{"$f":"IFERROR(SMALL(S$2:S$224,ROWS(S$2:S187)),\"\")","v":""},{"$f":"IF('Step 3 Product data'!O$17=$A187,$H187,\"\")","v":""},{"$f":"IFERROR(SMALL(U$2:U$224,ROWS(U$2:U187)),\"\")","v":""},{"$f":"IF('Step 3 Product data'!P$17=$A187,$H187,\"\")","v":""},{"$f":"IFERROR(SMALL(W$2:W$224,ROWS(W$2:W187)),\"\")","v":""},{"$f":"IF('Step 3 Product data'!Q$17=$A187,$H187,\"\")","v":""},{"$f":"IFERROR(SMALL(Y$2:Y$224,ROWS(Y$2:Y187)),\"\")","v":""},{"$f":"IF('Step 3 Product data'!R$17=$A187,$H187,\"\")","v":""},{"$f":"IFERROR(SMALL(AA$2:AA$224,ROWS(AA$2:AA187)),\"\")","v":""},{"$f":"IF('Step 3 Product data'!S$17=$A187,$H187,\"\")","v":""},{"$f":"IFERROR(SMALL(AC$2:AC$224,ROWS(AC$2:AC187)),\"\")","v":""},{"$f":"IF('Step 3 Product data'!T$17=$A187,$H187,\"\")","v":""},{"$f":"IFERROR(SMALL(AE$2:AE$224,ROWS(AE$2:AE187)),\"\")","v":""},{"$f":"IF('Step 3 Product data'!U$17=$A187,$H187,\"\")","v":""},{"$f":"IFERROR(SMALL(AG$2:AG$224,ROWS(AG$2:AG187)),\"\")","v":""},{"$f":"IF('Step 3 Product data'!V$17=$A187,$H187,\"\")","v":""},{"$f":"IFERROR(SMALL(AI$2:AI$224,ROWS(AI$2:AI187)),\"\")","v":""},{"$f":"IF('Step 3 Product data'!W$17=$A187,$H187,\"\")","v":""},{"$f":"IFERROR(SMALL(AK$2:AK$224,ROWS(AK$2:AK187)),\"\")","v":""},{"$f":"IF('Step 3 Product data'!X$17=$A187,$H187,\"\")","v":""},{"$f":"IFERROR(SMALL(AM$2:AM$224,ROWS(AM$2:AM187)),\"\")","v":""}]
["Propoxur (Baygon)","CAS# 114261",null,null,null,null,null,{"$f":"ROWS($A$2:A188)","v":187},{"$f":"IF('Step 3 Product data'!I$17=$A188,$H188,\"\")","v":""},{"$f":"IFERROR(SMALL($I$2:$I$224,ROWS($I$2:I188)),\"\")","v":""},{"$f":"IF('Step 3 Product data'!J$17=$A188,$H188,\"\")","v":""},{"$f":"IFERROR(SMALL(K$2:K$224,ROWS(K$2:K188)),\"\")","v":""},{"$f":"IF('Step 3 Product data'!K$17=$A188,$H188,\"\")","v":""},{"$f":"IFERROR(SMALL(M$2:M$224,ROWS(M$2:M188)),\"\")","v":""},{"$f":"IF('Step 3 Product data'!L$17=$A188,$H188,\"\")","v":""},{"$f":"IFERROR(SMALL(O$2:O$224,ROWS(O$2:O188)),\"\")","v":""},{"$f":"IF('Step 3 Product data'!M$17=$A188,$H188,\"\")","v":""},{"$f":"IFERROR(SMALL(Q$2:Q$224,ROWS(Q$2:Q188)),\"\")","v":""},{"$f":"IF('Step 3 Product data'!N$17=$A188,$H188,\"\")","v":""},{"$f":"IFERROR(SMALL(S$2:S$224,ROWS(S$2:S188)),\"\")","v":""},{"$f":"IF('Step 3 Product data'!O$17=$A188,$H188,\"\")","v":""},{"$f":"IFERROR(SMALL(U$2:U$224,ROWS(U$2:U188)),\"\")","v":""},{"$f":"IF('Step 3 Product data'!P$17=$A188,$H188,\"\")","v":""},{"$f":"IFERROR(SMALL(W$2:W$224,ROWS(W$2:W188)),\"\")","v":""},{"$f":"IF('Step 3 Product data'!Q$17=$A188,$H188,\"\")","v":""},{"$f":"IFERROR(SMALL(Y$2:Y$224,ROWS(Y$2:Y188)),\"\")","v":""},{"$f":"IF('Step 3 Product data'!R$17=$A188,$H188,\"\")","v":""},{"$f":"IFERROR(SMALL(AA$2:AA$224,ROWS(AA$2:AA188)),\"\")","v":""},{"$f":"IF('Step 3 Product data'!S$17=$A188,$H188,\"\")","v":""},{"$f":"IFERROR(SMALL(AC$2:AC$224,ROWS(AC$2:AC188)),\"\")","v":""},{"$f":"IF('Step 3 Product data'!T$17=$A188,$H188,\"\")","v":""},{"$f":"IFERROR(SMALL(AE$2:AE$224,ROWS(AE$2:AE188)),\"\")","v":""},{"$f":"IF('Step 3 Product data'!U$17=$A188,$H188,\"\")","v":""},{"$f":"IFERROR(SMALL(AG$2:AG$224,ROWS(AG$2:AG188)),\"\")","v":""},{"$f":"IF('Step 3 Product data'!V$17=$A188,$H188,\"\")","v":""},{"$f":"IFERROR(SMALL(AI$2:AI$224,ROWS(AI$2:AI188)),\"\")","v":""},{"$f":"IF('Step 3 Product data'!W$17=$A188,$H188,\"\")","v":""},{"$f":"IFERROR(SMALL(AK$2:AK$224,ROWS(AK$2:AK188)),\"\")","v":""},{"$f":"IF('Step 3 Product data'!X$17=$A188,$H188,\"\")","v":""},{"$f":"IFERROR(SMALL(AM$2:AM$224,ROWS(AM$2:AM188)),\"\")","v":""}]
["Propylene dichloride (1,2-Dichloropropane)","CAS# 78875",null,null,null,null,null,{"$f":"ROWS($A$2:A189)","v":188},{"$f":"IF('Step 3 Product data'!I$17=$A189,$H189,\"\")","v":""},{"$f":"IFERROR(SMALL($I$2:$I$224,ROWS($I$2:I189)),\"\")","v":""},null,{"$f":"IFERROR(SMALL(K$2:K$224,ROWS(K$2:K189)),\"\")","v":""},{"$f":"IF('Step 3 Product data'!K$17=$A189,$H189,\"\")","v":""},{"$f":"IFERROR(SMALL(M$2:M$224,ROWS(M$2:M189)),\"\")","v":""},{"$f":"IF('Step 3 Product data'!L$17=$A189,$H189,\"\")","v":""},{"$f":"IFERROR(SMALL(O$2:O$224,ROWS(O$2:O189)),\"\")","v":""},{"$f":"IF('Step 3 Product data'!M$17=$A189,$H189,\"\")","v":""},{"$f":"IFERROR(SMALL(Q$2:Q$224,ROWS(Q$2:Q189)),\"\")","v":""},{"$f":"IF('Step 3 Product data'!N$17=$A189,$H189,\"\")","v":""},{"$f":"IFERROR(SMALL(S$2:S$224,ROWS(S$2:S189)),\"\")","v":""},{"$f":"IF('Step 3 Product data'!O$17=$A189,$H189,\"\")","v":""},{"$f":"IFERROR(SMALL(U$2:U$224,ROWS(U$2:U189)),\"\")","v":""},{"$f":"IF('Step 3 Product data'!P$17=$A189,$H189,\"\")","v":""},{"$f":"IFERROR(SMALL(W$2:W$224,ROWS(W$2:W189)),\"\")","v":""},{"$f":"IF('Step 3 Product data'!Q$17=$A189,$H189,\"\")","v":""},{"$f":"IFERROR(SMALL(Y$2:Y$224,ROWS(Y$2:Y189)),\"\")","v":""},{"$f":"IF('Step 3 Product data'!R$17=$A189,$H189,\"\")","v":""},{"$f":"IFERROR(SMALL(AA$2:AA$224,ROWS(AA$2:AA189)),\"\")","v":""},{"$f":"IF('Step 3 Product data'!S$17=$A189,$H189,\"\")","v":""},{"$f":"IFERROR(SMALL(AC$2:AC$224,ROWS(AC$2:AC189)),\"\")","v":""},{"$f":"IF('Step 3 Product data'!T$17=$A189,$H189,\"\")","v":""},{"$f":"IFERROR(SMALL(AE$2:AE$224,ROWS(AE$2:AE189)),\"\")","v":""},{"$f":"IF('Step 3 Product data'!U$17=$A189,$H189,\"\")","v":""},{"$f":"IFERROR(SMALL(AG$2:AG$224,ROWS(AG$2:AG189)),\"\")","v":""},{"$f":"IF('Step 3 Product data'!V$17=$A189,$H189,\"\")","v":""},{"$f":"IFERROR(SMALL(AI$2:AI$224,ROWS(AI$2:AI189)),\"\")","v":""},{"$f":"IF('Step 3 Product data'!W$17=$A189,$H189,\"\")","v":""},{"$f":"IFERROR(SMALL(AK$2:AK$224,ROWS(AK$2:AK189)),\"\")","v":""},{"$f":"IF('Step 3 Product data'!X$17=$A189,$H189,\"\")","v":""},{"$f":"IFERROR(SMALL(AM$2:AM$224,ROWS(AM$2:AM189)),\"\")","v":""}]
["Propylene oxide","CAS# 75569",null,null,null,null,null,{"$f":"ROWS($A$2:A190)","v":189},{"$f":"IF('Step 3 Product data'!I$17=$A190,$H190,\"\")","v":""},{"$f":"IFERROR(SMALL($I$2:$I$224,ROWS($I$2:I190)),\"\")","v":""},null,{"$f":"IFERROR(SMALL(K$2:K$224,ROWS(K$2:K190)),\"\")","v":""},{"$f":"IF('Step 3 Product data'!K$17=$A190,$H190,\"\")","v":""},{"$f":"IFERROR(SMALL(M$2:M$224,ROWS(M$2:M190)),\"\")","v":""},{"$f":"IF('Step 3 Product data'!L$17=$A190,$H190,\"\")","v":""},{"$f":"IFERROR(SMALL(O$2:O$224,ROWS(O$2:O190)),\"\")","v":""},{"$f":"IF('Step 3 Product data'!M$17=$A190,$H190,\"\")","v":""},{"$f":"IFERROR(SMALL(Q$2:Q$224,ROWS(Q$2:Q190)),\"\")","v":""},{"$f":"IF('Step 3 Product data'!N$17=$A190,$H190,\"\")","v":""},{"$f":"IFERROR(SMALL(S$2:S$224,ROWS(S$2:S190)),\"\")","v":""},{"$f":"IF('Step 3 Product data'!O$17=$A190,$H190,\"\")","v":""},{"$f":"IFERROR(SMALL(U$2:U$224,ROWS(U$2:U190)),\"\")","v":""},{"$f":"IF('Step 3 Product data'!P$17=$A190,$H190,\"\")","v":""},{"$f":"IFERROR(SMALL(W$2:W$224,ROWS(W$2:W190)),\"\")","v":""},{"$f":"IF('Step 3 Product data'!Q$17=$A190,$H190,\"\")","v":""},{"$f":"IFERROR(SMALL(Y$2:Y$224,ROWS(Y$2:Y190)),\"\")","v":""},{"$f":"IF('Step 3 Product data'!R$17=$A190,$H190,\"\")","v":""},{"$f":"IFERROR(SMALL(AA$2:AA$224,ROWS(AA$2:AA190)),\"\")","v":""},{"$f":"IF('Step 3 Product data'!S$17=$A190,$H190,\"\")","v":""},{"$f":"IFERROR(SMALL(AC$2:AC$224,ROWS(AC$2:AC190)),\"\")","v":""},{"$f":"IF('Step 3 Product data'!T$17=$A190,$H190,\"\")","v":""},{"$f":"IFERROR(SMALL(AE$2:AE$224,ROWS(AE$2:AE190)),\"\")","v":""},{"$f":"IF('Step 3 Product data'!U$17=$A190,$H190,\"\")","v":""},{"$f":"IFERROR(SMALL(AG$2:AG$224,ROWS(AG$2:AG190)),\"\")","v":""},{"$f":"IF('Step 3 Product data'!V$17=$A190,$H190,\"\")","v":""},{"$f":"IFERROR(SMALL(AI$2:AI$224,ROWS(AI$2:AI190)),\"\")","v":""},{"$f":"IF('Step 3 Product data'!W$17=$A190,$H190,\"\")","v":""},{"$f":"IFERROR(SMALL(AK$2:AK$224,ROWS(AK$2:AK190)),\"\")","v":""},{"$f":"IF('Step 3 Product data'!X$17=$A190,$H190,\"\")","v":""},{"$f":"IFERROR(SMALL(AM$2:AM$224,ROWS(AM$2:AM190)),\"\")","v":""}]
["p-Xylenes","CAS# 106423",null,null,null,null,null,{"$f":"ROWS($A$2:A191)","v":190},{"$f":"IF('Step 3 Product data'!I$17=$A191,$H191,\"\")","v":""},{"$f":"IFERROR(SMALL($I$2:$I$224,ROWS($I$2:I191)),\"\")","v":""},null,{"$f":"IFERROR(SMALL(K$2:K$224,ROWS(K$2:K191)),\"\")","v":""},{"$f":"IF('Step 3 Product data'!K$17=$A191,$H191,\"\")","v":""},{"$f":"IFERROR(SMALL(M$2:M$224,ROWS(M$2:M191)),\"\")","v":""},{"$f":"IF('Step 3 Product data'!L$17=$A191,$H191,\"\")","v":""},{"$f":"IFERROR(SMALL(O$2:O$224,ROWS(O$2:O191)),\"\")","v":""},{"$f":"IF('Step 3 Product data'!M$17=$A191,$H191,\"\")","v":""},{"$f":"IFERROR(SMALL(Q$2:Q$224,ROWS(Q$2:Q191)),\"\")","v":""},{"$f":"IF('Step 3 Product data'!N$17=$A191,$H191,\"\")","v":""},{"$f":"IFERROR(SMALL(S$2:S$224,ROWS(S$2:S191)),\"\")","v":""},{"$f":"IF('Step 3 Product data'!O$17=$A191,$H191,\"\")","v":""},{"$f":"IFERROR(SMALL(U$2:U$224,ROWS(U$2:U191)),\"\")","v":""},{"$f":"IF('Step 3 Product data'!P$17=$A191,$H191,\"\")","v":""},{"$f":"IFERROR(SMALL(W$2:W$224,ROWS(W$2:W191)),\"\")","v":""},{"$f":"IF('Step 3 Product data'!Q$17=$A191,$H191,\"\")","v":""},{"$f":"IFERROR(SMALL(Y$2:Y$224,ROWS(Y$2:Y191)),\"\")","v":""},{"$f":"IF('Step 3 Product data'!R$17=$A191,$H191,\"\")","v":""},{"$f":"IFERROR(SMALL(AA$2:AA$224,ROWS(AA$2:AA191)),\"\")","v":""},{"$f":"IF('Step 3 Product data'!S$17=$A191,$H191,\"\")","v":""},{"$f":"IFERROR(SMALL(AC$2:AC$224,ROWS(AC$2:AC191)),\"\")","v":""},{"$f":"IF('Step 3 Product data'!T$17=$A191,$H191,\"\")","v":""},{"$f":"IFERROR(SMALL(AE$2:AE$224,ROWS(AE$2:AE191)),\"\")","v":""},{"$f":"IF('Step 3 Product data'!U$17=$A191,$H191,\"\")","v":""},{"$f":"IFERROR(SMALL(AG$2:AG$224,ROWS(AG$2:AG191)),\"\")","v":""},{"$f":"IF('Step 3 Product data'!V$17=$A191,$H191,\"\")","v":""},{"$f":"IFERROR(SMALL(AI$2:AI$224,ROWS(AI$2:AI191)),\"\")","v":""},{"$f":"IF('Step 3 Product data'!W$17=$A191,$H191,\"\")","v":""},{"$f":"IFERROR(SMALL(AK$2:AK$224,ROWS(AK$2:AK191)),\"\")","v":""},{"$f":"IF('Step 3 Product data'!X$17=$A191,$H191,\"\")","v":""},{"$f":"IFERROR(SMALL(AM$2:AM$224,ROWS(AM$2:AM191)),\"\")","v":""}]
["Quinoline","CAS# 91225",null,null,null,null,null,{"$f":"ROWS($A$2:A192)","v":191},{"$f":"IF('Step 3 Product data'!I$17=$A192,$H192,\"\")","v":""},{"$f":"IFERROR(SMALL($I$2:$I$224,ROWS($I$2:I192)),\"\")","v":""},null,{"$f":"IFERROR(SMALL(K$2:K$224,ROWS(K$2:K192)),\"\")","v":""},{"$f":"IF('Step 3 Product data'!K$17=$A192,$H192,\"\")","v":""},{"$f":"IFERROR(SMALL(M$2:M$224,ROWS(M$2:M192)),\"\")","v":""},{"$f":"IF('Step 3 Product data'!L$17=$A192,$H192,\"\")","v":""},{"$f":"IFERROR(SMALL(O$2:O$224,ROWS(O$2:O192)),\"\")","v":""},{"$f":"IF('Step 3 Product data'!M$17=$A192,$H192,\"\")","v":""},{"$f":"IFERROR(SMALL(Q$2:Q$224,ROWS(Q$2:Q192)),\"\")","v":""},{"$f":"IF('Step 3 Product data'!N$17=$A192,$H192,\"\")","v":""},{"$f":"IFERROR(SMALL(S$2:S$224,ROWS(S$2:S192)),\"\")","v":""},{"$f":"IF('Step 3 Product data'!O$17=$A192,$H192,\"\")","v":""},{"$f":"IFERROR(SMALL(U$2:U$224,ROWS(U$2:U192)),\"\")","v":""},{"$f":"IF('Step 3 Product data'!P$17=$A192,$H192,\"\")","v":""},{"$f":"IFERROR(SMALL(W$2:W$224,ROWS(W$2:W192)),\"\")","v":""},{"$f":"IF('Step 3 Product data'!Q$17=$A192,$H192,\"\")","v":""},{"$f":"IFERROR(SMALL(Y$2:Y$224,ROWS(Y$2:Y192)),\"\")","v":""},{"$f":"IF('Step 3 Product data'!R$17=$A192,$H192,\"\")","v":""},{"$f":"IFERROR(SMALL(AA$2:AA$224,ROWS(AA$2:AA192)),\"\")","v":""},{"$f":"IF('Step 3 Product data'!S$17=$A192,$H192,\"\")","v":""},{"$f":"IFERROR(SMALL(AC$2:AC$224,ROWS(AC$2:AC192)),\"\")","v":""},{"$f":"IF('Step 3 Product data'!T$17=$A192,$H192,\"\")","v":""},{"$f":"IFERROR(SMALL(AE$2:AE$224,ROWS(AE$2:AE192)),\"\")","v":""},{"$f":"IF('Step 3 Product data'!U$17=$A192,$H192,\"\")","v":""},{"$f":"IFERROR(SMALL(AG$2:AG$224,ROWS(AG$2:AG192)),\"\")","v":""},{"$f":"IF('Step 3 Product data'!V$17=$A192,$H192,\"\")","v":""},{"$f":"IFERROR(SMALL(AI$2:AI$224,ROWS(AI$2:AI192)),\"\")","v":""},{"$f":"IF('Step 3 Product data'!W$17=$A192,$H192,\"\")","v":""},{"$f":"IFERROR(SMALL(AK$2:AK$224,ROWS(AK$2:AK192)),\"\")","v":""},{"$f":"IF('Step 3 Product data'!X$17=$A192,$H192,\"\")","v":""},{"$f":"IFERROR(SMALL(AM$2:AM$224,ROWS(AM$2:AM192)),\"\")","v":""}]
["Quinone","CAS# 106514",null,null,null,null,null,{"$f":"ROWS($A$2:A193)","v":192},{"$f":"IF('Step 3 Product data'!I$17=$A193,$H193,\"\")","v":""},{"$f":"IFERROR(SMALL($I$2:$I$224,ROWS($I$2:I193)),\"\")","v":""},null,{"$f":"IFERROR(SMALL(K$2:K$224,ROWS(K$2:K193)),\"\")","v":""},{"$f":"IF('Step 3 Product data'!K$17=$A193,$H193,\"\")","v":""},{"$f":"IFERROR(SMALL(M$2:M$224,ROWS(M$2:M193)),\"\")","v":""},{"$f":"IF('Step 3 Product data'!L$17=$A193,$H193,\"\")","v":""},{"$f":"IFERROR(SMALL(O$2:O$224,ROWS(O$2:O193)),\"\")","v":""},{"$f":"IF('Step 3 Product data'!M$17=$A193,$H193,\"\")","v":""},{"$f":"IFERROR(SMALL(Q$2:Q$224,ROWS(Q$2:Q193)),\"\")","v":""},{"$f":"IF('Step 3 Product data'!N$17=$A193,$H193,\"\")","v":""},{"$f":"IFERROR(SMALL(S$2:S$224,ROWS(S$2:S193)),\"\")","v":""},{"$f":"IF('Step 3 Product data'!O$17=$A193,$H193,\"\")","v":""},{"$f":"IFERROR(SMALL(U$2:U$224,ROWS(U$2:U193)),\"\")","v":""},{"$f":"IF('Step 3 Product data'!P$17=$A193,$H193,\"\")","v":""},{"$f":"IFERROR(SMALL(W$2:W$224,ROWS(W$2:W193)),\"\")","v":""},{"$f":"IF('Step 3 Product data'!Q$17=$A193,$H193,\"\")","v":""},{"$f":"IFERROR(SMALL(Y$2:Y$224,ROWS(Y$2:Y193)),\"\")","v":""},{"$f":"IF('Step 3 Product data'!R$17=$A193,$H193,\"\")","v":""},{"$f":"IFERROR(SMALL(AA$2:AA$224,ROWS(AA$2:AA193)),\"\")","v":""},{"$f":"IF('Step 3 Product data'!S$17=$A193,$H193,\"\")","v":""},{"$f":"IFERROR(SMALL(AC$2:AC$224,ROWS(AC$2:AC193)),\"\")","v":""},{"$f":"IF('Step 3 Product data'!T$17=$A193,$H193,\"\")","v":""},{"$f":"IFERROR(SMALL(AE$2:AE$224,ROWS(AE$2:AE193)),\"\")","v":""},{"$f":"IF('Step 3 Product data'!U$17=$A193,$H193,\"\")","v":""},{"$f":"IFERROR(SMALL(AG$2:AG$224,ROWS(AG$2:AG193)),\"\")","v":""},{"$f":"IF('Step 3 Product data'!V$17=$A193,$H193,\"\")","v":""},{"$f":"IFERROR(SMALL(AI$2:AI$224,ROWS(AI$2:AI193)),\"\")","v":""},{"$f":"IF('Step 3 Product data'!W$17=$A193,$H193,\"\")","v":""},{"$f":"IFERROR(SMALL(AK$2:AK$224,ROWS(AK$2:AK193)),\"\")","v":""},{"$f":"IF('Step 3 Product data'!X$17=$A193,$H193,\"\")","v":""},{"$f":"IFERROR(SMALL(AM$2:AM$224,ROWS(AM$2:AM193)),\"\")","v":""}]
["Styrene","CAS# 100425",null,null,null,null,null,{"$f":"ROWS($A$2:A194)","v":193},{"$f":"IF('Step 3 Product data'!I$17=$A194,$H194,\"\")","v":""},{"$f":"IFERROR(SMALL($I$2:$I$224,ROWS($I$2:I194)),\"\")","v":""},null,{"$f":"IFERROR(SMALL(K$2:K$224,ROWS(K$2:K194)),\"\")","v":""},{"$f":"IF('Step 3 Product data'!K$17=$A194,$H194,\"\")","v":""},{"$f":"IFERROR(SMALL(M$2:M$224,ROWS(M$2:M194)),\"\")","v":""},{"$f":"IF('Step 3 Product data'!L$17=$A194,$H194,\"\")","v":""},{"$f":"IFERROR(SMALL(O$2:O$224,ROWS(O$2:O194)),\"\")","v":""},{"$f":"IF('Step 3 Product data'!M$17=$A194,$H194,\"\")","v":""},{"$f":"IFERROR(SMALL(Q$2:Q$224,ROWS(Q$2:Q194)),\"\")","v":""},{"$f":"IF('Step 3 Product data'!N$17=$A194,$H194,\"\")","v":""},{"$f":"IFERROR(SMALL(S$2:S$224,ROWS(S$2:S194)),\"\")","v":""},{"$f":"IF('Step 3 Product data'!O$17=$A194,$H194,\"\")","v":""},{"$f":"IFERROR(SMALL(U$2:U$224,ROWS(U$2:U194)),\"\")","v":""},{"$f":"IF('Step 3 Product data'!P$17=$A194,$H194,\"\")","v":""},{"$f":"IFERROR(SMALL(W$2:W$224,ROWS(W$2:W194)),\"\")","v":""},{"$f":"IF('Step 3 Product data'!Q$17=$A194,$H194,\"\")","v":""},{"$f":"IFERROR(SMALL(Y$2:Y$224,ROWS(Y$2:Y194)),\"\")","v":""},{"$f":"IF('Step 3 Product data'!R$17=$A194,$H194,\"\")","v":""},{"$f":"IFERROR(SMALL(AA$2:AA$224,ROWS(AA$2:AA194)),\"\")","v":""},{"$f":"IF('Step 3 Product data'!S$17=$A194,$H194,\"\")","v":""},{"$f":"IFERROR(SMALL(AC$2:AC$224,ROWS(AC$2:AC194)),\"\")","v":""},{"$f":"IF('Step 3 Product data'!T$17=$A194,$H194,\"\")","v":""},{"$f":"IFERROR(SMALL(AE$2:AE$224,ROWS(AE$2:AE194)),\"\")","v":""},{"$f":"IF('Step 3 Product data'!U$17=$A194,$H194,\"\")","v":""},{"$f":"IFERROR(SMALL(AG$2:AG$224,ROWS(AG$2:AG194)),\"\")","v":""},{"$f":"IF('Step 3 Product data'!V$17=$A194,$H194,\"\")","v":""},{"$f":"IFERROR(SMALL(AI$2:AI$224,ROWS(AI$2:AI194)),\"\")","v":""},{"$f":"IF('Step 3 Product data'!W$17=$A194,$H194,\"\")","v":""},{"$f":"IFERROR(SMALL(AK$2:AK$224,ROWS(AK$2:AK194)),\"\")","v":""},{"$f":"IF('Step 3 Product data'!X$17=$A194,$H194,\"\")","v":""},{"$f":"IFERROR(SMALL(AM$2:AM$224,ROWS(AM$2:AM194)),\"\")","v":""}]
["Styrene oxide","CAS# 96093",null,null,null,null,null,{"$f":"ROWS($A$2:A195)","v":194},{"$f":"IF('Step 3 Product data'!I$17=$A195,$H195,\"\")","v":""},{"$f":"IFERROR(SMALL($I$2:$I$224,ROWS($I$2:I195)),\"\")","v":""},null,{"$f":"IFERROR(SMALL(K$2:K$224,ROWS(K$2:K195)),\"\")","v":""},{"$f":"IF('Step 3 Product data'!K$17=$A195,$H195,\"\")","v":""},{"$f":"IFERROR(SMALL(M$2:M$224,ROWS(M$2:M195)),\"\")","v":""},{"$f":"IF('Step 3 Product data'!L$17=$A195,$H195,\"\")","v":""},{"$f":"IFERROR(SMALL(O$2:O$224,ROWS(O$2:O195)),\"\")","v":""},{"$f":"IF('Step 3 Product data'!M$17=$A195,$H195,\"\")","v":""},{"$f":"IFERROR(SMALL(Q$2:Q$224,ROWS(Q$2:Q195)),\"\")","v":""},{"$f":"IF('Step 3 Product data'!N$17=$A195,$H195,\"\")","v":""},{"$f":"IFERROR(SMALL(S$2:S$224,ROWS(S$2:S195)),\"\")","v":""},{"$f":"IF('Step 3 Product data'!O$17=$A195,$H195,\"\")","v":""},{"$f":"IFERROR(SMALL(U$2:U$224,ROWS(U$2:U195)),\"\")","v":""},{"$f":"IF('Step 3 Product data'!P$17=$A195,$H195,\"\")","v":""},{"$f":"IFERROR(SMALL(W$2:W$224,ROWS(W$2:W195)),\"\")","v":""},{"$f":"IF('Step 3 Product data'!Q$17=$A195,$H195,\"\")","v":""},{"$f":"IFERROR(SMALL(Y$2:Y$224,ROWS(Y$2:Y195)),\"\")","v":""},{"$f":"IF('Step 3 Product data'!R$17=$A195,$H195,\"\")","v":""},{"$f":"IFERROR(SMALL(AA$2:AA$224,ROWS(AA$2:AA195)),\"\")","v":""},{"$f":"IF('Step 3 Product data'!S$17=$A195,$H195,\"\")","v":""},{"$f":"IFERROR(SMALL(AC$2:AC$224,ROWS(AC$2:AC195)),\"\")","v":""},{"$f":"IF('Step 3 Product data'!T$17=$A195,$H195,\"\")","v":""},{"$f":"IFERROR(SMALL(AE$2:AE$224,ROWS(AE$2:AE195)),\"\")","v":""},{"$f":"IF('Step 3 Product data'!U$17=$A195,$H195,\"\")","v":""},{"$f":"IFERROR(SMALL(AG$2:AG$224,ROWS(AG$2:AG195)),\"\")","v":""},{"$f":"IF('Step 3 Product data'!V$17=$A195,$H195,\"\")","v":""},{"$f":"IFERROR(SMALL(AI$2:AI$224,ROWS(AI$2:AI195)),\"\")","v":""},{"$f":"IF('Step 3 Product data'!W$17=$A195,$H195,\"\")","v":""},{"$f":"IFERROR(SMALL(AK$2:AK$224,ROWS(AK$2:AK195)),\"\")","v":""},{"$f":"IF('Step 3 Product data'!X$17=$A195,$H195,\"\")","v":""},{"$f":"IFERROR(SMALL(AM$2:AM$224,ROWS(AM$2:AM195)),\"\")","v":""}]
["Tetrachloroethylene (Perchloroethylene)","CAS# 127184",null,null,null,null,null,{"$f":"ROWS($A$2:A196)","v":195},{"$f":"IF('Step 3 Product data'!I$17=$A196,$H196,\"\")","v":""},{"$f":"IFERROR(SMALL($I$2:$I$224,ROWS($I$2:I196)),\"\")","v":""},null,{"$f":"IFERROR(SMALL(K$2:K$224,ROWS(K$2:K196)),\"\")","v":""},{"$f":"IF('Step 3 Product data'!K$17=$A196,$H196,\"\")","v":""},{"$f":"IFERROR(SMALL(M$2:M$224,ROWS(M$2:M196)),\"\")","v":""},{"$f":"IF('Step 3 Product data'!L$17=$A196,$H196,\"\")","v":""},{"$f":"IFERROR(SMALL(O$2:O$224,ROWS(O$2:O196)),\"\")","v":""},{"$f":"IF('Step 3 Product data'!M$17=$A196,$H196,\"\")","v":""},{"$f":"IFERROR(SMALL(Q$2:Q$224,ROWS(Q$2:Q196)),\"\")","v":""},{"$f":"IF('Step 3 Product data'!N$17=$A196,$H196,\"\")","v":""},{"$f":"IFERROR(SMALL(S$2:S$224,ROWS(S$2:S196)),\"\")","v":""},{"$f":"IF('Step 3 Product data'!O$17=$A196,$H196,\"\")","v":""},{"$f":"IFERROR(SMALL(U$2:U$224,ROWS(U$2:U196)),\"\")","v":""},{"$f":"IF('Step 3 Product data'!P$17=$A196,$H196,\"\")","v":""},{"$f":"IFERROR(SMALL(W$2:W$224,ROWS(W$2:W196)),\"\")","v":""},{"$f":"IF('Step 3 Product data'!Q$17=$A196,$H196,\"\")","v":""},{"$f":"IFERROR(SMALL(Y$2:Y$224,ROWS(Y$2:Y196)),\"\")","v":""},{"$f":"IF('Step 3 Product data'!R$17=$A196,$H196,\"\")","v":""},{"$f":"IFERROR(SMALL(AA$2:AA$224,ROWS(AA$2:AA196)),\"\")","v":""},{"$f":"IF('Step 3 Product data'!S$17=$A196,$H196,\"\")","v":""},{"$f":"IFERROR(SMALL(AC$2:AC$224,ROWS(AC$2:AC196)),\"\")","v":""},{"$f":"IF('Step 3 Product data'!T$17=$A196,$H196,\"\")","v":""},{"$f":"IFERROR(SMALL(AE$2:AE$224,ROWS(AE$2:AE196)),\"\")","v":""},{"$f":"IF('Step 3 Product data'!U$17=$A196,$H196,\"\")","v":""},{"$f":"IFERROR(SMALL(AG$2:AG$224,ROWS(AG$2:AG196)),\"\")","v":""},{"$f":"IF('Step 3 Product data'!V$17=$A196,$H196,\"\")","v":""},{"$f":"IFERROR(SMALL(AI$2:AI$224,ROWS(AI$2:AI196)),\"\")","v":""},{"$f":"IF('Step 3 Product data'!W$17=$A196,$H196,\"\")","v":""},{"$f":"IFERROR(SMALL(AK$2:AK$224,ROWS(AK$2:AK196)),\"\")","v":""},{"$f":"IF('Step 3 Product data'!X$17=$A196,$H196,\"\")","v":""},{"$f":"IFERROR(SMALL(AM$2:AM$224,ROWS(AM$2:AM196)),\"\")","v":""}]
["Titanium tetrachloride","CAS# 7550450",null,null,null,null,null,{"$f":"ROWS($A$2:A197)","v":196},{"$f":"IF('Step 3 Product data'!I$17=$A197,$H197,\"\")","v":""},{"$f":"IFERROR(SMALL($I$2:$I$224,ROWS($I$2:I197)),\"\")","v":""},null,{"$f":"IFERROR(SMALL(K$2:K$224,ROWS(K$2:K197)),\"\")","v":""},{"$f":"IF('Step 3 Product data'!K$17=$A197,$H197,\"\")","v":""},{"$f":"IFERROR(SMALL(M$2:M$224,ROWS(M$2:M197)),\"\")","v":""},{"$f":"IF('Step 3 Product data'!L$17=$A197,$H197,\"\")","v":""},{"$f":"IFERROR(SMALL(O$2:O$224,ROWS(O$2:O197)),\"\")","v":""},{"$f":"IF('Step 3 Product data'!M$17=$A197,$H197,\"\")","v":""},{"$f":"IFERROR(SMALL(Q$2:Q$224,ROWS(Q$2:Q197)),\"\")","v":""},{"$f":"IF('Step 3 Product data'!N$17=$A197,$H197,\"\")","v":""},{"$f":"IFERROR(SMALL(S$2:S$224,ROWS(S$2:S197)),\"\")","v":""},{"$f":"IF('Step 3 Product data'!O$17=$A197,$H197,\"\")","v":""},{"$f":"IFERROR(SMALL(U$2:U$224,ROWS(U$2:U197)),\"\")","v":""},{"$f":"IF('Step 3 Product data'!P$17=$A197,$H197,\"\")","v":""},{"$f":"IFERROR(SMALL(W$2:W$224,ROWS(W$2:W197)),\"\")","v":""},{"$f":"IF('Step 3 Product data'!Q$17=$A197,$H197,\"\")","v":""},{"$f":"IFERROR(SMALL(Y$2:Y$224,ROWS(Y$2:Y197)),\"\")","v":""},{"$f":"IF('Step 3 Product data'!R$17=$A197,$H197,\"\")","v":""},{"$f":"IFERROR(SMALL(AA$2:AA$224,ROWS(AA$2:AA197)),\"\")","v":""},{"$f":"IF('Step 3 Product data'!S$17=$A197,$H197,\"\")","v":""},{"$f":"IFERROR(SMALL(AC$2:AC$224,ROWS(AC$2:AC197)),\"\")","v":""},{"$f":"IF('Step 3 Product data'!T$17=$A197,$H197,\"\")","v":""},{"$f":"IFERROR(SMALL(AE$2:AE$224,ROWS(AE$2:AE197)),\"\")","v":""},{"$f":"IF('Step 3 Product data'!U$17=$A197,$H197,\"\")","v":""},{"$f":"IFERROR(SMALL(AG$2:AG$224,ROWS(AG$2:AG197)),\"\")","v":""},{"$f":"IF('Step 3 Product data'!V$17=$A197,$H197,\"\")","v":""},{"$f":"IFERROR(SMALL(AI$2:AI$224,ROWS(AI$2:AI197)),\"\")","v":""},{"$f":"IF('Step 3 Product data'!W$17=$A197,$H197,\"\")","v":""},{"$f":"IFERROR(SMALL(AK$2:AK$224,ROWS(AK$2:AK197)),\"\")","v":""},{"$f":"IF('Step 3 Product data'!X$17=$A197,$H197,\"\")","v":""},{"$f":"IFERROR(SMALL(AM$2:AM$224,ROWS(AM$2:AM197)),\"\")","v":""}]
["Toluene","CAS# 108883",null,null,null,null,null,{"$f":"ROWS($A$2:A198)","v":197},{"$f":"IF('Step 3 Product data'!I$17=$A198,$H198,\"\")","v":""},{"$f":"IFERROR(SMALL($I$2:$I$224,ROWS($I$2:I198)),\"\")","v":""},null,{"$f":"IFERROR(SMALL(K$2:K$224,ROWS(K$2:K198)),\"\")","v":""},{"$f":"IF('Step 3 Product data'!K$17=$A198,$H198,\"\")","v":""},{"$f":"IFERROR(SMALL(M$2:M$224,ROWS(M$2:M198)),\"\")","v":""},{"$f":"IF('Step 3 Product data'!L$17=$A198,$H198,\"\")","v":""},{"$f":"IFERROR(SMALL(O$2:O$224,ROWS(O$2:O198)),\"\")","v":""},{"$f":"IF('Step 3 Product data'!M$17=$A198,$H198,\"\")","v":""},{"$f":"IFERROR(SMALL(Q$2:Q$224,ROWS(Q$2:Q198)),\"\")","v":""},{"$f":"IF('Step 3 Product data'!N$17=$A198,$H198,\"\")","v":""},{"$f":"IFERROR(SMALL(S$2:S$224,ROWS(S$2:S198)),\"\")","v":""},{"$f":"IF('Step 3 Product data'!O$17=$A198,$H198,\"\")","v":""},{"$f":"IFERROR(SMALL(U$2:U$224,ROWS(U$2:U198)),\"\")","v":""},{"$f":"IF('Step 3 Product data'!P$17=$A198,$H198,\"\")","v":""},{"$f":"IFERROR(SMALL(W$2:W$224,ROWS(W$2:W198)),\"\")","v":""},{"$f":"IF('Step 3 Product data'!Q$17=$A198,$H198,\"\")","v":""},{"$f":"IFERROR(SMALL(Y$2:Y$224,ROWS(Y$2:Y198)),\"\")","v":""},{"$f":"IF('Step 3 Product data'!R$17=$A198,$H198,\"\")","v":""},{"$f":"IFERROR(SMALL(AA$2:AA$224,ROWS(AA$2:AA198)),\"\")","v":""},{"$f":"IF('Step 3 Product data'!S$17=$A198,$H198,\"\")","v":""},{"$f":"IFERROR(SMALL(AC$2:AC$224,ROWS(AC$2:AC198)),\"\")","v":""},{"$f":"IF('Step 3 Product data'!T$17=$A198,$H198,\"\")","v":""},{"$f":"IFERROR(SMALL(AE$2:AE$224,ROWS(AE$2:AE198)),\"\")","v":""},{"$f":"IF('Step 3 Product data'!U$17=$A198,$H198,\"\")","v":""},{"$f":"IFERROR(SMALL(AG$2:AG$224,ROWS(AG$2:AG198)),\"\")","v":""},{"$f":"IF('Step 3 Product data'!V$17=$A198,$H198,\"\")","v":""},{"$f":"IFERROR(SMALL(AI$2:AI$224,ROWS(AI$2:AI198)),\"\")","v":""},{"$f":"IF('Step 3 Product data'!W$17=$A198,$H198,\"\")","v":""},{"$f":"IFERROR(SMALL(AK$2:AK$224,ROWS(AK$2:AK198)),\"\")","v":""},{"$f":"IF('Step 3 Product data'!X$17=$A198,$H198,\"\")","v":""},{"$f":"IFERROR(SMALL(AM$2:AM$224,ROWS(AM$2:AM198)),\"\")","v":""}]
["Toxaphene (chlorinated camphene)","CAS# 8001352",null,null,null,null,null,{"$f":"ROWS($A$2:A199)","v":198},{"$f":"IF('Step 3 Product data'!I$17=$A199,$H199,\"\")","v":""},{"$f":"IFERROR(SMALL($I$2:$I$224,ROWS($I$2:I199)),\"\")","v":""},null,{"$f":"IFERROR(SMALL(K$2:K$224,ROWS(K$2:K199)),\"\")","v":""},{"$f":"IF('Step 3 Product data'!K$17=$A199,$H199,\"\")","v":""},{"$f":"IFERROR(SMALL(M$2:M$224,ROWS(M$2:M199)),\"\")","v":""},{"$f":"IF('Step 3 Product data'!L$17=$A199,$H199,\"\")","v":""},{"$f":"IFERROR(SMALL(O$2:O$224,ROWS(O$2:O199)),\"\")","v":""},{"$f":"IF('Step 3 Product data'!M$17=$A199,$H199,\"\")","v":""},{"$f":"IFERROR(SMALL(Q$2:Q$224,ROWS(Q$2:Q199)),\"\")","v":""},{"$f":"IF('Step 3 Product data'!N$17=$A199,$H199,\"\")","v":""},{"$f":"IFERROR(SMALL(S$2:S$224,ROWS(S$2:S199)),\"\")","v":""},{"$f":"IF('Step 3 Product data'!O$17=$A199,$H199,\"\")","v":""},{"$f":"IFERROR(SMALL(U$2:U$224,ROWS(U$2:U199)),\"\")","v":""},{"$f":"IF('Step 3 Product data'!P$17=$A199,$H199,\"\")","v":""},{"$f":"IFERROR(SMALL(W$2:W$224,ROWS(W$2:W199)),\"\")","v":""},{"$f":"IF('Step 3 Product data'!Q$17=$A199,$H199,\"\")","v":""},{"$f":"IFERROR(SMALL(Y$2:Y$224,ROWS(Y$2:Y199)),\"\")","v":""},{"$f":"IF('Step 3 Product data'!R$17=$A199,$H199,\"\")","v":""},{"$f":"IFERROR(SMALL(AA$2:AA$224,ROWS(AA$2:AA199)),\"\")","v":""},{"$f":"IF('Step 3 Product data'!S$17=$A199,$H199,\"\")","v":""},{"$f":"IFERROR(SMALL(AC$2:AC$224,ROWS(AC$2:AC199)),\"\")","v":""},{"$f":"IF('Step 3 Product data'!T$17=$A199,$H199,\"\")","v":""},{"$f":"IFERROR(SMALL(AE$2:AE$224,ROWS(AE$2:AE199)),\"\")","v":""},{"$f":"IF('Step 3 Product data'!U$17=$A199,$H199,\"\")","v":""},{"$f":"IFERROR(SMALL(AG$2:AG$224,ROWS(AG$2:AG199)),\"\")","v":""},{"$f":"IF('Step 3 Product data'!V$17=$A199,$H199,\"\")","v":""},{"$f":"IFERROR(SMALL(AI$2:AI$224,ROWS(AI$2:AI199)),\"\")","v":""},{"$f":"IF('Step 3 Product data'!W$17=$A199,$H199,\"\")","v":""},{"$f":"IFERROR(SMALL(AK$2:AK$224,ROWS(AK$2:AK199)),\"\")","v":""},{"$f":"IF('Step 3 Product data'!X$17=$A199,$H199,\"\")","v":""},{"$f":"IFERROR(SMALL(AM$2:AM$224,ROWS(AM$2:AM199)),\"\")","v":""}]
["Trichloroethylene","CAS# 79016",null,null,null,null,null,{"$f":"ROWS($A$2:A200)","v":199},{"$f":"IF('Step 3 Product data'!I$17=$A200,$H200,\"\")","v":""},{"$f":"IFERROR(SMALL($I$2:$I$224,ROWS($I$2:I200)),\"\")","v":""},null,{"$f":"IFERROR(SMALL(K$2:K$224,ROWS(K$2:K200)),\"\")","v":""},{"$f":"IF('Step 3 Product data'!K$17=$A200,$H200,\"\")","v":""},{"$f":"IFERROR(SMALL(M$2:M$224,ROWS(M$2:M200)),\"\")","v":""},{"$f":"IF('Step 3 Product data'!L$17=$A200,$H200,\"\")","v":""},{"$f":"IFERROR(SMALL(O$2:O$224,ROWS(O$2:O200)),\"\")","v":""},{"$f":"IF('Step 3 Product data'!M$17=$A200,$H200,\"\")","v":""},{"$f":"IFERROR(SMALL(Q$2:Q$224,ROWS(Q$2:Q200)),\"\")","v":""},{"$f":"IF('Step 3 Product data'!N$17=$A200,$H200,\"\")","v":""},{"$f":"IFERROR(SMALL(S$2:S$224,ROWS(S$2:S200)),\"\")","v":""},{"$f":"IF('Step 3 Product data'!O$17=$A200,$H200,\"\")","v":""},{"$f":"IFERROR(SMALL(U$2:U$224,ROWS(U$2:U200)),\"\")","v":""},{"$f":"IF('Step 3 Product data'!P$17=$A200,$H200,\"\")","v":""},{"$f":"IFERROR(SMALL(W$2:W$224,ROWS(W$2:W200)),\"\")","v":""},{"$f":"IF('Step 3 Product data'!Q$17=$A200,$H200,\"\")","v":""},{"$f":"IFERROR(SMALL(Y$2:Y$224,ROWS(Y$2:Y200)),\"\")","v":""},{"$f":"IF('Step 3 Product data'!R$17=$A200,$H200,\"\")","v":""},{"$f":"IFERROR(SMALL(AA$2:AA$224,ROWS(AA$2:AA200)),\"\")","v":""},{"$f":"IF('Step 3 Product data'!S$17=$A200,$H200,\"\")","v":""},{"$f":"IFERROR(SMALL(AC$2:AC$224,ROWS(AC$2:AC200)),\"\")","v":""},{"$f":"IF('Step 3 Product data'!T$17=$A200,$H200,\"\")","v":""},{"$f":"IFERROR(SMALL(AE$2:AE$224,ROWS(AE$2:AE200)),\"\")","v":""},{"$f":"IF('Step 3 Product data'!U$17=$A200,$H200,\"\")","v":""},{"$f":"IFERROR(SMALL(AG$2:AG$224,ROWS(AG$2:AG200)),\"\")","v":""},{"$f":"IF('Step 3 Product data'!V$17=$A200,$H200,\"\")","v":""},{"$f":"IFERROR(SMALL(AI$2:AI$224,ROWS(AI$2:AI200)),\"\")","v":""},{"$f":"IF('Step 3 Product data'!W$17=$A200,$H200,\"\")","v":""},{"$f":"IFERROR(SMALL(AK$2:AK$224,ROWS(AK$2:AK200)),\"\")","v":""},{"$f":"IF('Step 3 Product data'!X$17=$A200,$H200,\"\")","v":""},{"$f":"IFERROR(SMALL(AM$2:AM$224,ROWS(AM$2:AM200)),\"\")","v":""}]
["Triethylamine","CAS# 121448",null,null,null,null,null,{"$f":"ROWS($A$2:A201)","v":200},{"$f":"IF('Step 3 Product data'!I$17=$A201,$H201,\"\")","v":""},{"$f":"IFERROR(SMALL($I$2:$I$224,ROWS($I$2:I201)),\"\")","v":""},null,{"$f":"IFERROR(SMALL(K$2:K$224,ROWS(K$2:K201)),\"\")","v":""},{"$f":"IF('Step 3 Product data'!K$17=$A201,$H201,\"\")","v":""},{"$f":"IFERROR(SMALL(M$2:M$224,ROWS(M$2:M201)),\"\")","v":""},{"$f":"IF('Step 3 Product data'!L$17=$A201,$H201,\"\")","v":""},{"$f":"IFERROR(SMALL(O$2:O$224,ROWS(O$2:O201)),\"\")","v":""},{"$f":"IF('Step 3 Product data'!M$17=$A201,$H201,\"\")","v":""},{"$f":"IFERROR(SMALL(Q$2:Q$224,ROWS(Q$2:Q201)),\"\")","v":""},{"$f":"IF('Step 3 Product data'!N$17=$A201,$H201,\"\")","v":""},{"$f":"IFERROR(SMALL(S$2:S$224,ROWS(S$2:S201)),\"\")","v":""},{"$f":"IF('Step 3 Product data'!O$17=$A201,$H201,\"\")","v":""},{"$f":"IFERROR(SMALL(U$2:U$224,ROWS(U$2:U201)),\"\")","v":""},{"$f":"IF('Step 3 Product data'!P$17=$A201,$H201,\"\")","v":""},{"$f":"IFERROR(SMALL(W$2:W$224,ROWS(W$2:W201)),\"\")","v":""},{"$f":"IF('Step 3 Product data'!Q$17=$A201,$H201,\"\")","v":""},{"$f":"IFERROR(SMALL(Y$2:Y$224,ROWS(Y$2:Y201)),\"\")","v":""},{"$f":"IF('Step 3 Product data'!R$17=$A201,$H201,\"\")","v":""},{"$f":"IFERROR(SMALL(AA$2:AA$224,ROWS(AA$2:AA201)),\"\")","v":""},{"$f":"IF('Step 3 Product data'!S$17=$A201,$H201,\"\")","v":""},{"$f":"IFERROR(SMALL(AC$2:AC$224,ROWS(AC$2:AC201)),\"\")","v":""},{"$f":"IF('Step 3 Product data'!T$17=$A201,$H201,\"\")","v":""},{"$f":"IFERROR(SMALL(AE$2:AE$224,ROWS(AE$2:AE201)),\"\")","v":""},{"$f":"IF('Step 3 Product data'!U$17=$A201,$H201,\"\")","v":""},{"$f":"IFERROR(SMALL(AG$2:AG$224,ROWS(AG$2:AG201)),\"\")","v":""},{"$f":"IF('Step 3 Product data'!V$17=$A201,$H201,\"\")","v":""},{"$f":"IFERROR(SMALL(AI$2:AI$224,ROWS(AI$2:AI201)),\"\")","v":""},{"$f":"IF('Step 3 Product data'!W$17=$A201,$H201,\"\")","v":""},{"$f":"IFERROR(SMALL(AK$2:AK$224,ROWS(AK$2:AK201)),\"\")","v":""},{"$f":"IF('Step 3 Product data'!X$17=$A201,$H201,\"\")","v":""},{"$f":"IFERROR(SMALL(AM$2:AM$224,ROWS(AM$2:AM201)),\"\")","v":""}]
["Trifluralin","CAS# 1582098",null,null,null,null,null,{"$f":"ROWS($A$2:A202)","v":201},{"$f":"IF('Step 3 Product data'!I$17=$A202,$H202,\"\")","v":""},{"$f":"IFERROR(SMALL($I$2:$I$224,ROWS($I$2:I202)),\"\")","v":""},null,{"$f":"IFERROR(SMALL(K$2:K$224,ROWS(K$2:K202)),\"\")","v":""},{"$f":"IF('Step 3 Product data'!K$17=$A202,$H202,\"\")","v":""},{"$f":"IFERROR(SMALL(M$2:M$224,ROWS(M$2:M202)),\"\")","v":""},{"$f":"IF('Step 3 Product data'!L$17=$A202,$H202,\"\")","v":""},{"$f":"IFERROR(SMALL(O$2:O$224,ROWS(O$2:O202)),\"\")","v":""},{"$f":"IF('Step 3 Product data'!M$17=$A202,$H202,\"\")","v":""},{"$f":"IFERROR(SMALL(Q$2:Q$224,ROWS(Q$2:Q202)),\"\")","v":""},{"$f":"IF('Step 3 Product data'!N$17=$A202,$H202,\"\")","v":""},{"$f":"IFERROR(SMALL(S$2:S$224,ROWS(S$2:S202)),\"\")","v":""},{"$f":"IF('Step 3 Product data'!O$17=$A202,$H202,\"\")","v":""},{"$f":"IFERROR(SMALL(U$2:U$224,ROWS(U$2:U202)),\"\")","v":""},{"$f":"IF('Step 3 Product data'!P$17=$A202,$H202,\"\")","v":""},{"$f":"IFERROR(SMALL(W$2:W$224,ROWS(W$2:W202)),\"\")","v":""},{"$f":"IF('Step 3 Product data'!Q$17=$A202,$H202,\"\")","v":""},{"$f":"IFERROR(SMALL(Y$2:Y$224,ROWS(Y$2:Y202)),\"\")","v":""},{"$f":"IF('Step 3 Product data'!R$17=$A202,$H202,\"\")","v":""},{"$f":"IFERROR(SMALL(AA$2:AA$224,ROWS(AA$2:AA202)),\"\")","v":""},{"$f":"IF('Step 3 Product data'!S$17=$A202,$H202,\"\")","v":""},{"$f":"IFERROR(SMALL(AC$2:AC$224,ROWS(AC$2:AC202)),\"\")","v":""},{"$f":"IF('Step 3 Product data'!T$17=$A202,$H202,\"\")","v":""},{"$f":"IFERROR(SMALL(AE$2:AE$224,ROWS(AE$2:AE202)),\"\")","v":""},{"$f":"IF('Step 3 Product data'!U$17=$A202,$H202,\"\")","v":""},{"$f":"IFERROR(SMALL(AG$2:AG$224,ROWS(AG$2:AG202)),\"\")","v":""},{"$f":"IF('Step 3 Product data'!V$17=$A202,$H202,\"\")","v":""},{"$f":"IFERROR(SMALL(AI$2:AI$224,ROWS(AI$2:AI202)),\"\")","v":""},{"$f":"IF('Step 3 Product data'!W$17=$A202,$H202,\"\")","v":""},{"$f":"IFERROR(SMALL(AK$2:AK$224,ROWS(AK$2:AK202)),\"\")","v":""},{"$f":"IF('Step 3 Product data'!X$17=$A202,$H202,\"\")","v":""},{"$f":"IFERROR(SMALL(AM$2:AM$224,ROWS(AM$2:AM202)),\"\")","v":""}]
["Vinyl acetate","CAS# 108054",null,null,null,null,null,{"$f":"ROWS($A$2:A203)","v":202},{"$f":"IF('Step 3 Product data'!I$17=$A203,$H203,\"\")","v":""},{"$f":"IFERROR(SMALL($I$2:$I$224,ROWS($I$2:I203)),\"\")","v":""},null,{"$f":"IFERROR(SMALL(K$2:K$224,ROWS(K$2:K203)),\"\")","v":""},{"$f":"IF('Step 3 Product data'!K$17=$A203,$H203,\"\")","v":""},{"$f":"IFERROR(SMALL(M$2:M$224,ROWS(M$2:M203)),\"\")","v":""},{"$f":"IF('Step 3 Product data'!L$17=$A203,$H203,\"\")","v":""},{"$f":"IFERROR(SMALL(O$2:O$224,ROWS(O$2:O203)),\"\")","v":""},{"$f":"IF('Step 3 Product data'!M$17=$A203,$H203,\"\")","v":""},{"$f":"IFERROR(SMALL(Q$2:Q$224,ROWS(Q$2:Q203)),\"\")","v":""},{"$f":"IF('Step 3 Product data'!N$17=$A203,$H203,\"\")","v":""},{"$f":"IFERROR(SMALL(S$2:S$224,ROWS(S$2:S203)),\"\")","v":""},{"$f":"IF('Step 3 Product data'!O$17=$A203,$H203,\"\")","v":""},{"$f":"IFERROR(SMALL(U$2:U$224,ROWS(U$2:U203)),\"\")","v":""},{"$f":"IF('Step 3 Product data'!P$17=$A203,$H203,\"\")","v":""},{"$f":"IFERROR(SMALL(W$2:W$224,ROWS(W$2:W203)),\"\")","v":""},{"$f":"IF('Step 3 Product data'!Q$17=$A203,$H203,\"\")","v":""},{"$f":"IFERROR(SMALL(Y$2:Y$224,ROWS(Y$2:Y203)),\"\")","v":""},{"$f":"IF('Step 3 Product data'!R$17=$A203,$H203,\"\")","v":""},{"$f":"IFERROR(SMALL(AA$2:AA$224,ROWS(AA$2:AA203)),\"\")","v":""},{"$f":"IF('Step 3 Product data'!S$17=$A203,$H203,\"\")","v":""},{"$f":"IFERROR(SMALL(AC$2:AC$224,ROWS(AC$2:AC203)),\"\")","v":""},{"$f":"IF('Step 3 Product data'!T$17=$A203,$H203,\"\")","v":""},{"$f":"IFERROR(SMALL(AE$2:AE$224,ROWS(AE$2:AE203)),\"\")","v":""},{"$f":"IF('Step 3 Product data'!U$17=$A203,$H203,\"\")","v":""},{"$f":"IFERROR(SMALL(AG$2:AG$224,ROWS(AG$2:AG203)),\"\")","v":""},{"$f":"IF('Step 3 Product data'!V$17=$A203,$H203,\"\")","v":""},{"$f":"IFERROR(SMALL(AI$2:AI$224,ROWS(AI$2:AI203)),\"\")","v":""},{"$f":"IF('Step 3 Product data'!W$17=$A203,$H203,\"\")","v":""},{"$f":"IFERROR(SMALL(AK$2:AK$224,ROWS(AK$2:AK203)),\"\")","v":""},{"$f":"IF('Step 3 Product data'!X$17=$A203,$H203,\"\")","v":""},{"$f":"IFERROR(SMALL(AM$2:AM$224,ROWS(AM$2:AM203)),\"\")","v":""}]
["Vinyl bromide","CAS# 593602",null,null,null,null,null,{"$f":"ROWS($A$2:A204)","v":203},{"$f":"IF('Step 3 Product data'!I$17=$A204,$H204,\"\")","v":""},{"$f":"IFERROR(SMALL($I$2:$I$224,ROWS($I$2:I204)),\"\")","v":""},null,{"$f":"IFERROR(SMALL(K$2:K$224,ROWS(K$2:K204)),\"\")","v":""},{"$f":"IF('Step 3 Product data'!K$17=$A204,$H204,\"\")","v":""},{"$f":"IFERROR(SMALL(M$2:M$224,ROWS(M$2:M204)),\"\")","v":""},{"$f":"IF('Step 3 Product data'!L$17=$A204,$H204,\"\")","v":""},{"$f":"IFERROR(SMALL(O$2:O$224,ROWS(O$2:O204)),\"\")","v":""},{"$f":"IF('Step 3 Product data'!M$17=$A204,$H204,\"\")","v":""},{"$f":"IFERROR(SMALL(Q$2:Q$224,ROWS(Q$2:Q204)),\"\")","v":""},{"$f":"IF('Step 3 Product data'!N$17=$A204,$H204,\"\")","v":""},{"$f":"IFERROR(SMALL(S$2:S$224,ROWS(S$2:S204)),\"\")","v":""},{"$f":"IF('Step 3 Product data'!O$17=$A204,$H204,\"\")","v":""},{"$f":"IFERROR(SMALL(U$2:U$224,ROWS(U$2:U204)),\"\")","v":""},{"$f":"IF('Step 3 Product data'!P$17=$A204,$H204,\"\")","v":""},{"$f":"IFERROR(SMALL(W$2:W$224,ROWS(W$2:W204)),\"\")","v":""},{"$f":"IF('Step 3 Product data'!Q$17=$A204,$H204,\"\")","v":""},{"$f":"IFERROR(SMALL(Y$2:Y$224,ROWS(Y$2:Y204)),\"\")","v":""},{"$f":"IF('Step 3 Product data'!R$17=$A204,$H204,\"\")","v":""},{"$f":"IFERROR(SMALL(AA$2:AA$224,ROWS(AA$2:AA204)),\"\")","v":""},{"$f":"IF('Step 3 Product data'!S$17=$A204,$H204,\"\")","v":""},{"$f":"IFERROR(SMALL(AC$2:AC$224,ROWS(AC$2:AC204)),\"\")","v":""},{"$f":"IF('Step 3 Product data'!T$17=$A204,$H204,\"\")","v":""},{"$f":"IFERROR(SMALL(AE$2:AE$224,ROWS(AE$2:AE204)),\"\")","v":""},{"$f":"IF('Step 3 Product data'!U$17=$A204,$H204,\"\")","v":""},{"$f":"IFERROR(SMALL(AG$2:AG$224,ROWS(AG$2:AG204)),\"\")","v":""},{"$f":"IF('Step 3 Product data'!V$17=$A204,$H204,\"\")","v":""},{"$f":"IFERROR(SMALL(AI$2:AI$224,ROWS(AI$2:AI204)),\"\")","v":""},{"$f":"IF('Step 3 Product data'!W$17=$A204,$H204,\"\")","v":""},{"$f":"IFERROR(SMALL(AK$2:AK$224,ROWS(AK$2:AK204)),\"\")","v":""},{"$f":"IF('Step 3 Product data'!X$17=$A204,$H204,\"\")","v":""},{"$f":"IFERROR(SMALL(AM$2:AM$224,ROWS(AM$2:AM204)),\"\")","v":""}]
["Vinyl chloride","CAS# 75014",null,null,null,null,null,{"$f":"ROWS($A$2:A205)","v":204},{"$f":"IF('Step 3 Product data'!I$17=$A205,$H205,\"\")","v":""},{"$f":"IFERROR(SMALL($I$2:$I$224,ROWS($I$2:I205)),\"\")","v":""},null,{"$f":"IFERROR(SMALL(K$2:K$224,ROWS(K$2:K205)),\"\")","v":""},{"$f":"IF('Step 3 Product data'!K$17=$A205,$H205,\"\")","v":""},{"$f":"IFERROR(SMALL(M$2:M$224,ROWS(M$2:M205)),\"\")","v":""},{"$f":"IF('Step 3 Product data'!L$17=$A205,$H205,\"\")","v":""},{"$f":"IFERROR(SMALL(O$2:O$224,ROWS(O$2:O205)),\"\")","v":""},{"$f":"IF('Step 3 Product data'!M$17=$A205,$H205,\"\")","v":""},{"$f":"IFERROR(SMALL(Q$2:Q$224,ROWS(Q$2:Q205)),\"\")","v":""},{"$f":"IF('Step 3 Product data'!N$17=$A205,$H205,\"\")","v":""},{"$f":"IFERROR(SMALL(S$2:S$224,ROWS(S$2:S205)),\"\")","v":""},{"$f":"IF('Step 3 Product data'!O$17=$A205,$H205,\"\")","v":""},{"$f":"IFERROR(SMALL(U$2:U$224,ROWS(U$2:U205)),\"\")","v":""},{"$f":"IF('Step 3 Product data'!P$17=$A205,$H205,\"\")","v":""},{"$f":"IFERROR(SMALL(W$2:W$224,ROWS(W$2:W205)),\"\")","v":""},{"$f":"IF('Step 3 Product data'!Q$17=$A205,$H205,\"\")","v":""},{"$f":"IFERROR(SMALL(Y$2:Y$224,ROWS(Y$2:Y205)),\"\")","v":""},{"$f":"IF('Step 3 Product data'!R$17=$A205,$H205,\"\")","v":""},{"$f":"IFERROR(SMALL(AA$2:AA$224,ROWS(AA$2:AA205)),\"\")","v":""},{"$f":"IF('Step 3 Product data'!S$17=$A205,$H205,\"\")","v":""},{"$f":"IFERROR(SMALL(AC$2:AC$224,ROWS(AC$2:AC205)),\"\")","v":""},{"$f":"IF('Step 3 Product data'!T$17=$A205,$H205,\"\")","v":""},{"$f":"IFERROR(SMALL(AE$2:AE$224,ROWS(AE$2:AE205)),\"\")","v":""},{"$f":"IF('Step 3 Product data'!U$17=$A205,$H205,\"\")","v":""},{"$f":"IFERROR(SMALL(AG$2:AG$224,ROWS(AG$2:AG205)),\"\")","v":""},{"$f":"IF('Step 3 Product data'!V$17=$A205,$H205,\"\")","v":""},{"$f":"IFERROR(SMALL(AI$2:AI$224,ROWS(AI$2:AI205)),\"\")","v":""},{"$f":"IF('Step 3 Product data'!W$17=$A205,$H205,\"\")","v":""},{"$f":"IFERROR(SMALL(AK$2:AK$224,ROWS(AK$2:AK205)),\"\")","v":""},{"$f":"IF('Step 3 Product data'!X$17=$A205,$H205,\"\")","v":""},{"$f":"IFERROR(SMALL(AM$2:AM$224,ROWS(AM$2:AM205)),\"\")","v":""}]
["Vinylidene chloride (1,1-Dichloroethylene)","CAS# 75354",null,null,null,null,null,{"$f":"ROWS($A$2:A206)","v":205},{"$f":"IF('Step 3 Product data'!I$17=$A206,$H206,\"\")","v":""},{"$f":"IFERROR(SMALL($I$2:$I$224,ROWS($I$2:I206)),\"\")","v":""},null,{"$f":"IFERROR(SMALL(K$2:K$224,ROWS(K$2:K206)),\"\")","v":""},{"$f":"IF('Step 3 Product data'!K$17=$A206,$H206,\"\")","v":""},{"$f":"IFERROR(SMALL(M$2:M$224,ROWS(M$2:M206)),\"\")","v":""},{"$f":"IF('Step 3 Product data'!L$17=$A206,$H206,\"\")","v":""},{"$f":"IFERROR(SMALL(O$2:O$224,ROWS(O$2:O206)),\"\")","v":""},{"$f":"IF('Step 3 Product data'!M$17=$A206,$H206,\"\")","v":""},{"$f":"IFERROR(SMALL(Q$2:Q$224,ROWS(Q$2:Q206)),\"\")","v":""},{"$f":"IF('Step 3 Product data'!N$17=$A206,$H206,\"\")","v":""},{"$f":"IFERROR(SMALL(S$2:S$224,ROWS(S$2:S206)),\"\")","v":""},{"$f":"IF('Step 3 Product data'!O$17=$A206,$H206,\"\")","v":""},{"$f":"IFERROR(SMALL(U$2:U$224,ROWS(U$2:U206)),\"\")","v":""},{"$f":"IF('Step 3 Product data'!P$17=$A206,$H206,\"\")","v":""},{"$f":"IFERROR(SMALL(W$2:W$224,ROWS(W$2:W206)),\"\")","v":""},{"$f":"IF('Step 3 Product data'!Q$17=$A206,$H206,\"\")","v":""},{"$f":"IFERROR(SMALL(Y$2:Y$224,ROWS(Y$2:Y206)),\"\")","v":""},{"$f":"IF('Step 3 Product data'!R$17=$A206,$H206,\"\")","v":""},{"$f":"IFERROR(SMALL(AA$2:AA$224,ROWS(AA$2:AA206)),\"\")","v":""},{"$f":"IF('Step 3 Product data'!S$17=$A206,$H206,\"\")","v":""},{"$f":"IFERROR(SMALL(AC$2:AC$224,ROWS(AC$2:AC206)),\"\")","v":""},{"$f":"IF('Step 3 Product data'!T$17=$A206,$H206,\"\")","v":""},{"$f":"IFERROR(SMALL(AE$2:AE$224,ROWS(AE$2:AE206)),\"\")","v":""},{"$f":"IF('Step 3 Product data'!U$17=$A206,$H206,\"\")","v":""},{"$f":"IFERROR(SMALL(AG$2:AG$224,ROWS(AG$2:AG206)),\"\")","v":""},{"$f":"IF('Step 3 Product data'!V$17=$A206,$H206,\"\")","v":""},{"$f":"IFERROR(SMALL(AI$2:AI$224,ROWS(AI$2:AI206)),\"\")","v":""},{"$f":"IF('Step 3 Product data'!W$17=$A206,$H206,\"\")","v":""},{"$f":"IFERROR(SMALL(AK$2:AK$224,ROWS(AK$2:AK206)),\"\")","v":""},{"$f":"IF('Step 3 Product data'!X$17=$A206,$H206,\"\")","v":""},{"$f":"IFERROR(SMALL(AM$2:AM$224,ROWS(AM$2:AM206)),\"\")","v":""}]
["Xylenes (isomers and mixtures)","CAS# 1330207",null,null,null,null,null,{"$f":"ROWS($A$2:A207)","v":206},{"$f":"IF('Step 3 Product data'!I$17=$A207,$H207,\"\")","v":""},{"$f":"IFERROR(SMALL($I$2:$I$224,ROWS($I$2:I207)),\"\")","v":""},null,{"$f":"IFERROR(SMALL(K$2:K$224,ROWS(K$2:K207)),\"\")","v":""},{"$f":"IF('Step 3 Product data'!K$17=$A207,$H207,\"\")","v":""},{"$f":"IFERROR(SMALL(M$2:M$224,ROWS(M$2:M207)),\"\")","v":""},{"$f":"IF('Step 3 Product data'!L$17=$A207,$H207,\"\")","v":""},{"$f":"IFERROR(SMALL(O$2:O$224,ROWS(O$2:O207)),\"\")","v":""},{"$f":"IF('Step 3 Product data'!M$17=$A207,$H207,\"\")","v":""},{"$f":"IFERROR(SMALL(Q$2:Q$224,ROWS(Q$2:Q207)),\"\")","v":""},{"$f":"IF('Step 3 Product data'!N$17=$A207,$H207,\"\")","v":""},{"$f":"IFERROR(SMALL(S$2:S$224,ROWS(S$2:S207)),\"\")","v":""},{"$f":"IF('Step 3 Product data'!O$17=$A207,$H207,\"\")","v":""},{"$f":"IFERROR(SMALL(U$2:U$224,ROWS(U$2:U207)),\"\")","v":""},{"$f":"IF('Step 3 Product data'!P$17=$A207,$H207,\"\")","v":""},{"$f":"IFERROR(SMALL(W$2:W$224,ROWS(W$2:W207)),\"\")","v":""},{"$f":"IF('Step 3 Product data'!Q$17=$A207,$H207,\"\")","v":""},{"$f":"IFERROR(SMALL(Y$2:Y$224,ROWS(Y$2:Y207)),\"\")","v":""},{"$f":"IF('Step 3 Product data'!R$17=$A207,$H207,\"\")","v":""},{"$f":"IFERROR(SMALL(AA$2:AA$224,ROWS(AA$2:AA207)),\"\")","v":""},{"$f":"IF('Step 3 Product data'!S$17=$A207,$H207,\"\")","v":""},{"$f":"IFERROR(SMALL(AC$2:AC$224,ROWS(AC$2:AC207)),\"\")","v":""},{"$f":"IF('Step 3 Product data'!T$17=$A207,$H207,\"\")","v":""},{"$f":"IFERROR(SMALL(AE$2:AE$224,ROWS(AE$2:AE207)),\"\")","v":""},{"$f":"IF('Step 3 Product data'!U$17=$A207,$H207,\"\")","v":""},{"$f":"IFERROR(SMALL(AG$2:AG$224,ROWS(AG$2:AG207)),\"\")","v":""},{"$f":"IF('Step 3 Product data'!V$17=$A207,$H207,\"\")","v":""},{"$f":"IFERROR(SMALL(AI$2:AI$224,ROWS(AI$2:AI207)),\"\")","v":""},{"$f":"IF('Step 3 Product data'!W$17=$A207,$H207,\"\")","v":""},{"$f":"IFERROR(SMALL(AK$2:AK$224,ROWS(AK$2:AK207)),\"\")","v":""},{"$f":"IF('Step 3 Product data'!X$17=$A207,$H207,\"\")","v":""},{"$f":"IFERROR(SMALL(AM$2:AM$224,ROWS(AM$2:AM207)),\"\")","v":""}]
["Antimony compounds","No CAS#",null,null,null,null,null,{"$f":"ROWS($A$2:A208)","v":207},{"$f":"IF('Step 3 Product data'!I$17=$A208,$H208,\"\")","v":""},{"$f":"IFERROR(SMALL($I$2:$I$224,ROWS($I$2:I208)),\"\")","v":""},null,{"$f":"IFERROR(SMALL(K$2:K$224,ROWS(K$2:K208)),\"\")","v":""},{"$f":"IF('Step 3 Product data'!K$17=$A208,$H208,\"\")","v":""},{"$f":"IFERROR(SMALL(M$2:M$224,ROWS(M$2:M208)),\"\")","v":""},{"$f":"IF('Step 3 Product data'!L$17=$A208,$H208,\"\")","v":""},{"$f":"IFERROR(SMALL(O$2:O$224,ROWS(O$2:O208)),\"\")","v":""},{"$f":"IF('Step 3 Product data'!M$17=$A208,$H208,\"\")","v":""},{"$f":"IFERROR(SMALL(Q$2:Q$224,ROWS(Q$2:Q208)),\"\")","v":""},{"$f":"IF('Step 3 Product data'!N$17=$A208,$H208,\"\")","v":""},{"$f":"IFERROR(SMALL(S$2:S$224,ROWS(S$2:S208)),\"\")","v":""},{"$f":"IF('Step 3 Product data'!O$17=$A208,$H208,\"\")","v":""},{"$f":"IFERROR(SMALL(U$2:U$224,ROWS(U$2:U208)),\"\")","v":""},{"$f":"IF('Step 3 Product data'!P$17=$A208,$H208,\"\")","v":""},{"$f":"IFERROR(SMALL(W$2:W$224,ROWS(W$2:W208)),\"\")","v":""},{"$f":"IF('Step 3 Product data'!Q$17=$A208,$H208,\"\")","v":""},{"$f":"IFERROR(SMALL(Y$2:Y$224,ROWS(Y$2:Y208)),\"\")","v":""},{"$f":"IF('Step 3 Product data'!R$17=$A208,$H208,\"\")","v":""},{"$f":"IFERROR(SMALL(AA$2:AA$224,ROWS(AA$2:AA208)),\"\")","v":""},{"$f":"IF('Step 3 Product data'!S$17=$A208,$H208,\"\")","v":""},{"$f":"IFERROR(SMALL(AC$2:AC$224,ROWS(AC$2:AC208)),\"\")","v":""},{"$f":"IF('Step 3 Product data'!T$17=$A208,$H208,\"\")","v":""},{"$f":"IFERROR(SMALL(AE$2:AE$224,ROWS(AE$2:AE208)),\"\")","v":""},{"$f":"IF('Step 3 Product data'!U$17=$A208,$H208,\"\")","v":""},{"$f":"IFERROR(SMALL(AG$2:AG$224,ROWS(AG$2:AG208)),\"\")","v":""},{"$f":"IF('Step 3 Product data'!V$17=$A208,$H208,\"\")","v":""},{"$f":"IFERROR(SMALL(AI$2:AI$224,ROWS(AI$2:AI208)),\"\")","v":""},{"$f":"IF('Step 3 Product data'!W$17=$A208,$H208,\"\")","v":""},{"$f":"IFERROR(SMALL(AK$2:AK$224,ROWS(AK$2:AK208)),\"\")","v":""},{"$f":"IF('Step 3 Product data'!X$17=$A208,$H208,\"\")","v":""},{"$f":"IFERROR(SMALL(AM$2:AM$224,ROWS(AM$2:AM208)),\"\")","v":""}]
["Arsenic compounds (inorganic including arsine)","No CAS#",null,null,null,null,null,{"$f":"ROWS($A$2:A209)","v":208},{"$f":"IF('Step 3 Product data'!I$17=$A209,$H209,\"\")","v":""},{"$f":"IFERROR(SMALL($I$2:$I$224,ROWS($I$2:I209)),\"\")","v":""},null,{"$f":"IFERROR(SMALL(K$2:K$224,ROWS(K$2:K209)),\"\")","v":""},{"$f":"IF('Step 3 Product data'!K$17=$A209,$H209,\"\")","v":""},{"$f":"IFERROR(SMALL(M$2:M$224,ROWS(M$2:M209)),\"\")","v":""},{"$f":"IF('Step 3 Product data'!L$17=$A209,$H209,\"\")","v":""},{"$f":"IFERROR(SMALL(O$2:O$224,ROWS(O$2:O209)),\"\")","v":""},{"$f":"IF('Step 3 Product data'!M$17=$A209,$H209,\"\")","v":""},{"$f":"IFERROR(SMALL(Q$2:Q$224,ROWS(Q$2:Q209)),\"\")","v":""},{"$f":"IF('Step 3 Product data'!N$17=$A209,$H209,\"\")","v":""},{"$f":"IFERROR(SMALL(S$2:S$224,ROWS(S$2:S209)),\"\")","v":""},{"$f":"IF('Step 3 Product data'!O$17=$A209,$H209,\"\")","v":""},{"$f":"IFERROR(SMALL(U$2:U$224,ROWS(U$2:U209)),\"\")","v":""},{"$f":"IF('Step 3 Product data'!P$17=$A209,$H209,\"\")","v":""},{"$f":"IFERROR(SMALL(W$2:W$224,ROWS(W$2:W209)),\"\")","v":""},{"$f":"IF('Step 3 Product data'!Q$17=$A209,$H209,\"\")","v":""},{"$f":"IFERROR(SMALL(Y$2:Y$224,ROWS(Y$2:Y209)),\"\")","v":""},{"$f":"IF('Step 3 Product data'!R$17=$A209,$H209,\"\")","v":""},{"$f":"IFERROR(SMALL(AA$2:AA$224,ROWS(AA$2:AA209)),\"\")","v":""},{"$f":"IF('Step 3 Product data'!S$17=$A209,$H209,\"\")","v":""},{"$f":"IFERROR(SMALL(AC$2:AC$224,ROWS(AC$2:AC209)),\"\")","v":""},{"$f":"IF('Step 3 Product data'!T$17=$A209,$H209,\"\")","v":""},{"$f":"IFERROR(SMALL(AE$2:AE$224,ROWS(AE$2:AE209)),\"\")","v":""},{"$f":"IF('Step 3 Product data'!U$17=$A209,$H209,\"\")","v":""},{"$f":"IFERROR(SMALL(AG$2:AG$224,ROWS(AG$2:AG209)),\"\")","v":""},{"$f":"IF('Step 3 Product data'!V$17=$A209,$H209,\"\")","v":""},{"$f":"IFERROR(SMALL(AI$2:AI$224,ROWS(AI$2:AI209)),\"\")","v":""},{"$f":"IF('Step 3 Product data'!W$17=$A209,$H209,\"\")","v":""},{"$f":"IFERROR(SMALL(AK$2:AK$224,ROWS(AK$2:AK209)),\"\")","v":""},{"$f":"IF('Step 3 Product data'!X$17=$A209,$H209,\"\")","v":""},{"$f":"IFERROR(SMALL(AM$2:AM$224,ROWS(AM$2:AM209)),\"\")","v":""}]
["Beryllium compounds","No CAS#",null,null,null,null,null,{"$f":"ROWS($A$2:A210)","v":209},{"$f":"IF('Step 3 Product data'!I$17=$A210,$H210,\"\")","v":""},{"$f":"IFERROR(SMALL($I$2:$I$224,ROWS($I$2:I210)),\"\")","v":""},null,{"$f":"IFERROR(SMALL(K$2:K$224,ROWS(K$2:K210)),\"\")","v":""},{"$f":"IF('Step 3 Product data'!K$17=$A210,$H210,\"\")","v":""},{"$f":"IFERROR(SMALL(M$2:M$224,ROWS(M$2:M210)),\"\")","v":""},{"$f":"IF('Step 3 Product data'!L$17=$A210,$H210,\"\")","v":""},{"$f":"IFERROR(SMALL(O$2:O$224,ROWS(O$2:O210)),\"\")","v":""},{"$f":"IF('Step 3 Product data'!M$17=$A210,$H210,\"\")","v":""},{"$f":"IFERROR(SMALL(Q$2:Q$224,ROWS(Q$2:Q210)),\"\")","v":""},{"$f":"IF('Step 3 Product data'!N$17=$A210,$H210,\"\")","v":""},{"$f":"IFERROR(SMALL(S$2:S$224,ROWS(S$2:S210)),\"\")","v":""},{"$f":"IF('Step 3 Product data'!O$17=$A210,$H210,\"\")","v":""},{"$f":"IFERROR(SMALL(U$2:U$224,ROWS(U$2:U210)),\"\")","v":""},{"$f":"IF('Step 3 Product data'!P$17=$A210,$H210,\"\")","v":""},{"$f":"IFERROR(SMALL(W$2:W$224,ROWS(W$2:W210)),\"\")","v":""},{"$f":"IF('Step 3 Product data'!Q$17=$A210,$H210,\"\")","v":""},{"$f":"IFERROR(SMALL(Y$2:Y$224,ROWS(Y$2:Y210)),\"\")","v":""},{"$f":"IF('Step 3 Product data'!R$17=$A210,$H210,\"\")","v":""},{"$f":"IFERROR(SMALL(AA$2:AA$224,ROWS(AA$2:AA210)),\"\")","v":""},{"$f":"IF('Step 3 Product data'!S$17=$A210,$H210,\"\")","v":""},{"$f":"IFERROR(SMALL(AC$2:AC$224,ROWS(AC$2:AC210)),\"\")","v":""},{"$f":"IF('Step 3 Product data'!T$17=$A210,$H210,\"\")","v":""},{"$f":"IFERROR(SMALL(AE$2:AE$224,ROWS(AE$2:AE210)),\"\")","v":""},{"$f":"IF('Step 3 Product data'!U$17=$A210,$H210,\"\")","v":""},{"$f":"IFERROR(SMALL(AG$2:AG$224,ROWS(AG$2:AG210)),\"\")","v":""},{"$f":"IF('Step 3 Product data'!V$17=$A210,$H210,\"\")","v":""},{"$f":"IFERROR(SMALL(AI$2:AI$224,ROWS(AI$2:AI210)),\"\")","v":""},{"$f":"IF('Step 3 Product data'!W$17=$A210,$H210,\"\")","v":""},{"$f":"IFERROR(SMALL(AK$2:AK$224,ROWS(AK$2:AK210)),\"\")","v":""},{"$f":"IF('Step 3 Product data'!X$17=$A210,$H210,\"\")","v":""},{"$f":"IFERROR(SMALL(AM$2:AM$224,ROWS(AM$2:AM210)),\"\")","v":""}]
["Cadmium compounds","No CAS#",null,null,null,null,null,{"$f":"ROWS($A$2:A211)","v":210},{"$f":"IF('Step 3 Product data'!I$17=$A211,$H211,\"\")","v":""},{"$f":"IFERROR(SMALL($I$2:$I$224,ROWS($I$2:I211)),\"\")","v":""},null,{"$f":"IFERROR(SMALL(K$2:K$224,ROWS(K$2:K211)),\"\")","v":""},{"$f":"IF('Step 3 Product data'!K$17=$A211,$H211,\"\")","v":""},{"$f":"IFERROR(SMALL(M$2:M$224,ROWS(M$2:M211)),\"\")","v":""},{"$f":"IF('Step 3 Product data'!L$17=$A211,$H211,\"\")","v":""},{"$f":"IFERROR(SMALL(O$2:O$224,ROWS(O$2:O211)),\"\")","v":""},{"$f":"IF('Step 3 Product data'!M$17=$A211,$H211,\"\")","v":""},{"$f":"IFERROR(SMALL(Q$2:Q$224,ROWS(Q$2:Q211)),\"\")","v":""},{"$f":"IF('Step 3 Product data'!N$17=$A211,$H211,\"\")","v":""},{"$f":"IFERROR(SMALL(S$2:S$224,ROWS(S$2:S211)),\"\")","v":""},{"$f":"IF('Step 3 Product data'!O$17=$A211,$H211,\"\")","v":""},{"$f":"IFERROR(SMALL(U$2:U$224,ROWS(U$2:U211)),\"\")","v":""},{"$f":"IF('Step 3 Product data'!P$17=$A211,$H211,\"\")","v":""},{"$f":"IFERROR(SMALL(W$2:W$224,ROWS(W$2:W211)),\"\")","v":""},{"$f":"IF('Step 3 Product data'!Q$17=$A211,$H211,\"\")","v":""},{"$f":"IFERROR(SMALL(Y$2:Y$224,ROWS(Y$2:Y211)),\"\")","v":""},{"$f":"IF('Step 3 Product data'!R$17=$A211,$H211,\"\")","v":""},{"$f":"IFERROR(SMALL(AA$2:AA$224,ROWS(AA$2:AA211)),\"\")","v":""},{"$f":"IF('Step 3 Product data'!S$17=$A211,$H211,\"\")","v":""},{"$f":"IFERROR(SMALL(AC$2:AC$224,ROWS(AC$2:AC211)),\"\")","v":""},{"$f":"IF('Step 3 Product data'!T$17=$A211,$H211,\"\")","v":""},{"$f":"IFERROR(SMALL(AE$2:AE$224,ROWS(AE$2:AE211)),\"\")","v":""},{"$f":"IF('Step 3 Product data'!U$17=$A211,$H211,\"\")","v":""},{"$f":"IFERROR(SMALL(AG$2:AG$224,ROWS(AG$2:AG211)),\"\")","v":""},{"$f":"IF('Step 3 Product data'!V$17=$A211,$H211,\"\")","v":""},{"$f":"IFERROR(SMALL(AI$2:AI$224,ROWS(AI$2:AI211)),\"\")","v":""},{"$f":"IF('Step 3 Product data'!W$17=$A211,$H211,\"\")","v":""},{"$f":"IFERROR(SMALL(AK$2:AK$224,ROWS(AK$2:AK211)),\"\")","v":""},{"$f":"IF('Step 3 Product data'!X$17=$A211,$H211,\"\")","v":""},{"$f":"IFERROR(SMALL(AM$2:AM$224,ROWS(AM$2:AM211)),\"\")","v":""}]
["Chromium compounds","No CAS#",null,null,null,null,null,{"$f":"ROWS($A$2:A212)","v":211},{"$f":"IF('Step 3 Product data'!I$17=$A212,$H212,\"\")","v":""},{"$f":"IFERROR(SMALL($I$2:$I$224,ROWS($I$2:I212)),\"\")","v":""},null,{"$f":"IFERROR(SMALL(K$2:K$224,ROWS(K$2:K212)),\"\")","v":""},{"$f":"IF('Step 3 Product data'!K$17=$A212,$H212,\"\")","v":""},{"$f":"IFERROR(SMALL(M$2:M$224,ROWS(M$2:M212)),\"\")","v":""},{"$f":"IF('Step 3 Product data'!L$17=$A212,$H212,\"\")","v":""},{"$f":"IFERROR(SMALL(O$2:O$224,ROWS(O$2:O212)),\"\")","v":""},{"$f":"IF('Step 3 Product data'!M$17=$A212,$H212,\"\")","v":""},{"$f":"IFERROR(SMALL(Q$2:Q$224,ROWS(Q$2:Q212)),\"\")","v":""},{"$f":"IF('Step 3 Product data'!N$17=$A212,$H212,\"\")","v":""},{"$f":"IFERROR(SMALL(S$2:S$224,ROWS(S$2:S212)),\"\")","v":""},{"$f":"IF('Step 3 Product data'!O$17=$A212,$H212,\"\")","v":""},{"$f":"IFERROR(SMALL(U$2:U$224,ROWS(U$2:U212)),\"\")","v":""},{"$f":"IF('Step 3 Product data'!P$17=$A212,$H212,\"\")","v":""},{"$f":"IFERROR(SMALL(W$2:W$224,ROWS(W$2:W212)),\"\")","v":""},{"$f":"IF('Step 3 Product data'!Q$17=$A212,$H212,\"\")","v":""},{"$f":"IFERROR(SMALL(Y$2:Y$224,ROWS(Y$2:Y212)),\"\")","v":""},{"$f":"IF('Step 3 Product data'!R$17=$A212,$H212,\"\")","v":""},{"$f":"IFERROR(SMALL(AA$2:AA$224,ROWS(AA$2:AA212)),\"\")","v":""},{"$f":"IF('Step 3 Product data'!S$17=$A212,$H212,\"\")","v":""},{"$f":"IFERROR(SMALL(AC$2:AC$224,ROWS(AC$2:AC212)),\"\")","v":""},{"$f":"IF('Step 3 Product data'!T$17=$A212,$H212,\"\")","v":""},{"$f":"IFERROR(SMALL(AE$2:AE$224,ROWS(AE$2:AE212)),\"\")","v":""},{"$f":"IF('Step 3 Product data'!U$17=$A212,$H212,\"\")","v":""},{"$f":"IFERROR(SMALL(AG$2:AG$224,ROWS(AG$2:AG212)),\"\")","v":""},{"$f":"IF('Step 3 Product data'!V$17=$A212,$H212,\"\")","v":""},{"$f":"IFERROR(SMALL(AI$2:AI$224,ROWS(AI$2:AI212)),\"\")","v":""},{"$f":"IF('Step 3 Product data'!W$17=$A212,$H212,\"\")","v":""},{"$f":"IFERROR(SMALL(AK$2:AK$224,ROWS(AK$2:AK212)),\"\")","v":""},{"$f":"IF('Step 3 Product data'!X$17=$A212,$H212,\"\")","v":""},{"$f":"IFERROR(SMALL(AM$2:AM$224,ROWS(AM$2:AM212)),\"\")","v":""}]
["Cobalt compounds","No CAS#",null,null,null,null,null,{"$f":"ROWS($A$2:A213)","v":212},{"$f":"IF('Step 3 Product data'!I$17=$A213,$H213,\"\")","v":""},{"$f":"IFERROR(SMALL($I$2:$I$224,ROWS($I$2:I213)),\"\")","v":""},null,{"$f":"IFERROR(SMALL(K$2:K$224,ROWS(K$2:K213)),\"\")","v":""},{"$f":"IF('Step 3 Product data'!K$17=$A213,$H213,\"\")","v":""},{"$f":"IFERROR(SMALL(M$2:M$224,ROWS(M$2:M213)),\"\")","v":""},{"$f":"IF('Step 3 Product data'!L$17=$A213,$H213,\"\")","v":""},{"$f":"IFERROR(SMALL(O$2:O$224,ROWS(O$2:O213)),\"\")","v":""},{"$f":"IF('Step 3 Product data'!M$17=$A213,$H213,\"\")","v":""},{"$f":"IFERROR(SMALL(Q$2:Q$224,ROWS(Q$2:Q213)),\"\")","v":""},{"$f":"IF('Step 3 Product data'!N$17=$A213,$H213,\"\")","v":""},{"$f":"IFERROR(SMALL(S$2:S$224,ROWS(S$2:S213)),\"\")","v":""},{"$f":"IF('Step 3 Product data'!O$17=$A213,$H213,\"\")","v":""},{"$f":"IFERROR(SMALL(U$2:U$224,ROWS(U$2:U213)),\"\")","v":""},{"$f":"IF('Step 3 Product data'!P$17=$A213,$H213,\"\")","v":""},{"$f":"IFERROR(SMALL(W$2:W$224,ROWS(W$2:W213)),\"\")","v":""},{"$f":"IF('Step 3 Product data'!Q$17=$A213,$H213,\"\")","v":""},{"$f":"IFERROR(SMALL(Y$2:Y$224,ROWS(Y$2:Y213)),\"\")","v":""},{"$f":"IF('Step 3 Product data'!R$17=$A213,$H213,\"\")","v":""},{"$f":"IFERROR(SMALL(AA$2:AA$224,ROWS(AA$2:AA213)),\"\")","v":""},{"$f":"IF('Step 3 Product data'!S$17=$A213,$H213,\"\")","v":""},{"$f":"IFERROR(SMALL(AC$2:AC$224,ROWS(AC$2:AC213)),\"\")","v":""},{"$f":"IF('Step 3 Product data'!T$17=$A213,$H213,\"\")","v":""},{"$f":"IFERROR(SMALL(AE$2:AE$224,ROWS(AE$2:AE213)),\"\")","v":""},{"$f":"IF('Step 3 Product data'!U$17=$A213,$H213,\"\")","v":""},{"$f":"IFERROR(SMALL(AG$2:AG$224,ROWS(AG$2:AG213)),\"\")","v":""},{"$f":"IF('Step 3 Product data'!V$17=$A213,$H213,\"\")","v":""},{"$f":"IFERROR(SMALL(AI$2:AI$224,ROWS(AI$2:AI213)),\"\")","v":""},{"$f":"IF('Step 3 Product data'!W$17=$A213,$H213,\"\")","v":""},{"$f":"IFERROR(SMALL(AK$2:AK$224,ROWS(AK$2:AK213)),\"\")","v":""},{"$f":"IF('Step 3 Product data'!X$17=$A213,$H213,\"\")","v":""},{"$f":"IFERROR(SMALL(AM$2:AM$224,ROWS(AM$2:AM213)),\"\")","v":""}]
["Coke oven emissions","No CAS#",null,null,null,null,null,{"$f":"ROWS($A$2:A214)","v":213},{"$f":"IF('Step 3 Product data'!I$17=$A214,$H214,\"\")","v":""},{"$f":"IFERROR(SMALL($I$2:$I$224,ROWS($I$2:I214)),\"\")","v":""},null,{"$f":"IFERROR(SMALL(K$2:K$224,ROWS(K$2:K214)),\"\")","v":""},{"$f":"IF('Step 3 Product data'!K$17=$A214,$H214,\"\")","v":""},{"$f":"IFERROR(SMALL(M$2:M$224,ROWS(M$2:M214)),\"\")","v":""},{"$f":"IF('Step 3 Product data'!L$17=$A214,$H214,\"\")","v":""},{"$f":"IFERROR(SMALL(O$2:O$224,ROWS(O$2:O214)),\"\")","v":""},{"$f":"IF('Step 3 Product data'!M$17=$A214,$H214,\"\")","v":""},{"$f":"IFERROR(SMALL(Q$2:Q$224,ROWS(Q$2:Q214)),\"\")","v":""},{"$f":"IF('Step 3 Product data'!N$17=$A214,$H214,\"\")","v":""},{"$f":"IFERROR(SMALL(S$2:S$224,ROWS(S$2:S214)),\"\")","v":""},{"$f":"IF('Step 3 Product data'!O$17=$A214,$H214,\"\")","v":""},{"$f":"IFERROR(SMALL(U$2:U$224,ROWS(U$2:U214)),\"\")","v":""},{"$f":"IF('Step 3 Product data'!P$17=$A214,$H214,\"\")","v":""},{"$f":"IFERROR(SMALL(W$2:W$224,ROWS(W$2:W214)),\"\")","v":""},{"$f":"IF('Step 3 Product data'!Q$17=$A214,$H214,\"\")","v":""},{"$f":"IFERROR(SMALL(Y$2:Y$224,ROWS(Y$2:Y214)),\"\")","v":""},{"$f":"IF('Step 3 Product data'!R$17=$A214,$H214,\"\")","v":""},{"$f":"IFERROR(SMALL(AA$2:AA$224,ROWS(AA$2:AA214)),\"\")","v":""},{"$f":"IF('Step 3 Product data'!S$17=$A214,$H214,\"\")","v":""},{"$f":"IFERROR(SMALL(AC$2:AC$224,ROWS(AC$2:AC214)),\"\")","v":""},{"$f":"IF('Step 3 Product data'!T$17=$A214,$H214,\"\")","v":""},{"$f":"IFERROR(SMALL(AE$2:AE$224,ROWS(AE$2:AE214)),\"\")","v":""},{"$f":"IF('Step 3 Product data'!U$17=$A214,$H214,\"\")","v":""},{"$f":"IFERROR(SMALL(AG$2:AG$224,ROWS(AG$2:AG214)),\"\")","v":""},{"$f":"IF('Step 3 Product data'!V$17=$A214,$H214,\"\")","v":""},{"$f":"IFERROR(SMALL(AI$2:AI$224,ROWS(AI$2:AI214)),\"\")","v":""},{"$f":"IF('Step 3 Product data'!W$17=$A214,$H214,\"\")","v":""},{"$f":"IFERROR(SMALL(AK$2:AK$224,ROWS(AK$2:AK214)),\"\")","v":""},{"$f":"IF('Step 3 Product data'!X$17=$A214,$H214,\"\")","v":""},{"$f":"IFERROR(SMALL(AM$2:AM$224,ROWS(AM$2:AM214)),\"\")","v":""}]
["Cyanide compounds","No CAS#",null,null,null,null,null,{"$f":"ROWS($A$2:A215)","v":214},{"$f":"IF('Step 3 Product data'!I$17=$A215,$H215,\"\")","v":""},{"$f":"IFERROR(SMALL($I$2:$I$224,ROWS($I$2:I215)),\"\")","v":""},null,{"$f":"IFERROR(SMALL(K$2:K$224,ROWS(K$2:K215)),\"\")","v":""},{"$f":"IF('Step 3 Product data'!K$17=$A215,$H215,\"\")","v":""},{"$f":"IFERROR(SMALL(M$2:M$224,ROWS(M$2:M215)),\"\")","v":""},{"$f":"IF('Step 3 Product data'!L$17=$A215,$H215,\"\")","v":""},{"$f":"IFERROR(SMALL(O$2:O$224,ROWS(O$2:O215)),\"\")","v":""},{"$f":"IF('Step 3 Product data'!M$17=$A215,$H215,\"\")","v":""},{"$f":"IFERROR(SMALL(Q$2:Q$224,ROWS(Q$2:Q215)),\"\")","v":""},{"$f":"IF('Step 3 Product data'!N$17=$A215,$H215,\"\")","v":""},{"$f":"IFERROR(SMALL(S$2:S$224,ROWS(S$2:S215)),\"\")","v":""},{"$f":"IF('Step 3 Product data'!O$17=$A215,$H215,\"\")","v":""},{"$f":"IFERROR(SMALL(U$2:U$224,ROWS(U$2:U215)),\"\")","v":""},{"$f":"IF('Step 3 Product data'!P$17=$A215,$H215,\"\")","v":""},{"$f":"IFERROR(SMALL(W$2:W$224,ROWS(W$2:W215)),\"\")","v":""},{"$f":"IF('Step 3 Product data'!Q$17=$A215,$H215,\"\")","v":""},{"$f":"IFERROR(SMALL(Y$2:Y$224,ROWS(Y$2:Y215)),\"\")","v":""},{"$f":"IF('Step 3 Product data'!R$17=$A215,$H215,\"\")","v":""},{"$f":"IFERROR(SMALL(AA$2:AA$224,ROWS(AA$2:AA215)),\"\")","v":""},{"$f":"IF('Step 3 Product data'!S$17=$A215,$H215,\"\")","v":""},{"$f":"IFERROR(SMALL(AC$2:AC$224,ROWS(AC$2:AC215)),\"\")","v":""},{"$f":"IF('Step 3 Product data'!T$17=$A215,$H215,\"\")","v":""},{"$f":"IFERROR(SMALL(AE$2:AE$224,ROWS(AE$2:AE215)),\"\")","v":""},{"$f":"IF('Step 3 Product data'!U$17=$A215,$H215,\"\")","v":""},{"$f":"IFERROR(SMALL(AG$2:AG$224,ROWS(AG$2:AG215)),\"\")","v":""},{"$f":"IF('Step 3 Product data'!V$17=$A215,$H215,\"\")","v":""},{"$f":"IFERROR(SMALL(AI$2:AI$224,ROWS(AI$2:AI215)),\"\")","v":""},{"$f":"IF('Step 3 Product data'!W$17=$A215,$H215,\"\")","v":""},{"$f":"IFERROR(SMALL(AK$2:AK$224,ROWS(AK$2:AK215)),\"\")","v":""},{"$f":"IF('Step 3 Product data'!X$17=$A215,$H215,\"\")","v":""},{"$f":"IFERROR(SMALL(AM$2:AM$224,ROWS(AM$2:AM215)),\"\")","v":""}]
["Glycol ethers","No CAS#",null,null,null,null,null,{"$f":"ROWS($A$2:A216)","v":215},{"$f":"IF('Step 3 Product data'!I$17=$A216,$H216,\"\")","v":""},{"$f":"IFERROR(SMALL($I$2:$I$224,ROWS($I$2:I216)),\"\")","v":""},null,{"$f":"IFERROR(SMALL(K$2:K$224,ROWS(K$2:K216)),\"\")","v":""},{"$f":"IF('Step 3 Product data'!K$17=$A216,$H216,\"\")","v":""},{"$f":"IFERROR(SMALL(M$2:M$224,ROWS(M$2:M216)),\"\")","v":""},{"$f":"IF('Step 3 Product data'!L$17=$A216,$H216,\"\")","v":""},{"$f":"IFERROR(SMALL(O$2:O$224,ROWS(O$2:O216)),\"\")","v":""},{"$f":"IF('Step 3 Product data'!M$17=$A216,$H216,\"\")","v":""},{"$f":"IFERROR(SMALL(Q$2:Q$224,ROWS(Q$2:Q216)),\"\")","v":""},{"$f":"IF('Step 3 Product data'!N$17=$A216,$H216,\"\")","v":""},{"$f":"IFERROR(SMALL(S$2:S$224,ROWS(S$2:S216)),\"\")","v":""},{"$f":"IF('Step 3 Product data'!O$17=$A216,$H216,\"\")","v":""},{"$f":"IFERROR(SMALL(U$2:U$224,ROWS(U$2:U216)),\"\")","v":""},{"$f":"IF('Step 3 Product data'!P$17=$A216,$H216,\"\")","v":""},{"$f":"IFERROR(SMALL(W$2:W$224,ROWS(W$2:W216)),\"\")","v":""},{"$f":"IF('Step 3 Product data'!Q$17=$A216,$H216,\"\")","v":""},{"$f":"IFERROR(SMALL(Y$2:Y$224,ROWS(Y$2:Y216)),\"\")","v":""},{"$f":"IF('Step 3 Product data'!R$17=$A216,$H216,\"\")","v":""},{"$f":"IFERROR(SMALL(AA$2:AA$224,ROWS(AA$2:AA216)),\"\")","v":""},{"$f":"IF('Step 3 Product data'!S$17=$A216,$H216,\"\")","v":""},{"$f":"IFERROR(SMALL(AC$2:AC$224,ROWS(AC$2:AC216)),\"\")","v":""},{"$f":"IF('Step 3 Product data'!T$17=$A216,$H216,\"\")","v":""},{"$f":"IFERROR(SMALL(AE$2:AE$224,ROWS(AE$2:AE216)),\"\")","v":""},{"$f":"IF('Step 3 Product data'!U$17=$A216,$H216,\"\")","v":""},{"$f":"IFERROR(SMALL(AG$2:AG$224,ROWS(AG$2:AG216)),\"\")","v":""},{"$f":"IF('Step 3 Product data'!V$17=$A216,$H216,\"\")","v":""},{"$f":"IFERROR(SMALL(AI$2:AI$224,ROWS(AI$2:AI216)),\"\")","v":""},{"$f":"IF('Step 3 Product data'!W$17=$A216,$H216,\"\")","v":""},{"$f":"IFERROR(SMALL(AK$2:AK$224,ROWS(AK$2:AK216)),\"\")","v":""},{"$f":"IF('Step 3 Product data'!X$17=$A216,$H216,\"\")","v":""},{"$f":"IFERROR(SMALL(AM$2:AM$224,ROWS(AM$2:AM216)),\"\")","v":""}]
["Lead compounds","No CAS#",null,null,null,null,null,{"$f":"ROWS($A$2:A217)","v":216},{"$f":"IF('Step 3 Product data'!I$17=$A217,$H217,\"\")","v":""},{"$f":"IFERROR(SMALL($I$2:$I$224,ROWS($I$2:I217)),\"\")","v":""},null,{"$f":"IFERROR(SMALL(K$2:K$224,ROWS(K$2:K217)),\"\")","v":""},{"$f":"IF('Step 3 Product data'!K$17=$A217,$H217,\"\")","v":""},{"$f":"IFERROR(SMALL(M$2:M$224,ROWS(M$2:M217)),\"\")","v":""},{"$f":"IF('Step 3 Product data'!L$17=$A217,$H217,\"\")","v":""},{"$f":"IFERROR(SMALL(O$2:O$224,ROWS(O$2:O217)),\"\")","v":""},{"$f":"IF('Step 3 Product data'!M$17=$A217,$H217,\"\")","v":""},{"$f":"IFERROR(SMALL(Q$2:Q$224,ROWS(Q$2:Q217)),\"\")","v":""},{"$f":"IF('Step 3 Product data'!N$17=$A217,$H217,\"\")","v":""},{"$f":"IFERROR(SMALL(S$2:S$224,ROWS(S$2:S217)),\"\")","v":""},{"$f":"IF('Step 3 Product data'!O$17=$A217,$H217,\"\")","v":""},{"$f":"IFERROR(SMALL(U$2:U$224,ROWS(U$2:U217)),\"\")","v":""},{"$f":"IF('Step 3 Product data'!P$17=$A217,$H217,\"\")","v":""},{"$f":"IFERROR(SMALL(W$2:W$224,ROWS(W$2:W217)),\"\")","v":""},{"$f":"IF('Step 3 Product data'!Q$17=$A217,$H217,\"\")","v":""},{"$f":"IFERROR(SMALL(Y$2:Y$224,ROWS(Y$2:Y217)),\"\")","v":""},{"$f":"IF('Step 3 Product data'!R$17=$A217,$H217,\"\")","v":""},{"$f":"IFERROR(SMALL(AA$2:AA$224,ROWS(AA$2:AA217)),\"\")","v":""},{"$f":"IF('Step 3 Product data'!S$17=$A217,$H217,\"\")","v":""},{"$f":"IFERROR(SMALL(AC$2:AC$224,ROWS(AC$2:AC217)),\"\")","v":""},{"$f":"IF('Step 3 Product data'!T$17=$A217,$H217,\"\")","v":""},{"$f":"IFERROR(SMALL(AE$2:AE$224,ROWS(AE$2:AE217)),\"\")","v":""},{"$f":"IF('Step 3 Product data'!U$17=$A217,$H217,\"\")","v":""},{"$f":"IFERROR(SMALL(AG$2:AG$224,ROWS(AG$2:AG217)),\"\")","v":""},{"$f":"IF('Step 3 Product data'!V$17=$A217,$H217,\"\")","v":""},{"$f":"IFERROR(SMALL(AI$2:AI$224,ROWS(AI$2:AI217)),\"\")","v":""},{"$f":"IF('Step 3 Product data'!W$17=$A217,$H217,\"\")","v":""},{"$f":"IFERROR(SMALL(AK$2:AK$224,ROWS(AK$2:AK217)),\"\")","v":""},{"$f":"IF('Step 3 Product data'!X$17=$A217,$H217,\"\")","v":""},{"$f":"IFERROR(SMALL(AM$2:AM$224,ROWS(AM$2:AM217)),\"\")","v":""}]
["Manganese compounds","No CAS#",null,null,null,null,null,{"$f":"ROWS($A$2:A218)","v":217},{"$f":"IF('Step 3 Product data'!I$17=$A218,$H218,\"\")","v":""},{"$f":"IFERROR(SMALL($I$2:$I$224,ROWS($I$2:I218)),\"\")","v":""},null,{"$f":"IFERROR(SMALL(K$2:K$224,ROWS(K$2:K218)),\"\")","v":""},{"$f":"IF('Step 3 Product data'!K$17=$A218,$H218,\"\")","v":""},{"$f":"IFERROR(SMALL(M$2:M$224,ROWS(M$2:M218)),\"\")","v":""},{"$f":"IF('Step 3 Product data'!L$17=$A218,$H218,\"\")","v":""},{"$f":"IFERROR(SMALL(O$2:O$224,ROWS(O$2:O218)),\"\")","v":""},{"$f":"IF('Step 3 Product data'!M$17=$A218,$H218,\"\")","v":""},{"$f":"IFERROR(SMALL(Q$2:Q$224,ROWS(Q$2:Q218)),\"\")","v":""},{"$f":"IF('Step 3 Product data'!N$17=$A218,$H218,\"\")","v":""},{"$f":"IFERROR(SMALL(S$2:S$224,ROWS(S$2:S218)),\"\")","v":""},{"$f":"IF('Step 3 Product data'!O$17=$A218,$H218,\"\")","v":""},{"$f":"IFERROR(SMALL(U$2:U$224,ROWS(U$2:U218)),\"\")","v":""},{"$f":"IF('Step 3 Product data'!P$17=$A218,$H218,\"\")","v":""},{"$f":"IFERROR(SMALL(W$2:W$224,ROWS(W$2:W218)),\"\")","v":""},{"$f":"IF('Step 3 Product data'!Q$17=$A218,$H218,\"\")","v":""},{"$f":"IFERROR(SMALL(Y$2:Y$224,ROWS(Y$2:Y218)),\"\")","v":""},{"$f":"IF('Step 3 Product data'!R$17=$A218,$H218,\"\")","v":""},{"$f":"IFERROR(SMALL(AA$2:AA$224,ROWS(AA$2:AA218)),\"\")","v":""},{"$f":"IF('Step 3 Product data'!S$17=$A218,$H218,\"\")","v":""},{"$f":"IFERROR(SMALL(AC$2:AC$224,ROWS(AC$2:AC218)),\"\")","v":""},{"$f":"IF('Step 3 Product data'!T$17=$A218,$H218,\"\")","v":""},{"$f":"IFERROR(SMALL(AE$2:AE$224,ROWS(AE$2:AE218)),\"\")","v":""},{"$f":"IF('Step 3 Product data'!U$17=$A218,$H218,\"\")","v":""},{"$f":"IFERROR(SMALL(AG$2:AG$224,ROWS(AG$2:AG218)),\"\")","v":""},{"$f":"IF('Step 3 Product data'!V$17=$A218,$H218,\"\")","v":""},{"$f":"IFERROR(SMALL(AI$2:AI$224,ROWS(AI$2:AI218)),\"\")","v":""},{"$f":"IF('Step 3 Product data'!W$17=$A218,$H218,\"\")","v":""},{"$f":"IFERROR(SMALL(AK$2:AK$224,ROWS(AK$2:AK218)),\"\")","v":""},{"$f":"IF('Step 3 Product data'!X$17=$A218,$H218,\"\")","v":""},{"$f":"IFERROR(SMALL(AM$2:AM$224,ROWS(AM$2:AM218)),\"\")","v":""}]
["Mercury compounds","No CAS#",null,null,null,null,null,{"$f":"ROWS($A$2:A219)","v":218},{"$f":"IF('Step 3 Product data'!I$17=$A219,$H219,\"\")","v":""},{"$f":"IFERROR(SMALL($I$2:$I$224,ROWS($I$2:I219)),\"\")","v":""},null,{"$f":"IFERROR(SMALL(K$2:K$224,ROWS(K$2:K219)),\"\")","v":""},{"$f":"IF('Step 3 Product data'!K$17=$A219,$H219,\"\")","v":""},{"$f":"IFERROR(SMALL(M$2:M$224,ROWS(M$2:M219)),\"\")","v":""},{"$f":"IF('Step 3 Product data'!L$17=$A219,$H219,\"\")","v":""},{"$f":"IFERROR(SMALL(O$2:O$224,ROWS(O$2:O219)),\"\")","v":""},{"$f":"IF('Step 3 Product data'!M$17=$A219,$H219,\"\")","v":""},{"$f":"IFERROR(SMALL(Q$2:Q$224,ROWS(Q$2:Q219)),\"\")","v":""},{"$f":"IF('Step 3 Product data'!N$17=$A219,$H219,\"\")","v":""},{"$f":"IFERROR(SMALL(S$2:S$224,ROWS(S$2:S219)),\"\")","v":""},{"$f":"IF('Step 3 Product data'!O$17=$A219,$H219,\"\")","v":""},{"$f":"IFERROR(SMALL(U$2:U$224,ROWS(U$2:U219)),\"\")","v":""},{"$f":"IF('Step 3 Product data'!P$17=$A219,$H219,\"\")","v":""},{"$f":"IFERROR(SMALL(W$2:W$224,ROWS(W$2:W219)),\"\")","v":""},{"$f":"IF('Step 3 Product data'!Q$17=$A219,$H219,\"\")","v":""},{"$f":"IFERROR(SMALL(Y$2:Y$224,ROWS(Y$2:Y219)),\"\")","v":""},{"$f":"IF('Step 3 Product data'!R$17=$A219,$H219,\"\")","v":""},{"$f":"IFERROR(SMALL(AA$2:AA$224,ROWS(AA$2:AA219)),\"\")","v":""},{"$f":"IF('Step 3 Product data'!S$17=$A219,$H219,\"\")","v":""},{"$f":"IFERROR(SMALL(AC$2:AC$224,ROWS(AC$2:AC219)),\"\")","v":""},{"$f":"IF('Step 3 Product data'!T$17=$A219,$H219,\"\")","v":""},{"$f":"IFERROR(SMALL(AE$2:AE$224,ROWS(AE$2:AE219)),\"\")","v":""},{"$f":"IF('Step 3 Product data'!U$17=$A219,$H219,\"\")","v":""},{"$f":"IFERROR(SMALL(AG$2:AG$224,ROWS(AG$2:AG219)),\"\")","v":""},{"$f":"IF('Step 3 Product data'!V$17=$A219,$H219,\"\")","v":""},{"$f":"IFERROR(SMALL(AI$2:AI$224,ROWS(AI$2:AI219)),\"\")","v":""},{"$f":"IF('Step 3 Product data'!W$17=$A219,$H219,\"\")","v":""},{"$f":"IFERROR(SMALL(AK$2:AK$224,ROWS(AK$2:AK219)),\"\")","v":""},{"$f":"IF('Step 3 Product data'!X$17=$A219,$H219,\"\")","v":""},{"$f":"IFERROR(SMALL(AM$2:AM$224,ROWS(AM$2:AM219)),\"\")","v":""}]
["Mineral fibers","No CAS#",null,null,null,null,null,{"$f":"ROWS($A$2:A220)","v":219},{"$f":"IF('Step 3 Product data'!I$17=$A220,$H220,\"\")","v":""},{"$f":"IFERROR(SMALL($I$2:$I$224,ROWS($I$2:I220)),\"\")","v":""},null,{"$f":"IFERROR(SMALL(K$2:K$224,ROWS(K$2:K220)),\"\")","v":""},{"$f":"IF('Step 3 Product data'!K$17=$A220,$H220,\"\")","v":""},{"$f":"IFERROR(SMALL(M$2:M$224,ROWS(M$2:M220)),\"\")","v":""},{"$f":"IF('Step 3 Product data'!L$17=$A220,$H220,\"\")","v":""},{"$f":"IFERROR(SMALL(O$2:O$224,ROWS(O$2:O220)),\"\")","v":""},{"$f":"IF('Step 3 Product data'!M$17=$A220,$H220,\"\")","v":""},{"$f":"IFERROR(SMALL(Q$2:Q$224,ROWS(Q$2:Q220)),\"\")","v":""},{"$f":"IF('Step 3 Product data'!N$17=$A220,$H220,\"\")","v":""},{"$f":"IFERROR(SMALL(S$2:S$224,ROWS(S$2:S220)),\"\")","v":""},{"$f":"IF('Step 3 Product data'!O$17=$A220,$H220,\"\")","v":""},{"$f":"IFERROR(SMALL(U$2:U$224,ROWS(U$2:U220)),\"\")","v":""},{"$f":"IF('Step 3 Product data'!P$17=$A220,$H220,\"\")","v":""},{"$f":"IFERROR(SMALL(W$2:W$224,ROWS(W$2:W220)),\"\")","v":""},{"$f":"IF('Step 3 Product data'!Q$17=$A220,$H220,\"\")","v":""},{"$f":"IFERROR(SMALL(Y$2:Y$224,ROWS(Y$2:Y220)),\"\")","v":""},{"$f":"IF('Step 3 Product data'!R$17=$A220,$H220,\"\")","v":""},{"$f":"IFERROR(SMALL(AA$2:AA$224,ROWS(AA$2:AA220)),\"\")","v":""},{"$f":"IF('Step 3 Product data'!S$17=$A220,$H220,\"\")","v":""},{"$f":"IFERROR(SMALL(AC$2:AC$224,ROWS(AC$2:AC220)),\"\")","v":""},{"$f":"IF('Step 3 Product data'!T$17=$A220,$H220,\"\")","v":""},{"$f":"IFERROR(SMALL(AE$2:AE$224,ROWS(AE$2:AE220)),\"\")","v":""},{"$f":"IF('Step 3 Product data'!U$17=$A220,$H220,\"\")","v":""},{"$f":"IFERROR(SMALL(AG$2:AG$224,ROWS(AG$2:AG220)),\"\")","v":""},{"$f":"IF('Step 3 Product data'!V$17=$A220,$H220,\"\")","v":""},{"$f":"IFERROR(SMALL(AI$2:AI$224,ROWS(AI$2:AI220)),\"\")","v":""},{"$f":"IF('Step 3 Product data'!W$17=$A220,$H220,\"\")","v":""},{"$f":"IFERROR(SMALL(AK$2:AK$224,ROWS(AK$2:AK220)),\"\")","v":""},{"$f":"IF('Step 3 Product data'!X$17=$A220,$H220,\"\")","v":""},{"$f":"IFERROR(SMALL(AM$2:AM$224,ROWS(AM$2:AM220)),\"\")","v":""}]
["Nickel compounds","No CAS#",null,null,null,null,null,{"$f":"ROWS($A$2:A221)","v":220},{"$f":"IF('Step 3 Product data'!I$17=$A221,$H221,\"\")","v":""},{"$f":"IFERROR(SMALL($I$2:$I$224,ROWS($I$2:I221)),\"\")","v":""},null,{"$f":"IFERROR(SMALL(K$2:K$224,ROWS(K$2:K221)),\"\")","v":""},{"$f":"IF('Step 3 Product data'!K$17=$A221,$H221,\"\")","v":""},{"$f":"IFERROR(SMALL(M$2:M$224,ROWS(M$2:M221)),\"\")","v":""},{"$f":"IF('Step 3 Product data'!L$17=$A221,$H221,\"\")","v":""},{"$f":"IFERROR(SMALL(O$2:O$224,ROWS(O$2:O221)),\"\")","v":""},{"$f":"IF('Step 3 Product data'!M$17=$A221,$H221,\"\")","v":""},{"$f":"IFERROR(SMALL(Q$2:Q$224,ROWS(Q$2:Q221)),\"\")","v":""},{"$f":"IF('Step 3 Product data'!N$17=$A221,$H221,\"\")","v":""},{"$f":"IFERROR(SMALL(S$2:S$224,ROWS(S$2:S221)),\"\")","v":""},{"$f":"IF('Step 3 Product data'!O$17=$A221,$H221,\"\")","v":""},{"$f":"IFERROR(SMALL(U$2:U$224,ROWS(U$2:U221)),\"\")","v":""},{"$f":"IF('Step 3 Product data'!P$17=$A221,$H221,\"\")","v":""},{"$f":"IFERROR(SMALL(W$2:W$224,ROWS(W$2:W221)),\"\")","v":""},{"$f":"IF('Step 3 Product data'!Q$17=$A221,$H221,\"\")","v":""},{"$f":"IFERROR(SMALL(Y$2:Y$224,ROWS(Y$2:Y221)),\"\")","v":""},{"$f":"IF('Step 3 Product data'!R$17=$A221,$H221,\"\")","v":""},{"$f":"IFERROR(SMALL(AA$2:AA$224,ROWS(AA$2:AA221)),\"\")","v":""},{"$f":"IF('Step 3 Product data'!S$17=$A221,$H221,\"\")","v":""},{"$f":"IFERROR(SMALL(AC$2:AC$224,ROWS(AC$2:AC221)),\"\")","v":""},{"$f":"IF('Step 3 Product data'!T$17=$A221,$H221,\"\")","v":""},{"$f":"IFERROR(SMALL(AE$2:AE$224,ROWS(AE$2:AE221)),\"\")","v":""},{"$f":"IF('Step 3 Product data'!U$17=$A221,$H221,\"\")","v":""},{"$f":"IFERROR(SMALL(AG$2:AG$224,ROWS(AG$2:AG221)),\"\")","v":""},{"$f":"IF('Step 3 Product data'!V$17=$A221,$H221,\"\")","v":""},{"$f":"IFERROR(SMALL(AI$2:AI$224,ROWS(AI$2:AI221)),\"\")","v":""},{"$f":"IF('Step 3 Product data'!W$17=$A221,$H221,\"\")","v":""},{"$f":"IFERROR(SMALL(AK$2:AK$224,ROWS(AK$2:AK221)),\"\")","v":""},{"$f":"IF('Step 3 Product data'!X$17=$A221,$H221,\"\")","v":""},{"$f":"IFERROR(SMALL(AM$2:AM$224,ROWS(AM$2:AM221)),\"\")","v":""}]
["Polycyclic organic matter","No CAS#",null,null,null,null,null,{"$f":"ROWS($A$2:A222)","v":221},{"$f":"IF('Step 3 Product data'!I$17=$A222,$H222,\"\")","v":""},{"$f":"IFERROR(SMALL($I$2:$I$224,ROWS($I$2:I222)),\"\")","v":""},null,{"$f":"IFERROR(SMALL(K$2:K$224,ROWS(K$2:K222)),\"\")","v":""},{"$f":"IF('Step 3 Product data'!K$17=$A222,$H222,\"\")","v":""},{"$f":"IFERROR(SMALL(M$2:M$224,ROWS(M$2:M222)),\"\")","v":""},{"$f":"IF('Step 3 Product data'!L$17=$A222,$H222,\"\")","v":""},{"$f":"IFERROR(SMALL(O$2:O$224,ROWS(O$2:O222)),\"\")","v":""},{"$f":"IF('Step 3 Product data'!M$17=$A222,$H222,\"\")","v":""},{"$f":"IFERROR(SMALL(Q$2:Q$224,ROWS(Q$2:Q222)),\"\")","v":""},{"$f":"IF('Step 3 Product data'!N$17=$A222,$H222,\"\")","v":""},{"$f":"IFERROR(SMALL(S$2:S$224,ROWS(S$2:S222)),\"\")","v":""},{"$f":"IF('Step 3 Product data'!O$17=$A222,$H222,\"\")","v":""},{"$f":"IFERROR(SMALL(U$2:U$224,ROWS(U$2:U222)),\"\")","v":""},{"$f":"IF('Step 3 Product data'!P$17=$A222,$H222,\"\")","v":""},{"$f":"IFERROR(SMALL(W$2:W$224,ROWS(W$2:W222)),\"\")","v":""},{"$f":"IF('Step 3 Product data'!Q$17=$A222,$H222,\"\")","v":""},{"$f":"IFERROR(SMALL(Y$2:Y$224,ROWS(Y$2:Y222)),\"\")","v":""},{"$f":"IF('Step 3 Product data'!R$17=$A222,$H222,\"\")","v":""},{"$f":"IFERROR(SMALL(AA$2:AA$224,ROWS(AA$2:AA222)),\"\")","v":""},{"$f":"IF('Step 3 Product data'!S$17=$A222,$H222,\"\")","v":""},{"$f":"IFERROR(SMALL(AC$2:AC$224,ROWS(AC$2:AC222)),\"\")","v":""},{"$f":"IF('Step 3 Product data'!T$17=$A222,$H222,\"\")","v":""},{"$f":"IFERROR(SMALL(AE$2:AE$224,ROWS(AE$2:AE222)),\"\")","v":""},{"$f":"IF('Step 3 Product data'!U$17=$A222,$H222,\"\")","v":""},{"$f":"IFERROR(SMALL(AG$2:AG$224,ROWS(AG$2:AG222)),\"\")","v":""},{"$f":"IF('Step 3 Product data'!V$17=$A222,$H222,\"\")","v":""},{"$f":"IFERROR(SMALL(AI$2:AI$224,ROWS(AI$2:AI222)),\"\")","v":""},{"$f":"IF('Step 3 Product data'!W$17=$A222,$H222,\"\")","v":""},{"$f":"IFERROR(SMALL(AK$2:AK$224,ROWS(AK$2:AK222)),\"\")","v":""},{"$f":"IF('Step 3 Product data'!X$17=$A222,$H222,\"\")","v":""},{"$f":"IFERROR(SMALL(AM$2:AM$224,ROWS(AM$2:AM222)),\"\")","v":""}]
["Radionuclides","No CAS#",null,null,null,null,null,{"$f":"ROWS($A$2:A223)","v":222},{"$f":"IF('Step 3 Product data'!I$17=$A223,$H223,\"\")","v":""},{"$f":"IFERROR(SMALL($I$2:$I$224,ROWS($I$2:I223)),\"\")","v":""},null,{"$f":"IFERROR(SMALL(K$2:K$224,ROWS(K$2:K223)),\"\")","v":""},{"$f":"IF('Step 3 Product data'!K$17=$A223,$H223,\"\")","v":""},{"$f":"IFERROR(SMALL(M$2:M$224,ROWS(M$2:M223)),\"\")","v":""},{"$f":"IF('Step 3 Product data'!L$17=$A223,$H223,\"\")","v":""},{"$f":"IFERROR(SMALL(O$2:O$224,ROWS(O$2:O223)),\"\")","v":""},{"$f":"IF('Step 3 Product data'!M$17=$A223,$H223,\"\")","v":""},{"$f":"IFERROR(SMALL(Q$2:Q$224,ROWS(Q$2:Q223)),\"\")","v":""},{"$f":"IF('Step 3 Product data'!N$17=$A223,$H223,\"\")","v":""},{"$f":"IFERROR(SMALL(S$2:S$224,ROWS(S$2:S223)),\"\")","v":""},{"$f":"IF('Step 3 Product data'!O$17=$A223,$H223,\"\")","v":""},{"$f":"IFERROR(SMALL(U$2:U$224,ROWS(U$2:U223)),\"\")","v":""},{"$f":"IF('Step 3 Product data'!P$17=$A223,$H223,\"\")","v":""},{"$f":"IFERROR(SMALL(W$2:W$224,ROWS(W$2:W223)),\"\")","v":""},{"$f":"IF('Step 3 Product data'!Q$17=$A223,$H223,\"\")","v":""},{"$f":"IFERROR(SMALL(Y$2:Y$224,ROWS(Y$2:Y223)),\"\")","v":""},{"$f":"IF('Step 3 Product data'!R$17=$A223,$H223,\"\")","v":""},{"$f":"IFERROR(SMALL(AA$2:AA$224,ROWS(AA$2:AA223)),\"\")","v":""},{"$f":"IF('Step 3 Product data'!S$17=$A223,$H223,\"\")","v":""},{"$f":"IFERROR(SMALL(AC$2:AC$224,ROWS(AC$2:AC223)),\"\")","v":""},{"$f":"IF('Step 3 Product data'!T$17=$A223,$H223,\"\")","v":""},{"$f":"IFERROR(SMALL(AE$2:AE$224,ROWS(AE$2:AE223)),\"\")","v":""},{"$f":"IF('Step 3 Product data'!U$17=$A223,$H223,\"\")","v":""},{"$f":"IFERROR(SMALL(AG$2:AG$224,ROWS(AG$2:AG223)),\"\")","v":""},{"$f":"IF('Step 3 Product data'!V$17=$A223,$H223,\"\")","v":""},{"$f":"IFERROR(SMALL(AI$2:AI$224,ROWS(AI$2:AI223)),\"\")","v":""},{"$f":"IF('Step 3 Product data'!W$17=$A223,$H223,\"\")","v":""},{"$f":"IFERROR(SMALL(AK$2:AK$224,ROWS(AK$2:AK223)),\"\")","v":""},{"$f":"IF('Step 3 Product data'!X$17=$A223,$H223,\"\")","v":""},{"$f":"IFERROR(SMALL(AM$2:AM$224,ROWS(AM$2:AM223)),\"\")","v":""}]
["Selenium compounds","No CAS#",null,null,null,null,null,{"$f":"ROWS($A$2:A224)","v":223},{"$f":"IF('Step 3 Product data'!I$17=$A224,$H224,\"\")","v":""},{"$f":"IFERROR(SMALL($I$2:$I$224,ROWS($I$2:I224)),\"\")","v":""},null,{"$f":"IFERROR(SMALL(K$2:K$224,ROWS(K$2:K224)),\"\")","v":""},{"$f":"IF('Step 3 Product data'!K$17=$A224,$H224,\"\")","v":""},{"$f":"IFERROR(SMALL(M$2:M$224,ROWS(M$2:M224)),\"\")","v":""},{"$f":"IF('Step 3 Product data'!L$17=$A224,$H224,\"\")","v":""},{"$f":"IFERROR(SMALL(O$2:O$224,ROWS(O$2:O224)),\"\")","v":""},{"$f":"IF('Step 3 Product data'!M$17=$A224,$H224,\"\")","v":""},{"$f":"IFERROR(SMALL(Q$2:Q$224,ROWS(Q$2:Q224)),\"\")","v":""},{"$f":"IF('Step 3 Product data'!N$17=$A224,$H224,\"\")","v":""},{"$f":"IFERROR(SMALL(S$2:S$224,ROWS(S$2:S224)),\"\")","v":""},{"$f":"IF('Step 3 Product data'!O$17=$A224,$H224,\"\")","v":""},{"$f":"IFERROR(SMALL(U$2:U$224,ROWS(U$2:U224)),\"\")","v":""},{"$f":"IF('Step 3 Product data'!P$17=$A224,$H224,\"\")","v":""},{"$f":"IFERROR(SMALL(W$2:W$224,ROWS(W$2:W224)),\"\")","v":""},{"$f":"IF('Step 3 Product data'!Q$17=$A224,$H224,\"\")","v":""},{"$f":"IFERROR(SMALL(Y$2:Y$224,ROWS(Y$2:Y224)),\"\")","v":""},{"$f":"IF('Step 3 Product data'!R$17=$A224,$H224,\"\")","v":""},{"$f":"IFERROR(SMALL(AA$2:AA$224,ROWS(AA$2:AA224)),\"\")","v":""},{"$f":"IF('Step 3 Product data'!S$17=$A224,$H224,\"\")","v":""},{"$f":"IFERROR(SMALL(AC$2:AC$224,ROWS(AC$2:AC224)),\"\")","v":""},{"$f":"IF('Step 3 Product data'!T$17=$A224,$H224,\"\")","v":""},{"$f":"IFERROR(SMALL(AE$2:AE$224,ROWS(AE$2:AE224)),\"\")","v":""},{"$f":"IF('Step 3 Product data'!U$17=$A224,$H224,\"\")","v":""},{"$f":"IFERROR(SMALL(AG$2:AG$224,ROWS(AG$2:AG224)),\"\")","v":""},{"$f":"IF('Step 3 Product data'!V$17=$A224,$H224,\"\")","v":""},{"$f":"IFERROR(SMALL(AI$2:AI$224,ROWS(AI$2:AI224)),\"\")","v":""},{"$f":"IF('Step 3 Product data'!W$17=$A224,$H224,\"\")","v":""},{"$f":"IFERROR(SMALL(AK$2:AK$224,ROWS(AK$2:AK224)),\"\")","v":""},{"$f":"IF('Step 3 Product data'!X$17=$A224,$H224,\"\")","v":""},{"$f":"IFERROR(SMALL(AM$2:AM$224,ROWS(AM$2:AM224)),\"\")","v":""}]