{"text_format":"1","workbook":"xlsx","n_sheets":4,"sheets":["MDL","Blanks","Spikes","Calculations"],"not_rendered":{"charts":0,"images":1,"macros":1,"external_links":0,"defined_names":8,"comments":0,"pivot_tables":0},"unopened":[],"bounds":{"document_bytes":16777216,"sheet_cells":100000,"rows_first":2000,"rows_last":500,"rows_between":2000,"halvings":0,"cell_chars":16384,"cell_head_chars":4096},"cells_cut":0,"cells_raw":0,"read":"whole","date_system":"1900"}

{"sheet":"MDL","index":0,"n_rows":77,"n_cols":15,"rows_kept":77,"cut":false,"hidden":false,"merged":[[2,6,2,8],[1,6,1,8],[8,2,8,3],[9,2,9,3],[0,0,0,23],[15,0,18,8],[33,5,33,7],[33,1,33,3],[6,0,6,1],[30,0,31,8],[20,0,22,8],[9,7,9,8],[6,2,6,4],[10,7,10,8],[8,7,8,8],[2,0,2,5],[1,0,1,5],[12,0,14,8],[4,6,4,8],[6,6,6,8],[5,6,5,8],[5,0,5,1],[4,0,4,1],[4,2,4,4]]}
[]
[]
[{"$f":"CONCATENATE(\"Title: \",GetProperty(\"MC_Title\"))","v":"Title: MDL Single Analyte Worksheet"}]
[]
["MDL type:",null,"Ongoing",null,null,"Analytical method:"," "]
["Matrix used for MDL:",null,"Reagent Water",null,null,"Prep method:"," "]
["Instrument ID(s):",null,null,null,null,"Reported units:"," "]
[]
[null,"Target analyte:",null,null,null,null,"MDL performed with:","Blanks + Spikes"]
[null,"Date submitted:"," ",null,null,null,"MDLb type:","Calculated",null,null,null,null," "," "]
[null,null,null,null,null,null,"Does reference method require RL ≥ 3X MDL:","No"]
[]
["•  The initial MDL study must include a minimum of seven method blank replicates and seven blank spike replicates prepared over a minimum of three batches and\n   analyzed over a minimum of three days. Preparation and analysis can occur on the same day. All data points must be used, unless gross errors are encountered\n   (i.e., instrument malfunctions, mislabeled samples, etc.)."]
[]
[]
["•  The ongoing MDL study must include all data points from the previous 24 months. Spikes must be at the same level. If the number of blanks is excessive, either the\n   last 50 method blanks or the last six months of method blanks may be used, whichever is greater. Use only data associated with acceptable calibrations and batch\n   quality control. Include all routine data, with the exception of batches that are rejected and the associated samples reanalyzed."]
[]
[]
[]
["•  All spikes and blanks must go through all steps of the method."]
["•  Enter the values for the method blanks onto the tab titled \"Blanks\" and the values for the blank spikes onto the tab titled \"Spikes\". Only add information into the green\n   highlighted boxes. Include enough data points to satisfy the requirements listed above for either an initial or ongoing MDL calculation."]
[]
[]
[]
["Choose the method for determining the MDLb from the following options:"]
["     •  If there are < 100 data points, and all points are numerical values (either positive or negative), set the MDLb to \"Calculated\"."]
["     •  If there are < 100 data points, and some but not all of the method blanks give numerical values, set the MDLb to \"Highest Result\"."]
["     •  If no method blanks give numerical values, the MDLb does not apply. Set the MDLb to \"Non-numerical\"."]
["     •  If there are > 100 data points, regardless of numerical/non-numerical values, the MDLb can be set to \"99th Percentile\"."]
[]
["     •  If the new MDL is within 0.5 to 2.0 times the existing MDL, and fewer than 3% of the method blank results have numerical results above the existing MDL,\n        then the existing MDL may optionally be left unchanged. Otherwise, adjust the MDL to the new calculated value."]
[]
[]
[null,"MDLb",null,null,null,"MDLs"]
[]
[null,null,"Number of Points =",{"$f":"IF(Blanks!C5=\"\",\"\",COUNTA(Blanks!C5:C504))","v":""},null,null,"Report  Level ="]
[null,null,null,null,null,null,"True Value (Spike) ="]
[null,null,null,null,null,null,"Number of Points =",{"$f":"IF(Spikes!D5=\"\",\"\",COUNTA(Spikes!B5:B504))","v":""}]
[null,null,"Mean (Blank) =",{"$f":"IF(D36=\"\",\"\",IF((SUM(Blanks!E5:E504)/D36)<0,0,SUM(Blanks!E5:E504)/D36))","v":""},null,null,"Mean (Spike) =",{"$f":"IF(H38=\"\",\"\",SUM(Spikes!D5:D504)/H38)","v":""}]
[null,null,"Blank Std Dev =",{"$f":"IF(D36=\"\",\"\",STDEV(Blanks!E5:E504))","v":""},null,null,"% Recovery (Spike) =",{"$f":"IF(H38=\"\",\"\",(H39/H37)*100)","v":""}]
[null,null,"Degrees of Freedom =",{"$f":"IF(D36=\"\",\"\",D36-1)","v":""}]
[null,null,"Student's t =",{"$f":"IF(D36=\"\",\"\",ROUND(_xlfn.T.INV(0.99,D41),3))","v":""},null,null,"Spike Std Dev =",{"$f":"IF(H38=\"\",\"\",STDEV(Spikes!D5:D504))","v":""}]
[null,null,null,null,null,null,"Degrees of Freedom =",{"$f":"IF(H38=\"\",\"\",H38-1)","v":""}]
[null,null,null,null,null,null,"Student's t =",{"$f":"IF(H38=\"\",\"\",ROUND(_xlfn.T.INV(0.99,H43),3))","v":""}]
[]
[null,null,"MDLb =",{"$f":"IF(D36=\"\",\"\",IF(H10=\"Calculated\",D39+D40*D42,IF(H10=\"99th Percentile\",_xlfn.PERCENTILE.INC(Blanks!E5:E504,0.99),IF(H10=\"Highest Result\",MAX(Blanks!E5:E504),\"Not Applicable\"))))","v":""},null,null,"MDLs =",{"$f":"IF(H9=\"Blanks\",\"Not Applicable\",IF(H38=\"\",\"\",H42*H44))","v":""}]
[]
[null,null,null,null,null,"MDL"]
[]
[null,null,"Method MDL =",{"$f":"IF(H46=\"\",\"\",IF(D46=\"Not Applicable\",H46,IF(H46=\"Not Applicable\",D46,IF(D46>H46,D46,H46))))","v":""},null,null,"Existing MDL ="]
[null,null,"True Value/MDL =",{"$f":"IF(H9=\"Blanks\",\"Not Applicable\",IF(D50=\"\",\"\",H37/D50))","v":""},null,null,"New MDL/Existing MDL =",{"$f":"IF(C5=\"Initial\",\"N/A\",IF(H50=\"\",\"\",D50/H50))","v":""}]
[null,null,{"$f":"IF(H11=\"Yes\",\"Is the RL ≥ 3X MDL =\",\"Is the RL > MDL =\")","v":"Is the RL > MDL ="},{"$f":"IF(D50=\"\",\"\",IF(H11=\"No\",IF(H36>D50,\"Yes\",\"No\"),IF(H36>=3*D50,\"Yes\",\"No\")))","v":""},null,null,"% MB > Existing MDL =",{"$f":"IF(C5=\"Initial\",\"N/A\",IF(H50=\"\",\"\",COUNTIF(Blanks!E5:E504,\">\"&H50)/D36*100))","v":""}]
[null,null,"MDL Study =",{"$f":"IF(D50=\"\",\"\",IF(D52=\"No\",\"Failed\",\"Passed\"))","v":""},null,null,"MDL Update Required =",{"$f":"IF(C5=\"Initial\",\"Yes\",IF(H50=\"\",\"\",IF(H52>3,\"Yes\",IF(H51>2,\"Yes\",IF(H51<0.5,\"Yes\",\"No\")))))","v":""}]
[null,null,null,null,null,null,null,null," "]
[]
["Calculations:",null,null,null,null,null,null,null,null,null,null,null,null," "]
["Number of MDLb Points =",null,null,"=IF(Blanks!C5=\"\",\"\",COUNTA(Blanks!C5:C504))",null,null,null,"Blanks","Initial","Calculated",null,"Reagent Water",null,"Yes"," "]
["Mean (Blank)=",null,null,"=IF(D35=\"\",\"\",IF((SUM(Blanks!E5:E504)/D35)<0,0,SUM(Blanks!E5:E504)/D35))",null,null,null,"Blanks + Spikes","Ongoing","Highest Result",null,"XAD Resin",null,"No"]
["Blank Std Dev =",null,null,"=IF(D35=\"\",\"\",IF(D38=0,\"\",STDEV(Blanks!E5:E504)))",null,null,null,null,null,"99th Percentile",null,"Sand",null,"N/A"]
["Degrees of Freedom for MDLb =",null,null,"=IF(D35=\"\",\"\",D35-1)",null,null,null,null,null,"Non-numerical",null,"Other:"]
["Student's t for MDLb=",null,null,"=IF(D35=\"\",\"\",ROUND(T.INV(0.99,D40),3))"]
["MDLb =",null,null,"=IF(D35=\"\",\"\",IF(H9=\"Calculated\",D38+D39*D41,IF(H9=\"99th Percentile\",PERCENTILE.INC(Blanks!E5:E504,0.99),IF(H9=\"Highest Result\",MAX(Blanks!E5:E504),\"Not Applicable\"))))"]
["Number of MDLs Points =",null,null,"=IF(Spikes!D5=\"\",\"\",COUNTA(Spikes!B5:B189))"]
["Mean (Spike)=",null,null,"=IF(H37=\"\",\"\",SUM(Spikes!D5:D504)/H37)"]
["% Recovery (Spike)=",null,null,"=IF(H37=\"\",\"\",(H38/H36)*100)"]
["Spike Std Dev =",null,null,"=IF(H37=\"\",\"\",STDEV(Spikes!D5:D504))"]
["Degrees of Freedom for MDLs =",null,null,"=IF(H37=\"\",\"\",H37-1)"]
["Student's t for MDLs=",null,null,"=IF(H37=\"\",\"\",ROUND(T.INV(0.99,H42),3))"]
["MDLs =",null,null,"=IF(H8=\"Blanks\",\"Not Applicable\",IF(H37=\"\",\"\",H41*H43))"]
["Method MDL =",null,null,"=IF(H45=\"\",\"\",IF(D45=\"Not Applicable\",H45,IF(H45=\"Not Applicable\",D45,IF(D45>H45,D45,H45))))"]
["True Value/MDL =",null,null,"=IF(H8=\"Blanks\",\"Not Applicable\",IF(D49=\"\",\"\",H36/D49))"]
["Is the RL > MDL =",null,null,"=IF(D49=\"\",\"\",IF(H10=\"No\",IF(H35>D49,\"Yes\",\"No\"),IF(H35>=3*D49,\"Yes\",\"No\")))"]
["MDL Study =",null,null,"=IF(D49=\"\",\"\",IF(D51=\"No\",\"Failed\",\"Passed\"))"]
["New MDL/Existing MDL =",null,null,"=IF(C4=\"Initial\",\"N/A\",IF(H49=\"\",\"\",D49/H49))",null,null,null,null,null,null,null,null,null," "]
["% MB > Existing MDL =",null,null,"=IF(C4=\"Initial\",\"N/A\",IF(H49=\"\",\"\",COUNTIF(Blanks!E5:E504,\">\"&H49)/D35*100))"]
["MDL Update Required =",null,null,"=IF(C4=\"Initial\",\"Yes\",IF(H49=\"\",\"\",IF(H51>3,\"Yes\",IF(H50>2,\"Yes\",IF(H50<0.5,\"Yes\",\"No\")))))"]
["% Recovery (Spikes Tab) =",null,null,"=IF(D5=\"\",\"\",D5/MDL!$H$36*100)"]

{"sheet":"Blanks","index":1,"n_rows":504,"n_cols":5,"rows_kept":504,"cut":false,"hidden":false,"merged":[[1,0,1,3],[0,0,0,3],[1,4,1,6],[0,4,0,6]]}
["Blanks"]
[{"$f":"CONCATENATE(\"Title: \",GetProperty(\"MC_Title\"))","v":"Title: MDL Single Analyte Worksheet"}]
[]
[null,"Replicate","Sample ID","Analysis date","Result"]
[null,1]
[null,2]
[null,3]
[null,4]
[null,5]
[null,6]
[null,7]
[null,8]
[null,9]
[null,10]
[null,11]
[null,12]
[null,13]
[null,14]
[null,15]
[null,16]
[null,17]
[null,18]
[null,19]
[null,20]
[null,21]
[null,22]
[null,23]
[null,24]
[null,25]
[null,26]
[null,27]
[null,28]
[null,29]
[null,30]
[null,31]
[null,32]
[null,33]
[null,34]
[null,35]
[null,36]
[null,37]
[null,38]
[null,39]
[null,40]
[null,41]
[null,42]
[null,43]
[null,44]
[null,45]
[null,46]
[null,47]
[null,48]
[null,49]
[null,50]
[null,51]
[null,52]
[null,53]
[null,54]
[null,55]
[null,56]
[null,57]
[null,58]
[null,59]
[null,60]
[null,61]
[null,62]
[null,63]
[null,64]
[null,65]
[null,66]
[null,67]
[null,68]
[null,69]
[null,70]
[null,71]
[null,72]
[null,73]
[null,74]
[null,75]
[null,76]
[null,77]
[null,78]
[null,79]
[null,80]
[null,81]
[null,82]
[null,83]
[null,84]
[null,85]
[null,86]
[null,87]
[null,88]
[null,89]
[null,90]
[null,91]
[null,92]
[null,93]
[null,94]
[null,95]
[null,96]
[null,97]
[null,98]
[null,99]
[null,100]
[null,101]
[null,102]
[null,103]
[null,104]
[null,105]
[null,106]
[null,107]
[null,108]
[null,109]
[null,110]
[null,111]
[null,112]
[null,113]
[null,114]
[null,115]
[null,116]
[null,117]
[null,118]
[null,119]
[null,120]
[null,121]
[null,122]
[null,123]
[null,124]
[null,125]
[null,126]
[null,127]
[null,128]
[null,129]
[null,130]
[null,131]
[null,132]
[null,133]
[null,134]
[null,135]
[null,136]
[null,137]
[null,138]
[null,139]
[null,140]
[null,141]
[null,142]
[null,143]
[null,144]
[null,145]
[null,146]
[null,147]
[null,148]
[null,149]
[null,150]
[null,151]
[null,152]
[null,153]
[null,154]
[null,155]
[null,156]
[null,157]
[null,158]
[null,159]
[null,160]
[null,161]
[null,162]
[null,163]
[null,164]
[null,165]
[null,166]
[null,167]
[null,168]
[null,169]
[null,170]
[null,171]
[null,172]
[null,173]
[null,174]
[null,175]
[null,176]
[null,177]
[null,178]
[null,179]
[null,180]
[null,181]
[null,182]
[null,183]
[null,184]
[null,185]
[null,186]
[null,187]
[null,188]
[null,189]
[null,190]
[null,191]
[null,192]
[null,193]
[null,194]
[null,195]
[null,196]
[null,197]
[null,198]
[null,199]
[null,200]
[null,201]
[null,202]
[null,203]
[null,204]
[null,205]
[null,206]
[null,207]
[null,208]
[null,209]
[null,210]
[null,211]
[null,212]
[null,213]
[null,214]
[null,215]
[null,216]
[null,217]
[null,218]
[null,219]
[null,220]
[null,221]
[null,222]
[null,223]
[null,224]
[null,225]
[null,226]
[null,227]
[null,228]
[null,229]
[null,230]
[null,231]
[null,232]
[null,233]
[null,234]
[null,235]
[null,236]
[null,237]
[null,238]
[null,239]
[null,240]
[null,241]
[null,242]
[null,243]
[null,244]
[null,245]
[null,246]
[null,247]
[null,248]
[null,249]
[null,250]
[null,251]
[null,252]
[null,253]
[null,254]
[null,255]
[null,256]
[null,257]
[null,258]
[null,259]
[null,260]
[null,261]
[null,262]
[null,263]
[null,264]
[null,265]
[null,266]
[null,267]
[null,268]
[null,269]
[null,270]
[null,271]
[null,272]
[null,273]
[null,274]
[null,275]
[null,276]
[null,277]
[null,278]
[null,279]
[null,280]
[null,281]
[null,282]
[null,283]
[null,284]
[null,285]
[null,286]
[null,287]
[null,288]
[null,289]
[null,290]
[null,291]
[null,292]
[null,293]
[null,294]
[null,295]
[null,296]
[null,297]
[null,298]
[null,299]
[null,300]
[null,301]
[null,302]
[null,303]
[null,304]
[null,305]
[null,306]
[null,307]
[null,308]
[null,309]
[null,310]
[null,311]
[null,312]
[null,313]
[null,314]
[null,315]
[null,316]
[null,317]
[null,318]
[null,319]
[null,320]
[null,321]
[null,322]
[null,323]
[null,324]
[null,325]
[null,326]
[null,327]
[null,328]
[null,329]
[null,330]
[null,331]
[null,332]
[null,333]
[null,334]
[null,335]
[null,336]
[null,337]
[null,338]
[null,339]
[null,340]
[null,341]
[null,342]
[null,343]
[null,344]
[null,345]
[null,346]
[null,347]
[null,348]
[null,349]
[null,350]
[null,351]
[null,352]
[null,353]
[null,354]
[null,355]
[null,356]
[null,357]
[null,358]
[null,359]
[null,360]
[null,361]
[null,362]
[null,363]
[null,364]
[null,365]
[null,366]
[null,367]
[null,368]
[null,369]
[null,370]
[null,371]
[null,372]
[null,373]
[null,374]
[null,375]
[null,376]
[null,377]
[null,378]
[null,379]
[null,380]
[null,381]
[null,382]
[null,383]
[null,384]
[null,385]
[null,386]
[null,387]
[null,388]
[null,389]
[null,390]
[null,391]
[null,392]
[null,393]
[null,394]
[null,395]
[null,396]
[null,397]
[null,398]
[null,399]
[null,400]
[null,401]
[null,402]
[null,403]
[null,404]
[null,405]
[null,406]
[null,407]
[null,408]
[null,409]
[null,410]
[null,411]
[null,412]
[null,413]
[null,414]
[null,415]
[null,416]
[null,417]
[null,418]
[null,419]
[null,420]
[null,421]
[null,422]
[null,423]
[null,424]
[null,425]
[null,426]
[null,427]
[null,428]
[null,429]
[null,430]
[null,431]
[null,432]
[null,433]
[null,434]
[null,435]
[null,436]
[null,437]
[null,438]
[null,439]
[null,440]
[null,441]
[null,442]
[null,443]
[null,444]
[null,445]
[null,446]
[null,447]
[null,448]
[null,449]
[null,450]
[null,451]
[null,452]
[null,453]
[null,454]
[null,455]
[null,456]
[null,457]
[null,458]
[null,459]
[null,460]
[null,461]
[null,462]
[null,463]
[null,464]
[null,465]
[null,466]
[null,467]
[null,468]
[null,469]
[null,470]
[null,471]
[null,472]
[null,473]
[null,474]
[null,475]
[null,476]
[null,477]
[null,478]
[null,479]
[null,480]
[null,481]
[null,482]
[null,483]
[null,484]
[null,485]
[null,486]
[null,487]
[null,488]
[null,489]
[null,490]
[null,491]
[null,492]
[null,493]
[null,494]
[null,495]
[null,496]
[null,497]
[null,498]
[null,499]
[null,500]

{"sheet":"Spikes","index":2,"n_rows":504,"n_cols":6,"rows_kept":504,"cut":false,"hidden":false,"merged":[[1,0,1,3],[0,0,0,3],[1,4,1,5],[0,4,0,5]]}
["Spikes"]
[{"$f":"CONCATENATE(\"Title: \",GetProperty(\"MC_Title\"))","v":"Title: MDL Single Analyte Worksheet"}]
[]
["Replicate","Sample ID","Analysis date","Result","Spike level","% Recovery"]
[1,null,null,null,null,{"$f":"IF(C5=\"\",\"\",D5/MDL!$H$37*100)","v":""}]
[2,null,null,null,null,{"$f":"IF(C6=\"\",\"\",D6/MDL!$H$37*100)","v":""}]
[3,null,null,null,null,{"$f":"IF(C7=\"\",\"\",D7/MDL!$H$37*100)","v":""}]
[4,null,null,null,null,{"$f":"IF(C8=\"\",\"\",D8/MDL!$H$37*100)","v":""}]
[5,null,null,null,null,{"$f":"IF(C9=\"\",\"\",D9/MDL!$H$37*100)","v":""}]
[6,null,null,null,null,{"$f":"IF(C10=\"\",\"\",D10/MDL!$H$37*100)","v":""}]
[7,null,null,null,null,{"$f":"IF(C11=\"\",\"\",D11/MDL!$H$37*100)","v":""}]
[8,null,null,null,null,{"$f":"IF(C12=\"\",\"\",D12/MDL!$H$37*100)","v":""}]
[9,null,null,null,null,{"$f":"IF(C13=\"\",\"\",D13/MDL!$H$37*100)","v":""}]
[10,null,null,null,null,{"$f":"IF(C14=\"\",\"\",D14/MDL!$H$37*100)","v":""}]
[11,null,null,null,null,{"$f":"IF(C15=\"\",\"\",D15/MDL!$H$37*100)","v":""}]
[12,null,null,null,null,{"$f":"IF(C16=\"\",\"\",D16/MDL!$H$37*100)","v":""}]
[13,null,null,null,null,{"$f":"IF(C17=\"\",\"\",D17/MDL!$H$37*100)","v":""}]
[14,null,null,null,null,{"$f":"IF(C18=\"\",\"\",D18/MDL!$H$37*100)","v":""}]
[15,null,null,null,null,{"$f":"IF(C19=\"\",\"\",D19/MDL!$H$37*100)","v":""}]
[16,null,null,null,null,{"$f":"IF(C20=\"\",\"\",D20/MDL!$H$37*100)","v":""}]
[17,null,null,null,null,{"$f":"IF(C21=\"\",\"\",D21/MDL!$H$37*100)","v":""}]
[18,null,null,null,null,{"$f":"IF(C22=\"\",\"\",D22/MDL!$H$37*100)","v":""}]
[19,null,null,null,null,{"$f":"IF(C23=\"\",\"\",D23/MDL!$H$37*100)","v":""}]
[20,null,null,null,null,{"$f":"IF(C24=\"\",\"\",D24/MDL!$H$37*100)","v":""}]
[21,null,null,null,null,{"$f":"IF(C25=\"\",\"\",D25/MDL!$H$37*100)","v":""}]
[22,null,null,null,null,{"$f":"IF(C26=\"\",\"\",D26/MDL!$H$37*100)","v":""}]
[23,null,null,null,null,{"$f":"IF(C27=\"\",\"\",D27/MDL!$H$37*100)","v":""}]
[24,null,null,null,null,{"$f":"IF(C28=\"\",\"\",D28/MDL!$H$37*100)","v":""}]
[25,null,null,null,null,{"$f":"IF(C29=\"\",\"\",D29/MDL!$H$37*100)","v":""}]
[26,null,null,null,null,{"$f":"IF(C30=\"\",\"\",D30/MDL!$H$37*100)","v":""}]
[27,null,null,null,null,{"$f":"IF(C31=\"\",\"\",D31/MDL!$H$37*100)","v":""}]
[28,null,null,null,null,{"$f":"IF(C32=\"\",\"\",D32/MDL!$H$37*100)","v":""}]
[29,null,null,null,null,{"$f":"IF(C33=\"\",\"\",D33/MDL!$H$37*100)","v":""}]
[30,null,null,null,null,{"$f":"IF(C34=\"\",\"\",D34/MDL!$H$37*100)","v":""}]
[31,null,null,null,null,{"$f":"IF(C35=\"\",\"\",D35/MDL!$H$37*100)","v":""}]
[32,null,null,null,null,{"$f":"IF(C36=\"\",\"\",D36/MDL!$H$37*100)","v":""}]
[33,null,null,null,null,{"$f":"IF(C37=\"\",\"\",D37/MDL!$H$37*100)","v":""}]
[34,null,null,null,null,{"$f":"IF(C38=\"\",\"\",D38/MDL!$H$37*100)","v":""}]
[35,null,null,null,null,{"$f":"IF(C39=\"\",\"\",D39/MDL!$H$37*100)","v":""}]
[36,null,null,null,null,{"$f":"IF(C40=\"\",\"\",D40/MDL!$H$37*100)","v":""}]
[37,null,null,null,null,{"$f":"IF(C41=\"\",\"\",D41/MDL!$H$37*100)","v":""}]
[38,null,null,null,null,{"$f":"IF(C42=\"\",\"\",D42/MDL!$H$37*100)","v":""}]
[39,null,null,null,null,{"$f":"IF(C43=\"\",\"\",D43/MDL!$H$37*100)","v":""}]
[40,null,null,null,null,{"$f":"IF(C44=\"\",\"\",D44/MDL!$H$37*100)","v":""}]
[41,null,null,null,null,{"$f":"IF(C45=\"\",\"\",D45/MDL!$H$37*100)","v":""}]
[42,null,null,null,null,{"$f":"IF(C46=\"\",\"\",D46/MDL!$H$37*100)","v":""}]
[43,null,null,null,null,{"$f":"IF(C47=\"\",\"\",D47/MDL!$H$37*100)","v":""}]
[44,null,null,null,null,{"$f":"IF(C48=\"\",\"\",D48/MDL!$H$37*100)","v":""}]
[45,null,null,null,null,{"$f":"IF(C49=\"\",\"\",D49/MDL!$H$37*100)","v":""}]
[46,null,null,null,null,{"$f":"IF(C50=\"\",\"\",D50/MDL!$H$37*100)","v":""}]
[47,null,null,null,null,{"$f":"IF(C51=\"\",\"\",D51/MDL!$H$37*100)","v":""}]
[48,null,null,null,null,{"$f":"IF(C52=\"\",\"\",D52/MDL!$H$37*100)","v":""}]
[49,null,null,null,null,{"$f":"IF(C53=\"\",\"\",D53/MDL!$H$37*100)","v":""}]
[50,null,null,null,null,{"$f":"IF(C54=\"\",\"\",D54/MDL!$H$37*100)","v":""}]
[51,null,null,null,null,{"$f":"IF(C55=\"\",\"\",D55/MDL!$H$37*100)","v":""}]
[52,null,null,null,null,{"$f":"IF(C56=\"\",\"\",D56/MDL!$H$37*100)","v":""}]
[53,null,null,null,null,{"$f":"IF(C57=\"\",\"\",D57/MDL!$H$37*100)","v":""}]
[54,null,null,null,null,{"$f":"IF(C58=\"\",\"\",D58/MDL!$H$37*100)","v":""}]
[55,null,null,null,null,{"$f":"IF(C59=\"\",\"\",D59/MDL!$H$37*100)","v":""}]
[56,null,null,null,null,{"$f":"IF(C60=\"\",\"\",D60/MDL!$H$37*100)","v":""}]
[57,null,null,null,null,{"$f":"IF(C61=\"\",\"\",D61/MDL!$H$37*100)","v":""}]
[58,null,null,null,null,{"$f":"IF(C62=\"\",\"\",D62/MDL!$H$37*100)","v":""}]
[59,null,null,null,null,{"$f":"IF(C63=\"\",\"\",D63/MDL!$H$37*100)","v":""}]
[60,null,null,null,null,{"$f":"IF(C64=\"\",\"\",D64/MDL!$H$37*100)","v":""}]
[61,null,null,null,null,{"$f":"IF(C65=\"\",\"\",D65/MDL!$H$37*100)","v":""}]
[62,null,null,null,null,{"$f":"IF(C66=\"\",\"\",D66/MDL!$H$37*100)","v":""}]
[63,null,null,null,null,{"$f":"IF(C67=\"\",\"\",D67/MDL!$H$37*100)","v":""}]
[64,null,null,null,null,{"$f":"IF(C68=\"\",\"\",D68/MDL!$H$37*100)","v":""}]
[65,null,null,null,null,{"$f":"IF(C69=\"\",\"\",D69/MDL!$H$37*100)","v":""}]
[66,null,null,null,null,{"$f":"IF(C70=\"\",\"\",D70/MDL!$H$37*100)","v":""}]
[67,null,null,null,null,{"$f":"IF(C71=\"\",\"\",D71/MDL!$H$37*100)","v":""}]
[68,null,null,null,null,{"$f":"IF(C72=\"\",\"\",D72/MDL!$H$37*100)","v":""}]
[69,null,null,null,null,{"$f":"IF(C73=\"\",\"\",D73/MDL!$H$37*100)","v":""}]
[70,null,null,null,null,{"$f":"IF(C74=\"\",\"\",D74/MDL!$H$37*100)","v":""}]
[71,null,null,null,null,{"$f":"IF(C75=\"\",\"\",D75/MDL!$H$37*100)","v":""}]
[72,null,null,null,null,{"$f":"IF(C76=\"\",\"\",D76/MDL!$H$37*100)","v":""}]
[73,null,null,null,null,{"$f":"IF(C77=\"\",\"\",D77/MDL!$H$37*100)","v":""}]
[74,null,null,null,null,{"$f":"IF(C78=\"\",\"\",D78/MDL!$H$37*100)","v":""}]
[75,null,null,null,null,{"$f":"IF(C79=\"\",\"\",D79/MDL!$H$37*100)","v":""}]
[76,null,null,null,null,{"$f":"IF(C80=\"\",\"\",D80/MDL!$H$37*100)","v":""}]
[77,null,null,null,null,{"$f":"IF(C81=\"\",\"\",D81/MDL!$H$37*100)","v":""}]
[78,null,null,null,null,{"$f":"IF(C82=\"\",\"\",D82/MDL!$H$37*100)","v":""}]
[79,null,null,null,null,{"$f":"IF(C83=\"\",\"\",D83/MDL!$H$37*100)","v":""}]
[80,null,null,null,null,{"$f":"IF(C84=\"\",\"\",D84/MDL!$H$37*100)","v":""}]
[81,null,null,null,null,{"$f":"IF(C85=\"\",\"\",D85/MDL!$H$37*100)","v":""}]
[82,null,null,null,null,{"$f":"IF(C86=\"\",\"\",D86/MDL!$H$37*100)","v":""}]
[83,null,null,null,null,{"$f":"IF(C87=\"\",\"\",D87/MDL!$H$37*100)","v":""}]
[84,null,null,null,null,{"$f":"IF(C88=\"\",\"\",D88/MDL!$H$37*100)","v":""}]
[85,null,null,null,null,{"$f":"IF(C89=\"\",\"\",D89/MDL!$H$37*100)","v":""}]
[86,null,null,null,null,{"$f":"IF(C90=\"\",\"\",D90/MDL!$H$37*100)","v":""}]
[87,null,null,null,null,{"$f":"IF(C91=\"\",\"\",D91/MDL!$H$37*100)","v":""}]
[88,null,null,null,null,{"$f":"IF(C92=\"\",\"\",D92/MDL!$H$37*100)","v":""}]
[89,null,null,null,null,{"$f":"IF(C93=\"\",\"\",D93/MDL!$H$37*100)","v":""}]
[90,null,null,null,null,{"$f":"IF(C94=\"\",\"\",D94/MDL!$H$37*100)","v":""}]
[91,null,null,null,null,{"$f":"IF(C95=\"\",\"\",D95/MDL!$H$37*100)","v":""}]
[92,null,null,null,null,{"$f":"IF(C96=\"\",\"\",D96/MDL!$H$37*100)","v":""}]
[93,null,null,null,null,{"$f":"IF(C97=\"\",\"\",D97/MDL!$H$37*100)","v":""}]
[94,null,null,null,null,{"$f":"IF(C98=\"\",\"\",D98/MDL!$H$37*100)","v":""}]
[95,null,null,null,null,{"$f":"IF(C99=\"\",\"\",D99/MDL!$H$37*100)","v":""}]
[96,null,null,null,null,{"$f":"IF(C100=\"\",\"\",D100/MDL!$H$37*100)","v":""}]
[97,null,null,null,null,{"$f":"IF(C101=\"\",\"\",D101/MDL!$H$37*100)","v":""}]
[98,null,null,null,null,{"$f":"IF(C102=\"\",\"\",D102/MDL!$H$37*100)","v":""}]
[99,null,null,null,null,{"$f":"IF(C103=\"\",\"\",D103/MDL!$H$37*100)","v":""}]
[100,null,null,null,null,{"$f":"IF(C104=\"\",\"\",D104/MDL!$H$37*100)","v":""}]
[101,null,null,null,null,{"$f":"IF(C105=\"\",\"\",D105/MDL!$H$37*100)","v":""}]
[102,null,null,null,null,{"$f":"IF(C106=\"\",\"\",D106/MDL!$H$37*100)","v":""}]
[103,null,null,null,null,{"$f":"IF(C107=\"\",\"\",D107/MDL!$H$37*100)","v":""}]
[104,null,null,null,null,{"$f":"IF(C108=\"\",\"\",D108/MDL!$H$37*100)","v":""}]
[105,null,null,null,null,{"$f":"IF(C109=\"\",\"\",D109/MDL!$H$37*100)","v":""}]
[106,null,null,null,null,{"$f":"IF(C110=\"\",\"\",D110/MDL!$H$37*100)","v":""}]
[107,null,null,null,null,{"$f":"IF(C111=\"\",\"\",D111/MDL!$H$37*100)","v":""}]
[108,null,null,null,null,{"$f":"IF(C112=\"\",\"\",D112/MDL!$H$37*100)","v":""}]
[109,null,null,null,null,{"$f":"IF(C113=\"\",\"\",D113/MDL!$H$37*100)","v":""}]
[110,null,null,null,null,{"$f":"IF(C114=\"\",\"\",D114/MDL!$H$37*100)","v":""}]
[111,null,null,null,null,{"$f":"IF(C115=\"\",\"\",D115/MDL!$H$37*100)","v":""}]
[112,null,null,null,null,{"$f":"IF(C116=\"\",\"\",D116/MDL!$H$37*100)","v":""}]
[113,null,null,null,null,{"$f":"IF(C117=\"\",\"\",D117/MDL!$H$37*100)","v":""}]
[114,null,null,null,null,{"$f":"IF(C118=\"\",\"\",D118/MDL!$H$37*100)","v":""}]
[115,null,null,null,null,{"$f":"IF(C119=\"\",\"\",D119/MDL!$H$37*100)","v":""}]
[116,null,null,null,null,{"$f":"IF(C120=\"\",\"\",D120/MDL!$H$37*100)","v":""}]
[117,null,null,null,null,{"$f":"IF(C121=\"\",\"\",D121/MDL!$H$37*100)","v":""}]
[118,null,null,null,null,{"$f":"IF(C122=\"\",\"\",D122/MDL!$H$37*100)","v":""}]
[119,null,null,null,null,{"$f":"IF(C123=\"\",\"\",D123/MDL!$H$37*100)","v":""}]
[120,null,null,null,null,{"$f":"IF(C124=\"\",\"\",D124/MDL!$H$37*100)","v":""}]
[121,null,null,null,null,{"$f":"IF(C125=\"\",\"\",D125/MDL!$H$37*100)","v":""}]
[122,null,null,null,null,{"$f":"IF(C126=\"\",\"\",D126/MDL!$H$37*100)","v":""}]
[123,null,null,null,null,{"$f":"IF(C127=\"\",\"\",D127/MDL!$H$37*100)","v":""}]
[124,null,null,null,null,{"$f":"IF(C128=\"\",\"\",D128/MDL!$H$37*100)","v":""}]
[125,null,null,null,null,{"$f":"IF(C129=\"\",\"\",D129/MDL!$H$37*100)","v":""}]
[126,null,null,null,null,{"$f":"IF(C130=\"\",\"\",D130/MDL!$H$37*100)","v":""}]
[127,null,null,null,null,{"$f":"IF(C131=\"\",\"\",D131/MDL!$H$37*100)","v":""}]
[128,null,null,null,null,{"$f":"IF(C132=\"\",\"\",D132/MDL!$H$37*100)","v":""}]
[129,null,null,null,null,{"$f":"IF(C133=\"\",\"\",D133/MDL!$H$37*100)","v":""}]
[130,null,null,null,null,{"$f":"IF(C134=\"\",\"\",D134/MDL!$H$37*100)","v":""}]
[131,null,null,null,null,{"$f":"IF(C135=\"\",\"\",D135/MDL!$H$37*100)","v":""}]
[132,null,null,null,null,{"$f":"IF(C136=\"\",\"\",D136/MDL!$H$37*100)","v":""}]
[133,null,null,null,null,{"$f":"IF(C137=\"\",\"\",D137/MDL!$H$37*100)","v":""}]
[134,null,null,null,null,{"$f":"IF(C138=\"\",\"\",D138/MDL!$H$37*100)","v":""}]
[135,null,null,null,null,{"$f":"IF(C139=\"\",\"\",D139/MDL!$H$37*100)","v":""}]
[136,null,null,null,null,{"$f":"IF(C140=\"\",\"\",D140/MDL!$H$37*100)","v":""}]
[137,null,null,null,null,{"$f":"IF(C141=\"\",\"\",D141/MDL!$H$37*100)","v":""}]
[138,null,null,null,null,{"$f":"IF(C142=\"\",\"\",D142/MDL!$H$37*100)","v":""}]
[139,null,null,null,null,{"$f":"IF(C143=\"\",\"\",D143/MDL!$H$37*100)","v":""}]
[140,null,null,null,null,{"$f":"IF(C144=\"\",\"\",D144/MDL!$H$37*100)","v":""}]
[141,null,null,null,null,{"$f":"IF(C145=\"\",\"\",D145/MDL!$H$37*100)","v":""}]
[142,null,null,null,null,{"$f":"IF(C146=\"\",\"\",D146/MDL!$H$37*100)","v":""}]
[143,null,null,null,null,{"$f":"IF(C147=\"\",\"\",D147/MDL!$H$37*100)","v":""}]
[144,null,null,null,null,{"$f":"IF(C148=\"\",\"\",D148/MDL!$H$37*100)","v":""}]
[145,null,null,null,null,{"$f":"IF(C149=\"\",\"\",D149/MDL!$H$37*100)","v":""}]
[146,null,null,null,null,{"$f":"IF(C150=\"\",\"\",D150/MDL!$H$37*100)","v":""}]
[147,null,null,null,null,{"$f":"IF(C151=\"\",\"\",D151/MDL!$H$37*100)","v":""}]
[148,null,null,null,null,{"$f":"IF(C152=\"\",\"\",D152/MDL!$H$37*100)","v":""}]
[149,null,null,null,null,{"$f":"IF(C153=\"\",\"\",D153/MDL!$H$37*100)","v":""}]
[150,null,null,null,null,{"$f":"IF(C154=\"\",\"\",D154/MDL!$H$37*100)","v":""}]
[151,null,null,null,null,{"$f":"IF(C155=\"\",\"\",D155/MDL!$H$37*100)","v":""}]
[152,null,null,null,null,{"$f":"IF(C156=\"\",\"\",D156/MDL!$H$37*100)","v":""}]
[153,null,null,null,null,{"$f":"IF(C157=\"\",\"\",D157/MDL!$H$37*100)","v":""}]
[154,null,null,null,null,{"$f":"IF(C158=\"\",\"\",D158/MDL!$H$37*100)","v":""}]
[155,null,null,null,null,{"$f":"IF(C159=\"\",\"\",D159/MDL!$H$37*100)","v":""}]
[156,null,null,null,null,{"$f":"IF(C160=\"\",\"\",D160/MDL!$H$37*100)","v":""}]
[157,null,null,null,null,{"$f":"IF(C161=\"\",\"\",D161/MDL!$H$37*100)","v":""}]
[158,null,null,null,null,{"$f":"IF(C162=\"\",\"\",D162/MDL!$H$37*100)","v":""}]
[159,null,null,null,null,{"$f":"IF(C163=\"\",\"\",D163/MDL!$H$37*100)","v":""}]
[160,null,null,null,null,{"$f":"IF(C164=\"\",\"\",D164/MDL!$H$37*100)","v":""}]
[161,null,null,null,null,{"$f":"IF(C165=\"\",\"\",D165/MDL!$H$37*100)","v":""}]
[162,null,null,null,null,{"$f":"IF(C166=\"\",\"\",D166/MDL!$H$37*100)","v":""}]
[163,null,null,null,null,{"$f":"IF(C167=\"\",\"\",D167/MDL!$H$37*100)","v":""}]
[164,null,null,null,null,{"$f":"IF(C168=\"\",\"\",D168/MDL!$H$37*100)","v":""}]
[165,null,null,null,null,{"$f":"IF(C169=\"\",\"\",D169/MDL!$H$37*100)","v":""}]
[166,null,null,null,null,{"$f":"IF(C170=\"\",\"\",D170/MDL!$H$37*100)","v":""}]
[167,null,null,null,null,{"$f":"IF(C171=\"\",\"\",D171/MDL!$H$37*100)","v":""}]
[168,null,null,null,null,{"$f":"IF(C172=\"\",\"\",D172/MDL!$H$37*100)","v":""}]
[169,null,null,null,null,{"$f":"IF(C173=\"\",\"\",D173/MDL!$H$37*100)","v":""}]
[170,null,null,null,null,{"$f":"IF(C174=\"\",\"\",D174/MDL!$H$37*100)","v":""}]
[171,null,null,null,null,{"$f":"IF(C175=\"\",\"\",D175/MDL!$H$37*100)","v":""}]
[172,null,null,null,null,{"$f":"IF(C176=\"\",\"\",D176/MDL!$H$37*100)","v":""}]
[173,null,null,null,null,{"$f":"IF(C177=\"\",\"\",D177/MDL!$H$37*100)","v":""}]
[174,null,null,null,null,{"$f":"IF(C178=\"\",\"\",D178/MDL!$H$37*100)","v":""}]
[175,null,null,null,null,{"$f":"IF(C179=\"\",\"\",D179/MDL!$H$37*100)","v":""}]
[176,null,null,null,null,{"$f":"IF(C180=\"\",\"\",D180/MDL!$H$37*100)","v":""}]
[177,null,null,null,null,{"$f":"IF(C181=\"\",\"\",D181/MDL!$H$37*100)","v":""}]
[178,null,null,null,null,{"$f":"IF(C182=\"\",\"\",D182/MDL!$H$37*100)","v":""}]
[179,null,null,null,null,{"$f":"IF(C183=\"\",\"\",D183/MDL!$H$37*100)","v":""}]
[180,null,null,null,null,{"$f":"IF(C184=\"\",\"\",D184/MDL!$H$37*100)","v":""}]
[181,null,null,null,null,{"$f":"IF(C185=\"\",\"\",D185/MDL!$H$37*100)","v":""}]
[182,null,null,null,null,{"$f":"IF(C186=\"\",\"\",D186/MDL!$H$37*100)","v":""}]
[183,null,null,null,null,{"$f":"IF(C187=\"\",\"\",D187/MDL!$H$37*100)","v":""}]
[184,null,null,null,null,{"$f":"IF(C188=\"\",\"\",D188/MDL!$H$37*100)","v":""}]
[185,null,null,null,null,{"$f":"IF(C189=\"\",\"\",D189/MDL!$H$37*100)","v":""}]
[186,null,null,null,null,{"$f":"IF(C190=\"\",\"\",D190/MDL!$H$37*100)","v":""}]
[187,null,null,null,null,{"$f":"IF(C191=\"\",\"\",D191/MDL!$H$37*100)","v":""}]
[188,null,null,null,null,{"$f":"IF(C192=\"\",\"\",D192/MDL!$H$37*100)","v":""}]
[189,null,null,null,null,{"$f":"IF(C193=\"\",\"\",D193/MDL!$H$37*100)","v":""}]
[190,null,null,null,null,{"$f":"IF(C194=\"\",\"\",D194/MDL!$H$37*100)","v":""}]
[191,null,null,null,null,{"$f":"IF(C195=\"\",\"\",D195/MDL!$H$37*100)","v":""}]
[192,null,null,null,null,{"$f":"IF(C196=\"\",\"\",D196/MDL!$H$37*100)","v":""}]
[193,null,null,null,null,{"$f":"IF(C197=\"\",\"\",D197/MDL!$H$37*100)","v":""}]
[194,null,null,null,null,{"$f":"IF(C198=\"\",\"\",D198/MDL!$H$37*100)","v":""}]
[195,null,null,null,null,{"$f":"IF(C199=\"\",\"\",D199/MDL!$H$37*100)","v":""}]
[196,null,null,null,null,{"$f":"IF(C200=\"\",\"\",D200/MDL!$H$37*100)","v":""}]
[197,null,null,null,null,{"$f":"IF(C201=\"\",\"\",D201/MDL!$H$37*100)","v":""}]
[198,null,null,null,null,{"$f":"IF(C202=\"\",\"\",D202/MDL!$H$37*100)","v":""}]
[199,null,null,null,null,{"$f":"IF(C203=\"\",\"\",D203/MDL!$H$37*100)","v":""}]
[200,null,null,null,null,{"$f":"IF(C204=\"\",\"\",D204/MDL!$H$37*100)","v":""}]
[201,null,null,null,null,{"$f":"IF(C205=\"\",\"\",D205/MDL!$H$37*100)","v":""}]
[202,null,null,null,null,{"$f":"IF(C206=\"\",\"\",D206/MDL!$H$37*100)","v":""}]
[203,null,null,null,null,{"$f":"IF(C207=\"\",\"\",D207/MDL!$H$37*100)","v":""}]
[204,null,null,null,null,{"$f":"IF(C208=\"\",\"\",D208/MDL!$H$37*100)","v":""}]
[205,null,null,null,null,{"$f":"IF(C209=\"\",\"\",D209/MDL!$H$37*100)","v":""}]
[206,null,null,null,null,{"$f":"IF(C210=\"\",\"\",D210/MDL!$H$37*100)","v":""}]
[207,null,null,null,null,{"$f":"IF(C211=\"\",\"\",D211/MDL!$H$37*100)","v":""}]
[208,null,null,null,null,{"$f":"IF(C212=\"\",\"\",D212/MDL!$H$37*100)","v":""}]
[209,null,null,null,null,{"$f":"IF(C213=\"\",\"\",D213/MDL!$H$37*100)","v":""}]
[210,null,null,null,null,{"$f":"IF(C214=\"\",\"\",D214/MDL!$H$37*100)","v":""}]
[211,null,null,null,null,{"$f":"IF(C215=\"\",\"\",D215/MDL!$H$37*100)","v":""}]
[212,null,null,null,null,{"$f":"IF(C216=\"\",\"\",D216/MDL!$H$37*100)","v":""}]
[213,null,null,null,null,{"$f":"IF(C217=\"\",\"\",D217/MDL!$H$37*100)","v":""}]
[214,null,null,null,null,{"$f":"IF(C218=\"\",\"\",D218/MDL!$H$37*100)","v":""}]
[215,null,null,null,null,{"$f":"IF(C219=\"\",\"\",D219/MDL!$H$37*100)","v":""}]
[216,null,null,null,null,{"$f":"IF(C220=\"\",\"\",D220/MDL!$H$37*100)","v":""}]
[217,null,null,null,null,{"$f":"IF(C221=\"\",\"\",D221/MDL!$H$37*100)","v":""}]
[218,null,null,null,null,{"$f":"IF(C222=\"\",\"\",D222/MDL!$H$37*100)","v":""}]
[219,null,null,null,null,{"$f":"IF(C223=\"\",\"\",D223/MDL!$H$37*100)","v":""}]
[220,null,null,null,null,{"$f":"IF(C224=\"\",\"\",D224/MDL!$H$37*100)","v":""}]
[221,null,null,null,null,{"$f":"IF(C225=\"\",\"\",D225/MDL!$H$37*100)","v":""}]
[222,null,null,null,null,{"$f":"IF(C226=\"\",\"\",D226/MDL!$H$37*100)","v":""}]
[223,null,null,null,null,{"$f":"IF(C227=\"\",\"\",D227/MDL!$H$37*100)","v":""}]
[224,null,null,null,null,{"$f":"IF(C228=\"\",\"\",D228/MDL!$H$37*100)","v":""}]
[225,null,null,null,null,{"$f":"IF(C229=\"\",\"\",D229/MDL!$H$37*100)","v":""}]
[226,null,null,null,null,{"$f":"IF(C230=\"\",\"\",D230/MDL!$H$37*100)","v":""}]
[227,null,null,null,null,{"$f":"IF(C231=\"\",\"\",D231/MDL!$H$37*100)","v":""}]
[228,null,null,null,null,{"$f":"IF(C232=\"\",\"\",D232/MDL!$H$37*100)","v":""}]
[229,null,null,null,null,{"$f":"IF(C233=\"\",\"\",D233/MDL!$H$37*100)","v":""}]
[230,null,null,null,null,{"$f":"IF(C234=\"\",\"\",D234/MDL!$H$37*100)","v":""}]
[231,null,null,null,null,{"$f":"IF(C235=\"\",\"\",D235/MDL!$H$37*100)","v":""}]
[232,null,null,null,null,{"$f":"IF(C236=\"\",\"\",D236/MDL!$H$37*100)","v":""}]
[233,null,null,null,null,{"$f":"IF(C237=\"\",\"\",D237/MDL!$H$37*100)","v":""}]
[234,null,null,null,null,{"$f":"IF(C238=\"\",\"\",D238/MDL!$H$37*100)","v":""}]
[235,null,null,null,null,{"$f":"IF(C239=\"\",\"\",D239/MDL!$H$37*100)","v":""}]
[236,null,null,null,null,{"$f":"IF(C240=\"\",\"\",D240/MDL!$H$37*100)","v":""}]
[237,null,null,null,null,{"$f":"IF(C241=\"\",\"\",D241/MDL!$H$37*100)","v":""}]
[238,null,null,null,null,{"$f":"IF(C242=\"\",\"\",D242/MDL!$H$37*100)","v":""}]
[239,null,null,null,null,{"$f":"IF(C243=\"\",\"\",D243/MDL!$H$37*100)","v":""}]
[240,null,null,null,null,{"$f":"IF(C244=\"\",\"\",D244/MDL!$H$37*100)","v":""}]
[241,null,null,null,null,{"$f":"IF(C245=\"\",\"\",D245/MDL!$H$37*100)","v":""}]
[242,null,null,null,null,{"$f":"IF(C246=\"\",\"\",D246/MDL!$H$37*100)","v":""}]
[243,null,null,null,null,{"$f":"IF(C247=\"\",\"\",D247/MDL!$H$37*100)","v":""}]
[244,null,null,null,null,{"$f":"IF(C248=\"\",\"\",D248/MDL!$H$37*100)","v":""}]
[245,null,null,null,null,{"$f":"IF(C249=\"\",\"\",D249/MDL!$H$37*100)","v":""}]
[246,null,null,null,null,{"$f":"IF(C250=\"\",\"\",D250/MDL!$H$37*100)","v":""}]
[247,null,null,null,null,{"$f":"IF(C251=\"\",\"\",D251/MDL!$H$37*100)","v":""}]
[248,null,null,null,null,{"$f":"IF(C252=\"\",\"\",D252/MDL!$H$37*100)","v":""}]
[249,null,null,null,null,{"$f":"IF(C253=\"\",\"\",D253/MDL!$H$37*100)","v":""}]
[250,null,null,null,null,{"$f":"IF(C254=\"\",\"\",D254/MDL!$H$37*100)","v":""}]
[251,null,null,null,null,{"$f":"IF(C255=\"\",\"\",D255/MDL!$H$37*100)","v":""}]
[252,null,null,null,null,{"$f":"IF(C256=\"\",\"\",D256/MDL!$H$37*100)","v":""}]
[253,null,null,null,null,{"$f":"IF(C257=\"\",\"\",D257/MDL!$H$37*100)","v":""}]
[254,null,null,null,null,{"$f":"IF(C258=\"\",\"\",D258/MDL!$H$37*100)","v":""}]
[255,null,null,null,null,{"$f":"IF(C259=\"\",\"\",D259/MDL!$H$37*100)","v":""}]
[256,null,null,null,null,{"$f":"IF(C260=\"\",\"\",D260/MDL!$H$37*100)","v":""}]
[257,null,null,null,null,{"$f":"IF(C261=\"\",\"\",D261/MDL!$H$37*100)","v":""}]
[258,null,null,null,null,{"$f":"IF(C262=\"\",\"\",D262/MDL!$H$37*100)","v":""}]
[259,null,null,null,null,{"$f":"IF(C263=\"\",\"\",D263/MDL!$H$37*100)","v":""}]
[260,null,null,null,null,{"$f":"IF(C264=\"\",\"\",D264/MDL!$H$37*100)","v":""}]
[261,null,null,null,null,{"$f":"IF(C265=\"\",\"\",D265/MDL!$H$37*100)","v":""}]
[262,null,null,null,null,{"$f":"IF(C266=\"\",\"\",D266/MDL!$H$37*100)","v":""}]
[263,null,null,null,null,{"$f":"IF(C267=\"\",\"\",D267/MDL!$H$37*100)","v":""}]
[264,null,null,null,null,{"$f":"IF(C268=\"\",\"\",D268/MDL!$H$37*100)","v":""}]
[265,null,null,null,null,{"$f":"IF(C269=\"\",\"\",D269/MDL!$H$37*100)","v":""}]
[266,null,null,null,null,{"$f":"IF(C270=\"\",\"\",D270/MDL!$H$37*100)","v":""}]
[267,null,null,null,null,{"$f":"IF(C271=\"\",\"\",D271/MDL!$H$37*100)","v":""}]
[268,null,null,null,null,{"$f":"IF(C272=\"\",\"\",D272/MDL!$H$37*100)","v":""}]
[269,null,null,null,null,{"$f":"IF(C273=\"\",\"\",D273/MDL!$H$37*100)","v":""}]
[270,null,null,null,null,{"$f":"IF(C274=\"\",\"\",D274/MDL!$H$37*100)","v":""}]
[271,null,null,null,null,{"$f":"IF(C275=\"\",\"\",D275/MDL!$H$37*100)","v":""}]
[272,null,null,null,null,{"$f":"IF(C276=\"\",\"\",D276/MDL!$H$37*100)","v":""}]
[273,null,null,null,null,{"$f":"IF(C277=\"\",\"\",D277/MDL!$H$37*100)","v":""}]
[274,null,null,null,null,{"$f":"IF(C278=\"\",\"\",D278/MDL!$H$37*100)","v":""}]
[275,null,null,null,null,{"$f":"IF(C279=\"\",\"\",D279/MDL!$H$37*100)","v":""}]
[276,null,null,null,null,{"$f":"IF(C280=\"\",\"\",D280/MDL!$H$37*100)","v":""}]
[277,null,null,null,null,{"$f":"IF(C281=\"\",\"\",D281/MDL!$H$37*100)","v":""}]
[278,null,null,null,null,{"$f":"IF(C282=\"\",\"\",D282/MDL!$H$37*100)","v":""}]
[279,null,null,null,null,{"$f":"IF(C283=\"\",\"\",D283/MDL!$H$37*100)","v":""}]
[280,null,null,null,null,{"$f":"IF(C284=\"\",\"\",D284/MDL!$H$37*100)","v":""}]
[281,null,null,null,null,{"$f":"IF(C285=\"\",\"\",D285/MDL!$H$37*100)","v":""}]
[282,null,null,null,null,{"$f":"IF(C286=\"\",\"\",D286/MDL!$H$37*100)","v":""}]
[283,null,null,null,null,{"$f":"IF(C287=\"\",\"\",D287/MDL!$H$37*100)","v":""}]
[284,null,null,null,null,{"$f":"IF(C288=\"\",\"\",D288/MDL!$H$37*100)","v":""}]
[285,null,null,null,null,{"$f":"IF(C289=\"\",\"\",D289/MDL!$H$37*100)","v":""}]
[286,null,null,null,null,{"$f":"IF(C290=\"\",\"\",D290/MDL!$H$37*100)","v":""}]
[287,null,null,null,null,{"$f":"IF(C291=\"\",\"\",D291/MDL!$H$37*100)","v":""}]
[288,null,null,null,null,{"$f":"IF(C292=\"\",\"\",D292/MDL!$H$37*100)","v":""}]
[289,null,null,null,null,{"$f":"IF(C293=\"\",\"\",D293/MDL!$H$37*100)","v":""}]
[290,null,null,null,null,{"$f":"IF(C294=\"\",\"\",D294/MDL!$H$37*100)","v":""}]
[291,null,null,null,null,{"$f":"IF(C295=\"\",\"\",D295/MDL!$H$37*100)","v":""}]
[292,null,null,null,null,{"$f":"IF(C296=\"\",\"\",D296/MDL!$H$37*100)","v":""}]
[293,null,null,null,null,{"$f":"IF(C297=\"\",\"\",D297/MDL!$H$37*100)","v":""}]
[294,null,null,null,null,{"$f":"IF(C298=\"\",\"\",D298/MDL!$H$37*100)","v":""}]
[295,null,null,null,null,{"$f":"IF(C299=\"\",\"\",D299/MDL!$H$37*100)","v":""}]
[296,null,null,null,null,{"$f":"IF(C300=\"\",\"\",D300/MDL!$H$37*100)","v":""}]
[297,null,null,null,null,{"$f":"IF(C301=\"\",\"\",D301/MDL!$H$37*100)","v":""}]
[298,null,null,null,null,{"$f":"IF(C302=\"\",\"\",D302/MDL!$H$37*100)","v":""}]
[299,null,null,null,null,{"$f":"IF(C303=\"\",\"\",D303/MDL!$H$37*100)","v":""}]
[300,null,null,null,null,{"$f":"IF(C304=\"\",\"\",D304/MDL!$H$37*100)","v":""}]
[301,null,null,null,null,{"$f":"IF(C305=\"\",\"\",D305/MDL!$H$37*100)","v":""}]
[302,null,null,null,null,{"$f":"IF(C306=\"\",\"\",D306/MDL!$H$37*100)","v":""}]
[303,null,null,null,null,{"$f":"IF(C307=\"\",\"\",D307/MDL!$H$37*100)","v":""}]
[304,null,null,null,null,{"$f":"IF(C308=\"\",\"\",D308/MDL!$H$37*100)","v":""}]
[305,null,null,null,null,{"$f":"IF(C309=\"\",\"\",D309/MDL!$H$37*100)","v":""}]
[306,null,null,null,null,{"$f":"IF(C310=\"\",\"\",D310/MDL!$H$37*100)","v":""}]
[307,null,null,null,null,{"$f":"IF(C311=\"\",\"\",D311/MDL!$H$37*100)","v":""}]
[308,null,null,null,null,{"$f":"IF(C312=\"\",\"\",D312/MDL!$H$37*100)","v":""}]
[309,null,null,null,null,{"$f":"IF(C313=\"\",\"\",D313/MDL!$H$37*100)","v":""}]
[310,null,null,null,null,{"$f":"IF(C314=\"\",\"\",D314/MDL!$H$37*100)","v":""}]
[311,null,null,null,null,{"$f":"IF(C315=\"\",\"\",D315/MDL!$H$37*100)","v":""}]
[312,null,null,null,null,{"$f":"IF(C316=\"\",\"\",D316/MDL!$H$37*100)","v":""}]
[313,null,null,null,null,{"$f":"IF(C317=\"\",\"\",D317/MDL!$H$37*100)","v":""}]
[314,null,null,null,null,{"$f":"IF(C318=\"\",\"\",D318/MDL!$H$37*100)","v":""}]
[315,null,null,null,null,{"$f":"IF(C319=\"\",\"\",D319/MDL!$H$37*100)","v":""}]
[316,null,null,null,null,{"$f":"IF(C320=\"\",\"\",D320/MDL!$H$37*100)","v":""}]
[317,null,null,null,null,{"$f":"IF(C321=\"\",\"\",D321/MDL!$H$37*100)","v":""}]
[318,null,null,null,null,{"$f":"IF(C322=\"\",\"\",D322/MDL!$H$37*100)","v":""}]
[319,null,null,null,null,{"$f":"IF(C323=\"\",\"\",D323/MDL!$H$37*100)","v":""}]
[320,null,null,null,null,{"$f":"IF(C324=\"\",\"\",D324/MDL!$H$37*100)","v":""}]
[321,null,null,null,null,{"$f":"IF(C325=\"\",\"\",D325/MDL!$H$37*100)","v":""}]
[322,null,null,null,null,{"$f":"IF(C326=\"\",\"\",D326/MDL!$H$37*100)","v":""}]
[323,null,null,null,null,{"$f":"IF(C327=\"\",\"\",D327/MDL!$H$37*100)","v":""}]
[324,null,null,null,null,{"$f":"IF(C328=\"\",\"\",D328/MDL!$H$37*100)","v":""}]
[325,null,null,null,null,{"$f":"IF(C329=\"\",\"\",D329/MDL!$H$37*100)","v":""}]
[326,null,null,null,null,{"$f":"IF(C330=\"\",\"\",D330/MDL!$H$37*100)","v":""}]
[327,null,null,null,null,{"$f":"IF(C331=\"\",\"\",D331/MDL!$H$37*100)","v":""}]
[328,null,null,null,null,{"$f":"IF(C332=\"\",\"\",D332/MDL!$H$37*100)","v":""}]
[329,null,null,null,null,{"$f":"IF(C333=\"\",\"\",D333/MDL!$H$37*100)","v":""}]
[330,null,null,null,null,{"$f":"IF(C334=\"\",\"\",D334/MDL!$H$37*100)","v":""}]
[331,null,null,null,null,{"$f":"IF(C335=\"\",\"\",D335/MDL!$H$37*100)","v":""}]
[332,null,null,null,null,{"$f":"IF(C336=\"\",\"\",D336/MDL!$H$37*100)","v":""}]
[333,null,null,null,null,{"$f":"IF(C337=\"\",\"\",D337/MDL!$H$37*100)","v":""}]
[334,null,null,null,null,{"$f":"IF(C338=\"\",\"\",D338/MDL!$H$37*100)","v":""}]
[335,null,null,null,null,{"$f":"IF(C339=\"\",\"\",D339/MDL!$H$37*100)","v":""}]
[336,null,null,null,null,{"$f":"IF(C340=\"\",\"\",D340/MDL!$H$37*100)","v":""}]
[337,null,null,null,null,{"$f":"IF(C341=\"\",\"\",D341/MDL!$H$37*100)","v":""}]
[338,null,null,null,null,{"$f":"IF(C342=\"\",\"\",D342/MDL!$H$37*100)","v":""}]
[339,null,null,null,null,{"$f":"IF(C343=\"\",\"\",D343/MDL!$H$37*100)","v":""}]
[340,null,null,null,null,{"$f":"IF(C344=\"\",\"\",D344/MDL!$H$37*100)","v":""}]
[341,null,null,null,null,{"$f":"IF(C345=\"\",\"\",D345/MDL!$H$37*100)","v":""}]
[342,null,null,null,null,{"$f":"IF(C346=\"\",\"\",D346/MDL!$H$37*100)","v":""}]
[343,null,null,null,null,{"$f":"IF(C347=\"\",\"\",D347/MDL!$H$37*100)","v":""}]
[344,null,null,null,null,{"$f":"IF(C348=\"\",\"\",D348/MDL!$H$37*100)","v":""}]
[345,null,null,null,null,{"$f":"IF(C349=\"\",\"\",D349/MDL!$H$37*100)","v":""}]
[346,null,null,null,null,{"$f":"IF(C350=\"\",\"\",D350/MDL!$H$37*100)","v":""}]
[347,null,null,null,null,{"$f":"IF(C351=\"\",\"\",D351/MDL!$H$37*100)","v":""}]
[348,null,null,null,null,{"$f":"IF(C352=\"\",\"\",D352/MDL!$H$37*100)","v":""}]
[349,null,null,null,null,{"$f":"IF(C353=\"\",\"\",D353/MDL!$H$37*100)","v":""}]
[350,null,null,null,null,{"$f":"IF(C354=\"\",\"\",D354/MDL!$H$37*100)","v":""}]
[351,null,null,null,null,{"$f":"IF(C355=\"\",\"\",D355/MDL!$H$37*100)","v":""}]
[352,null,null,null,null,{"$f":"IF(C356=\"\",\"\",D356/MDL!$H$37*100)","v":""}]
[353,null,null,null,null,{"$f":"IF(C357=\"\",\"\",D357/MDL!$H$37*100)","v":""}]
[354,null,null,null,null,{"$f":"IF(C358=\"\",\"\",D358/MDL!$H$37*100)","v":""}]
[355,null,null,null,null,{"$f":"IF(C359=\"\",\"\",D359/MDL!$H$37*100)","v":""}]
[356,null,null,null,null,{"$f":"IF(C360=\"\",\"\",D360/MDL!$H$37*100)","v":""}]
[357,null,null,null,null,{"$f":"IF(C361=\"\",\"\",D361/MDL!$H$37*100)","v":""}]
[358,null,null,null,null,{"$f":"IF(C362=\"\",\"\",D362/MDL!$H$37*100)","v":""}]
[359,null,null,null,null,{"$f":"IF(C363=\"\",\"\",D363/MDL!$H$37*100)","v":""}]
[360,null,null,null,null,{"$f":"IF(C364=\"\",\"\",D364/MDL!$H$37*100)","v":""}]
[361,null,null,null,null,{"$f":"IF(C365=\"\",\"\",D365/MDL!$H$37*100)","v":""}]
[362,null,null,null,null,{"$f":"IF(C366=\"\",\"\",D366/MDL!$H$37*100)","v":""}]
[363,null,null,null,null,{"$f":"IF(C367=\"\",\"\",D367/MDL!$H$37*100)","v":""}]
[364,null,null,null,null,{"$f":"IF(C368=\"\",\"\",D368/MDL!$H$37*100)","v":""}]
[365,null,null,null,null,{"$f":"IF(C369=\"\",\"\",D369/MDL!$H$37*100)","v":""}]
[366,null,null,null,null,{"$f":"IF(C370=\"\",\"\",D370/MDL!$H$37*100)","v":""}]
[367,null,null,null,null,{"$f":"IF(C371=\"\",\"\",D371/MDL!$H$37*100)","v":""}]
[368,null,null,null,null,{"$f":"IF(C372=\"\",\"\",D372/MDL!$H$37*100)","v":""}]
[369,null,null,null,null,{"$f":"IF(C373=\"\",\"\",D373/MDL!$H$37*100)","v":""}]
[370,null,null,null,null,{"$f":"IF(C374=\"\",\"\",D374/MDL!$H$37*100)","v":""}]
[371,null,null,null,null,{"$f":"IF(C375=\"\",\"\",D375/MDL!$H$37*100)","v":""}]
[372,null,null,null,null,{"$f":"IF(C376=\"\",\"\",D376/MDL!$H$37*100)","v":""}]
[373,null,null,null,null,{"$f":"IF(C377=\"\",\"\",D377/MDL!$H$37*100)","v":""}]
[374,null,null,null,null,{"$f":"IF(C378=\"\",\"\",D378/MDL!$H$37*100)","v":""}]
[375,null,null,null,null,{"$f":"IF(C379=\"\",\"\",D379/MDL!$H$37*100)","v":""}]
[376,null,null,null,null,{"$f":"IF(C380=\"\",\"\",D380/MDL!$H$37*100)","v":""}]
[377,null,null,null,null,{"$f":"IF(C381=\"\",\"\",D381/MDL!$H$37*100)","v":""}]
[378,null,null,null,null,{"$f":"IF(C382=\"\",\"\",D382/MDL!$H$37*100)","v":""}]
[379,null,null,null,null,{"$f":"IF(C383=\"\",\"\",D383/MDL!$H$37*100)","v":""}]
[380,null,null,null,null,{"$f":"IF(C384=\"\",\"\",D384/MDL!$H$37*100)","v":""}]
[381,null,null,null,null,{"$f":"IF(C385=\"\",\"\",D385/MDL!$H$37*100)","v":""}]
[382,null,null,null,null,{"$f":"IF(C386=\"\",\"\",D386/MDL!$H$37*100)","v":""}]
[383,null,null,null,null,{"$f":"IF(C387=\"\",\"\",D387/MDL!$H$37*100)","v":""}]
[384,null,null,null,null,{"$f":"IF(C388=\"\",\"\",D388/MDL!$H$37*100)","v":""}]
[385,null,null,null,null,{"$f":"IF(C389=\"\",\"\",D389/MDL!$H$37*100)","v":""}]
[386,null,null,null,null,{"$f":"IF(C390=\"\",\"\",D390/MDL!$H$37*100)","v":""}]
[387,null,null,null,null,{"$f":"IF(C391=\"\",\"\",D391/MDL!$H$37*100)","v":""}]
[388,null,null,null,null,{"$f":"IF(C392=\"\",\"\",D392/MDL!$H$37*100)","v":""}]
[389,null,null,null,null,{"$f":"IF(C393=\"\",\"\",D393/MDL!$H$37*100)","v":""}]
[390,null,null,null,null,{"$f":"IF(C394=\"\",\"\",D394/MDL!$H$37*100)","v":""}]
[391,null,null,null,null,{"$f":"IF(C395=\"\",\"\",D395/MDL!$H$37*100)","v":""}]
[392,null,null,null,null,{"$f":"IF(C396=\"\",\"\",D396/MDL!$H$37*100)","v":""}]
[393,null,null,null,null,{"$f":"IF(C397=\"\",\"\",D397/MDL!$H$37*100)","v":""}]
[394,null,null,null,null,{"$f":"IF(C398=\"\",\"\",D398/MDL!$H$37*100)","v":""}]
[395,null,null,null,null,{"$f":"IF(C399=\"\",\"\",D399/MDL!$H$37*100)","v":""}]
[396,null,null,null,null,{"$f":"IF(C400=\"\",\"\",D400/MDL!$H$37*100)","v":""}]
[397,null,null,null,null,{"$f":"IF(C401=\"\",\"\",D401/MDL!$H$37*100)","v":""}]
[398,null,null,null,null,{"$f":"IF(C402=\"\",\"\",D402/MDL!$H$37*100)","v":""}]
[399,null,null,null,null,{"$f":"IF(C403=\"\",\"\",D403/MDL!$H$37*100)","v":""}]
[400,null,null,null,null,{"$f":"IF(C404=\"\",\"\",D404/MDL!$H$37*100)","v":""}]
[401,null,null,null,null,{"$f":"IF(C405=\"\",\"\",D405/MDL!$H$37*100)","v":""}]
[402,null,null,null,null,{"$f":"IF(C406=\"\",\"\",D406/MDL!$H$37*100)","v":""}]
[403,null,null,null,null,{"$f":"IF(C407=\"\",\"\",D407/MDL!$H$37*100)","v":""}]
[404,null,null,null,null,{"$f":"IF(C408=\"\",\"\",D408/MDL!$H$37*100)","v":""}]
[405,null,null,null,null,{"$f":"IF(C409=\"\",\"\",D409/MDL!$H$37*100)","v":""}]
[406,null,null,null,null,{"$f":"IF(C410=\"\",\"\",D410/MDL!$H$37*100)","v":""}]
[407,null,null,null,null,{"$f":"IF(C411=\"\",\"\",D411/MDL!$H$37*100)","v":""}]
[408,null,null,null,null,{"$f":"IF(C412=\"\",\"\",D412/MDL!$H$37*100)","v":""}]
[409,null,null,null,null,{"$f":"IF(C413=\"\",\"\",D413/MDL!$H$37*100)","v":""}]
[410,null,null,null,null,{"$f":"IF(C414=\"\",\"\",D414/MDL!$H$37*100)","v":""}]
[411,null,null,null,null,{"$f":"IF(C415=\"\",\"\",D415/MDL!$H$37*100)","v":""}]
[412,null,null,null,null,{"$f":"IF(C416=\"\",\"\",D416/MDL!$H$37*100)","v":""}]
[413,null,null,null,null,{"$f":"IF(C417=\"\",\"\",D417/MDL!$H$37*100)","v":""}]
[414,null,null,null,null,{"$f":"IF(C418=\"\",\"\",D418/MDL!$H$37*100)","v":""}]
[415,null,null,null,null,{"$f":"IF(C419=\"\",\"\",D419/MDL!$H$37*100)","v":""}]
[416,null,null,null,null,{"$f":"IF(C420=\"\",\"\",D420/MDL!$H$37*100)","v":""}]
[417,null,null,null,null,{"$f":"IF(C421=\"\",\"\",D421/MDL!$H$37*100)","v":""}]
[418,null,null,null,null,{"$f":"IF(C422=\"\",\"\",D422/MDL!$H$37*100)","v":""}]
[419,null,null,null,null,{"$f":"IF(C423=\"\",\"\",D423/MDL!$H$37*100)","v":""}]
[420,null,null,null,null,{"$f":"IF(C424=\"\",\"\",D424/MDL!$H$37*100)","v":""}]
[421,null,null,null,null,{"$f":"IF(C425=\"\",\"\",D425/MDL!$H$37*100)","v":""}]
[422,null,null,null,null,{"$f":"IF(C426=\"\",\"\",D426/MDL!$H$37*100)","v":""}]
[423,null,null,null,null,{"$f":"IF(C427=\"\",\"\",D427/MDL!$H$37*100)","v":""}]
[424,null,null,null,null,{"$f":"IF(C428=\"\",\"\",D428/MDL!$H$37*100)","v":""}]
[425,null,null,null,null,{"$f":"IF(C429=\"\",\"\",D429/MDL!$H$37*100)","v":""}]
[426,null,null,null,null,{"$f":"IF(C430=\"\",\"\",D430/MDL!$H$37*100)","v":""}]
[427,null,null,null,null,{"$f":"IF(C431=\"\",\"\",D431/MDL!$H$37*100)","v":""}]
[428,null,null,null,null,{"$f":"IF(C432=\"\",\"\",D432/MDL!$H$37*100)","v":""}]
[429,null,null,null,null,{"$f":"IF(C433=\"\",\"\",D433/MDL!$H$37*100)","v":""}]
[430,null,null,null,null,{"$f":"IF(C434=\"\",\"\",D434/MDL!$H$37*100)","v":""}]
[431,null,null,null,null,{"$f":"IF(C435=\"\",\"\",D435/MDL!$H$37*100)","v":""}]
[432,null,null,null,null,{"$f":"IF(C436=\"\",\"\",D436/MDL!$H$37*100)","v":""}]
[433,null,null,null,null,{"$f":"IF(C437=\"\",\"\",D437/MDL!$H$37*100)","v":""}]
[434,null,null,null,null,{"$f":"IF(C438=\"\",\"\",D438/MDL!$H$37*100)","v":""}]
[435,null,null,null,null,{"$f":"IF(C439=\"\",\"\",D439/MDL!$H$37*100)","v":""}]
[436,null,null,null,null,{"$f":"IF(C440=\"\",\"\",D440/MDL!$H$37*100)","v":""}]
[437,null,null,null,null,{"$f":"IF(C441=\"\",\"\",D441/MDL!$H$37*100)","v":""}]
[438,null,null,null,null,{"$f":"IF(C442=\"\",\"\",D442/MDL!$H$37*100)","v":""}]
[439,null,null,null,null,{"$f":"IF(C443=\"\",\"\",D443/MDL!$H$37*100)","v":""}]
[440,null,null,null,null,{"$f":"IF(C444=\"\",\"\",D444/MDL!$H$37*100)","v":""}]
[441,null,null,null,null,{"$f":"IF(C445=\"\",\"\",D445/MDL!$H$37*100)","v":""}]
[442,null,null,null,null,{"$f":"IF(C446=\"\",\"\",D446/MDL!$H$37*100)","v":""}]
[443,null,null,null,null,{"$f":"IF(C447=\"\",\"\",D447/MDL!$H$37*100)","v":""}]
[444,null,null,null,null,{"$f":"IF(C448=\"\",\"\",D448/MDL!$H$37*100)","v":""}]
[445,null,null,null,null,{"$f":"IF(C449=\"\",\"\",D449/MDL!$H$37*100)","v":""}]
[446,null,null,null,null,{"$f":"IF(C450=\"\",\"\",D450/MDL!$H$37*100)","v":""}]
[447,null,null,null,null,{"$f":"IF(C451=\"\",\"\",D451/MDL!$H$37*100)","v":""}]
[448,null,null,null,null,{"$f":"IF(C452=\"\",\"\",D452/MDL!$H$37*100)","v":""}]
[449,null,null,null,null,{"$f":"IF(C453=\"\",\"\",D453/MDL!$H$37*100)","v":""}]
[450,null,null,null,null,{"$f":"IF(C454=\"\",\"\",D454/MDL!$H$37*100)","v":""}]
[451,null,null,null,null,{"$f":"IF(C455=\"\",\"\",D455/MDL!$H$37*100)","v":""}]
[452,null,null,null,null,{"$f":"IF(C456=\"\",\"\",D456/MDL!$H$37*100)","v":""}]
[453,null,null,null,null,{"$f":"IF(C457=\"\",\"\",D457/MDL!$H$37*100)","v":""}]
[454,null,null,null,null,{"$f":"IF(C458=\"\",\"\",D458/MDL!$H$37*100)","v":""}]
[455,null,null,null,null,{"$f":"IF(C459=\"\",\"\",D459/MDL!$H$37*100)","v":""}]
[456,null,null,null,null,{"$f":"IF(C460=\"\",\"\",D460/MDL!$H$37*100)","v":""}]
[457,null,null,null,null,{"$f":"IF(C461=\"\",\"\",D461/MDL!$H$37*100)","v":""}]
[458,null,null,null,null,{"$f":"IF(C462=\"\",\"\",D462/MDL!$H$37*100)","v":""}]
[459,null,null,null,null,{"$f":"IF(C463=\"\",\"\",D463/MDL!$H$37*100)","v":""}]
[460,null,null,null,null,{"$f":"IF(C464=\"\",\"\",D464/MDL!$H$37*100)","v":""}]
[461,null,null,null,null,{"$f":"IF(C465=\"\",\"\",D465/MDL!$H$37*100)","v":""}]
[462,null,null,null,null,{"$f":"IF(C466=\"\",\"\",D466/MDL!$H$37*100)","v":""}]
[463,null,null,null,null,{"$f":"IF(C467=\"\",\"\",D467/MDL!$H$37*100)","v":""}]
[464,null,null,null,null,{"$f":"IF(C468=\"\",\"\",D468/MDL!$H$37*100)","v":""}]
[465,null,null,null,null,{"$f":"IF(C469=\"\",\"\",D469/MDL!$H$37*100)","v":""}]
[466,null,null,null,null,{"$f":"IF(C470=\"\",\"\",D470/MDL!$H$37*100)","v":""}]
[467,null,null,null,null,{"$f":"IF(C471=\"\",\"\",D471/MDL!$H$37*100)","v":""}]
[468,null,null,null,null,{"$f":"IF(C472=\"\",\"\",D472/MDL!$H$37*100)","v":""}]
[469,null,null,null,null,{"$f":"IF(C473=\"\",\"\",D473/MDL!$H$37*100)","v":""}]
[470,null,null,null,null,{"$f":"IF(C474=\"\",\"\",D474/MDL!$H$37*100)","v":""}]
[471,null,null,null,null,{"$f":"IF(C475=\"\",\"\",D475/MDL!$H$37*100)","v":""}]
[472,null,null,null,null,{"$f":"IF(C476=\"\",\"\",D476/MDL!$H$37*100)","v":""}]
[473,null,null,null,null,{"$f":"IF(C477=\"\",\"\",D477/MDL!$H$37*100)","v":""}]
[474,null,null,null,null,{"$f":"IF(C478=\"\",\"\",D478/MDL!$H$37*100)","v":""}]
[475,null,null,null,null,{"$f":"IF(C479=\"\",\"\",D479/MDL!$H$37*100)","v":""}]
[476,null,null,null,null,{"$f":"IF(C480=\"\",\"\",D480/MDL!$H$37*100)","v":""}]
[477,null,null,null,null,{"$f":"IF(C481=\"\",\"\",D481/MDL!$H$37*100)","v":""}]
[478,null,null,null,null,{"$f":"IF(C482=\"\",\"\",D482/MDL!$H$37*100)","v":""}]
[479,null,null,null,null,{"$f":"IF(C483=\"\",\"\",D483/MDL!$H$37*100)","v":""}]
[480,null,null,null,null,{"$f":"IF(C484=\"\",\"\",D484/MDL!$H$37*100)","v":""}]
[481,null,null,null,null,{"$f":"IF(C485=\"\",\"\",D485/MDL!$H$37*100)","v":""}]
[482,null,null,null,null,{"$f":"IF(C486=\"\",\"\",D486/MDL!$H$37*100)","v":""}]
[483,null,null,null,null,{"$f":"IF(C487=\"\",\"\",D487/MDL!$H$37*100)","v":""}]
[484,null,null,null,null,{"$f":"IF(C488=\"\",\"\",D488/MDL!$H$37*100)","v":""}]
[485,null,null,null,null,{"$f":"IF(C489=\"\",\"\",D489/MDL!$H$37*100)","v":""}]
[486,null,null,null,null,{"$f":"IF(C490=\"\",\"\",D490/MDL!$H$37*100)","v":""}]
[487,null,null,null,null,{"$f":"IF(C491=\"\",\"\",D491/MDL!$H$37*100)","v":""}]
[488,null,null,null,null,{"$f":"IF(C492=\"\",\"\",D492/MDL!$H$37*100)","v":""}]
[489,null,null,null,null,{"$f":"IF(C493=\"\",\"\",D493/MDL!$H$37*100)","v":""}]
[490,null,null,null,null,{"$f":"IF(C494=\"\",\"\",D494/MDL!$H$37*100)","v":""}]
[491,null,null,null,null,{"$f":"IF(C495=\"\",\"\",D495/MDL!$H$37*100)","v":""}]
[492,null,null,null,null,{"$f":"IF(C496=\"\",\"\",D496/MDL!$H$37*100)","v":""}]
[493,null,null,null,null,{"$f":"IF(C497=\"\",\"\",D497/MDL!$H$37*100)","v":""}]
[494,null,null,null,null,{"$f":"IF(C498=\"\",\"\",D498/MDL!$H$37*100)","v":""}]
[495,null,null,null,null,{"$f":"IF(C499=\"\",\"\",D499/MDL!$H$37*100)","v":""}]
[496,null,null,null,null,{"$f":"IF(C500=\"\",\"\",D500/MDL!$H$37*100)","v":""}]
[497,null,null,null,null,{"$f":"IF(C501=\"\",\"\",D501/MDL!$H$37*100)","v":""}]
[498,null,null,null,null,{"$f":"IF(C502=\"\",\"\",D502/MDL!$H$37*100)","v":""}]
[499,null,null,null,null,{"$f":"IF(C503=\"\",\"\",D503/MDL!$H$37*100)","v":""}]
[500,null,null,null,null,{"$f":"IF(C504=\"\",\"\",D504/MDL!$H$37*100)","v":""}]

{"sheet":"Calculations","index":3,"n_rows":22,"n_cols":3,"rows_kept":22,"cut":false,"hidden":false,"merged":[]}
["Calculations:"]
["Number of MDLb Points =",null,"=IF(Blanks!C5=\"\",\"\",COUNTA(Blanks!C5:C504))"]
["Mean (Blank)=",null,"=IF(D35=\"\",\"\",IF((SUM(Blanks!E5:E504)/D35)<0,0,SUM(Blanks!E5:E504)/D35))"]
["Blank Std Dev =",null,"=IF(D35=\"\",\"\",IF(D38=0,\"\",STDEV(Blanks!E5:E504)))"]
["Degrees of Freedom for MDLb =",null,"=IF(D35=\"\",\"\",D35-1)"]
["Student's t for MDLb=",null,"=IF(D35=\"\",\"\",ROUND(T.INV(0.99,D40),3))"]
["MDLb =",null,"=IF(D35=\"\",\"\",IF(H9=\"Calculated\",D38+D39*D41,IF(H9=\"99th Percentile\",PERCENTILE.INC(Blanks!E5:E504,0.99),IF(H9=\"Highest Result\",MAX(Blanks!E5:E504),\"Not Applicable\"))))"]
["Number of MDLs Points =",null,"=IF(Spikes!D5=\"\",\"\",COUNTA(Spikes!B5:B189))"]
["Mean (Spike)=",null,"=IF(H37=\"\",\"\",SUM(Spikes!D5:D504)/H37)"]
["% Recovery (Spike)=",null,"=IF(H37=\"\",\"\",(H38/H36)*100)"]
["Spike Std Dev =",null,"=IF(H37=\"\",\"\",STDEV(Spikes!D5:D504))"]
["Degrees of Freedom for MDLs =",null,"=IF(H37=\"\",\"\",H37-1)"]
["Student's t for MDLs=",null,"=IF(H37=\"\",\"\",ROUND(T.INV(0.99,H42),3))"]
["MDLs =",null,"=IF(H8=\"Blanks\",\"Not Applicable\",IF(H37=\"\",\"\",H41*H43))"]
["Method MDL =",null,"=IF(H45=\"\",\"\",IF(D45=\"Not Applicable\",H45,IF(H45=\"Not Applicable\",D45,IF(D45>H45,D45,H45))))"]
["True Value/MDL =",null,"=IF(H8=\"Blanks\",\"Not Applicable\",IF(D49=\"\",\"\",H36/D49))"]
["Is the RL > MDL =",null,"=IF(D49=\"\",\"\",IF(H10=\"No\",IF(H35>D49,\"Yes\",\"No\"),IF(H35>=3*D49,\"Yes\",\"No\")))"]
["MDL Study =",null,"=IF(D49=\"\",\"\",IF(D51=\"No\",\"Failed\",\"Passed\"))"]
["New MDL/Existing MDL =",null,"=IF(C4=\"Initial\",\"N/A\",IF(H49=\"\",\"\",D49/H49))"]
["% MB > Existing MDL =",null,"=IF(C4=\"Initial\",\"N/A\",IF(H49=\"\",\"\",COUNTIF(Blanks!E5:E504,\">\"&H49)/D35*100))"]
["MDL Update Required =",null,"=IF(C4=\"Initial\",\"Yes\",IF(H49=\"\",\"\",IF(H51>3,\"Yes\",IF(H50>2,\"Yes\",IF(H50<0.5,\"Yes\",\"No\")))))"]
["% Recovery (Spikes Tab) =",null,"=IF(D5=\"\",\"\",D5/MDL!$H$36*100)"]